Workbook
Name AverageIn: Calcs!$C$4
Name AverageOut: Calcs!$C$3
Name DevIn: Calcs!$D$4
Name DevOut: Calcs!$D$3
Name LatestSprint: Calcs!$C$2
Name PreGameSize: Calcs!$C$1
Name WorkLeft: Calcs!$C$5

Sheet BackLog
A1: Инструкция | B1: cartmendum.ru
A2: Задача | B2: Оценка | C2: В какой спринт пришла | D2: В какой спринт сделали | E2: Комментарий
A3: Задача 1 | B3: 1 | C3: 0 | D3: 1
A4: Задача 2 | B4: 1 | C4: 0 | D4: 1
A5: Задача 3 | B5: 1 | C5: 0 | D5: 1
A6: Задача 4 | B6: 1 | C6: 0 | D6: 1
A7: Задача 5 | B7: 1 | C7: 0 | D7: 1
A8: Задача 6 | B8: 1 | C8: 0 | D8: 1
A9: Задача 7 | B9: 1 | C9: 0 | D9: 1
A10: Задача 8 | B10: 1 | C10: 0 | D10: 1
A11: Задача 9 | B11: 1 | C11: 0 | D11: 1
A12: Задача 10 | B12: 1 | C12: 0 | D12: 1
A13: Задача 11 | B13: 1 | C13: 0 | D13: 2
A14: Задача 12 | B14: 1 | C14: 0 | D14: 2
... A50: Задача 48 | B50: 1 | C50: 0 | D50: 3
A51: Задача 49 | B51: 1 | C51: 0
A52: Задача 50 | B52: 1 | C52: 0
A53: Задача 51 | B53: 1 | C53: 0
A54: Задача 52 | B54: 1 | C54: 0
A55: Задача 53 | B55: 1 | C55: 0
A56: Задача 54 | B56: 1 | C56: 0
A57: Задача 55 | B57: 1 | C57: 0
A58: Задача 56 | B58: 1 | C58: 0
A59: Задача 57 | B59: 1 | C59: 0
A60: Задача 58 | B60: 1 | C60: 0
A61: Задача 59 | B61: 1 | C61: 0
A62: Задача 60 | B62: 1 | C62: 0
... A161: *** Добавленная задача 9 | B161: 5 | C161: 3
A162: *** Добавленная задача 10 | B162: 1
A163: *** Добавленная задача 11 | B163: 1
A164: *** Добавленная задача 12 | B164: 1
A165: *** Добавленная задача 13 | B165: 1
A166: *** Добавленная задача 14 | B166: 1
A167: *** Добавленная задача 15 | B167: 1
A168: *** Добавленная задача 16 | B168: 1
A169: *** Добавленная задача 17 | B169: 1
A170: *** Добавленная задача 18 | B170: 1
A171: *** Добавленная задача 19 | B171: 1
A172: *** Добавленная задача 20 | B172: 1
A173: *** Добавленная задача 21 | B173: 1
... A202: *** Добавленная задача 50 | B202: 1

Sheet Charts

Sheet Calcs
B1: Pre-Game backlog: | C1: =SUMIF(BackLog!C:C,0,BackLog!B:B) -> 150
B2: Latest Sprint: | C2: =MAX(BackLog!D:D) -> 3
B3: Av. Out | C3: =AVERAGE(C9:C28) -> 16 | D3: =STDEV(C9:C28) -> 7.2111026
B4: Av. In | C4: =AVERAGE(D9:D28) -> 5.6666667 | D4: =STDEV(D9:D28) -> 3.0550505
B5: Work Left | C5: =PreGameSize-SUM(C8:C28)+SUM(D8:D28) -> 119
A7: N | B7: Sprint | C7: Out(n) | D7: In(n) | E7: Work Completed | F7: Work added | G7: Mean | H7: Dev | I7: Cumul | J7: Prob | K7: Out(n) | L7: In(n)
A8: =B8-LatestSprint -> -3 | B8: 0 | C8: =IF(B8<=LatestSprint,SUMIF(BackLog!D:D,B8,BackLog!B:B),"") -> 0 | D8: 0 | E8: =IF(B8<=LatestSprint,PreGameSize-C8,NA()) -> 150 | F8: =-D8 -> 0 | G8: =IF(A8>0,A8*(AverageOut-AverageIn),0) -> 0 | H8: =IF(A8>0,SQRT(A8)*SQRT(DevIn*DevIn + DevOut*DevOut),0.001) -> 0.001 | I8: =1-NORMDIST(WorkLeft,G8,H8,TRUE) -> 0 | J8: =I8 -> 0 | K8: =IF(C8="",NA(),C8) -> 0 | L8: =IF(D8="",NA(),D8) -> 0
A9: =B9-LatestSprint -> -2 | B9: 1 | C9: =IF(B9<=LatestSprint,SUMIF(BackLog!D:D,B9,BackLog!B:B),"") -> 10 | D9: =IF(B9<=LatestSprint,SUMIF(BackLog!C:C,B9,BackLog!B:B),"") -> 9 | E9: =IF(B9<=LatestSprint,E8-C9,NA()) -> 140 | F9: =IF(C9<>"",-D9+F8,NA()) -> -9 | G9: =IF(A9>0,A9*(AverageOut-AverageIn),0) -> 0 | H9: =IF(A9>0,SQRT(A9)*SQRT(DevIn*DevIn + DevOut*DevOut),0.001) -> 0.001 | I9: =1-NORMDIST(WorkLeft,G9,H9,TRUE) -> 0 | J9: =IF(I8,I9-I8,I9) -> 0 | K9: =IF(C9="",NA(),C9) -> 10 | L9: =IF(D9="",NA(),D9) -> 9
A10: =B10-LatestSprint -> -1 | B10: 2 | C10: =IF(B10<=LatestSprint,SUMIF(BackLog!D:D,B10,BackLog!B:B),"") -> 14 | D10: =IF(B10<=LatestSprint,SUMIF(BackLog!C:C,B10,BackLog!B:B),"") -> 3 | E10: =IF(B10<=LatestSprint,E9-C10,NA()) -> 126 | F10: =IF(C10<>"",-D10+F9,NA()) -> -12 | G10: =IF(A10>0,A10*(AverageOut-AverageIn),0) -> 0 | H10: =IF(A10>0,SQRT(A10)*SQRT(DevIn*DevIn + DevOut*DevOut),0.001) -> 0.001 | I10: =1-NORMDIST(WorkLeft,G10,H10,TRUE) -> 0 | J10: =IF(I9,I10-I9,I10) -> 0 | K10: =IF(C10="",NA(),C10) -> 14 | L10: =IF(D10="",NA(),D10) -> 3
A11: =B11-LatestSprint -> 0 | B11: 3 | C11: =IF(B11<=LatestSprint,SUMIF(BackLog!D:D,B11,BackLog!B:B),"") -> 24 | D11: =IF(B11<=LatestSprint,SUMIF(BackLog!C:C,B11,BackLog!B:B),"") -> 5 | E11: =IF(B11<=LatestSprint,E10-C11,NA()) -> 102 | F11: =IF(C11<>"",-D11+F10,NA()) -> -17 | G11: =IF(A11>0,A11*(AverageOut-AverageIn),0) -> 0 | H11: =IF(A11>0,SQRT(A11)*SQRT(DevIn*DevIn + DevOut*DevOut),0.001) -> 0.001 | I11: =1-NORMDIST(WorkLeft,G11,H11,TRUE) -> 0 | J11: =IF(I10,I11-I10,I11) -> 0 | K11: =IF(C11="",NA(),C11) -> 24 | L11: =IF(D11="",NA(),D11) -> 5
A12: =B12-LatestSprint -> 1 | B12: 4 | C12: =IF(B12<=LatestSprint,SUMIF(BackLog!D:D,B12,BackLog!B:B),"") | D12: =IF(B12<=LatestSprint,SUMIF(BackLog!C:C,B12,BackLog!B:B),"") | E12: =IF(B12<=LatestSprint,E11-C12,NA()) -> #N/A | F12: =IF(C12<>"",-D12+F11,NA()) -> #N/A | G12: =IF(A12>0,A12*(AverageOut-AverageIn),0) -> 10.333333 | H12: =IF(A12>0,SQRT(A12)*SQRT(DevIn*DevIn + DevOut*DevOut),0.001) -> 7.8315601 | I12: =1-NORMDIST(WorkLeft,G12,H12,TRUE) -> 0 | J12: =IF(I11,I12-I11,I12) -> 0 | K12: =IF(C12="",NA(),C12) -> #N/A | L12: =IF(D12="",NA(),D12) -> #N/A
A13: =B13-LatestSprint -> 2 | B13: 5 | C13: =IF(B13<=LatestSprint,SUMIF(BackLog!D:D,B13,BackLog!B:B),"") | D13: =IF(B13<=LatestSprint,SUMIF(BackLog!C:C,B13,BackLog!B:B),"") | E13: =IF(B13<=LatestSprint,E12-C13,NA()) -> #N/A | F13: =IF(C13<>"",-D13+F12,NA()) -> #N/A | G13: =IF(A13>0,A13*(AverageOut-AverageIn),0) -> 20.666667 | H13: =IF(A13>0,SQRT(A13)*SQRT(DevIn*DevIn + DevOut*DevOut),0.001) -> 11.075498 | I13: =1-NORMDIST(WorkLeft,G13,H13,TRUE) -> 0 | J13: =IF(I12,I13-I12,I13) -> 0 | K13: =IF(C13="",NA(),C13) -> #N/A | L13: =IF(D13="",NA(),D13) -> #N/A
A14: =B14-LatestSprint -> 3 | B14: 6 | C14: =IF(B14<=LatestSprint,SUMIF(BackLog!D:D,B14,BackLog!B:B),"") | D14: =IF(B14<=LatestSprint,SUMIF(BackLog!C:C,B14,BackLog!B:B),"") | E14: =IF(B14<=LatestSprint,E13-C14,NA()) -> #N/A | F14: =IF(C14<>"",-D14+F13,NA()) -> #N/A | G14: =IF(A14>0,A14*(AverageOut-AverageIn),0) -> 31 | H14: =IF(A14>0,SQRT(A14)*SQRT(DevIn*DevIn + DevOut*DevOut),0.001) -> 13.56466 | I14: =1-NORMDIST(WorkLeft,G14,H14,TRUE) -> 4.3651749e-11 | J14: =IF(I13,I14-I13,I14) -> 4.3651749e-11 | K14: =IF(C14="",NA(),C14) -> #N/A | L14: =IF(D14="",NA(),D14) -> #N/A
A15: =B15-LatestSprint -> 4 | B15: 7 | C15: =IF(B15<=LatestSprint,SUMIF(BackLog!D:D,B15,BackLog!B:B),"") | D15: =IF(B15<=LatestSprint,SUMIF(BackLog!C:C,B15,BackLog!B:B),"") | E15: =IF(B15<=LatestSprint,E14-C15,NA()) -> #N/A | F15: =IF(C15<>"",-D15+F14,NA()) -> #N/A | G15: =IF(A15>0,A15*(AverageOut-AverageIn),0) -> 41.333333 | H15: =IF(A15>0,SQRT(A15)*SQRT(DevIn*DevIn + DevOut*DevOut),0.001) -> 15.66312 | I15: =1-NORMDIST(WorkLeft,G15,H15,TRUE) -> 3.5507105e-07 | J15: =IF(I14,I15-I14,I15) -> 3.550274e-07 | K15: =IF(C15="",NA(),C15) -> #N/A | L15: =IF(D15="",NA(),D15) -> #N/A
A16: =B16-LatestSprint -> 5 | B16: 8 | C16: =IF(B16<=LatestSprint,SUMIF(BackLog!D:D,B16,BackLog!B:B),"") | D16: =IF(B16<=LatestSprint,SUMIF(BackLog!C:C,B16,BackLog!B:B),"") | E16: =IF(B16<=LatestSprint,E15-C16,NA()) -> #N/A | F16: =IF(C16<>"",-D16+F15,NA()) -> #N/A | G16: =IF(A16>0,A16*(AverageOut-AverageIn),0) -> 51.666667 | H16: =IF(A16>0,SQRT(A16)*SQRT(DevIn*DevIn + DevOut*DevOut),0.001) -> 17.511901 | I16: =1-NORMDIST(WorkLeft,G16,H16,TRUE) -> 6.0275165e-05 | J16: =IF(I15,I16-I15,I16) -> 5.9920094e-05 | K16: =IF(C16="",NA(),C16) -> #N/A | L16: =IF(D16="",NA(),D16) -> #N/A
A17: =B17-LatestSprint -> 6 | B17: 9 | C17: =IF(B17<=LatestSprint,SUMIF(BackLog!D:D,B17,BackLog!B:B),"") | D17: =IF(B17<=LatestSprint,SUMIF(BackLog!C:C,B17,BackLog!B:B),"") | E17: =IF(B17<=LatestSprint,E16-C17,NA()) -> #N/A | F17: =IF(C17<>"",-D17+F16,NA()) -> #N/A | G17: =IF(A17>0,A17*(AverageOut-AverageIn),0) -> 62 | H17: =IF(A17>0,SQRT(A17)*SQRT(DevIn*DevIn + DevOut*DevOut),0.001) -> 19.183326 | I17: =1-NORMDIST(WorkLeft,G17,H17,TRUE) -> 0.001482563 | J17: =IF(I16,I17-I16,I17) -> 0.0014222878 | K17: =IF(C17="",NA(),C17) -> #N/A | L17: =IF(D17="",NA(),D17) -> #N/A
A18: =B18-LatestSprint -> 7 | B18: 10 | C18: =IF(B18<=LatestSprint,SUMIF(BackLog!D:D,B18,BackLog!B:B),"") | D18: =IF(B18<=LatestSprint,SUMIF(BackLog!C:C,B18,BackLog!B:B),"") | E18: =IF(B18<=LatestSprint,E17-C18,NA()) -> #N/A | F18: =IF(C18<>"",-D18+F17,NA()) -> #N/A | G18: =IF(A18>0,A18*(AverageOut-AverageIn),0) -> 72.333333 | H18: =IF(A18>0,SQRT(A18)*SQRT(DevIn*DevIn + DevOut*DevOut),0.001) -> 20.72036 | I18: =1-NORMDIST(WorkLeft,G18,H18,TRUE) -> 0.012154405 | J18: =IF(I17,I18-I17,I18) -> 0.010671842 | K18: =IF(C18="",NA(),C18) -> #N/A | L18: =IF(D18="",NA(),D18) -> #N/A
A19: =B19-LatestSprint -> 8 | B19: 11 | C19: =IF(B19<=LatestSprint,SUMIF(BackLog!D:D,B19,BackLog!B:B),"") | D19: =IF(B19<=LatestSprint,SUMIF(BackLog!C:C,B19,BackLog!B:B),"") | E19: =IF(B19<=LatestSprint,E18-C19,NA()) -> #N/A | F19: =IF(C19<>"",-D19+F18,NA()) -> #N/A | G19: =IF(A19>0,A19*(AverageOut-AverageIn),0) -> 82.666667 | H19: =IF(A19>0,SQRT(A19)*SQRT(DevIn*DevIn + DevOut*DevOut),0.001) -> 22.150997 | I19: =1-NORMDIST(WorkLeft,G19,H19,TRUE) -> 0.050475845 | J19: =IF(I18,I19-I18,I19) -> 0.03832144 | K19: =IF(C19="",NA(),C19) -> #N/A | L19: =IF(D19="",NA(),D19) -> #N/A
A20: =B20-LatestSprint -> 9 | B20: 12 | C20: =IF(B20<=LatestSprint,SUMIF(BackLog!D:D,B20,BackLog!B:B),"") | D20: =IF(B20<=LatestSprint,SUMIF(BackLog!C:C,B20,BackLog!B:B),"") | E20: =IF(B20<=LatestSprint,E19-C20,NA()) -> #N/A | F20: =IF(C20<>"",-D20+F19,NA()) -> #N/A | G20: =IF(A20>0,A20*(AverageOut-AverageIn),0) -> 93 | H20: =IF(A20>0,SQRT(A20)*SQRT(DevIn*DevIn + DevOut*DevOut),0.001) -> 23.49468 | I20: =1-NORMDIST(WorkLeft,G20,H20,TRUE) -> 0.13422621 | J20: =IF(I19,I20-I19,I20) -> 0.083750366 | K20: =IF(C20="",NA(),C20) -> #N/A | L20: =IF(D20="",NA(),D20) -> #N/A
... A28: =B28-LatestSprint -> 17 | B28: 20 | C28: =IF(B28<=LatestSprint,SUMIF(BackLog!D:D,B28,BackLog!B:B),"") | D28: =IF(B28<=LatestSprint,SUMIF(BackLog!C:C,B28,BackLog!B:B),"") | E28: =IF(B28<=LatestSprint,E27-C28,NA()) -> #N/A | F28: =IF(C28<>"",-D28+F27,NA()) -> #N/A | G28: =IF(A28>0,A28*(AverageOut-AverageIn),0) -> 175.66667 | H28: =IF(A28>0,SQRT(A28)*SQRT(DevIn*DevIn + DevOut*DevOut),0.001) -> 32.290349 | I28: =1-NORMDIST(WorkLeft,G28,H28,TRUE) -> 0.96036267 | J28: =IF(I27,I28-I27,I28) -> 0.029925051 | K28: =IF(C28="",NA(),C28) -> #N/A | L28: =IF(D28="",NA(),D28) -> #N/A
