Workbook
Name status_list: Sum_data!$B$4:$B$10

Sheet Manual
C1: DATA ENTRY TABLE - Effort by each project team per each BRQ within 1 release/iteration | CM1: end
B2: Release/Iteration | C2: Work Centers | D2: =Team_Capacity_Entry!B5 -> Аналитики | E2: =Team_Capacity_Entry!B6 -> Архитекторы | F2: =Team_Capacity_Entry!B7 -> Дизайнеры | G2: =Team_Capacity_Entry!B8 -> Разработчики | H2: =Team_Capacity_Entry!B9 -> Тестировщики | I2: =Team_Capacity_Entry!B10 -> Администраторы | J2: =Team_Capacity_Entry!B11 -> 0 | K2: =Team_Capacity_Entry!B12 -> 0 | L2: =Team_Capacity_Entry!B13 -> 0 | M2: =Team_Capacity_Entry!B14 -> 0 | N2: =Team_Capacity_Entry!B15 -> 0 | O2: =Team_Capacity_Entry!B16 -> 0 | P2: =Team_Capacity_Entry!B17 -> 0 | Q2: =Team_Capacity_Entry!B18 -> 0 | R2: =Team_Capacity_Entry!B19 -> 0 | S2: =Team_Capacity_Entry!B20 -> 0 | T2: =Team_Capacity_Entry!B21 -> 0 | U2: =Team_Capacity_Entry!B22 -> 0 | V2: =Team_Capacity_Entry!B23 -> 0 | W2: =Team_Capacity_Entry!B24 -> 0 | X2: =Team_Capacity_Entry!B25 -> 0 | Y2: =Team_Capacity_Entry!B26 -> 0 | Z2: =Team_Capacity_Entry!B27 -> 0 | AA2: =Team_Capacity_Entry!B28 -> 0 | AB2: =Team_Capacity_Entry!B29 -> 0 | AC2: =Team_Capacity_Entry!B30 -> 0 | AD2: =Team_Capacity_Entry!B31 -> 0 | AE2: =Team_Capacity_Entry!B32 -> 0 | AF2: =Team_Capacity_Entry!B33 -> 0 | AG2: =Team_Capacity_Entry!B34 -> 0 | AH2: =Team_Capacity_Entry!B35 -> 0 | AI2: =Team_Capacity_Entry!B36 -> 0 | AJ2: =Team_Capacity_Entry!B37 -> 0 | AK2: =Team_Capacity_Entry!B38 -> 0 | AL2: =Team_Capacity_Entry!B39 -> 0 | AM2: =Team_Capacity_Entry!B40 -> 0 | AN2: =Team_Capacity_Entry!B41 -> 0 | AO2: =Team_Capacity_Entry!$B42 -> 0 | AP2: =Team_Capacity_Entry!B43 -> 0 | AQ2: =Team_Capacity_Entry!B44 -> 0 | AR2: =Team_Capacity_Entry!B45 -> 0 | AS2: =Team_Capacity_Entry!B46 -> 0 | AT2: =Team_Capacity_Entry!B47 -> 0 | AU2: =Team_Capacity_Entry!B48 -> 0 | AV2: =Team_Capacity_Entry!B49 -> 0 | AW2: =Team_Capacity_Entry!B50 -> 0 | AX2: =Team_Capacity_Entry!B51 -> 0 | AY2: =Team_Capacity_Entry!B52 -> 0 | AZ2: =Team_Capacity_Entry!B53 -> 0 | BA2: =Team_Capacity_Entry!B54 -> 0 | BB2: =Team_Capacity_Entry!B55 -> 0 | BC2: =Team_Capacity_Entry!B57 -> 0 | BD2: =Team_Capacity_Entry!B58 -> Total | BF2: Total per BRQ | BG2: BRQ Priority | BH2: Comments | BI2: BRQ State
C3: Capacity per each Work Center | D3: =SUMIF(Team_Capacity_Entry!$B:$B,Manual!D$2,Team_Capacity_Entry!$AB:$AB) -> 10 | E3: =SUMIF(Team_Capacity_Entry!$B:$B,Manual!E$2,Team_Capacity_Entry!$AB:$AB) -> 8 | F3: =SUMIF(Team_Capacity_Entry!$B:$B,Manual!F$2,Team_Capacity_Entry!$AB:$AB) -> 5 | G3: =SUMIF(Team_Capacity_Entry!$B:$B,Manual!G$2,Team_Capacity_Entry!$AB:$AB) -> 10 | H3: =SUMIF(Team_Capacity_Entry!$B:$B,Manual!H$2,Team_Capacity_Entry!$AB:$AB) -> 15 | I3: =SUMIF(Team_Capacity_Entry!$B:$B,Manual!I$2,Team_Capacity_Entry!$AB:$AB) -> 10 | J3: =SUMIF(Team_Capacity_Entry!$B:$B,Manual!J$2,Team_Capacity_Entry!$AB:$AB) -> 0 | K3: =SUMIF(Team_Capacity_Entry!$B:$B,Manual!K$2,Team_Capacity_Entry!$AB:$AB) -> 0 | ... BE3: =SUMIF(Team_Capacity_Entry!$B:$B,Manual!BE$2,Team_Capacity_Entry!$AB:$AB) -> 0 | BF3: =SUM(D3:BE3) -> 116
C4: BRQ-32.26 Remove PDM | D4: 1.8125 | H4: 0.75 | L4: 5.1875 | BF4: =SUM(D4:BE4) -> 7.75 | BG4: 1 | BI4: Done
C5: BRQ 1 | D5: 5 | E5: 2 | F5: 35 | H5: 2 | I5: 4 | J5: 2 | K5: 2 | L5: 2 | BF5: =SUM(D5:BE5) -> 54 | BG5: 1 | BI5: Done
C6: BRQ 2 | D6: 1 | E6: 3 | F6: 2 | H6: 2 | I6: 2 | BF6: =SUM(D6:BE6) -> 10 | BG6: 1 | BI6: Done
C7: BRQ 3 | D7: 2 | H7: 2 | J7: 3 | M7: 5 | BF7: =SUM(D7:BE7) -> 12 | BG7: 1 | BI7: Done
C8: BRQ 4 | D8: 2 | F8: 2 | H8: 2 | K8: 5 | BF8: =SUM(D8:BE8) -> 11 | BG8: 1 | BI8: Done
C9: BRQ 5 | D9: 2 | H9: 3 | J9: 2 | BF9: =SUM(D9:BE9) -> 7 | BG9: 1 | BI9: In Progress
C10: BRQ 6 | D10: 2 | F10: 1 | H10: 3 | I10: 2 | J10: 2 | K10: 3 | L10: 2 | BF10: =SUM(D10:BE10) -> 15 | BG10: 1 | BI10: In Progress
C11: BRQ 7 | D11: 1 | F11: 2 | J11: 1 | O11: 10 | P11: 20 | BF11: =SUM(D11:BE11) -> 34 | BG11: 1 | BI11: In Progress
C12: BRQ 8 | D12: 2 | F12: 1 | J12: 2 | BF12: =SUM(D12:BE12) -> 5 | BG12: 1 | BI12: In Progress
C13: BRQ 9 | D13: 2 | G13: 3 | H13: 1 | I13: 2 | K13: 1 | L13: 1 | BF13: =SUM(D13:BE13) -> 10 | BG13: 1 | BI13: In Progress
C14: BRQ 10 | D14: 2 | F14: 2 | I14: 2 | J14: 1 | K14: 2 | BF14: =SUM(D14:BE14) -> 9 | BG14: 1 | BI14: In Progress
C15: BRQ 11 | D15: 2 | F15: 2 | H15: 2 | J15: 2 | K15: 1 | BF15: =SUM(D15:BE15) -> 9 | BG15: 1 | BI15: In Progress
C16: BRQ 12 | D16: 1 | I16: 5 | J16: 2 | BF16: =SUM(D16:BE16) -> 8 | BG16: 1 | BI16: In Progress
C17: BRQ 13 | D17: 3 | F17: 2 | H17: 3 | I17: 2 | BF17: =SUM(D17:BE17) -> 10 | BG17: 1 | BI17: In Progress
C18: BRQ 14 | E18: 2 | J18: 2 | K18: 1 | L18: 3 | BF18: =SUM(D18:BE18) -> 8 | BG18: 1 | BI18: In Progress
C19: BRQ 15 | I19: 2 | J19: 2 | K19: 2 | R19: 10 | BF19: =SUM(D19:BE19) -> 16 | BG19: 1 | BI19: In Progress
C20: BRQ 16 | F20: 2 | K20: 2 | BF20: =SUM(D20:BE20) -> 4 | BG20: 1 | BI20: In Progress
C21: BRQ 17 | E21: 2 | J21: 2 | BF21: =SUM(D21:BE21) -> 4 | BG21: 1 | BI21: In Progress
C22: BRQ 18 | H22: 2 | J22: 2 | R22: 10 | BF22: =SUM(D22:BE22) -> 14 | BG22: 1 | BI22: In Progress
C23: BRQ 19 | F23: 2 | H23: 3 | I23: 2 | J23: 2 | BF23: =SUM(D23:BE23) -> 9 | BG23: 1 | BI23: In Progress
C24: BRQ 20 | E24: 1 | F24: 2 | J24: 2 | BF24: =SUM(D24:BE24) -> 5 | BG24: 1 | BI24: In Progress
C25: BRQ 21 | F25: 2 | H25: 2 | I25: 4 | N25: 20 | Q25: 5 | BF25: =SUM(D25:BE25) -> 33 | BG25: 1 | BI25: In Progress
C26: BRQ 22 | L26: 3 | N26: 30 | BF26: =SUM(D26:BE26) -> 33 | BG26: 1 | BI26: Not Started
C27: BRQ 23 | I27: 2 | L27: 3 | O27: 30 | BF27: =SUM(D27:BE27) -> 35 | BG27: 1 | BI27: Not Started
C28: BRQ 24 | H28: 2 | I28: 4 | J28: 3 | L28: 2 | BF28: =SUM(D28:BE28) -> 11 | BG28: 1 | BI28: Not Started
C29: BRQ 25 | F29: 2 | J29: 2 | K29: 5 | BF29: =SUM(D29:BE29) -> 9 | BG29: 1 | BI29: Not Started
C30: BRQ 26 | F30: 2 | H30: 2 | K30: 2 | BF30: =SUM(D30:BE30) -> 6 | BG30: 1 | BI30: Not Started
C31: BRQ 27 | I31: 2 | BF31: =SUM(D31:BE31) -> 2 | BG31: 1 | BI31: Not Started
C32: BRQ 28 | J32: 3 | BF32: =SUM(D32:BE32) -> 3 | BG32: 1 | BI32: Not Started
C33: BRQ 29 | F33: 2 | K33: 2 | BF33: =SUM(D33:BE33) -> 4 | BG33: 1 | BI33: Not Started
C34: BRQ 30 | E34: 2 | K34: 3 | L34: 1 | BF34: =SUM(D34:BE34) -> 6 | BG34: 1 | BI34: Not Started
C35: BRQ 31 | F35: 20 | J35: 2 | BF35: =SUM(D35:BE35) -> 22 | BG35: 2 | BI35: Not Started
C36: BRQ 32 | D36: 10 | E36: 10 | F36: 10 | I36: 10 | J36: 20 | BF36: =SUM(D36:BE36) -> 60 | BG36: 2 | BI36: Out of Scope
BF37: =SUM(D37:BE37) -> 0
BF38: =SUM(D38:BE38) -> 0
BF39: =SUM(D39:BE39) -> 0
BF40: =SUM(D40:BE40) -> 0
BF41: =SUM(D41:BE41) -> 0
BF42: =SUM(D42:BE42) -> 0
BF43: =SUM(D43:BE43) -> 0
BF44: =SUM(D44:BE44) -> 0
BF45: =SUM(D45:BE45) -> 0
BF46: =SUM(D46:BE46) -> 0
BF47: =SUM(D47:BE47) -> 0
BF48: =SUM(D48:BE48) -> 0
... BF56: =SUM(D56:BE56) -> 0
C140: -

Sheet Team_Capacity_Entry
C1: Contingency percentage (процент от общего объема работ, в который входят работы на прямую не относящиеся к разработке BRQ, такие как bugfix, менеджмент, планирование и т.д.) для уменьшения capacity команды на данный процент | AB1: 0
B2: DATA ENTRY TABLE Release/Iteration Teams Capacity Table by months В данную таблицу необходимо ввести данные по Capacity команды в разрезе месяцев, введенные данные используются для расчета capacity на листе Assessment (для графика) | C2: Capacity By Months
B3: Time Period | C3: Jan | D3: Feb | E3: Mar | F3: Apr | G3: May | H3: Jun | I3: Jul | J3: Aug | K3: Sep | L3: Oct | M3: Nov | N3: Dec | O3: Jan | P3: Feb | Q3: Mar | R3: Apr | S3: May | T3: Jun | U3: Jul | V3: Aug | W3: Sep | X3: Oct | Y3: Nov | Z3: Dec | AA3: Comments | AB3: Total Release/Iteration Capacity
B4: Teams (Work Centers)
B5: Аналитики | C5: 10 | AB5: =IF($AB$1<=0,SUM(C5:Z5),(SUM(C5:Z5)-(SUM(C5:Z5))*$AB$1)) -> 10
B6: Архитекторы | C6: 8 | AB6: =IF($AB$1<=0,SUM(C6:Z6),(SUM(C6:Z6)-(SUM(C6:Z6))*$AB$1)) -> 8
B7: Дизайнеры | C7: 5 | AB7: =IF($AB$1<=0,SUM(C7:Z7),(SUM(C7:Z7)-(SUM(C7:Z7))*$AB$1)) -> 5
B8: Разработчики | C8: 10 | AB8: =IF($AB$1<=0,SUM(C8:Z8),(SUM(C8:Z8)-(SUM(C8:Z8))*$AB$1)) -> 10
B9: Тестировщики | C9: 15 | AB9: =IF($AB$1<=0,SUM(C9:Z9),(SUM(C9:Z9)-(SUM(C9:Z9))*$AB$1)) -> 15
B10: Администраторы | C10: 10 | AB10: =IF($AB$1<=0,SUM(C10:Z10),(SUM(C10:Z10)-(SUM(C10:Z10))*$AB$1)) -> 10
AB11: =IF($AB$1<=0,SUM(C11:Z11),(SUM(C11:Z11)-(SUM(C11:Z11))*$AB$1)) -> 0
AB12: =IF($AB$1<=0,SUM(C12:Z12),(SUM(C12:Z12)-(SUM(C12:Z12))*$AB$1)) -> 0
AB13: =IF($AB$1<=0,SUM(C13:Z13),(SUM(C13:Z13)-(SUM(C13:Z13))*$AB$1)) -> 0
AB14: =IF($AB$1<=0,SUM(C14:Z14),(SUM(C14:Z14)-(SUM(C14:Z14))*$AB$1)) -> 0
AB15: =IF($AB$1<=0,SUM(C15:Z15),(SUM(C15:Z15)-(SUM(C15:Z15))*$AB$1)) -> 0
AB16: =IF($AB$1<=0,SUM(C16:Z16),(SUM(C16:Z16)-(SUM(C16:Z16))*$AB$1)) -> 0
AB17: =IF($AB$1<=0,SUM(C17:Z17),(SUM(C17:Z17)-(SUM(C17:Z17))*$AB$1)) -> 0
AB18: =IF($AB$1<=0,SUM(C18:Z18),(SUM(C18:Z18)-(SUM(C18:Z18))*$AB$1)) -> 0
AB19: =IF($AB$1<=0,SUM(C19:Z19),(SUM(C19:Z19)-(SUM(C19:Z19))*$AB$1)) -> 0
AB20: =IF($AB$1<=0,SUM(C20:Z20),(SUM(C20:Z20)-(SUM(C20:Z20))*$AB$1)) -> 0
AB21: =IF($AB$1<=0,SUM(C21:Z21),(SUM(C21:Z21)-(SUM(C21:Z21))*$AB$1)) -> 0
AB22: =IF($AB$1<=0,SUM(C22:Z22),(SUM(C22:Z22)-(SUM(C22:Z22))*$AB$1)) -> 0
... AB57: =IF($AB$1<=0,SUM(C57:Z57),(SUM(C57:Z57)-(SUM(C57:Z57))*$AB$1)) -> 0
B58: Total | C58: =SUM(C5:C57) -> 58 | D58: =SUM(D5:D57) -> 0 | E58: =SUM(E5:E57) -> 0 | F58: =SUM(F5:F57) -> 0 | G58: =SUM(G5:G57) -> 0 | H58: =SUM(H5:H57) -> 0 | I58: =SUM(I5:I57) -> 0 | J58: =SUM(J5:J57) -> 0 | ... Z58: =SUM(Z5:Z57) -> 0 | AB58: =SUM(AB5:AB57) -> 58
B142: -

Sheet Assessment_Entry
CX1: end
B2: Release/Iteration | C2: Work Centers | D2: =Team_Capacity_Entry!B5 -> Аналитики | E2: =Team_Capacity_Entry!B6 -> Архитекторы | F2: =Team_Capacity_Entry!B7 -> Дизайнеры | G2: =Team_Capacity_Entry!B8 -> Разработчики | H2: =Team_Capacity_Entry!B9 -> Тестировщики | I2: =Team_Capacity_Entry!B10 -> Администраторы | J2: =Team_Capacity_Entry!B11 -> 0 | K2: =Team_Capacity_Entry!B12 -> 0 | L2: =Team_Capacity_Entry!B13 -> 0 | M2: =Team_Capacity_Entry!B14 -> 0 | N2: =Team_Capacity_Entry!B15 -> 0 | O2: =Team_Capacity_Entry!B16 -> 0 | P2: =Team_Capacity_Entry!B17 -> 0 | Q2: =Team_Capacity_Entry!B18 -> 0 | R2: =Team_Capacity_Entry!B19 -> 0 | S2: =Team_Capacity_Entry!B20 -> 0 | T2: =Team_Capacity_Entry!B21 -> 0 | U2: =Team_Capacity_Entry!B22 -> 0 | V2: =Team_Capacity_Entry!B23 -> 0 | W2: =Team_Capacity_Entry!B24 -> 0 | X2: =Team_Capacity_Entry!B25 -> 0 | Y2: =Team_Capacity_Entry!B26 -> 0 | Z2: =Team_Capacity_Entry!B27 -> 0 | AA2: =Team_Capacity_Entry!B28 -> 0 | AB2: =Team_Capacity_Entry!B29 -> 0 | AC2: =Team_Capacity_Entry!B30 -> 0 | AD2: =Team_Capacity_Entry!B31 -> 0 | AE2: =Team_Capacity_Entry!B32 -> 0 | AF2: =Team_Capacity_Entry!B33 -> 0 | AG2: =Team_Capacity_Entry!B34 -> 0 | AH2: =Team_Capacity_Entry!B35 -> 0 | AI2: =Team_Capacity_Entry!B36 -> 0 | AJ2: =Team_Capacity_Entry!B37 -> 0 | AK2: =Team_Capacity_Entry!B38 -> 0 | AL2: =Team_Capacity_Entry!B39 -> 0 | AM2: =Team_Capacity_Entry!B40 -> 0 | AN2: =Team_Capacity_Entry!B41 -> 0 | AO2: =Team_Capacity_Entry!$B42 -> 0 | AP2: =Team_Capacity_Entry!B43 -> 0 | AQ2: =Team_Capacity_Entry!B44 -> 0 | AR2: =Team_Capacity_Entry!B45 -> 0 | AS2: =Team_Capacity_Entry!B46 -> 0 | AT2: =Team_Capacity_Entry!B47 -> 0 | AU2: =Team_Capacity_Entry!B48 -> 0 | AV2: =Team_Capacity_Entry!B49 -> 0 | AW2: =Team_Capacity_Entry!B50 -> 0 | AX2: =Team_Capacity_Entry!B51 -> 0 | AY2: =Team_Capacity_Entry!B52 -> 0 | AZ2: =Team_Capacity_Entry!B53 -> 0 | BA2: =Team_Capacity_Entry!B54 -> 0 | BB2: =Team_Capacity_Entry!B55 -> 0 | BC2: =Team_Capacity_Entry!B56 -> 0 | BD2: =Team_Capacity_Entry!B57 -> 0 | BF2: Total per BRQ | BG2: BRQ Priority | BH2: Comments | BI2: BRQ State | BJ2: Service column (Don’t remove it)
C3: Capacity per each Work Center | D3: =SUMIF(Team_Capacity_Entry!$B:$B,Assessment_Entry!D$2,Team_Capacity_Entry!$AB:$AB) -> 10 | E3: =SUMIF(Team_Capacity_Entry!$B:$B,Assessment_Entry!E$2,Team_Capacity_Entry!$AB:$AB) -> 8 | F3: =SUMIF(Team_Capacity_Entry!$B:$B,Assessment_Entry!F$2,Team_Capacity_Entry!$AB:$AB) -> 5 | G3: =SUMIF(Team_Capacity_Entry!$B:$B,Assessment_Entry!G$2,Team_Capacity_Entry!$AB:$AB) -> 10 | H3: =SUMIF(Team_Capacity_Entry!$B:$B,Assessment_Entry!H$2,Team_Capacity_Entry!$AB:$AB) -> 15 | I3: =SUMIF(Team_Capacity_Entry!$B:$B,Assessment_Entry!I$2,Team_Capacity_Entry!$AB:$AB) -> 10 | J3: =SUMIF(Team_Capacity_Entry!$B:$B,Assessment_Entry!J$2,Team_Capacity_Entry!$AB:$AB) -> 0 | K3: =SUMIF(Team_Capacity_Entry!$B:$B,Assessment_Entry!K$2,Team_Capacity_Entry!$AB:$AB) -> 0 | ... BE3: =SUMIF(Team_Capacity_Entry!$B:$B,Assessment_Entry!BE$2,Team_Capacity_Entry!$AB:$AB) -> 0 | BI3: don't remove this note | BJ3: don't remove this note
C4: Проект A | D4: 2 | E4: 1 | F4: 2 | G4: 2 | H4: 5 | I4: 3 | BF4: =SUM(D4:BE4) -> 15 | BG4: 2 | BI4: Not Started | BJ4: =IF(SUBTOTAL(109,D4:BD4)>0,IF(BI4="",0,BI4),0) -> Not Started
C5: Проект B | D5: 2 | E5: 2 | F5: 1 | G5: 1 | H5: 2 | I5: 1 | BF5: =SUM(D5:BE5) -> 9 | BG5: 3 | BJ5: =IF(SUBTOTAL(109,D5:BD5)>0,IF(BI5="",0,BI5),0) -> 0
C6: Проект C | D6: 3 | E6: 2 | G6: 1 | H6: 3 | I6: 3 | BF6: =SUM(D6:BE6) -> 12 | BG6: 1 | BJ6: =IF(SUBTOTAL(109,D6:BD6)>0,IF(BI6="",0,BI6),0) -> 0
C7: Проект D | D7: 1 | F7: 3 | H7: 1 | I7: 3 | BF7: =SUM(D7:BE7) -> 8 | BG7: 2 | BI7: Not Started | BJ7: =IF(SUBTOTAL(109,D7:BD7)>0,IF(BI7="",0,BI7),0) -> Not Started
C8: Проект E | D8: 1 | E8: 1 | F8: 2 | G8: 1 | H8: 4 | I8: 1 | BF8: =SUM(D8:BE8) -> 10 | BG8: 1 | BI8: Not Started | BJ8: =IF(SUBTOTAL(109,D8:BD8)>0,IF(BI8="",0,BI8),0) -> Not Started
C9: Проект E | D9: 1 | E9: 1 | F9: 2 | G9: 1 | H9: 4 | I9: 1 | BF9: =SUM(D9:BE9) -> 10 | BJ9: =IF(SUBTOTAL(109,D9:BD9)>0,IF(BI9="",0,BI9),0) -> 0
C10: Проект E | D10: 1 | E10: 1 | F10: 2 | G10: 1 | H10: 4 | I10: 1 | BF10: =SUM(D10:BE10) -> 10 | BJ10: =IF(SUBTOTAL(109,D10:BD10)>0,IF(BI10="",0,BI10),0) -> 0
BF11: =SUM(D11:BE11) -> 0 | BJ11: =IF(SUBTOTAL(109,D11:BD11)>0,IF(BI11="",0,BI11),0) -> 0
BF12: =SUM(D12:BE12) -> 0 | BJ12: =IF(SUBTOTAL(109,D12:BD12)>0,IF(BI12="",0,BI12),0) -> 0
BF13: =SUM(D13:BE13) -> 0 | BJ13: =IF(SUBTOTAL(109,D13:BD13)>0,IF(BI13="",0,BI13),0) -> 0
BF14: =SUM(D14:BE14) -> 0 | BJ14: =IF(SUBTOTAL(109,D14:BD14)>0,IF(BI14="",0,BI14),0) -> 0
BF15: =SUM(D15:BE15) -> 0 | BJ15: =IF(SUBTOTAL(109,D15:BD15)>0,IF(BI15="",0,BI15),0) -> 0
BF16: =SUM(D16:BE16) -> 0 | BJ16: =IF(SUBTOTAL(109,D16:BD16)>0,IF(BI16="",0,BI16),0) -> 0
BF17: =SUM(D17:BE17) -> 0 | BJ17: =IF(SUBTOTAL(109,D17:BD17)>0,IF(BI17="",0,BI17),0) -> 0
BF18: =SUM(D18:BE18) -> 0 | BJ18: =IF(SUBTOTAL(109,D18:BD18)>0,IF(BI18="",0,BI18),0) -> 0
BF19: =SUM(D19:BE19) -> 0 | BJ19: =IF(SUBTOTAL(109,D19:BD19)>0,IF(BI19="",0,BI19),0) -> 0
BF20: =SUM(D20:BE20) -> 0 | BJ20: =IF(SUBTOTAL(109,D20:BD20)>0,IF(BI20="",0,BI20),0) -> 0
BF21: =SUM(D21:BE21) -> 0 | BJ21: =IF(SUBTOTAL(109,D21:BD21)>0,IF(BI21="",0,BI21),0) -> 0
BF22: =SUM(D22:BE22) -> 0 | BJ22: =IF(SUBTOTAL(109,D22:BD22)>0,IF(BI22="",0,BI22),0) -> 0
... BF102: =SUM(D102:BE102) -> 0 | BJ102: =IF(SUBTOTAL(109,D102:BD102)>0,IF(BI102="",0,BI102),0) -> 0
C103: Total Effort per team | D103: =SUBTOTAL(9,D4:D102) -> 11 | E103: =SUBTOTAL(9,E4:E102) -> 8 | F103: =SUBTOTAL(9,F4:F102) -> 12 | G103: =SUBTOTAL(9,G4:G102) -> 7 | H103: =SUBTOTAL(9,H4:H102) -> 23 | I103: =SUBTOTAL(9,I4:I102) -> 13 | J103: =SUBTOTAL(9,J4:J102) -> 0 | K103: =SUBTOTAL(9,K4:K102) -> 0 | ... BF103: =SUBTOTAL(9,BF4:BF102) -> 74 | BJ103: service note
C186: -

Sheet Sum_data
B2: Work Centers | C2: =Team_Capacity_Entry!B5 -> Аналитики | D2: =Team_Capacity_Entry!B6 -> Архитекторы | E2: =Team_Capacity_Entry!B7 -> Дизайнеры | F2: =Team_Capacity_Entry!B8 -> Разработчики | G2: =Team_Capacity_Entry!B9 -> Тестировщики | H2: =Team_Capacity_Entry!B10 -> Администраторы | I2: =Team_Capacity_Entry!B11 -> 0 | J2: =Team_Capacity_Entry!B12 -> 0 | K2: =Team_Capacity_Entry!B13 -> 0 | L2: =Team_Capacity_Entry!B14 -> 0 | M2: =Team_Capacity_Entry!B15 -> 0 | N2: =Team_Capacity_Entry!B16 -> 0 | O2: =Team_Capacity_Entry!B17 -> 0 | P2: =Team_Capacity_Entry!B18 -> 0 | Q2: =Team_Capacity_Entry!B19 -> 0 | R2: =Team_Capacity_Entry!B20 -> 0 | S2: =Team_Capacity_Entry!B21 -> 0 | T2: =Team_Capacity_Entry!B22 -> 0 | U2: =Team_Capacity_Entry!B23 -> 0 | V2: =Team_Capacity_Entry!B24 -> 0 | W2: =Team_Capacity_Entry!B25 -> 0 | X2: =Team_Capacity_Entry!B26 -> 0 | Y2: =Team_Capacity_Entry!B27 -> 0 | Z2: =Team_Capacity_Entry!B28 -> 0 | AA2: =Team_Capacity_Entry!B29 -> 0 | AB2: =Team_Capacity_Entry!B30 -> 0 | AC2: =Team_Capacity_Entry!B31 -> 0 | AD2: =Team_Capacity_Entry!B32 -> 0 | AE2: =Team_Capacity_Entry!B33 -> 0 | AF2: =Team_Capacity_Entry!B34 -> 0 | AG2: =Team_Capacity_Entry!B35 -> 0 | AH2: =Team_Capacity_Entry!B36 -> 0 | AI2: =Team_Capacity_Entry!B37 -> 0 | AJ2: =Team_Capacity_Entry!B38 -> 0 | AK2: =Team_Capacity_Entry!B39 -> 0 | AL2: =Team_Capacity_Entry!B40 -> 0 | AM2: =Team_Capacity_Entry!B41 -> 0 | AN2: =Team_Capacity_Entry!$B42 -> 0 | AO2: =Team_Capacity_Entry!B43 -> 0 | AP2: =Team_Capacity_Entry!B44 -> 0 | AQ2: =Team_Capacity_Entry!B45 -> 0 | AR2: =Team_Capacity_Entry!B46 -> 0 | AS2: =Team_Capacity_Entry!B47 -> 0 | AT2: =Team_Capacity_Entry!B48 -> 0 | AU2: =Team_Capacity_Entry!B49 -> 0 | AV2: =Team_Capacity_Entry!B50 -> 0 | AW2: =Team_Capacity_Entry!B51 -> 0 | AX2: =Team_Capacity_Entry!B52 -> 0 | AY2: =Team_Capacity_Entry!B53 -> 0 | AZ2: =Team_Capacity_Entry!B54 -> 0 | BA2: =Team_Capacity_Entry!B55 -> 0 | BB2: =Team_Capacity_Entry!B56 -> 0 | BC2: =Team_Capacity_Entry!B57 -> 0 | BE2: Total per BRQ | BF2: BRQ Priority | BG2: Comments | BH2: BRQ State
B3: Capacity per each Work Center | C3: =Assessment_Entry!D3 -> 10 | D3: =Assessment_Entry!E3 -> 8 | E3: =Assessment_Entry!F3 -> 5 | F3: =Assessment_Entry!G3 -> 10 | G3: =Assessment_Entry!H3 -> 15 | H3: =Assessment_Entry!I3 -> 10 | I3: =Assessment_Entry!J3 -> 0 | J3: =Assessment_Entry!K3 -> 0 | ... BC3: =Assessment_Entry!BD3 -> 0
B4: Done | C4: =IF(SUMIF(Assessment_Entry!$BJ:$BJ,$B4,Assessment_Entry!D:D)=0,"",SUMIF(Assessment_Entry!$BJ:$BJ,$B4,Assessment_Entry!D:D)) | D4: =IF(SUMIF(Assessment_Entry!$BJ:$BJ,$B4,Assessment_Entry!E:E)=0,"",SUMIF(Assessment_Entry!$BJ:$BJ,$B4,Assessment_Entry!E:E)) | E4: =IF(SUMIF(Assessment_Entry!$BJ:$BJ,$B4,Assessment_Entry!F:F)=0,"",SUMIF(Assessment_Entry!$BJ:$BJ,$B4,Assessment_Entry!F:F)) | F4: =IF(SUMIF(Assessment_Entry!$BJ:$BJ,$B4,Assessment_Entry!G:G)=0,"",SUMIF(Assessment_Entry!$BJ:$BJ,$B4,Assessment_Entry!G:G)) | G4: =IF(SUMIF(Assessment_Entry!$BJ:$BJ,$B4,Assessment_Entry!H:H)=0,"",SUMIF(Assessment_Entry!$BJ:$BJ,$B4,Assessment_Entry!H:H)) | H4: =IF(SUMIF(Assessment_Entry!$BJ:$BJ,$B4,Assessment_Entry!I:I)=0,"",SUMIF(Assessment_Entry!$BJ:$BJ,$B4,Assessment_Entry!I:I)) | I4: =IF(SUMIF(Assessment_Entry!$BJ:$BJ,$B4,Assessment_Entry!J:J)=0,"",SUMIF(Assessment_Entry!$BJ:$BJ,$B4,Assessment_Entry!J:J)) | J4: =IF(SUMIF(Assessment_Entry!$BJ:$BJ,$B4,Assessment_Entry!K:K)=0,"",SUMIF(Assessment_Entry!$BJ:$BJ,$B4,Assessment_Entry!K:K)) | K4: =IF(SUMIF(Assessment_Entry!$BJ:$BJ,$B4,Assessment_Entry!L:L)=0,"",SUMIF(Assessment_Entry!$BJ:$BJ,$B4,Assessment_Entry!L:L)) | L4: =IF(SUMIF(Assessment_Entry!$BJ:$BJ,$B4,Assessment_Entry!M:M)=0,"",SUMIF(Assessment_Entry!$BJ:$BJ,$B4,Assessment_Entry!M:M)) | M4: =IF(SUMIF(Assessment_Entry!$BJ:$BJ,$B4,Assessment_Entry!N:N)=0,"",SUMIF(Assessment_Entry!$BJ:$BJ,$B4,Assessment_Entry!N:N)) | N4: =IF(SUMIF(Assessment_Entry!$BJ:$BJ,$B4,Assessment_Entry!O:O)=0,"",SUMIF(Assessment_Entry!$BJ:$BJ,$B4,Assessment_Entry!O:O)) | O4: =IF(SUMIF(Assessment_Entry!$BJ:$BJ,$B4,Assessment_Entry!P:P)=0,"",SUMIF(Assessment_Entry!$BJ:$BJ,$B4,Assessment_Entry!P:P)) | P4: =IF(SUMIF(Assessment_Entry!$BJ:$BJ,$B4,Assessment_Entry!Q:Q)=0,"",SUMIF(Assessment_Entry!$BJ:$BJ,$B4,Assessment_Entry!Q:Q)) | Q4: =IF(SUMIF(Assessment_Entry!$BJ:$BJ,$B4,Assessment_Entry!R:R)=0,"",SUMIF(Assessment_Entry!$BJ:$BJ,$B4,Assessment_Entry!R:R)) | R4: =IF(SUMIF(Assessment_Entry!$BJ:$BJ,$B4,Assessment_Entry!S:S)=0,"",SUMIF(Assessment_Entry!$BJ:$BJ,$B4,Assessment_Entry!S:S)) | S4: =IF(SUMIF(Assessment_Entry!$BJ:$BJ,$B4,Assessment_Entry!T:T)=0,"",SUMIF(Assessment_Entry!$BJ:$BJ,$B4,Assessment_Entry!T:T)) | T4: =IF(SUMIF(Assessment_Entry!$BJ:$BJ,$B4,Assessment_Entry!U:U)=0,"",SUMIF(Assessment_Entry!$BJ:$BJ,$B4,Assessment_Entry!U:U)) | U4: =IF(SUMIF(Assessment_Entry!$BJ:$BJ,$B4,Assessment_Entry!V:V)=0,"",SUMIF(Assessment_Entry!$BJ:$BJ,$B4,Assessment_Entry!V:V)) | V4: =IF(SUMIF(Assessment_Entry!$BJ:$BJ,$B4,Assessment_Entry!W:W)=0,"",SUMIF(Assessment_Entry!$BJ:$BJ,$B4,Assessment_Entry!W:W)) | W4: =IF(SUMIF(Assessment_Entry!$BJ:$BJ,$B4,Assessment_Entry!X:X)=0,"",SUMIF(Assessment_Entry!$BJ:$BJ,$B4,Assessment_Entry!X:X)) | X4: =IF(SUMIF(Assessment_Entry!$BJ:$BJ,$B4,Assessment_Entry!Y:Y)=0,"",SUMIF(Assessment_Entry!$BJ:$BJ,$B4,Assessment_Entry!Y:Y)) | Y4: =IF(SUMIF(Assessment_Entry!$BJ:$BJ,$B4,Assessment_Entry!Z:Z)=0,"",SUMIF(Assessment_Entry!$BJ:$BJ,$B4,Assessment_Entry!Z:Z)) | Z4: =IF(SUMIF(Assessment_Entry!$BJ:$BJ,$B4,Assessment_Entry!AA:AA)=0,"",SUMIF(Assessment_Entry!$BJ:$BJ,$B4,Assessment_Entry!AA:AA)) | AA4: =IF(SUMIF(Assessment_Entry!$BJ:$BJ,$B4,Assessment_Entry!AB:AB)=0,"",SUMIF(Assessment_Entry!$BJ:$BJ,$B4,Assessment_Entry!AB:AB)) | AB4: =IF(SUMIF(Assessment_Entry!$BJ:$BJ,$B4,Assessment_Entry!AC:AC)=0,"",SUMIF(Assessment_Entry!$BJ:$BJ,$B4,Assessment_Entry!AC:AC)) | AC4: =IF(SUMIF(Assessment_Entry!$BJ:$BJ,$B4,Assessment_Entry!AD:AD)=0,"",SUMIF(Assessment_Entry!$BJ:$BJ,$B4,Assessment_Entry!AD:AD)) | AD4: =IF(SUMIF(Assessment_Entry!$BJ:$BJ,$B4,Assessment_Entry!AE:AE)=0,"",SUMIF(Assessment_Entry!$BJ:$BJ,$B4,Assessment_Entry!AE:AE)) | AE4: =IF(SUMIF(Assessment_Entry!$BJ:$BJ,$B4,Assessment_Entry!AF:AF)=0,"",SUMIF(Assessment_Entry!$BJ:$BJ,$B4,Assessment_Entry!AF:AF)) | AF4: =IF(SUMIF(Assessment_Entry!$BJ:$BJ,$B4,Assessment_Entry!AG:AG)=0,"",SUMIF(Assessment_Entry!$BJ:$BJ,$B4,Assessment_Entry!AG:AG)) | AG4: =IF(SUMIF(Assessment_Entry!$BJ:$BJ,$B4,Assessment_Entry!AH:AH)=0,"",SUMIF(Assessment_Entry!$BJ:$BJ,$B4,Assessment_Entry!AH:AH)) | AH4: =IF(SUMIF(Assessment_Entry!$BJ:$BJ,$B4,Assessment_Entry!AI:AI)=0,"",SUMIF(Assessment_Entry!$BJ:$BJ,$B4,Assessment_Entry!AI:AI)) | AI4: =IF(SUMIF(Assessment_Entry!$BJ:$BJ,$B4,Assessment_Entry!AJ:AJ)=0,"",SUMIF(Assessment_Entry!$BJ:$BJ,$B4,Assessment_Entry!AJ:AJ)) | AJ4: =IF(SUMIF(Assessment_Entry!$BJ:$BJ,$B4,Assessment_Entry!AK:AK)=0,"",SUMIF(Assessment_Entry!$BJ:$BJ,$B4,Assessment_Entry!AK:AK)) | AK4: =IF(SUMIF(Assessment_Entry!$BJ:$BJ,$B4,Assessment_Entry!AL:AL)=0,"",SUMIF(Assessment_Entry!$BJ:$BJ,$B4,Assessment_Entry!AL:AL)) | AL4: =IF(SUMIF(Assessment_Entry!$BJ:$BJ,$B4,Assessment_Entry!AM:AM)=0,"",SUMIF(Assessment_Entry!$BJ:$BJ,$B4,Assessment_Entry!AM:AM)) | AM4: =IF(SUMIF(Assessment_Entry!$BJ:$BJ,$B4,Assessment_Entry!AN:AN)=0,"",SUMIF(Assessment_Entry!$BJ:$BJ,$B4,Assessment_Entry!AN:AN)) | AN4: =IF(SUMIF(Assessment_Entry!$BJ:$BJ,$B4,Assessment_Entry!AO:AO)=0,"",SUMIF(Assessment_Entry!$BJ:$BJ,$B4,Assessment_Entry!AO:AO)) | AO4: =IF(SUMIF(Assessment_Entry!$BJ:$BJ,$B4,Assessment_Entry!AP:AP)=0,"",SUMIF(Assessment_Entry!$BJ:$BJ,$B4,Assessment_Entry!AP:AP)) | AP4: =IF(SUMIF(Assessment_Entry!$BJ:$BJ,$B4,Assessment_Entry!AQ:AQ)=0,"",SUMIF(Assessment_Entry!$BJ:$BJ,$B4,Assessment_Entry!AQ:AQ)) | AQ4: =IF(SUMIF(Assessment_Entry!$BJ:$BJ,$B4,Assessment_Entry!AR:AR)=0,"",SUMIF(Assessment_Entry!$BJ:$BJ,$B4,Assessment_Entry!AR:AR)) | AR4: =IF(SUMIF(Assessment_Entry!$BJ:$BJ,$B4,Assessment_Entry!AS:AS)=0,"",SUMIF(Assessment_Entry!$BJ:$BJ,$B4,Assessment_Entry!AS:AS)) | AS4: =IF(SUMIF(Assessment_Entry!$BJ:$BJ,$B4,Assessment_Entry!AT:AT)=0,"",SUMIF(Assessment_Entry!$BJ:$BJ,$B4,Assessment_Entry!AT:AT)) | AT4: =IF(SUMIF(Assessment_Entry!$BJ:$BJ,$B4,Assessment_Entry!AU:AU)=0,"",SUMIF(Assessment_Entry!$BJ:$BJ,$B4,Assessment_Entry!AU:AU)) | AU4: =IF(SUMIF(Assessment_Entry!$BJ:$BJ,$B4,Assessment_Entry!AV:AV)=0,"",SUMIF(Assessment_Entry!$BJ:$BJ,$B4,Assessment_Entry!AV:AV)) | AV4: =IF(SUMIF(Assessment_Entry!$BJ:$BJ,$B4,Assessment_Entry!AW:AW)=0,"",SUMIF(Assessment_Entry!$BJ:$BJ,$B4,Assessment_Entry!AW:AW)) | AW4: =IF(SUMIF(Assessment_Entry!$BJ:$BJ,$B4,Assessment_Entry!AX:AX)=0,"",SUMIF(Assessment_Entry!$BJ:$BJ,$B4,Assessment_Entry!AX:AX)) | AX4: =IF(SUMIF(Assessment_Entry!$BJ:$BJ,$B4,Assessment_Entry!AY:AY)=0,"",SUMIF(Assessment_Entry!$BJ:$BJ,$B4,Assessment_Entry!AY:AY)) | AY4: =IF(SUMIF(Assessment_Entry!$BJ:$BJ,$B4,Assessment_Entry!AZ:AZ)=0,"",SUMIF(Assessment_Entry!$BJ:$BJ,$B4,Assessment_Entry!AZ:AZ)) | AZ4: =IF(SUMIF(Assessment_Entry!$BJ:$BJ,$B4,Assessment_Entry!BA:BA)=0,"",SUMIF(Assessment_Entry!$BJ:$BJ,$B4,Assessment_Entry!BA:BA)) | BA4: =IF(SUMIF(Assessment_Entry!$BJ:$BJ,$B4,Assessment_Entry!BB:BB)=0,"",SUMIF(Assessment_Entry!$BJ:$BJ,$B4,Assessment_Entry!BB:BB)) | BB4: =IF(SUMIF(Assessment_Entry!$BJ:$BJ,$B4,Assessment_Entry!BC:BC)=0,"",SUMIF(Assessment_Entry!$BJ:$BJ,$B4,Assessment_Entry!BC:BC)) | BC4: =IF(SUMIF(Assessment_Entry!$BJ:$BJ,$B4,Assessment_Entry!BD:BD)=0,"",SUMIF(Assessment_Entry!$BJ:$BJ,$B4,Assessment_Entry!BD:BD))
B5: In Progress | C5: =IF(SUMIF(Assessment_Entry!$BJ:$BJ,$B5,Assessment_Entry!D:D)=0,"",SUMIF(Assessment_Entry!$BJ:$BJ,$B5,Assessment_Entry!D:D)) | D5: =IF(SUMIF(Assessment_Entry!$BJ:$BJ,$B5,Assessment_Entry!E:E)=0,"",SUMIF(Assessment_Entry!$BJ:$BJ,$B5,Assessment_Entry!E:E)) | E5: =IF(SUMIF(Assessment_Entry!$BJ:$BJ,$B5,Assessment_Entry!F:F)=0,"",SUMIF(Assessment_Entry!$BJ:$BJ,$B5,Assessment_Entry!F:F)) | F5: =IF(SUMIF(Assessment_Entry!$BJ:$BJ,$B5,Assessment_Entry!G:G)=0,"",SUMIF(Assessment_Entry!$BJ:$BJ,$B5,Assessment_Entry!G:G)) | G5: =IF(SUMIF(Assessment_Entry!$BJ:$BJ,$B5,Assessment_Entry!H:H)=0,"",SUMIF(Assessment_Entry!$BJ:$BJ,$B5,Assessment_Entry!H:H)) | H5: =IF(SUMIF(Assessment_Entry!$BJ:$BJ,$B5,Assessment_Entry!I:I)=0,"",SUMIF(Assessment_Entry!$BJ:$BJ,$B5,Assessment_Entry!I:I)) | I5: =IF(SUMIF(Assessment_Entry!$BJ:$BJ,$B5,Assessment_Entry!J:J)=0,"",SUMIF(Assessment_Entry!$BJ:$BJ,$B5,Assessment_Entry!J:J)) | J5: =IF(SUMIF(Assessment_Entry!$BJ:$BJ,$B5,Assessment_Entry!K:K)=0,"",SUMIF(Assessment_Entry!$BJ:$BJ,$B5,Assessment_Entry!K:K)) | K5: =IF(SUMIF(Assessment_Entry!$BJ:$BJ,$B5,Assessment_Entry!L:L)=0,"",SUMIF(Assessment_Entry!$BJ:$BJ,$B5,Assessment_Entry!L:L)) | L5: =IF(SUMIF(Assessment_Entry!$BJ:$BJ,$B5,Assessment_Entry!M:M)=0,"",SUMIF(Assessment_Entry!$BJ:$BJ,$B5,Assessment_Entry!M:M)) | M5: =IF(SUMIF(Assessment_Entry!$BJ:$BJ,$B5,Assessment_Entry!N:N)=0,"",SUMIF(Assessment_Entry!$BJ:$BJ,$B5,Assessment_Entry!N:N)) | N5: =IF(SUMIF(Assessment_Entry!$BJ:$BJ,$B5,Assessment_Entry!O:O)=0,"",SUMIF(Assessment_Entry!$BJ:$BJ,$B5,Assessment_Entry!O:O)) | O5: =IF(SUMIF(Assessment_Entry!$BJ:$BJ,$B5,Assessment_Entry!P:P)=0,"",SUMIF(Assessment_Entry!$BJ:$BJ,$B5,Assessment_Entry!P:P)) | P5: =IF(SUMIF(Assessment_Entry!$BJ:$BJ,$B5,Assessment_Entry!Q:Q)=0,"",SUMIF(Assessment_Entry!$BJ:$BJ,$B5,Assessment_Entry!Q:Q)) | Q5: =IF(SUMIF(Assessment_Entry!$BJ:$BJ,$B5,Assessment_Entry!R:R)=0,"",SUMIF(Assessment_Entry!$BJ:$BJ,$B5,Assessment_Entry!R:R)) | R5: =IF(SUMIF(Assessment_Entry!$BJ:$BJ,$B5,Assessment_Entry!S:S)=0,"",SUMIF(Assessment_Entry!$BJ:$BJ,$B5,Assessment_Entry!S:S)) | S5: =IF(SUMIF(Assessment_Entry!$BJ:$BJ,$B5,Assessment_Entry!T:T)=0,"",SUMIF(Assessment_Entry!$BJ:$BJ,$B5,Assessment_Entry!T:T)) | T5: =IF(SUMIF(Assessment_Entry!$BJ:$BJ,$B5,Assessment_Entry!U:U)=0,"",SUMIF(Assessment_Entry!$BJ:$BJ,$B5,Assessment_Entry!U:U)) | U5: =IF(SUMIF(Assessment_Entry!$BJ:$BJ,$B5,Assessment_Entry!V:V)=0,"",SUMIF(Assessment_Entry!$BJ:$BJ,$B5,Assessment_Entry!V:V)) | V5: =IF(SUMIF(Assessment_Entry!$BJ:$BJ,$B5,Assessment_Entry!W:W)=0,"",SUMIF(Assessment_Entry!$BJ:$BJ,$B5,Assessment_Entry!W:W)) | W5: =IF(SUMIF(Assessment_Entry!$BJ:$BJ,$B5,Assessment_Entry!X:X)=0,"",SUMIF(Assessment_Entry!$BJ:$BJ,$B5,Assessment_Entry!X:X)) | X5: =IF(SUMIF(Assessment_Entry!$BJ:$BJ,$B5,Assessment_Entry!Y:Y)=0,"",SUMIF(Assessment_Entry!$BJ:$BJ,$B5,Assessment_Entry!Y:Y)) | Y5: =IF(SUMIF(Assessment_Entry!$BJ:$BJ,$B5,Assessment_Entry!Z:Z)=0,"",SUMIF(Assessment_Entry!$BJ:$BJ,$B5,Assessment_Entry!Z:Z)) | Z5: =IF(SUMIF(Assessment_Entry!$BJ:$BJ,$B5,Assessment_Entry!AA:AA)=0,"",SUMIF(Assessment_Entry!$BJ:$BJ,$B5,Assessment_Entry!AA:AA)) | AA5: =IF(SUMIF(Assessment_Entry!$BJ:$BJ,$B5,Assessment_Entry!AB:AB)=0,"",SUMIF(Assessment_Entry!$BJ:$BJ,$B5,Assessment_Entry!AB:AB)) | AB5: =IF(SUMIF(Assessment_Entry!$BJ:$BJ,$B5,Assessment_Entry!AC:AC)=0,"",SUMIF(Assessment_Entry!$BJ:$BJ,$B5,Assessment_Entry!AC:AC)) | AC5: =IF(SUMIF(Assessment_Entry!$BJ:$BJ,$B5,Assessment_Entry!AD:AD)=0,"",SUMIF(Assessment_Entry!$BJ:$BJ,$B5,Assessment_Entry!AD:AD)) | AD5: =IF(SUMIF(Assessment_Entry!$BJ:$BJ,$B5,Assessment_Entry!AE:AE)=0,"",SUMIF(Assessment_Entry!$BJ:$BJ,$B5,Assessment_Entry!AE:AE)) | AE5: =IF(SUMIF(Assessment_Entry!$BJ:$BJ,$B5,Assessment_Entry!AF:AF)=0,"",SUMIF(Assessment_Entry!$BJ:$BJ,$B5,Assessment_Entry!AF:AF)) | AF5: =IF(SUMIF(Assessment_Entry!$BJ:$BJ,$B5,Assessment_Entry!AG:AG)=0,"",SUMIF(Assessment_Entry!$BJ:$BJ,$B5,Assessment_Entry!AG:AG)) | AG5: =IF(SUMIF(Assessment_Entry!$BJ:$BJ,$B5,Assessment_Entry!AH:AH)=0,"",SUMIF(Assessment_Entry!$BJ:$BJ,$B5,Assessment_Entry!AH:AH)) | AH5: =IF(SUMIF(Assessment_Entry!$BJ:$BJ,$B5,Assessment_Entry!AI:AI)=0,"",SUMIF(Assessment_Entry!$BJ:$BJ,$B5,Assessment_Entry!AI:AI)) | AI5: =IF(SUMIF(Assessment_Entry!$BJ:$BJ,$B5,Assessment_Entry!AJ:AJ)=0,"",SUMIF(Assessment_Entry!$BJ:$BJ,$B5,Assessment_Entry!AJ:AJ)) | AJ5: =IF(SUMIF(Assessment_Entry!$BJ:$BJ,$B5,Assessment_Entry!AK:AK)=0,"",SUMIF(Assessment_Entry!$BJ:$BJ,$B5,Assessment_Entry!AK:AK)) | AK5: =IF(SUMIF(Assessment_Entry!$BJ:$BJ,$B5,Assessment_Entry!AL:AL)=0,"",SUMIF(Assessment_Entry!$BJ:$BJ,$B5,Assessment_Entry!AL:AL)) | AL5: =IF(SUMIF(Assessment_Entry!$BJ:$BJ,$B5,Assessment_Entry!AM:AM)=0,"",SUMIF(Assessment_Entry!$BJ:$BJ,$B5,Assessment_Entry!AM:AM)) | AM5: =IF(SUMIF(Assessment_Entry!$BJ:$BJ,$B5,Assessment_Entry!AN:AN)=0,"",SUMIF(Assessment_Entry!$BJ:$BJ,$B5,Assessment_Entry!AN:AN)) | AN5: =IF(SUMIF(Assessment_Entry!$BJ:$BJ,$B5,Assessment_Entry!AO:AO)=0,"",SUMIF(Assessment_Entry!$BJ:$BJ,$B5,Assessment_Entry!AO:AO)) | AO5: =IF(SUMIF(Assessment_Entry!$BJ:$BJ,$B5,Assessment_Entry!AP:AP)=0,"",SUMIF(Assessment_Entry!$BJ:$BJ,$B5,Assessment_Entry!AP:AP)) | AP5: =IF(SUMIF(Assessment_Entry!$BJ:$BJ,$B5,Assessment_Entry!AQ:AQ)=0,"",SUMIF(Assessment_Entry!$BJ:$BJ,$B5,Assessment_Entry!AQ:AQ)) | AQ5: =IF(SUMIF(Assessment_Entry!$BJ:$BJ,$B5,Assessment_Entry!AR:AR)=0,"",SUMIF(Assessment_Entry!$BJ:$BJ,$B5,Assessment_Entry!AR:AR)) | AR5: =IF(SUMIF(Assessment_Entry!$BJ:$BJ,$B5,Assessment_Entry!AS:AS)=0,"",SUMIF(Assessment_Entry!$BJ:$BJ,$B5,Assessment_Entry!AS:AS)) | AS5: =IF(SUMIF(Assessment_Entry!$BJ:$BJ,$B5,Assessment_Entry!AT:AT)=0,"",SUMIF(Assessment_Entry!$BJ:$BJ,$B5,Assessment_Entry!AT:AT)) | AT5: =IF(SUMIF(Assessment_Entry!$BJ:$BJ,$B5,Assessment_Entry!AU:AU)=0,"",SUMIF(Assessment_Entry!$BJ:$BJ,$B5,Assessment_Entry!AU:AU)) | AU5: =IF(SUMIF(Assessment_Entry!$BJ:$BJ,$B5,Assessment_Entry!AV:AV)=0,"",SUMIF(Assessment_Entry!$BJ:$BJ,$B5,Assessment_Entry!AV:AV)) | AV5: =IF(SUMIF(Assessment_Entry!$BJ:$BJ,$B5,Assessment_Entry!AW:AW)=0,"",SUMIF(Assessment_Entry!$BJ:$BJ,$B5,Assessment_Entry!AW:AW)) | AW5: =IF(SUMIF(Assessment_Entry!$BJ:$BJ,$B5,Assessment_Entry!AX:AX)=0,"",SUMIF(Assessment_Entry!$BJ:$BJ,$B5,Assessment_Entry!AX:AX)) | AX5: =IF(SUMIF(Assessment_Entry!$BJ:$BJ,$B5,Assessment_Entry!AY:AY)=0,"",SUMIF(Assessment_Entry!$BJ:$BJ,$B5,Assessment_Entry!AY:AY)) | AY5: =IF(SUMIF(Assessment_Entry!$BJ:$BJ,$B5,Assessment_Entry!AZ:AZ)=0,"",SUMIF(Assessment_Entry!$BJ:$BJ,$B5,Assessment_Entry!AZ:AZ)) | AZ5: =IF(SUMIF(Assessment_Entry!$BJ:$BJ,$B5,Assessment_Entry!BA:BA)=0,"",SUMIF(Assessment_Entry!$BJ:$BJ,$B5,Assessment_Entry!BA:BA)) | BA5: =IF(SUMIF(Assessment_Entry!$BJ:$BJ,$B5,Assessment_Entry!BB:BB)=0,"",SUMIF(Assessment_Entry!$BJ:$BJ,$B5,Assessment_Entry!BB:BB)) | BB5: =IF(SUMIF(Assessment_Entry!$BJ:$BJ,$B5,Assessment_Entry!BC:BC)=0,"",SUMIF(Assessment_Entry!$BJ:$BJ,$B5,Assessment_Entry!BC:BC)) | BC5: =IF(SUMIF(Assessment_Entry!$BJ:$BJ,$B5,Assessment_Entry!BD:BD)=0,"",SUMIF(Assessment_Entry!$BJ:$BJ,$B5,Assessment_Entry!BD:BD))
B6: Not Started | C6: =IF(SUMIF(Assessment_Entry!$BJ:$BJ,$B6,Assessment_Entry!D:D)=0,"",SUMIF(Assessment_Entry!$BJ:$BJ,$B6,Assessment_Entry!D:D)) -> 4 | D6: =IF(SUMIF(Assessment_Entry!$BJ:$BJ,$B6,Assessment_Entry!E:E)=0,"",SUMIF(Assessment_Entry!$BJ:$BJ,$B6,Assessment_Entry!E:E)) -> 2 | E6: =IF(SUMIF(Assessment_Entry!$BJ:$BJ,$B6,Assessment_Entry!F:F)=0,"",SUMIF(Assessment_Entry!$BJ:$BJ,$B6,Assessment_Entry!F:F)) -> 7 | F6: =IF(SUMIF(Assessment_Entry!$BJ:$BJ,$B6,Assessment_Entry!G:G)=0,"",SUMIF(Assessment_Entry!$BJ:$BJ,$B6,Assessment_Entry!G:G)) -> 3 | G6: =IF(SUMIF(Assessment_Entry!$BJ:$BJ,$B6,Assessment_Entry!H:H)=0,"",SUMIF(Assessment_Entry!$BJ:$BJ,$B6,Assessment_Entry!H:H)) -> 10 | H6: =IF(SUMIF(Assessment_Entry!$BJ:$BJ,$B6,Assessment_Entry!I:I)=0,"",SUMIF(Assessment_Entry!$BJ:$BJ,$B6,Assessment_Entry!I:I)) -> 7 | I6: =IF(SUMIF(Assessment_Entry!$BJ:$BJ,$B6,Assessment_Entry!J:J)=0,"",SUMIF(Assessment_Entry!$BJ:$BJ,$B6,Assessment_Entry!J:J)) | J6: =IF(SUMIF(Assessment_Entry!$BJ:$BJ,$B6,Assessment_Entry!K:K)=0,"",SUMIF(Assessment_Entry!$BJ:$BJ,$B6,Assessment_Entry!K:K)) | K6: =IF(SUMIF(Assessment_Entry!$BJ:$BJ,$B6,Assessment_Entry!L:L)=0,"",SUMIF(Assessment_Entry!$BJ:$BJ,$B6,Assessment_Entry!L:L)) | L6: =IF(SUMIF(Assessment_Entry!$BJ:$BJ,$B6,Assessment_Entry!M:M)=0,"",SUMIF(Assessment_Entry!$BJ:$BJ,$B6,Assessment_Entry!M:M)) | M6: =IF(SUMIF(Assessment_Entry!$BJ:$BJ,$B6,Assessment_Entry!N:N)=0,"",SUMIF(Assessment_Entry!$BJ:$BJ,$B6,Assessment_Entry!N:N)) | N6: =IF(SUMIF(Assessment_Entry!$BJ:$BJ,$B6,Assessment_Entry!O:O)=0,"",SUMIF(Assessment_Entry!$BJ:$BJ,$B6,Assessment_Entry!O:O)) | O6: =IF(SUMIF(Assessment_Entry!$BJ:$BJ,$B6,Assessment_Entry!P:P)=0,"",SUMIF(Assessment_Entry!$BJ:$BJ,$B6,Assessment_Entry!P:P)) | P6: =IF(SUMIF(Assessment_Entry!$BJ:$BJ,$B6,Assessment_Entry!Q:Q)=0,"",SUMIF(Assessment_Entry!$BJ:$BJ,$B6,Assessment_Entry!Q:Q)) | Q6: =IF(SUMIF(Assessment_Entry!$BJ:$BJ,$B6,Assessment_Entry!R:R)=0,"",SUMIF(Assessment_Entry!$BJ:$BJ,$B6,Assessment_Entry!R:R)) | R6: =IF(SUMIF(Assessment_Entry!$BJ:$BJ,$B6,Assessment_Entry!S:S)=0,"",SUMIF(Assessment_Entry!$BJ:$BJ,$B6,Assessment_Entry!S:S)) | S6: =IF(SUMIF(Assessment_Entry!$BJ:$BJ,$B6,Assessment_Entry!T:T)=0,"",SUMIF(Assessment_Entry!$BJ:$BJ,$B6,Assessment_Entry!T:T)) | T6: =IF(SUMIF(Assessment_Entry!$BJ:$BJ,$B6,Assessment_Entry!U:U)=0,"",SUMIF(Assessment_Entry!$BJ:$BJ,$B6,Assessment_Entry!U:U)) | U6: =IF(SUMIF(Assessment_Entry!$BJ:$BJ,$B6,Assessment_Entry!V:V)=0,"",SUMIF(Assessment_Entry!$BJ:$BJ,$B6,Assessment_Entry!V:V)) | V6: =IF(SUMIF(Assessment_Entry!$BJ:$BJ,$B6,Assessment_Entry!W:W)=0,"",SUMIF(Assessment_Entry!$BJ:$BJ,$B6,Assessment_Entry!W:W)) | W6: =IF(SUMIF(Assessment_Entry!$BJ:$BJ,$B6,Assessment_Entry!X:X)=0,"",SUMIF(Assessment_Entry!$BJ:$BJ,$B6,Assessment_Entry!X:X)) | X6: =IF(SUMIF(Assessment_Entry!$BJ:$BJ,$B6,Assessment_Entry!Y:Y)=0,"",SUMIF(Assessment_Entry!$BJ:$BJ,$B6,Assessment_Entry!Y:Y)) | Y6: =IF(SUMIF(Assessment_Entry!$BJ:$BJ,$B6,Assessment_Entry!Z:Z)=0,"",SUMIF(Assessment_Entry!$BJ:$BJ,$B6,Assessment_Entry!Z:Z)) | Z6: =IF(SUMIF(Assessment_Entry!$BJ:$BJ,$B6,Assessment_Entry!AA:AA)=0,"",SUMIF(Assessment_Entry!$BJ:$BJ,$B6,Assessment_Entry!AA:AA)) | AA6: =IF(SUMIF(Assessment_Entry!$BJ:$BJ,$B6,Assessment_Entry!AB:AB)=0,"",SUMIF(Assessment_Entry!$BJ:$BJ,$B6,Assessment_Entry!AB:AB)) | AB6: =IF(SUMIF(Assessment_Entry!$BJ:$BJ,$B6,Assessment_Entry!AC:AC)=0,"",SUMIF(Assessment_Entry!$BJ:$BJ,$B6,Assessment_Entry!AC:AC)) | AC6: =IF(SUMIF(Assessment_Entry!$BJ:$BJ,$B6,Assessment_Entry!AD:AD)=0,"",SUMIF(Assessment_Entry!$BJ:$BJ,$B6,Assessment_Entry!AD:AD)) | AD6: =IF(SUMIF(Assessment_Entry!$BJ:$BJ,$B6,Assessment_Entry!AE:AE)=0,"",SUMIF(Assessment_Entry!$BJ:$BJ,$B6,Assessment_Entry!AE:AE)) | AE6: =IF(SUMIF(Assessment_Entry!$BJ:$BJ,$B6,Assessment_Entry!AF:AF)=0,"",SUMIF(Assessment_Entry!$BJ:$BJ,$B6,Assessment_Entry!AF:AF)) | AF6: =IF(SUMIF(Assessment_Entry!$BJ:$BJ,$B6,Assessment_Entry!AG:AG)=0,"",SUMIF(Assessment_Entry!$BJ:$BJ,$B6,Assessment_Entry!AG:AG)) | AG6: =IF(SUMIF(Assessment_Entry!$BJ:$BJ,$B6,Assessment_Entry!AH:AH)=0,"",SUMIF(Assessment_Entry!$BJ:$BJ,$B6,Assessment_Entry!AH:AH)) | AH6: =IF(SUMIF(Assessment_Entry!$BJ:$BJ,$B6,Assessment_Entry!AI:AI)=0,"",SUMIF(Assessment_Entry!$BJ:$BJ,$B6,Assessment_Entry!AI:AI)) | AI6: =IF(SUMIF(Assessment_Entry!$BJ:$BJ,$B6,Assessment_Entry!AJ:AJ)=0,"",SUMIF(Assessment_Entry!$BJ:$BJ,$B6,Assessment_Entry!AJ:AJ)) | AJ6: =IF(SUMIF(Assessment_Entry!$BJ:$BJ,$B6,Assessment_Entry!AK:AK)=0,"",SUMIF(Assessment_Entry!$BJ:$BJ,$B6,Assessment_Entry!AK:AK)) | AK6: =IF(SUMIF(Assessment_Entry!$BJ:$BJ,$B6,Assessment_Entry!AL:AL)=0,"",SUMIF(Assessment_Entry!$BJ:$BJ,$B6,Assessment_Entry!AL:AL)) | AL6: =IF(SUMIF(Assessment_Entry!$BJ:$BJ,$B6,Assessment_Entry!AM:AM)=0,"",SUMIF(Assessment_Entry!$BJ:$BJ,$B6,Assessment_Entry!AM:AM)) | AM6: =IF(SUMIF(Assessment_Entry!$BJ:$BJ,$B6,Assessment_Entry!AN:AN)=0,"",SUMIF(Assessment_Entry!$BJ:$BJ,$B6,Assessment_Entry!AN:AN)) | AN6: =IF(SUMIF(Assessment_Entry!$BJ:$BJ,$B6,Assessment_Entry!AO:AO)=0,"",SUMIF(Assessment_Entry!$BJ:$BJ,$B6,Assessment_Entry!AO:AO)) | AO6: =IF(SUMIF(Assessment_Entry!$BJ:$BJ,$B6,Assessment_Entry!AP:AP)=0,"",SUMIF(Assessment_Entry!$BJ:$BJ,$B6,Assessment_Entry!AP:AP)) | AP6: =IF(SUMIF(Assessment_Entry!$BJ:$BJ,$B6,Assessment_Entry!AQ:AQ)=0,"",SUMIF(Assessment_Entry!$BJ:$BJ,$B6,Assessment_Entry!AQ:AQ)) | AQ6: =IF(SUMIF(Assessment_Entry!$BJ:$BJ,$B6,Assessment_Entry!AR:AR)=0,"",SUMIF(Assessment_Entry!$BJ:$BJ,$B6,Assessment_Entry!AR:AR)) | AR6: =IF(SUMIF(Assessment_Entry!$BJ:$BJ,$B6,Assessment_Entry!AS:AS)=0,"",SUMIF(Assessment_Entry!$BJ:$BJ,$B6,Assessment_Entry!AS:AS)) | AS6: =IF(SUMIF(Assessment_Entry!$BJ:$BJ,$B6,Assessment_Entry!AT:AT)=0,"",SUMIF(Assessment_Entry!$BJ:$BJ,$B6,Assessment_Entry!AT:AT)) | AT6: =IF(SUMIF(Assessment_Entry!$BJ:$BJ,$B6,Assessment_Entry!AU:AU)=0,"",SUMIF(Assessment_Entry!$BJ:$BJ,$B6,Assessment_Entry!AU:AU)) | AU6: =IF(SUMIF(Assessment_Entry!$BJ:$BJ,$B6,Assessment_Entry!AV:AV)=0,"",SUMIF(Assessment_Entry!$BJ:$BJ,$B6,Assessment_Entry!AV:AV)) | AV6: =IF(SUMIF(Assessment_Entry!$BJ:$BJ,$B6,Assessment_Entry!AW:AW)=0,"",SUMIF(Assessment_Entry!$BJ:$BJ,$B6,Assessment_Entry!AW:AW)) | AW6: =IF(SUMIF(Assessment_Entry!$BJ:$BJ,$B6,Assessment_Entry!AX:AX)=0,"",SUMIF(Assessment_Entry!$BJ:$BJ,$B6,Assessment_Entry!AX:AX)) | AX6: =IF(SUMIF(Assessment_Entry!$BJ:$BJ,$B6,Assessment_Entry!AY:AY)=0,"",SUMIF(Assessment_Entry!$BJ:$BJ,$B6,Assessment_Entry!AY:AY)) | AY6: =IF(SUMIF(Assessment_Entry!$BJ:$BJ,$B6,Assessment_Entry!AZ:AZ)=0,"",SUMIF(Assessment_Entry!$BJ:$BJ,$B6,Assessment_Entry!AZ:AZ)) | AZ6: =IF(SUMIF(Assessment_Entry!$BJ:$BJ,$B6,Assessment_Entry!BA:BA)=0,"",SUMIF(Assessment_Entry!$BJ:$BJ,$B6,Assessment_Entry!BA:BA)) | BA6: =IF(SUMIF(Assessment_Entry!$BJ:$BJ,$B6,Assessment_Entry!BB:BB)=0,"",SUMIF(Assessment_Entry!$BJ:$BJ,$B6,Assessment_Entry!BB:BB)) | BB6: =IF(SUMIF(Assessment_Entry!$BJ:$BJ,$B6,Assessment_Entry!BC:BC)=0,"",SUMIF(Assessment_Entry!$BJ:$BJ,$B6,Assessment_Entry!BC:BC)) | BC6: =IF(SUMIF(Assessment_Entry!$BJ:$BJ,$B6,Assessment_Entry!BD:BD)=0,"",SUMIF(Assessment_Entry!$BJ:$BJ,$B6,Assessment_Entry!BD:BD))
B7: Out of Scope | C7: =IF(SUMIF(Assessment_Entry!$BJ:$BJ,$B7,Assessment_Entry!D:D)=0,"",SUMIF(Assessment_Entry!$BJ:$BJ,$B7,Assessment_Entry!D:D)) | D7: =IF(SUMIF(Assessment_Entry!$BJ:$BJ,$B7,Assessment_Entry!E:E)=0,"",SUMIF(Assessment_Entry!$BJ:$BJ,$B7,Assessment_Entry!E:E)) | E7: =IF(SUMIF(Assessment_Entry!$BJ:$BJ,$B7,Assessment_Entry!F:F)=0,"",SUMIF(Assessment_Entry!$BJ:$BJ,$B7,Assessment_Entry!F:F)) | F7: =IF(SUMIF(Assessment_Entry!$BJ:$BJ,$B7,Assessment_Entry!G:G)=0,"",SUMIF(Assessment_Entry!$BJ:$BJ,$B7,Assessment_Entry!G:G)) | G7: =IF(SUMIF(Assessment_Entry!$BJ:$BJ,$B7,Assessment_Entry!H:H)=0,"",SUMIF(Assessment_Entry!$BJ:$BJ,$B7,Assessment_Entry!H:H)) | H7: =IF(SUMIF(Assessment_Entry!$BJ:$BJ,$B7,Assessment_Entry!I:I)=0,"",SUMIF(Assessment_Entry!$BJ:$BJ,$B7,Assessment_Entry!I:I)) | I7: =IF(SUMIF(Assessment_Entry!$BJ:$BJ,$B7,Assessment_Entry!J:J)=0,"",SUMIF(Assessment_Entry!$BJ:$BJ,$B7,Assessment_Entry!J:J)) | J7: =IF(SUMIF(Assessment_Entry!$BJ:$BJ,$B7,Assessment_Entry!K:K)=0,"",SUMIF(Assessment_Entry!$BJ:$BJ,$B7,Assessment_Entry!K:K)) | K7: =IF(SUMIF(Assessment_Entry!$BJ:$BJ,$B7,Assessment_Entry!L:L)=0,"",SUMIF(Assessment_Entry!$BJ:$BJ,$B7,Assessment_Entry!L:L)) | L7: =IF(SUMIF(Assessment_Entry!$BJ:$BJ,$B7,Assessment_Entry!M:M)=0,"",SUMIF(Assessment_Entry!$BJ:$BJ,$B7,Assessment_Entry!M:M)) | M7: =IF(SUMIF(Assessment_Entry!$BJ:$BJ,$B7,Assessment_Entry!N:N)=0,"",SUMIF(Assessment_Entry!$BJ:$BJ,$B7,Assessment_Entry!N:N)) | N7: =IF(SUMIF(Assessment_Entry!$BJ:$BJ,$B7,Assessment_Entry!O:O)=0,"",SUMIF(Assessment_Entry!$BJ:$BJ,$B7,Assessment_Entry!O:O)) | O7: =IF(SUMIF(Assessment_Entry!$BJ:$BJ,$B7,Assessment_Entry!P:P)=0,"",SUMIF(Assessment_Entry!$BJ:$BJ,$B7,Assessment_Entry!P:P)) | P7: =IF(SUMIF(Assessment_Entry!$BJ:$BJ,$B7,Assessment_Entry!Q:Q)=0,"",SUMIF(Assessment_Entry!$BJ:$BJ,$B7,Assessment_Entry!Q:Q)) | Q7: =IF(SUMIF(Assessment_Entry!$BJ:$BJ,$B7,Assessment_Entry!R:R)=0,"",SUMIF(Assessment_Entry!$BJ:$BJ,$B7,Assessment_Entry!R:R)) | R7: =IF(SUMIF(Assessment_Entry!$BJ:$BJ,$B7,Assessment_Entry!S:S)=0,"",SUMIF(Assessment_Entry!$BJ:$BJ,$B7,Assessment_Entry!S:S)) | S7: =IF(SUMIF(Assessment_Entry!$BJ:$BJ,$B7,Assessment_Entry!T:T)=0,"",SUMIF(Assessment_Entry!$BJ:$BJ,$B7,Assessment_Entry!T:T)) | T7: =IF(SUMIF(Assessment_Entry!$BJ:$BJ,$B7,Assessment_Entry!U:U)=0,"",SUMIF(Assessment_Entry!$BJ:$BJ,$B7,Assessment_Entry!U:U)) | U7: =IF(SUMIF(Assessment_Entry!$BJ:$BJ,$B7,Assessment_Entry!V:V)=0,"",SUMIF(Assessment_Entry!$BJ:$BJ,$B7,Assessment_Entry!V:V)) | V7: =IF(SUMIF(Assessment_Entry!$BJ:$BJ,$B7,Assessment_Entry!W:W)=0,"",SUMIF(Assessment_Entry!$BJ:$BJ,$B7,Assessment_Entry!W:W)) | W7: =IF(SUMIF(Assessment_Entry!$BJ:$BJ,$B7,Assessment_Entry!X:X)=0,"",SUMIF(Assessment_Entry!$BJ:$BJ,$B7,Assessment_Entry!X:X)) | X7: =IF(SUMIF(Assessment_Entry!$BJ:$BJ,$B7,Assessment_Entry!Y:Y)=0,"",SUMIF(Assessment_Entry!$BJ:$BJ,$B7,Assessment_Entry!Y:Y)) | Y7: =IF(SUMIF(Assessment_Entry!$BJ:$BJ,$B7,Assessment_Entry!Z:Z)=0,"",SUMIF(Assessment_Entry!$BJ:$BJ,$B7,Assessment_Entry!Z:Z)) | Z7: =IF(SUMIF(Assessment_Entry!$BJ:$BJ,$B7,Assessment_Entry!AA:AA)=0,"",SUMIF(Assessment_Entry!$BJ:$BJ,$B7,Assessment_Entry!AA:AA)) | AA7: =IF(SUMIF(Assessment_Entry!$BJ:$BJ,$B7,Assessment_Entry!AB:AB)=0,"",SUMIF(Assessment_Entry!$BJ:$BJ,$B7,Assessment_Entry!AB:AB)) | AB7: =IF(SUMIF(Assessment_Entry!$BJ:$BJ,$B7,Assessment_Entry!AC:AC)=0,"",SUMIF(Assessment_Entry!$BJ:$BJ,$B7,Assessment_Entry!AC:AC)) | AC7: =IF(SUMIF(Assessment_Entry!$BJ:$BJ,$B7,Assessment_Entry!AD:AD)=0,"",SUMIF(Assessment_Entry!$BJ:$BJ,$B7,Assessment_Entry!AD:AD)) | AD7: =IF(SUMIF(Assessment_Entry!$BJ:$BJ,$B7,Assessment_Entry!AE:AE)=0,"",SUMIF(Assessment_Entry!$BJ:$BJ,$B7,Assessment_Entry!AE:AE)) | AE7: =IF(SUMIF(Assessment_Entry!$BJ:$BJ,$B7,Assessment_Entry!AF:AF)=0,"",SUMIF(Assessment_Entry!$BJ:$BJ,$B7,Assessment_Entry!AF:AF)) | AF7: =IF(SUMIF(Assessment_Entry!$BJ:$BJ,$B7,Assessment_Entry!AG:AG)=0,"",SUMIF(Assessment_Entry!$BJ:$BJ,$B7,Assessment_Entry!AG:AG)) | AG7: =IF(SUMIF(Assessment_Entry!$BJ:$BJ,$B7,Assessment_Entry!AH:AH)=0,"",SUMIF(Assessment_Entry!$BJ:$BJ,$B7,Assessment_Entry!AH:AH)) | AH7: =IF(SUMIF(Assessment_Entry!$BJ:$BJ,$B7,Assessment_Entry!AI:AI)=0,"",SUMIF(Assessment_Entry!$BJ:$BJ,$B7,Assessment_Entry!AI:AI)) | AI7: =IF(SUMIF(Assessment_Entry!$BJ:$BJ,$B7,Assessment_Entry!AJ:AJ)=0,"",SUMIF(Assessment_Entry!$BJ:$BJ,$B7,Assessment_Entry!AJ:AJ)) | AJ7: =IF(SUMIF(Assessment_Entry!$BJ:$BJ,$B7,Assessment_Entry!AK:AK)=0,"",SUMIF(Assessment_Entry!$BJ:$BJ,$B7,Assessment_Entry!AK:AK)) | AK7: =IF(SUMIF(Assessment_Entry!$BJ:$BJ,$B7,Assessment_Entry!AL:AL)=0,"",SUMIF(Assessment_Entry!$BJ:$BJ,$B7,Assessment_Entry!AL:AL)) | AL7: =IF(SUMIF(Assessment_Entry!$BJ:$BJ,$B7,Assessment_Entry!AM:AM)=0,"",SUMIF(Assessment_Entry!$BJ:$BJ,$B7,Assessment_Entry!AM:AM)) | AM7: =IF(SUMIF(Assessment_Entry!$BJ:$BJ,$B7,Assessment_Entry!AN:AN)=0,"",SUMIF(Assessment_Entry!$BJ:$BJ,$B7,Assessment_Entry!AN:AN)) | AN7: =IF(SUMIF(Assessment_Entry!$BJ:$BJ,$B7,Assessment_Entry!AO:AO)=0,"",SUMIF(Assessment_Entry!$BJ:$BJ,$B7,Assessment_Entry!AO:AO)) | AO7: =IF(SUMIF(Assessment_Entry!$BJ:$BJ,$B7,Assessment_Entry!AP:AP)=0,"",SUMIF(Assessment_Entry!$BJ:$BJ,$B7,Assessment_Entry!AP:AP)) | AP7: =IF(SUMIF(Assessment_Entry!$BJ:$BJ,$B7,Assessment_Entry!AQ:AQ)=0,"",SUMIF(Assessment_Entry!$BJ:$BJ,$B7,Assessment_Entry!AQ:AQ)) | AQ7: =IF(SUMIF(Assessment_Entry!$BJ:$BJ,$B7,Assessment_Entry!AR:AR)=0,"",SUMIF(Assessment_Entry!$BJ:$BJ,$B7,Assessment_Entry!AR:AR)) | AR7: =IF(SUMIF(Assessment_Entry!$BJ:$BJ,$B7,Assessment_Entry!AS:AS)=0,"",SUMIF(Assessment_Entry!$BJ:$BJ,$B7,Assessment_Entry!AS:AS)) | AS7: =IF(SUMIF(Assessment_Entry!$BJ:$BJ,$B7,Assessment_Entry!AT:AT)=0,"",SUMIF(Assessment_Entry!$BJ:$BJ,$B7,Assessment_Entry!AT:AT)) | AT7: =IF(SUMIF(Assessment_Entry!$BJ:$BJ,$B7,Assessment_Entry!AU:AU)=0,"",SUMIF(Assessment_Entry!$BJ:$BJ,$B7,Assessment_Entry!AU:AU)) | AU7: =IF(SUMIF(Assessment_Entry!$BJ:$BJ,$B7,Assessment_Entry!AV:AV)=0,"",SUMIF(Assessment_Entry!$BJ:$BJ,$B7,Assessment_Entry!AV:AV)) | AV7: =IF(SUMIF(Assessment_Entry!$BJ:$BJ,$B7,Assessment_Entry!AW:AW)=0,"",SUMIF(Assessment_Entry!$BJ:$BJ,$B7,Assessment_Entry!AW:AW)) | AW7: =IF(SUMIF(Assessment_Entry!$BJ:$BJ,$B7,Assessment_Entry!AX:AX)=0,"",SUMIF(Assessment_Entry!$BJ:$BJ,$B7,Assessment_Entry!AX:AX)) | AX7: =IF(SUMIF(Assessment_Entry!$BJ:$BJ,$B7,Assessment_Entry!AY:AY)=0,"",SUMIF(Assessment_Entry!$BJ:$BJ,$B7,Assessment_Entry!AY:AY)) | AY7: =IF(SUMIF(Assessment_Entry!$BJ:$BJ,$B7,Assessment_Entry!AZ:AZ)=0,"",SUMIF(Assessment_Entry!$BJ:$BJ,$B7,Assessment_Entry!AZ:AZ)) | AZ7: =IF(SUMIF(Assessment_Entry!$BJ:$BJ,$B7,Assessment_Entry!BA:BA)=0,"",SUMIF(Assessment_Entry!$BJ:$BJ,$B7,Assessment_Entry!BA:BA)) | BA7: =IF(SUMIF(Assessment_Entry!$BJ:$BJ,$B7,Assessment_Entry!BB:BB)=0,"",SUMIF(Assessment_Entry!$BJ:$BJ,$B7,Assessment_Entry!BB:BB)) | BB7: =IF(SUMIF(Assessment_Entry!$BJ:$BJ,$B7,Assessment_Entry!BC:BC)=0,"",SUMIF(Assessment_Entry!$BJ:$BJ,$B7,Assessment_Entry!BC:BC)) | BC7: =IF(SUMIF(Assessment_Entry!$BJ:$BJ,$B7,Assessment_Entry!BD:BD)=0,"",SUMIF(Assessment_Entry!$BJ:$BJ,$B7,Assessment_Entry!BD:BD))
C8: =IF($B8="","",IF(SUMIF(Assessment_Entry!$BJ:$BJ,$B8,Assessment_Entry!D:D)=0,"",SUMIF(Assessment_Entry!$BJ:$BJ,$B8,Assessment_Entry!D:D))) | D8: =IF($B8="","",IF(SUMIF(Assessment_Entry!$BJ:$BJ,$B8,Assessment_Entry!E:E)=0,"",SUMIF(Assessment_Entry!$BJ:$BJ,$B8,Assessment_Entry!E:E))) | E8: =IF($B8="","",IF(SUMIF(Assessment_Entry!$BJ:$BJ,$B8,Assessment_Entry!F:F)=0,"",SUMIF(Assessment_Entry!$BJ:$BJ,$B8,Assessment_Entry!F:F))) | F8: =IF($B8="","",IF(SUMIF(Assessment_Entry!$BJ:$BJ,$B8,Assessment_Entry!G:G)=0,"",SUMIF(Assessment_Entry!$BJ:$BJ,$B8,Assessment_Entry!G:G))) | G8: =IF($B8="","",IF(SUMIF(Assessment_Entry!$BJ:$BJ,$B8,Assessment_Entry!H:H)=0,"",SUMIF(Assessment_Entry!$BJ:$BJ,$B8,Assessment_Entry!H:H))) | H8: =IF($B8="","",IF(SUMIF(Assessment_Entry!$BJ:$BJ,$B8,Assessment_Entry!I:I)=0,"",SUMIF(Assessment_Entry!$BJ:$BJ,$B8,Assessment_Entry!I:I))) | I8: =IF($B8="","",IF(SUMIF(Assessment_Entry!$BJ:$BJ,$B8,Assessment_Entry!J:J)=0,"",SUMIF(Assessment_Entry!$BJ:$BJ,$B8,Assessment_Entry!J:J))) | J8: =IF($B8="","",IF(SUMIF(Assessment_Entry!$BJ:$BJ,$B8,Assessment_Entry!K:K)=0,"",SUMIF(Assessment_Entry!$BJ:$BJ,$B8,Assessment_Entry!K:K))) | K8: =IF($B8="","",IF(SUMIF(Assessment_Entry!$BJ:$BJ,$B8,Assessment_Entry!L:L)=0,"",SUMIF(Assessment_Entry!$BJ:$BJ,$B8,Assessment_Entry!L:L))) | L8: =IF($B8="","",IF(SUMIF(Assessment_Entry!$BJ:$BJ,$B8,Assessment_Entry!M:M)=0,"",SUMIF(Assessment_Entry!$BJ:$BJ,$B8,Assessment_Entry!M:M))) | M8: =IF($B8="","",IF(SUMIF(Assessment_Entry!$BJ:$BJ,$B8,Assessment_Entry!N:N)=0,"",SUMIF(Assessment_Entry!$BJ:$BJ,$B8,Assessment_Entry!N:N))) | N8: =IF($B8="","",IF(SUMIF(Assessment_Entry!$BJ:$BJ,$B8,Assessment_Entry!O:O)=0,"",SUMIF(Assessment_Entry!$BJ:$BJ,$B8,Assessment_Entry!O:O))) | O8: =IF($B8="","",IF(SUMIF(Assessment_Entry!$BJ:$BJ,$B8,Assessment_Entry!P:P)=0,"",SUMIF(Assessment_Entry!$BJ:$BJ,$B8,Assessment_Entry!P:P))) | P8: =IF($B8="","",IF(SUMIF(Assessment_Entry!$BJ:$BJ,$B8,Assessment_Entry!Q:Q)=0,"",SUMIF(Assessment_Entry!$BJ:$BJ,$B8,Assessment_Entry!Q:Q))) | Q8: =IF($B8="","",IF(SUMIF(Assessment_Entry!$BJ:$BJ,$B8,Assessment_Entry!R:R)=0,"",SUMIF(Assessment_Entry!$BJ:$BJ,$B8,Assessment_Entry!R:R))) | R8: =IF($B8="","",IF(SUMIF(Assessment_Entry!$BJ:$BJ,$B8,Assessment_Entry!S:S)=0,"",SUMIF(Assessment_Entry!$BJ:$BJ,$B8,Assessment_Entry!S:S))) | S8: =IF($B8="","",IF(SUMIF(Assessment_Entry!$BJ:$BJ,$B8,Assessment_Entry!T:T)=0,"",SUMIF(Assessment_Entry!$BJ:$BJ,$B8,Assessment_Entry!T:T))) | T8: =IF($B8="","",IF(SUMIF(Assessment_Entry!$BJ:$BJ,$B8,Assessment_Entry!U:U)=0,"",SUMIF(Assessment_Entry!$BJ:$BJ,$B8,Assessment_Entry!U:U))) | U8: =IF($B8="","",IF(SUMIF(Assessment_Entry!$BJ:$BJ,$B8,Assessment_Entry!V:V)=0,"",SUMIF(Assessment_Entry!$BJ:$BJ,$B8,Assessment_Entry!V:V))) | V8: =IF($B8="","",IF(SUMIF(Assessment_Entry!$BJ:$BJ,$B8,Assessment_Entry!W:W)=0,"",SUMIF(Assessment_Entry!$BJ:$BJ,$B8,Assessment_Entry!W:W))) | W8: =IF($B8="","",IF(SUMIF(Assessment_Entry!$BJ:$BJ,$B8,Assessment_Entry!X:X)=0,"",SUMIF(Assessment_Entry!$BJ:$BJ,$B8,Assessment_Entry!X:X))) | X8: =IF($B8="","",IF(SUMIF(Assessment_Entry!$BJ:$BJ,$B8,Assessment_Entry!Y:Y)=0,"",SUMIF(Assessment_Entry!$BJ:$BJ,$B8,Assessment_Entry!Y:Y))) | Y8: =IF($B8="","",IF(SUMIF(Assessment_Entry!$BJ:$BJ,$B8,Assessment_Entry!Z:Z)=0,"",SUMIF(Assessment_Entry!$BJ:$BJ,$B8,Assessment_Entry!Z:Z))) | Z8: =IF($B8="","",IF(SUMIF(Assessment_Entry!$BJ:$BJ,$B8,Assessment_Entry!AA:AA)=0,"",SUMIF(Assessment_Entry!$BJ:$BJ,$B8,Assessment_Entry!AA:AA))) | AA8: =IF($B8="","",IF(SUMIF(Assessment_Entry!$BJ:$BJ,$B8,Assessment_Entry!AB:AB)=0,"",SUMIF(Assessment_Entry!$BJ:$BJ,$B8,Assessment_Entry!AB:AB))) | AB8: =IF($B8="","",IF(SUMIF(Assessment_Entry!$BJ:$BJ,$B8,Assessment_Entry!AC:AC)=0,"",SUMIF(Assessment_Entry!$BJ:$BJ,$B8,Assessment_Entry!AC:AC))) | AC8: =IF($B8="","",IF(SUMIF(Assessment_Entry!$BJ:$BJ,$B8,Assessment_Entry!AD:AD)=0,"",SUMIF(Assessment_Entry!$BJ:$BJ,$B8,Assessment_Entry!AD:AD))) | AD8: =IF($B8="","",IF(SUMIF(Assessment_Entry!$BJ:$BJ,$B8,Assessment_Entry!AE:AE)=0,"",SUMIF(Assessment_Entry!$BJ:$BJ,$B8,Assessment_Entry!AE:AE))) | AE8: =IF($B8="","",IF(SUMIF(Assessment_Entry!$BJ:$BJ,$B8,Assessment_Entry!AF:AF)=0,"",SUMIF(Assessment_Entry!$BJ:$BJ,$B8,Assessment_Entry!AF:AF))) | AF8: =IF($B8="","",IF(SUMIF(Assessment_Entry!$BJ:$BJ,$B8,Assessment_Entry!AG:AG)=0,"",SUMIF(Assessment_Entry!$BJ:$BJ,$B8,Assessment_Entry!AG:AG))) | AG8: =IF($B8="","",IF(SUMIF(Assessment_Entry!$BJ:$BJ,$B8,Assessment_Entry!AH:AH)=0,"",SUMIF(Assessment_Entry!$BJ:$BJ,$B8,Assessment_Entry!AH:AH))) | AH8: =IF($B8="","",IF(SUMIF(Assessment_Entry!$BJ:$BJ,$B8,Assessment_Entry!AI:AI)=0,"",SUMIF(Assessment_Entry!$BJ:$BJ,$B8,Assessment_Entry!AI:AI))) | AI8: =IF($B8="","",IF(SUMIF(Assessment_Entry!$BJ:$BJ,$B8,Assessment_Entry!AJ:AJ)=0,"",SUMIF(Assessment_Entry!$BJ:$BJ,$B8,Assessment_Entry!AJ:AJ))) | AJ8: =IF($B8="","",IF(SUMIF(Assessment_Entry!$BJ:$BJ,$B8,Assessment_Entry!AK:AK)=0,"",SUMIF(Assessment_Entry!$BJ:$BJ,$B8,Assessment_Entry!AK:AK))) | AK8: =IF($B8="","",IF(SUMIF(Assessment_Entry!$BJ:$BJ,$B8,Assessment_Entry!AL:AL)=0,"",SUMIF(Assessment_Entry!$BJ:$BJ,$B8,Assessment_Entry!AL:AL))) | AL8: =IF($B8="","",IF(SUMIF(Assessment_Entry!$BJ:$BJ,$B8,Assessment_Entry!AM:AM)=0,"",SUMIF(Assessment_Entry!$BJ:$BJ,$B8,Assessment_Entry!AM:AM))) | AM8: =IF($B8="","",IF(SUMIF(Assessment_Entry!$BJ:$BJ,$B8,Assessment_Entry!AN:AN)=0,"",SUMIF(Assessment_Entry!$BJ:$BJ,$B8,Assessment_Entry!AN:AN))) | AN8: =IF($B8="","",IF(SUMIF(Assessment_Entry!$BJ:$BJ,$B8,Assessment_Entry!AO:AO)=0,"",SUMIF(Assessment_Entry!$BJ:$BJ,$B8,Assessment_Entry!AO:AO))) | AO8: =IF($B8="","",IF(SUMIF(Assessment_Entry!$BJ:$BJ,$B8,Assessment_Entry!AP:AP)=0,"",SUMIF(Assessment_Entry!$BJ:$BJ,$B8,Assessment_Entry!AP:AP))) | AP8: =IF($B8="","",IF(SUMIF(Assessment_Entry!$BJ:$BJ,$B8,Assessment_Entry!AQ:AQ)=0,"",SUMIF(Assessment_Entry!$BJ:$BJ,$B8,Assessment_Entry!AQ:AQ))) | AQ8: =IF($B8="","",IF(SUMIF(Assessment_Entry!$BJ:$BJ,$B8,Assessment_Entry!AR:AR)=0,"",SUMIF(Assessment_Entry!$BJ:$BJ,$B8,Assessment_Entry!AR:AR))) | AR8: =IF($B8="","",IF(SUMIF(Assessment_Entry!$BJ:$BJ,$B8,Assessment_Entry!AS:AS)=0,"",SUMIF(Assessment_Entry!$BJ:$BJ,$B8,Assessment_Entry!AS:AS))) | AS8: =IF($B8="","",IF(SUMIF(Assessment_Entry!$BJ:$BJ,$B8,Assessment_Entry!AT:AT)=0,"",SUMIF(Assessment_Entry!$BJ:$BJ,$B8,Assessment_Entry!AT:AT))) | AT8: =IF($B8="","",IF(SUMIF(Assessment_Entry!$BJ:$BJ,$B8,Assessment_Entry!AU:AU)=0,"",SUMIF(Assessment_Entry!$BJ:$BJ,$B8,Assessment_Entry!AU:AU))) | AU8: =IF($B8="","",IF(SUMIF(Assessment_Entry!$BJ:$BJ,$B8,Assessment_Entry!AV:AV)=0,"",SUMIF(Assessment_Entry!$BJ:$BJ,$B8,Assessment_Entry!AV:AV))) | AV8: =IF($B8="","",IF(SUMIF(Assessment_Entry!$BJ:$BJ,$B8,Assessment_Entry!AW:AW)=0,"",SUMIF(Assessment_Entry!$BJ:$BJ,$B8,Assessment_Entry!AW:AW))) | AW8: =IF($B8="","",IF(SUMIF(Assessment_Entry!$BJ:$BJ,$B8,Assessment_Entry!AX:AX)=0,"",SUMIF(Assessment_Entry!$BJ:$BJ,$B8,Assessment_Entry!AX:AX))) | AX8: =IF($B8="","",IF(SUMIF(Assessment_Entry!$BJ:$BJ,$B8,Assessment_Entry!AY:AY)=0,"",SUMIF(Assessment_Entry!$BJ:$BJ,$B8,Assessment_Entry!AY:AY))) | AY8: =IF($B8="","",IF(SUMIF(Assessment_Entry!$BJ:$BJ,$B8,Assessment_Entry!AZ:AZ)=0,"",SUMIF(Assessment_Entry!$BJ:$BJ,$B8,Assessment_Entry!AZ:AZ))) | AZ8: =IF($B8="","",IF(SUMIF(Assessment_Entry!$BJ:$BJ,$B8,Assessment_Entry!BA:BA)=0,"",SUMIF(Assessment_Entry!$BJ:$BJ,$B8,Assessment_Entry!BA:BA))) | BA8: =IF($B8="","",IF(SUMIF(Assessment_Entry!$BJ:$BJ,$B8,Assessment_Entry!BB:BB)=0,"",SUMIF(Assessment_Entry!$BJ:$BJ,$B8,Assessment_Entry!BB:BB))) | BB8: =IF($B8="","",IF(SUMIF(Assessment_Entry!$BJ:$BJ,$B8,Assessment_Entry!BC:BC)=0,"",SUMIF(Assessment_Entry!$BJ:$BJ,$B8,Assessment_Entry!BC:BC))) | BC8: =IF($B8="","",IF(SUMIF(Assessment_Entry!$BJ:$BJ,$B8,Assessment_Entry!BD:BD)=0,"",SUMIF(Assessment_Entry!$BJ:$BJ,$B8,Assessment_Entry!BD:BD)))
C9: =IF($B9="","",IF(SUMIF(Assessment_Entry!$BJ:$BJ,$B9,Assessment_Entry!D:D)=0,"",SUMIF(Assessment_Entry!$BJ:$BJ,$B9,Assessment_Entry!D:D))) | D9: =IF($B9="","",IF(SUMIF(Assessment_Entry!$BJ:$BJ,$B9,Assessment_Entry!E:E)=0,"",SUMIF(Assessment_Entry!$BJ:$BJ,$B9,Assessment_Entry!E:E))) | E9: =IF($B9="","",IF(SUMIF(Assessment_Entry!$BJ:$BJ,$B9,Assessment_Entry!F:F)=0,"",SUMIF(Assessment_Entry!$BJ:$BJ,$B9,Assessment_Entry!F:F))) | F9: =IF($B9="","",IF(SUMIF(Assessment_Entry!$BJ:$BJ,$B9,Assessment_Entry!G:G)=0,"",SUMIF(Assessment_Entry!$BJ:$BJ,$B9,Assessment_Entry!G:G))) | G9: =IF($B9="","",IF(SUMIF(Assessment_Entry!$BJ:$BJ,$B9,Assessment_Entry!H:H)=0,"",SUMIF(Assessment_Entry!$BJ:$BJ,$B9,Assessment_Entry!H:H))) | H9: =IF($B9="","",IF(SUMIF(Assessment_Entry!$BJ:$BJ,$B9,Assessment_Entry!I:I)=0,"",SUMIF(Assessment_Entry!$BJ:$BJ,$B9,Assessment_Entry!I:I))) | I9: =IF($B9="","",IF(SUMIF(Assessment_Entry!$BJ:$BJ,$B9,Assessment_Entry!J:J)=0,"",SUMIF(Assessment_Entry!$BJ:$BJ,$B9,Assessment_Entry!J:J))) | J9: =IF($B9="","",IF(SUMIF(Assessment_Entry!$BJ:$BJ,$B9,Assessment_Entry!K:K)=0,"",SUMIF(Assessment_Entry!$BJ:$BJ,$B9,Assessment_Entry!K:K))) | K9: =IF($B9="","",IF(SUMIF(Assessment_Entry!$BJ:$BJ,$B9,Assessment_Entry!L:L)=0,"",SUMIF(Assessment_Entry!$BJ:$BJ,$B9,Assessment_Entry!L:L))) | L9: =IF($B9="","",IF(SUMIF(Assessment_Entry!$BJ:$BJ,$B9,Assessment_Entry!M:M)=0,"",SUMIF(Assessment_Entry!$BJ:$BJ,$B9,Assessment_Entry!M:M))) | M9: =IF($B9="","",IF(SUMIF(Assessment_Entry!$BJ:$BJ,$B9,Assessment_Entry!N:N)=0,"",SUMIF(Assessment_Entry!$BJ:$BJ,$B9,Assessment_Entry!N:N))) | N9: =IF($B9="","",IF(SUMIF(Assessment_Entry!$BJ:$BJ,$B9,Assessment_Entry!O:O)=0,"",SUMIF(Assessment_Entry!$BJ:$BJ,$B9,Assessment_Entry!O:O))) | O9: =IF($B9="","",IF(SUMIF(Assessment_Entry!$BJ:$BJ,$B9,Assessment_Entry!P:P)=0,"",SUMIF(Assessment_Entry!$BJ:$BJ,$B9,Assessment_Entry!P:P))) | P9: =IF($B9="","",IF(SUMIF(Assessment_Entry!$BJ:$BJ,$B9,Assessment_Entry!Q:Q)=0,"",SUMIF(Assessment_Entry!$BJ:$BJ,$B9,Assessment_Entry!Q:Q))) | Q9: =IF($B9="","",IF(SUMIF(Assessment_Entry!$BJ:$BJ,$B9,Assessment_Entry!R:R)=0,"",SUMIF(Assessment_Entry!$BJ:$BJ,$B9,Assessment_Entry!R:R))) | R9: =IF($B9="","",IF(SUMIF(Assessment_Entry!$BJ:$BJ,$B9,Assessment_Entry!S:S)=0,"",SUMIF(Assessment_Entry!$BJ:$BJ,$B9,Assessment_Entry!S:S))) | S9: =IF($B9="","",IF(SUMIF(Assessment_Entry!$BJ:$BJ,$B9,Assessment_Entry!T:T)=0,"",SUMIF(Assessment_Entry!$BJ:$BJ,$B9,Assessment_Entry!T:T))) | T9: =IF($B9="","",IF(SUMIF(Assessment_Entry!$BJ:$BJ,$B9,Assessment_Entry!U:U)=0,"",SUMIF(Assessment_Entry!$BJ:$BJ,$B9,Assessment_Entry!U:U))) | U9: =IF($B9="","",IF(SUMIF(Assessment_Entry!$BJ:$BJ,$B9,Assessment_Entry!V:V)=0,"",SUMIF(Assessment_Entry!$BJ:$BJ,$B9,Assessment_Entry!V:V))) | V9: =IF($B9="","",IF(SUMIF(Assessment_Entry!$BJ:$BJ,$B9,Assessment_Entry!W:W)=0,"",SUMIF(Assessment_Entry!$BJ:$BJ,$B9,Assessment_Entry!W:W))) | W9: =IF($B9="","",IF(SUMIF(Assessment_Entry!$BJ:$BJ,$B9,Assessment_Entry!X:X)=0,"",SUMIF(Assessment_Entry!$BJ:$BJ,$B9,Assessment_Entry!X:X))) | X9: =IF($B9="","",IF(SUMIF(Assessment_Entry!$BJ:$BJ,$B9,Assessment_Entry!Y:Y)=0,"",SUMIF(Assessment_Entry!$BJ:$BJ,$B9,Assessment_Entry!Y:Y))) | Y9: =IF($B9="","",IF(SUMIF(Assessment_Entry!$BJ:$BJ,$B9,Assessment_Entry!Z:Z)=0,"",SUMIF(Assessment_Entry!$BJ:$BJ,$B9,Assessment_Entry!Z:Z))) | Z9: =IF($B9="","",IF(SUMIF(Assessment_Entry!$BJ:$BJ,$B9,Assessment_Entry!AA:AA)=0,"",SUMIF(Assessment_Entry!$BJ:$BJ,$B9,Assessment_Entry!AA:AA))) | AA9: =IF($B9="","",IF(SUMIF(Assessment_Entry!$BJ:$BJ,$B9,Assessment_Entry!AB:AB)=0,"",SUMIF(Assessment_Entry!$BJ:$BJ,$B9,Assessment_Entry!AB:AB))) | AB9: =IF($B9="","",IF(SUMIF(Assessment_Entry!$BJ:$BJ,$B9,Assessment_Entry!AC:AC)=0,"",SUMIF(Assessment_Entry!$BJ:$BJ,$B9,Assessment_Entry!AC:AC))) | AC9: =IF($B9="","",IF(SUMIF(Assessment_Entry!$BJ:$BJ,$B9,Assessment_Entry!AD:AD)=0,"",SUMIF(Assessment_Entry!$BJ:$BJ,$B9,Assessment_Entry!AD:AD))) | AD9: =IF($B9="","",IF(SUMIF(Assessment_Entry!$BJ:$BJ,$B9,Assessment_Entry!AE:AE)=0,"",SUMIF(Assessment_Entry!$BJ:$BJ,$B9,Assessment_Entry!AE:AE))) | AE9: =IF($B9="","",IF(SUMIF(Assessment_Entry!$BJ:$BJ,$B9,Assessment_Entry!AF:AF)=0,"",SUMIF(Assessment_Entry!$BJ:$BJ,$B9,Assessment_Entry!AF:AF))) | AF9: =IF($B9="","",IF(SUMIF(Assessment_Entry!$BJ:$BJ,$B9,Assessment_Entry!AG:AG)=0,"",SUMIF(Assessment_Entry!$BJ:$BJ,$B9,Assessment_Entry!AG:AG))) | AG9: =IF($B9="","",IF(SUMIF(Assessment_Entry!$BJ:$BJ,$B9,Assessment_Entry!AH:AH)=0,"",SUMIF(Assessment_Entry!$BJ:$BJ,$B9,Assessment_Entry!AH:AH))) | AH9: =IF($B9="","",IF(SUMIF(Assessment_Entry!$BJ:$BJ,$B9,Assessment_Entry!AI:AI)=0,"",SUMIF(Assessment_Entry!$BJ:$BJ,$B9,Assessment_Entry!AI:AI))) | AI9: =IF($B9="","",IF(SUMIF(Assessment_Entry!$BJ:$BJ,$B9,Assessment_Entry!AJ:AJ)=0,"",SUMIF(Assessment_Entry!$BJ:$BJ,$B9,Assessment_Entry!AJ:AJ))) | AJ9: =IF($B9="","",IF(SUMIF(Assessment_Entry!$BJ:$BJ,$B9,Assessment_Entry!AK:AK)=0,"",SUMIF(Assessment_Entry!$BJ:$BJ,$B9,Assessment_Entry!AK:AK))) | AK9: =IF($B9="","",IF(SUMIF(Assessment_Entry!$BJ:$BJ,$B9,Assessment_Entry!AL:AL)=0,"",SUMIF(Assessment_Entry!$BJ:$BJ,$B9,Assessment_Entry!AL:AL))) | AL9: =IF($B9="","",IF(SUMIF(Assessment_Entry!$BJ:$BJ,$B9,Assessment_Entry!AM:AM)=0,"",SUMIF(Assessment_Entry!$BJ:$BJ,$B9,Assessment_Entry!AM:AM))) | AM9: =IF($B9="","",IF(SUMIF(Assessment_Entry!$BJ:$BJ,$B9,Assessment_Entry!AN:AN)=0,"",SUMIF(Assessment_Entry!$BJ:$BJ,$B9,Assessment_Entry!AN:AN))) | AN9: =IF($B9="","",IF(SUMIF(Assessment_Entry!$BJ:$BJ,$B9,Assessment_Entry!AO:AO)=0,"",SUMIF(Assessment_Entry!$BJ:$BJ,$B9,Assessment_Entry!AO:AO))) | AO9: =IF($B9="","",IF(SUMIF(Assessment_Entry!$BJ:$BJ,$B9,Assessment_Entry!AP:AP)=0,"",SUMIF(Assessment_Entry!$BJ:$BJ,$B9,Assessment_Entry!AP:AP))) | AP9: =IF($B9="","",IF(SUMIF(Assessment_Entry!$BJ:$BJ,$B9,Assessment_Entry!AQ:AQ)=0,"",SUMIF(Assessment_Entry!$BJ:$BJ,$B9,Assessment_Entry!AQ:AQ))) | AQ9: =IF($B9="","",IF(SUMIF(Assessment_Entry!$BJ:$BJ,$B9,Assessment_Entry!AR:AR)=0,"",SUMIF(Assessment_Entry!$BJ:$BJ,$B9,Assessment_Entry!AR:AR))) | AR9: =IF($B9="","",IF(SUMIF(Assessment_Entry!$BJ:$BJ,$B9,Assessment_Entry!AS:AS)=0,"",SUMIF(Assessment_Entry!$BJ:$BJ,$B9,Assessment_Entry!AS:AS))) | AS9: =IF($B9="","",IF(SUMIF(Assessment_Entry!$BJ:$BJ,$B9,Assessment_Entry!AT:AT)=0,"",SUMIF(Assessment_Entry!$BJ:$BJ,$B9,Assessment_Entry!AT:AT))) | AT9: =IF($B9="","",IF(SUMIF(Assessment_Entry!$BJ:$BJ,$B9,Assessment_Entry!AU:AU)=0,"",SUMIF(Assessment_Entry!$BJ:$BJ,$B9,Assessment_Entry!AU:AU))) | AU9: =IF($B9="","",IF(SUMIF(Assessment_Entry!$BJ:$BJ,$B9,Assessment_Entry!AV:AV)=0,"",SUMIF(Assessment_Entry!$BJ:$BJ,$B9,Assessment_Entry!AV:AV))) | AV9: =IF($B9="","",IF(SUMIF(Assessment_Entry!$BJ:$BJ,$B9,Assessment_Entry!AW:AW)=0,"",SUMIF(Assessment_Entry!$BJ:$BJ,$B9,Assessment_Entry!AW:AW))) | AW9: =IF($B9="","",IF(SUMIF(Assessment_Entry!$BJ:$BJ,$B9,Assessment_Entry!AX:AX)=0,"",SUMIF(Assessment_Entry!$BJ:$BJ,$B9,Assessment_Entry!AX:AX))) | AX9: =IF($B9="","",IF(SUMIF(Assessment_Entry!$BJ:$BJ,$B9,Assessment_Entry!AY:AY)=0,"",SUMIF(Assessment_Entry!$BJ:$BJ,$B9,Assessment_Entry!AY:AY))) | AY9: =IF($B9="","",IF(SUMIF(Assessment_Entry!$BJ:$BJ,$B9,Assessment_Entry!AZ:AZ)=0,"",SUMIF(Assessment_Entry!$BJ:$BJ,$B9,Assessment_Entry!AZ:AZ))) | AZ9: =IF($B9="","",IF(SUMIF(Assessment_Entry!$BJ:$BJ,$B9,Assessment_Entry!BA:BA)=0,"",SUMIF(Assessment_Entry!$BJ:$BJ,$B9,Assessment_Entry!BA:BA))) | BA9: =IF($B9="","",IF(SUMIF(Assessment_Entry!$BJ:$BJ,$B9,Assessment_Entry!BB:BB)=0,"",SUMIF(Assessment_Entry!$BJ:$BJ,$B9,Assessment_Entry!BB:BB))) | BB9: =IF($B9="","",IF(SUMIF(Assessment_Entry!$BJ:$BJ,$B9,Assessment_Entry!BC:BC)=0,"",SUMIF(Assessment_Entry!$BJ:$BJ,$B9,Assessment_Entry!BC:BC))) | BC9: =IF($B9="","",IF(SUMIF(Assessment_Entry!$BJ:$BJ,$B9,Assessment_Entry!BD:BD)=0,"",SUMIF(Assessment_Entry!$BJ:$BJ,$B9,Assessment_Entry!BD:BD)))
C10: =IF($B10="","",IF(SUMIF(Assessment_Entry!$BJ:$BJ,$B10,Assessment_Entry!D:D)=0,"",SUMIF(Assessment_Entry!$BJ:$BJ,$B10,Assessment_Entry!D:D))) | D10: =IF($B10="","",IF(SUMIF(Assessment_Entry!$BJ:$BJ,$B10,Assessment_Entry!E:E)=0,"",SUMIF(Assessment_Entry!$BJ:$BJ,$B10,Assessment_Entry!E:E))) | E10: =IF($B10="","",IF(SUMIF(Assessment_Entry!$BJ:$BJ,$B10,Assessment_Entry!F:F)=0,"",SUMIF(Assessment_Entry!$BJ:$BJ,$B10,Assessment_Entry!F:F))) | F10: =IF($B10="","",IF(SUMIF(Assessment_Entry!$BJ:$BJ,$B10,Assessment_Entry!G:G)=0,"",SUMIF(Assessment_Entry!$BJ:$BJ,$B10,Assessment_Entry!G:G))) | G10: =IF($B10="","",IF(SUMIF(Assessment_Entry!$BJ:$BJ,$B10,Assessment_Entry!H:H)=0,"",SUMIF(Assessment_Entry!$BJ:$BJ,$B10,Assessment_Entry!H:H))) | H10: =IF($B10="","",IF(SUMIF(Assessment_Entry!$BJ:$BJ,$B10,Assessment_Entry!I:I)=0,"",SUMIF(Assessment_Entry!$BJ:$BJ,$B10,Assessment_Entry!I:I))) | I10: =IF($B10="","",IF(SUMIF(Assessment_Entry!$BJ:$BJ,$B10,Assessment_Entry!J:J)=0,"",SUMIF(Assessment_Entry!$BJ:$BJ,$B10,Assessment_Entry!J:J))) | J10: =IF($B10="","",IF(SUMIF(Assessment_Entry!$BJ:$BJ,$B10,Assessment_Entry!K:K)=0,"",SUMIF(Assessment_Entry!$BJ:$BJ,$B10,Assessment_Entry!K:K))) | K10: =IF($B10="","",IF(SUMIF(Assessment_Entry!$BJ:$BJ,$B10,Assessment_Entry!L:L)=0,"",SUMIF(Assessment_Entry!$BJ:$BJ,$B10,Assessment_Entry!L:L))) | L10: =IF($B10="","",IF(SUMIF(Assessment_Entry!$BJ:$BJ,$B10,Assessment_Entry!M:M)=0,"",SUMIF(Assessment_Entry!$BJ:$BJ,$B10,Assessment_Entry!M:M))) | M10: =IF($B10="","",IF(SUMIF(Assessment_Entry!$BJ:$BJ,$B10,Assessment_Entry!N:N)=0,"",SUMIF(Assessment_Entry!$BJ:$BJ,$B10,Assessment_Entry!N:N))) | N10: =IF($B10="","",IF(SUMIF(Assessment_Entry!$BJ:$BJ,$B10,Assessment_Entry!O:O)=0,"",SUMIF(Assessment_Entry!$BJ:$BJ,$B10,Assessment_Entry!O:O))) | O10: =IF($B10="","",IF(SUMIF(Assessment_Entry!$BJ:$BJ,$B10,Assessment_Entry!P:P)=0,"",SUMIF(Assessment_Entry!$BJ:$BJ,$B10,Assessment_Entry!P:P))) | P10: =IF($B10="","",IF(SUMIF(Assessment_Entry!$BJ:$BJ,$B10,Assessment_Entry!Q:Q)=0,"",SUMIF(Assessment_Entry!$BJ:$BJ,$B10,Assessment_Entry!Q:Q))) | Q10: =IF($B10="","",IF(SUMIF(Assessment_Entry!$BJ:$BJ,$B10,Assessment_Entry!R:R)=0,"",SUMIF(Assessment_Entry!$BJ:$BJ,$B10,Assessment_Entry!R:R))) | R10: =IF($B10="","",IF(SUMIF(Assessment_Entry!$BJ:$BJ,$B10,Assessment_Entry!S:S)=0,"",SUMIF(Assessment_Entry!$BJ:$BJ,$B10,Assessment_Entry!S:S))) | S10: =IF($B10="","",IF(SUMIF(Assessment_Entry!$BJ:$BJ,$B10,Assessment_Entry!T:T)=0,"",SUMIF(Assessment_Entry!$BJ:$BJ,$B10,Assessment_Entry!T:T))) | T10: =IF($B10="","",IF(SUMIF(Assessment_Entry!$BJ:$BJ,$B10,Assessment_Entry!U:U)=0,"",SUMIF(Assessment_Entry!$BJ:$BJ,$B10,Assessment_Entry!U:U))) | U10: =IF($B10="","",IF(SUMIF(Assessment_Entry!$BJ:$BJ,$B10,Assessment_Entry!V:V)=0,"",SUMIF(Assessment_Entry!$BJ:$BJ,$B10,Assessment_Entry!V:V))) | V10: =IF($B10="","",IF(SUMIF(Assessment_Entry!$BJ:$BJ,$B10,Assessment_Entry!W:W)=0,"",SUMIF(Assessment_Entry!$BJ:$BJ,$B10,Assessment_Entry!W:W))) | W10: =IF($B10="","",IF(SUMIF(Assessment_Entry!$BJ:$BJ,$B10,Assessment_Entry!X:X)=0,"",SUMIF(Assessment_Entry!$BJ:$BJ,$B10,Assessment_Entry!X:X))) | X10: =IF($B10="","",IF(SUMIF(Assessment_Entry!$BJ:$BJ,$B10,Assessment_Entry!Y:Y)=0,"",SUMIF(Assessment_Entry!$BJ:$BJ,$B10,Assessment_Entry!Y:Y))) | Y10: =IF($B10="","",IF(SUMIF(Assessment_Entry!$BJ:$BJ,$B10,Assessment_Entry!Z:Z)=0,"",SUMIF(Assessment_Entry!$BJ:$BJ,$B10,Assessment_Entry!Z:Z))) | Z10: =IF($B10="","",IF(SUMIF(Assessment_Entry!$BJ:$BJ,$B10,Assessment_Entry!AA:AA)=0,"",SUMIF(Assessment_Entry!$BJ:$BJ,$B10,Assessment_Entry!AA:AA))) | AA10: =IF($B10="","",IF(SUMIF(Assessment_Entry!$BJ:$BJ,$B10,Assessment_Entry!AB:AB)=0,"",SUMIF(Assessment_Entry!$BJ:$BJ,$B10,Assessment_Entry!AB:AB))) | AB10: =IF($B10="","",IF(SUMIF(Assessment_Entry!$BJ:$BJ,$B10,Assessment_Entry!AC:AC)=0,"",SUMIF(Assessment_Entry!$BJ:$BJ,$B10,Assessment_Entry!AC:AC))) | AC10: =IF($B10="","",IF(SUMIF(Assessment_Entry!$BJ:$BJ,$B10,Assessment_Entry!AD:AD)=0,"",SUMIF(Assessment_Entry!$BJ:$BJ,$B10,Assessment_Entry!AD:AD))) | AD10: =IF($B10="","",IF(SUMIF(Assessment_Entry!$BJ:$BJ,$B10,Assessment_Entry!AE:AE)=0,"",SUMIF(Assessment_Entry!$BJ:$BJ,$B10,Assessment_Entry!AE:AE))) | AE10: =IF($B10="","",IF(SUMIF(Assessment_Entry!$BJ:$BJ,$B10,Assessment_Entry!AF:AF)=0,"",SUMIF(Assessment_Entry!$BJ:$BJ,$B10,Assessment_Entry!AF:AF))) | AF10: =IF($B10="","",IF(SUMIF(Assessment_Entry!$BJ:$BJ,$B10,Assessment_Entry!AG:AG)=0,"",SUMIF(Assessment_Entry!$BJ:$BJ,$B10,Assessment_Entry!AG:AG))) | AG10: =IF($B10="","",IF(SUMIF(Assessment_Entry!$BJ:$BJ,$B10,Assessment_Entry!AH:AH)=0,"",SUMIF(Assessment_Entry!$BJ:$BJ,$B10,Assessment_Entry!AH:AH))) | AH10: =IF($B10="","",IF(SUMIF(Assessment_Entry!$BJ:$BJ,$B10,Assessment_Entry!AI:AI)=0,"",SUMIF(Assessment_Entry!$BJ:$BJ,$B10,Assessment_Entry!AI:AI))) | AI10: =IF($B10="","",IF(SUMIF(Assessment_Entry!$BJ:$BJ,$B10,Assessment_Entry!AJ:AJ)=0,"",SUMIF(Assessment_Entry!$BJ:$BJ,$B10,Assessment_Entry!AJ:AJ))) | AJ10: =IF($B10="","",IF(SUMIF(Assessment_Entry!$BJ:$BJ,$B10,Assessment_Entry!AK:AK)=0,"",SUMIF(Assessment_Entry!$BJ:$BJ,$B10,Assessment_Entry!AK:AK))) | AK10: =IF($B10="","",IF(SUMIF(Assessment_Entry!$BJ:$BJ,$B10,Assessment_Entry!AL:AL)=0,"",SUMIF(Assessment_Entry!$BJ:$BJ,$B10,Assessment_Entry!AL:AL))) | AL10: =IF($B10="","",IF(SUMIF(Assessment_Entry!$BJ:$BJ,$B10,Assessment_Entry!AM:AM)=0,"",SUMIF(Assessment_Entry!$BJ:$BJ,$B10,Assessment_Entry!AM:AM))) | AM10: =IF($B10="","",IF(SUMIF(Assessment_Entry!$BJ:$BJ,$B10,Assessment_Entry!AN:AN)=0,"",SUMIF(Assessment_Entry!$BJ:$BJ,$B10,Assessment_Entry!AN:AN))) | AN10: =IF($B10="","",IF(SUMIF(Assessment_Entry!$BJ:$BJ,$B10,Assessment_Entry!AO:AO)=0,"",SUMIF(Assessment_Entry!$BJ:$BJ,$B10,Assessment_Entry!AO:AO))) | AO10: =IF($B10="","",IF(SUMIF(Assessment_Entry!$BJ:$BJ,$B10,Assessment_Entry!AP:AP)=0,"",SUMIF(Assessment_Entry!$BJ:$BJ,$B10,Assessment_Entry!AP:AP))) | AP10: =IF($B10="","",IF(SUMIF(Assessment_Entry!$BJ:$BJ,$B10,Assessment_Entry!AQ:AQ)=0,"",SUMIF(Assessment_Entry!$BJ:$BJ,$B10,Assessment_Entry!AQ:AQ))) | AQ10: =IF($B10="","",IF(SUMIF(Assessment_Entry!$BJ:$BJ,$B10,Assessment_Entry!AR:AR)=0,"",SUMIF(Assessment_Entry!$BJ:$BJ,$B10,Assessment_Entry!AR:AR))) | AR10: =IF($B10="","",IF(SUMIF(Assessment_Entry!$BJ:$BJ,$B10,Assessment_Entry!AS:AS)=0,"",SUMIF(Assessment_Entry!$BJ:$BJ,$B10,Assessment_Entry!AS:AS))) | AS10: =IF($B10="","",IF(SUMIF(Assessment_Entry!$BJ:$BJ,$B10,Assessment_Entry!AT:AT)=0,"",SUMIF(Assessment_Entry!$BJ:$BJ,$B10,Assessment_Entry!AT:AT))) | AT10: =IF($B10="","",IF(SUMIF(Assessment_Entry!$BJ:$BJ,$B10,Assessment_Entry!AU:AU)=0,"",SUMIF(Assessment_Entry!$BJ:$BJ,$B10,Assessment_Entry!AU:AU))) | AU10: =IF($B10="","",IF(SUMIF(Assessment_Entry!$BJ:$BJ,$B10,Assessment_Entry!AV:AV)=0,"",SUMIF(Assessment_Entry!$BJ:$BJ,$B10,Assessment_Entry!AV:AV))) | AV10: =IF($B10="","",IF(SUMIF(Assessment_Entry!$BJ:$BJ,$B10,Assessment_Entry!AW:AW)=0,"",SUMIF(Assessment_Entry!$BJ:$BJ,$B10,Assessment_Entry!AW:AW))) | AW10: =IF($B10="","",IF(SUMIF(Assessment_Entry!$BJ:$BJ,$B10,Assessment_Entry!AX:AX)=0,"",SUMIF(Assessment_Entry!$BJ:$BJ,$B10,Assessment_Entry!AX:AX))) | AX10: =IF($B10="","",IF(SUMIF(Assessment_Entry!$BJ:$BJ,$B10,Assessment_Entry!AY:AY)=0,"",SUMIF(Assessment_Entry!$BJ:$BJ,$B10,Assessment_Entry!AY:AY))) | AY10: =IF($B10="","",IF(SUMIF(Assessment_Entry!$BJ:$BJ,$B10,Assessment_Entry!AZ:AZ)=0,"",SUMIF(Assessment_Entry!$BJ:$BJ,$B10,Assessment_Entry!AZ:AZ))) | AZ10: =IF($B10="","",IF(SUMIF(Assessment_Entry!$BJ:$BJ,$B10,Assessment_Entry!BA:BA)=0,"",SUMIF(Assessment_Entry!$BJ:$BJ,$B10,Assessment_Entry!BA:BA))) | BA10: =IF($B10="","",IF(SUMIF(Assessment_Entry!$BJ:$BJ,$B10,Assessment_Entry!BB:BB)=0,"",SUMIF(Assessment_Entry!$BJ:$BJ,$B10,Assessment_Entry!BB:BB))) | BB10: =IF($B10="","",IF(SUMIF(Assessment_Entry!$BJ:$BJ,$B10,Assessment_Entry!BC:BC)=0,"",SUMIF(Assessment_Entry!$BJ:$BJ,$B10,Assessment_Entry!BC:BC))) | BC10: =IF($B10="","",IF(SUMIF(Assessment_Entry!$BJ:$BJ,$B10,Assessment_Entry!BD:BD)=0,"",SUMIF(Assessment_Entry!$BJ:$BJ,$B10,Assessment_Entry!BD:BD)))
B11: Total | C11: =SUBTOTAL(9,C4:C10) -> 4 | D11: =SUBTOTAL(9,D4:D10) -> 2 | E11: =SUBTOTAL(9,E4:E10) -> 7 | F11: =SUBTOTAL(9,F4:F10) -> 3 | G11: =SUBTOTAL(9,G4:G10) -> 10 | H11: =SUBTOTAL(9,H4:H10) -> 7 | I11: =SUBTOTAL(9,I4:I10) -> 0 | J11: =SUBTOTAL(9,J4:J10) -> 0 | ... BC11: =SUBTOTAL(9,BC4:BC10) -> 0
B12: Outbreak | C12: =IF(C11>C3,C11,NA()) -> #N/A | D12: =IF(D11>D3,D11,NA()) -> #N/A | E12: =IF(E11>E3,E11,NA()) -> 7 | F12: =IF(F11>F3,F11,NA()) -> #N/A | G12: =IF(G11>G3,G11,NA()) -> #N/A | H12: =IF(H11>H3,H11,NA()) -> #N/A | I12: =IF(I11>I3,I11,NA()) -> #N/A | J12: =IF(J11>J3,J11,NA()) -> #N/A | ... BC12: =IF(BC11>BC3,BC11,NA()) -> #N/A
