Workbook
Name FAS: Ключи!$A$14:$B$18
Name ДжедайскаяШкала: Ключи!$A$7:$B$11
Name Пол: Ключи!$A$21:$B$22
Name ЧастотаТолчкосмартфона: Ключи!$A$1:$B$5

Sheet Обзор
A1: М | B1: =COUNTIF('Рабочий стол'!A:A,Обзор!A1) -> 288
A2: Ж | B2: =COUNTIF('Рабочий стол'!A:A,Обзор!A2) -> 238
A5: 0 | B5: 20 | C5: =A5&".."&B5 -> 0..20 | D5: =COUNTIFS('Рабочий стол'!B:B,">="&Обзор!A5,'Рабочий стол'!B:B,"<"&Обзор!B5)/525 -> 0.024761905
A6: =B5 -> 20 | B6: =B5+5 -> 25 | C6: =A6&".."&B6 -> 20..25 | D6: =COUNTIFS('Рабочий стол'!B:B,">="&Обзор!A6,'Рабочий стол'!B:B,"<"&Обзор!B6)/525 -> 0.095238095
A7: =B6 -> 25 | B7: =B6+5 -> 30 | C7: =A7&".."&B7 -> 25..30 | D7: =COUNTIFS('Рабочий стол'!B:B,">="&Обзор!A7,'Рабочий стол'!B:B,"<"&Обзор!B7)/525 -> 0.18285714
A8: =B7 -> 30 | B8: =B7+5 -> 35 | C8: =A8&".."&B8 -> 30..35 | D8: =COUNTIFS('Рабочий стол'!B:B,">="&Обзор!A8,'Рабочий стол'!B:B,"<"&Обзор!B8)/525 -> 0.30285714
A9: =B8 -> 35 | B9: =B8+5 -> 40 | C9: =A9&".."&B9 -> 35..40 | D9: =COUNTIFS('Рабочий стол'!B:B,">="&Обзор!A9,'Рабочий стол'!B:B,"<"&Обзор!B9)/525 -> 0.24
A10: =B9 -> 40 | B10: =B9+5 -> 45 | C10: =A10&".."&B10 -> 40..45 | D10: =COUNTIFS('Рабочий стол'!B:B,">="&Обзор!A10,'Рабочий стол'!B:B,"<"&Обзор!B10)/525 -> 0.10857143
A11: =B10 -> 45 | B11: =B10+5 -> 50 | C11: =A11&".."&B11 -> 45..50 | D11: =COUNTIFS('Рабочий стол'!B:B,">="&Обзор!A11,'Рабочий стол'!B:B,"<"&Обзор!B11)/525 -> 0.032380952
A12: =B11 -> 50 | B12: 100 | C12: =A12&".."&B12 -> 50..100 | D12: =COUNTIFS('Рабочий стол'!B:B,">="&Обзор!A12,'Рабочий стол'!B:B,"<"&Обзор!B12)/525 -> 0.013333333
A16: 0. Никогда | B16: =COUNTIF('Рабочий стол'!D:D,Обзор!A16)/526 -> 0.087452471
A17: 1. Редко | B17: =COUNTIF('Рабочий стол'!D:D,Обзор!A17)/526 -> 0.121673
A18: 2. Иногда | B18: =COUNTIF('Рабочий стол'!D:D,Обзор!A18)/526 -> 0.10646388
A19: 3. Часто | B19: =COUNTIF('Рабочий стол'!D:D,Обзор!A19)/526 -> 0.2148289
A20: 4. Очень часто | B20: =COUNTIF('Рабочий стол'!D:D,Обзор!A20)/526 -> 0.46958175
A23: 1. Свежий | B23: =COUNTIF('Рабочий стол'!W:W,Обзор!A23) -> 78
A24: 2. Усталый | B24: =COUNTIF('Рабочий стол'!W:W,Обзор!A24) -> 317
A25: 3. В хлам | B25: =COUNTIF('Рабочий стол'!W:W,Обзор!A25) -> 131

Sheet Ключи
A1: Никогда так не делаю | B1: 0. Никогда | D1: 0. Никогда
A2: Крайне редко, в исключительных случаях | B2: 1. Редко | D2: 1. Редко
A3: Ну... иногда бывает... | B3: 2. Иногда | D3: 2. Иногда
A4: Не всегда, но часто | B4: 3. Часто | D4: 3. Часто
A5: Очень часто | B5: 4. Очень Часто | D5: 4. Очень часто
A7: Я не успеваю выполнять даже необходимый минимум | B7: 1. Плохо
A8: Я едва-едва успеваю выполнить необходимую текучку, но на долгосрочные планы не остается сил | B8: 1. Плохо
A9: Я успеваю разобраться с необходимой текучкой, и даже изредка могу посвящать силы долгосрочным планам | B9: 2. Средне
A10: Я вполне продуктивно продвигаюсь к своим долгосрочным целям. Завалы если и случаются, то не часто | B10: 3. Хорошо
A11: Все происходит легко и естественно и временами мне кажется, что редко бывает лучше | B11: 3. Хорошо
A14: Практически никогда | B14: 1
A15: Редко | B15: 2
A16: Иногда | B16: 3
A17: Часто | B17: 4
A18: Практичеки всегда | B18: 5
A21: М | B21: М
A22: Ж | B22: Ж

Sheet Ответы на форму (1)
A1: Отметка времени | B1: Ваш пол | C1: Сколько вам лет? | D1: Как часто вы используете смартфон в туалете? | E1: Как правило, для чего вы используете смартфон в туалете? | F1: Почти во всем моя жизнь соответствует моему идеалу | G1: Условия моей жизни превосходные | H1: Я удовлетворен своей жизнью | I1: До настоящего момента из главного я получал всего, чего хотел в жизни | J1: Если бы я мог прожить свою жизнь еще раз, я бы почти ничего в ней не изменил | K1: Что лучше характеризует то, как вы справляетесь с делами в ЛИЧНОЙ жизни? | L1: Что лучше характеризует то, как вы справляетесь с делами по работе? | M1: В какой степени утверждения ниже характеризуют ваше обычное состояние? [Меня беспокоит усталость] | N1: В какой степени утверждения ниже характеризуют ваше обычное состояние? [Я очень быстро устаю] | O1: В какой степени утверждения ниже характеризуют ваше обычное состояние? [Я успеваю сделать мало дел в течение дня] | P1: В какой степени утверждения ниже характеризуют ваше обычное состояние? [У меня достаточно энергии для повседневной жизни] | Q1: В какой степени утверждения ниже характеризуют ваше обычное состояние? [Я чувствую физическое истощение] | R1: В какой степени утверждения ниже характеризуют ваше обычное состояние? [Мне трудно начать что-нибудь делать] | S1: В какой степени утверждения ниже характеризуют ваше обычное состояние? [Мне трудно думать четко и ясно] | T1: В какой степени утверждения ниже характеризуют ваше обычное состояние? [У меня нет никакого желания что-нибудь делать] | U1: В какой степени утверждения ниже характеризуют ваше обычное состояние? [Я чувствую умственное истощение] | V1: В какой степени утверждения ниже характеризуют ваше обычное состояние? [Когда я делаю что-нибудь, я могу довольно хорошо сконцентрироваться]
A2: 43958.805 | B2: Ж | C2: 38 | D2: Никогда так не делаю | F2: 2 | G2: 2 | H2: 3 | I2: 4 | J2: 1 | K2: Я успеваю разобраться с необходимой текучкой, и даже изредка могу посвящать силы долгосрочным планам | L2: Я вполне продуктивно продвигаюсь к своим долгосрочным целям. Завалы если и случаются, то не часто | M2: Часто | N2: Редко | O2: Редко | P2: Часто | Q2: Иногда | R2: Иногда | S2: Иногда | T2: Часто | U2: Часто | V2: Часто
A3: 43958.806 | B3: М | C3: 45 | D3: Крайне редко, в исключительных случаях | E3: Отвечаю на входящие звонки, Отвечаю на сообщения в мессенджерах | F3: 2 | G3: 2 | H3: 2 | I3: 2 | J3: 3 | K3: Я успеваю разобраться с необходимой текучкой, и даже изредка могу посвящать силы долгосрочным планам | L3: Я успеваю разобраться с необходимой текучкой, и даже изредка могу посвящать силы долгосрочным планам | M3: Иногда | N3: Иногда | O3: Часто | P3: Часто | Q3: Редко | R3: Часто | S3: Редко | T3: Иногда | U3: Редко | V3: Часто
A4: 43958.807 | B4: М | C4: 44 | D4: Очень часто | E4: Отвечаю на сообщения в мессенджерах, Тупо скролю новости / социалки, Играю в игры | F4: 5 | G4: 5 | H4: 5 | I4: 5 | J4: 4 | K4: Я успеваю разобраться с необходимой текучкой, и даже изредка могу посвящать силы долгосрочным планам | L4: Я вполне продуктивно продвигаюсь к своим долгосрочным целям. Завалы если и случаются, то не часто | M4: Иногда | N4: Иногда | O4: Редко | P4: Часто | Q4: Редко | R4: Практичеки всегда | S4: Иногда | T4: Иногда | U4: Иногда | V4: Часто
A5: 43958.807 | B5: Ж | C5: 33 | D5: Не всегда, но часто | E5: Играю в игры, Читаю книгу | F5: 6 | G5: 6 | H5: 6 | I5: 3 | J5: 3 | K5: Я успеваю разобраться с необходимой текучкой, и даже изредка могу посвящать силы долгосрочным планам | L5: Я вполне продуктивно продвигаюсь к своим долгосрочным целям. Завалы если и случаются, то не часто | M5: Иногда | N5: Иногда | O5: Практически никогда | P5: Практичеки всегда | Q5: Редко | R5: Практически никогда | S5: Практически никогда | T5: Редко | U5: Редко | V5: Часто
A6: 43958.807 | B6: М | C6: 31 | D6: Очень часто | E6: Тупо скролю новости / социалки | F6: 4 | G6: 6 | H6: 5 | I6: 6 | J6: 6 | K6: Я вполне продуктивно продвигаюсь к своим долгосрочным целям. Завалы если и случаются, то не часто | L6: Я вполне продуктивно продвигаюсь к своим долгосрочным целям. Завалы если и случаются, то не часто | M6: Иногда | N6: Редко | O6: Часто | P6: Часто | Q6: Редко | R6: Редко | S6: Редко | T6: Редко | U6: Практически никогда | V6: Иногда
A7: 43958.807 | B7: Ж | C7: 31 | D7: Не всегда, но часто | E7: Тупо скролю новости / социалки | F7: 3 | G7: 5 | H7: 5 | I7: 5 | J7: 6 | K7: Я успеваю разобраться с необходимой текучкой, и даже изредка могу посвящать силы долгосрочным планам | L7: Я успеваю разобраться с необходимой текучкой, и даже изредка могу посвящать силы долгосрочным планам | M7: Иногда | N7: Иногда | O7: Часто | P7: Практичеки всегда | Q7: Иногда | R7: Часто | S7: Практически никогда | T7: Часто | U7: Редко | V7: Редко
A8: 43958.807 | B8: М | C8: 29 | D8: Не всегда, но часто | E8: Тупо скролю новости / социалки, Играю в игры | F8: 3 | G8: 5 | H8: 3 | I8: 4 | J8: 5 | K8: Я едва-едва успеваю выполнить необходимую текучку, но на долгосрочные планы не остается сил | L8: Я едва-едва успеваю выполнить необходимую текучку, но на долгосрочные планы не остается сил | M8: Часто | N8: Часто | O8: Часто | P8: Иногда | Q8: Редко | R8: Практичеки всегда | S8: Иногда | T8: Часто | U8: Иногда | V8: Часто
A9: 43958.807 | B9: М | C9: 33 | D9: Очень часто | E9: Отвечаю на входящие звонки, Отвечаю на сообщения в мессенджерах, Тупо скролю новости / социалки | F9: 5 | G9: 6 | H9: 5 | I9: 5 | J9: 6 | K9: Я вполне продуктивно продвигаюсь к своим долгосрочным целям. Завалы если и случаются, то не часто | L9: Я успеваю разобраться с необходимой текучкой, и даже изредка могу посвящать силы долгосрочным планам | M9: Практически никогда | N9: Практически никогда | O9: Иногда | P9: Практичеки всегда | Q9: Редко | R9: Иногда | S9: Редко | T9: Часто | U9: Часто | V9: Часто
A10: 43958.808 | B10: М | C10: 34 | D10: Очень часто | E10: Отвечаю на сообщения в мессенджерах, Тупо скролю новости / социалки, Играю в игры | F10: 5 | G10: 7 | H10: 4 | I10: 5 | J10: 6 | K10: Я вполне продуктивно продвигаюсь к своим долгосрочным целям. Завалы если и случаются, то не часто | L10: Я вполне продуктивно продвигаюсь к своим долгосрочным целям. Завалы если и случаются, то не часто | M10: Часто | N10: Редко | O10: Иногда | P10: Редко | Q10: Практически никогда | R10: Практически никогда | S10: Практически никогда | T10: Практически никогда | U10: Редко | V10: Иногда
A11: 43958.808 | B11: М | C11: 34 | D11: Не всегда, но часто | E11: Тупо скролю новости / социалки | F11: 5 | G11: 5 | H11: 6 | I11: 6 | J11: 4 | K11: Я едва-едва успеваю выполнить необходимую текучку, но на долгосрочные планы не остается сил | L11: Я успеваю разобраться с необходимой текучкой, и даже изредка могу посвящать силы долгосрочным планам | M11: Иногда | N11: Часто | O11: Часто | P11: Иногда | Q11: Иногда | R11: Часто | S11: Часто | T11: Редко | U11: Редко | V11: Иногда
A12: 43958.809 | B12: Ж | D12: Очень часто | E12: Отвечаю на сообщения в мессенджерах, Тупо скролю новости / социалки, Отдыхаю в каком-то приложении / интернет-ресурсе | F12: 5 | G12: 6 | H12: 5 | I12: 6 | J12: 4 | K12: Я едва-едва успеваю выполнить необходимую текучку, но на долгосрочные планы не остается сил | L12: Я успеваю разобраться с необходимой текучкой, и даже изредка могу посвящать силы долгосрочным планам | M12: Часто | N12: Практичеки всегда | O12: Иногда | P12: Редко | Q12: Редко | R12: Иногда | S12: Редко | T12: Иногда | U12: Редко | V12: Часто
A13: 43958.809 | B13: Ж | C13: 21 | D13: Не всегда, но часто | E13: Отвечаю на сообщения в мессенджерах, Тупо скролю новости / социалки, Играю в игры | F13: 2 | G13: 1 | H13: 2 | I13: 1 | J13: 1 | K13: Я успеваю разобраться с необходимой текучкой, и даже изредка могу посвящать силы долгосрочным планам | L13: Я вполне продуктивно продвигаюсь к своим долгосрочным целям. Завалы если и случаются, то не часто | M13: Часто | N13: Иногда | O13: Часто | P13: Редко | Q13: Часто | R13: Редко | S13: Практически никогда | T13: Иногда | U13: Практичеки всегда | V13: Часто
A14: 43958.809 | B14: М | C14: 38 | D14: Очень часто | E14: Тупо скролю новости / социалки | F14: 2 | G14: 3 | H14: 2 | I14: 1 | J14: 1 | K14: Я едва-едва успеваю выполнить необходимую текучку, но на долгосрочные планы не остается сил | L14: Я успеваю разобраться с необходимой текучкой, и даже изредка могу посвящать силы долгосрочным планам | M14: Практически никогда | N14: Редко | O14: Редко | P14: Редко | Q14: Практически никогда | R14: Практически никогда | S14: Практически никогда | T14: Практически никогда | U14: Практически никогда | V14: Практически никогда
A15: 43958.809 | B15: М | C15: 36 | D15: Очень часто | E15: Отвечаю на сообщения в мессенджерах, Отвечаю на почту, Тупо скролю новости / социалки, Совершаю покупки в интернет-магазине | F15: 5 | G15: 6 | H15: 6 | I15: 6 | J15: 5 | K15: Я успеваю разобраться с необходимой текучкой, и даже изредка могу посвящать силы долгосрочным планам | L15: Я успеваю разобраться с необходимой текучкой, и даже изредка могу посвящать силы долгосрочным планам | M15: Иногда | N15: Иногда | O15: Иногда | P15: Часто | Q15: Иногда | R15: Иногда | S15: Редко | T15: Редко | U15: Редко | V15: Иногда
A16: 43958.81 | B16: М | C16: 27 | D16: Крайне редко, в исключительных случаях | E16: Отвечаю на сообщения в мессенджерах, Тупо скролю новости / социалки | F16: 4 | G16: 5 | H16: 5 | I16: 4 | J16: 4 | K16: Я успеваю разобраться с необходимой текучкой, и даже изредка могу посвящать силы долгосрочным планам | L16: Я вполне продуктивно продвигаюсь к своим долгосрочным целям. Завалы если и случаются, то не часто | M16: Редко | N16: Практически никогда | O16: Редко | P16: Практичеки всегда | Q16: Практически никогда | R16: Редко | S16: Редко | T16: Иногда | U16: Редко | V16: Часто
A17: 43958.81 | B17: Ж | C17: 33 | D17: Ну... иногда бывает... | E17: Совершаю покупки в интернет-магазине | F17: 3 | G17: 4 | H17: 2 | I17: 3 | J17: 3 | K17: Я едва-едва успеваю выполнить необходимую текучку, но на долгосрочные планы не остается сил | L17: Я успеваю разобраться с необходимой текучкой, и даже изредка могу посвящать силы долгосрочным планам | M17: Часто | N17: Часто | O17: Практичеки всегда | P17: Редко | Q17: Практичеки всегда | R17: Практичеки всегда | S17: Практичеки всегда | T17: Практичеки всегда | U17: Практичеки всегда | V17: Практичеки всегда
A18: 43958.81 | B18: М | C18: 30 | D18: Крайне редко, в исключительных случаях | E18: Тупо скролю новости / социалки, Отдыхаю в каком-то приложении / интернет-ресурсе | F18: 6 | G18: 5 | H18: 6 | I18: 5 | J18: 3 | K18: Я вполне продуктивно продвигаюсь к своим долгосрочным целям. Завалы если и случаются, то не часто | L18: Я вполне продуктивно продвигаюсь к своим долгосрочным целям. Завалы если и случаются, то не часто | M18: Редко | N18: Редко | O18: Иногда | P18: Часто | Q18: Редко | R18: Редко | S18: Редко | T18: Редко | U18: Редко | V18: Часто
A19: 43958.811 | B19: М | C19: 47 | D19: Никогда так не делаю | F19: 6 | G19: 6 | H19: 6 | I19: 6 | J19: 5 | K19: Я вполне продуктивно продвигаюсь к своим долгосрочным целям. Завалы если и случаются, то не часто | L19: Я вполне продуктивно продвигаюсь к своим долгосрочным целям. Завалы если и случаются, то не часто | M19: Редко | N19: Редко | O19: Редко | P19: Часто | Q19: Редко | R19: Иногда | S19: Редко | T19: Редко | U19: Редко | V19: Часто
A20: 43958.811 | B20: Ж | C20: 41 | D20: Не всегда, но часто | E20: Отвечаю на сообщения в мессенджерах, Отвечаю на почту, Тупо скролю новости / социалки | F20: 3 | G20: 4 | H20: 5 | I20: 5 | J20: 3 | K20: Я успеваю разобраться с необходимой текучкой, и даже изредка могу посвящать силы долгосрочным планам | L20: Я успеваю разобраться с необходимой текучкой, и даже изредка могу посвящать силы долгосрочным планам | M20: Редко | N20: Редко | O20: Редко | P20: Редко | Q20: Редко | R20: Редко | S20: Редко | T20: Редко | U20: Редко | V20: Редко
A21: 43958.811 | B21: Ж | C21: 27 | D21: Не всегда, но часто | E21: Отвечаю на сообщения в мессенджерах, Тупо скролю новости / социалки, Играю в игры | F21: 3 | G21: 5 | H21: 4 | I21: 4 | J21: 5 | K21: Я успеваю разобраться с необходимой текучкой, и даже изредка могу посвящать силы долгосрочным планам | L21: Я вполне продуктивно продвигаюсь к своим долгосрочным целям. Завалы если и случаются, то не часто | M21: Часто | N21: Иногда | O21: Иногда | P21: Часто | Q21: Иногда | R21: Редко | S21: Практически никогда | T21: Редко | U21: Практически никогда | V21: Практичеки всегда
A22: 43958.811 | B22: М | C22: 27 | D22: Не всегда, но часто | E22: Тупо скролю новости / социалки, Играю в игры | F22: 6 | G22: 6 | H22: 6 | I22: 4 | J22: 7 | K22: Все происходит легко и естественно и временами мне кажется, что редко бывает лучше | L22: Все происходит легко и естественно и временами мне кажется, что редко бывает лучше | M22: Редко | N22: Иногда | O22: Редко | P22: Часто | Q22: Практически никогда | R22: Часто | S22: Практически никогда | T22: Иногда | U22: Практически никогда | V22: Практичеки всегда
A23: 43958.811 | B23: М | C23: 38 | D23: Не всегда, но часто | E23: Отвечаю на сообщения в мессенджерах, Тупо скролю новости / социалки | F23: 4 | G23: 4 | H23: 4 | I23: 4 | J23: 4 | K23: Я успеваю разобраться с необходимой текучкой, и даже изредка могу посвящать силы долгосрочным планам | L23: Я успеваю разобраться с необходимой текучкой, и даже изредка могу посвящать силы долгосрочным планам | M23: Иногда | N23: Иногда | O23: Редко | P23: Часто | Q23: Редко | R23: Иногда | S23: Иногда | T23: Практически никогда | U23: Редко | V23: Часто
A24: 43958.811 | B24: Ж | C24: 31 | D24: Крайне редко, в исключительных случаях | E24: Отвечаю на сообщения в мессенджерах, Отвечаю на почту | F24: 5 | G24: 4 | H24: 6 | I24: 5 | J24: 6 | K24: Я успеваю разобраться с необходимой текучкой, и даже изредка могу посвящать силы долгосрочным планам | L24: Я вполне продуктивно продвигаюсь к своим долгосрочным целям. Завалы если и случаются, то не часто | M24: Иногда | N24: Редко | O24: Часто | P24: Часто | Q24: Редко | R24: Иногда | S24: Редко | T24: Практически никогда | U24: Иногда | V24: Часто
A25: 43958.811 | B25: Ж | C25: 25 | D25: Ну... иногда бывает... | E25: Тупо скролю новости / социалки, Играю в игры, Совершаю покупки в интернет-магазине | F25: 4 | G25: 5 | H25: 5 | I25: 6 | J25: 6 | K25: Я вполне продуктивно продвигаюсь к своим долгосрочным целям. Завалы если и случаются, то не часто | L25: Я успеваю разобраться с необходимой текучкой, и даже изредка могу посвящать силы долгосрочным планам | M25: Иногда | N25: Иногда | O25: Иногда | P25: Часто | Q25: Редко | R25: Редко | S25: Практически никогда | T25: Редко | U25: Редко | V25: Иногда
A26: 43958.811 | B26: М | C26: 28 | D26: Очень часто | E26: Отвечаю на сообщения в мессенджерах, Тупо скролю новости / социалки, Отдыхаю в каком-то приложении / интернет-ресурсе | F26: 5 | G26: 5 | H26: 6 | I26: 6 | J26: 5 | K26: Я вполне продуктивно продвигаюсь к своим долгосрочным целям. Завалы если и случаются, то не часто | L26: Я вполне продуктивно продвигаюсь к своим долгосрочным целям. Завалы если и случаются, то не часто | M26: Иногда | N26: Редко | O26: Иногда | P26: Практичеки всегда | Q26: Практически никогда | R26: Иногда | S26: Редко | T26: Редко | U26: Редко | V26: Часто
A27: 43958.811 | B27: Ж | C27: 41 | D27: Никогда так не делаю | F27: 5 | G27: 6 | H27: 5 | I27: 7 | J27: 7 | K27: Я вполне продуктивно продвигаюсь к своим долгосрочным целям. Завалы если и случаются, то не часто | L27: Я вполне продуктивно продвигаюсь к своим долгосрочным целям. Завалы если и случаются, то не часто | M27: Иногда | N27: Иногда | O27: Часто | P27: Часто | Q27: Редко | R27: Практически никогда | S27: Практически никогда | T27: Практически никогда | U27: Практически никогда | V27: Часто
A28: 43958.811 | B28: М | C28: 29 | D28: Не всегда, но часто | E28: Отвечаю на сообщения в мессенджерах, Тупо скролю новости / социалки | F28: 3 | G28: 4 | H28: 3 | I28: 2 | J28: 1 | K28: Я не успеваю выполнять даже необходимый минимум | L28: Я успеваю разобраться с необходимой текучкой, и даже изредка могу посвящать силы долгосрочным планам | M28: Иногда | N28: Иногда | O28: Часто | P28: Иногда | Q28: Практически никогда | R28: Часто | S28: Иногда | T28: Иногда | U28: Иногда | V28: Иногда
A29: 43958.812 | B29: Ж | C29: 21 | D29: Никогда так не делаю | F29: 3 | G29: 2 | H29: 3 | I29: 2 | J29: 2 | K29: Я вполне продуктивно продвигаюсь к своим долгосрочным целям. Завалы если и случаются, то не часто | L29: Я вполне продуктивно продвигаюсь к своим долгосрочным целям. Завалы если и случаются, то не часто | M29: Редко | N29: Иногда | O29: Иногда | P29: Иногда | Q29: Редко | R29: Часто | S29: Практически никогда | T29: Иногда | U29: Редко | V29: Практичеки всегда
A30: 43958.812 | B30: Ж | C30: 29 | D30: Никогда так не делаю | F30: 6 | G30: 5 | H30: 6 | I30: 7 | J30: 6 | K30: Я едва-едва успеваю выполнить необходимую текучку, но на долгосрочные планы не остается сил | L30: Я успеваю разобраться с необходимой текучкой, и даже изредка могу посвящать силы долгосрочным планам | M30: Часто | N30: Редко | O30: Иногда | P30: Иногда | Q30: Редко | R30: Иногда | S30: Редко | T30: Практически никогда | U30: Иногда | V30: Часто
A31: 43958.813 | B31: М | C31: 24 | D31: Не всегда, но часто | E31: Отвечаю на сообщения в мессенджерах, Тупо скролю новости / социалки, Играю в игры, Отдыхаю в каком-то приложении / интернет-ресурсе | F31: 6 | G31: 6 | H31: 6 | I31: 6 | J31: 5 | K31: Я едва-едва успеваю выполнить необходимую текучку, но на долгосрочные планы не остается сил | L31: Я успеваю разобраться с необходимой текучкой, и даже изредка могу посвящать силы долгосрочным планам | M31: Часто | N31: Иногда | O31: Иногда | P31: Часто | Q31: Редко | R31: Часто | S31: Иногда | T31: Иногда | U31: Часто | V31: Часто
A32: 43958.813 | B32: Ж | C32: 38 | D32: Не всегда, но часто | E32: Тупо скролю новости / социалки | F32: 5 | G32: 4 | H32: 5 | I32: 5 | J32: 6 | K32: Я едва-едва успеваю выполнить необходимую текучку, но на долгосрочные планы не остается сил | L32: Я успеваю разобраться с необходимой текучкой, и даже изредка могу посвящать силы долгосрочным планам | M32: Часто | N32: Часто | O32: Иногда | P32: Часто | Q32: Иногда | R32: Иногда | S32: Редко | T32: Иногда | U32: Редко | V32: Часто
A33: 43958.813 | B33: М | C33: 39 | D33: Не всегда, но часто | E33: Тупо скролю новости / социалки | F33: 5 | G33: 6 | H33: 5 | I33: 5 | J33: 5 | K33: Я успеваю разобраться с необходимой текучкой, и даже изредка могу посвящать силы долгосрочным планам | L33: Я успеваю разобраться с необходимой текучкой, и даже изредка могу посвящать силы долгосрочным планам | M33: Редко | N33: Практически никогда | O33: Иногда | P33: Часто | Q33: Иногда | R33: Иногда | S33: Редко | T33: Иногда | U33: Редко | V33: Часто
A34: 43958.813 | B34: М | C34: 40 | D34: Крайне редко, в исключительных случаях | E34: Тупо скролю новости / социалки | F34: 5 | G34: 5 | H34: 5 | I34: 6 | J34: 6 | K34: Я успеваю разобраться с необходимой текучкой, и даже изредка могу посвящать силы долгосрочным планам | L34: Я успеваю разобраться с необходимой текучкой, и даже изредка могу посвящать силы долгосрочным планам | M34: Иногда | N34: Иногда | O34: Иногда | P34: Часто | Q34: Редко | R34: Редко | S34: Редко | T34: Редко | U34: Часто | V34: Часто
A35: 43958.813 | B35: Ж | C35: 28 | D35: Крайне редко, в исключительных случаях | E35: Отвечаю на сообщения в мессенджерах, Играю в игры, Смотрю видео или слушаю аудиозапись | F35: 5 | G35: 5 | H35: 4 | I35: 5 | J35: 2 | K35: Я вполне продуктивно продвигаюсь к своим долгосрочным целям. Завалы если и случаются, то не часто | L35: Я вполне продуктивно продвигаюсь к своим долгосрочным целям. Завалы если и случаются, то не часто | M35: Редко | N35: Редко | O35: Иногда | P35: Иногда | Q35: Иногда | R35: Иногда | S35: Редко | T35: Иногда | U35: Редко | V35: Редко
A36: 43958.814 | B36: Ж | C36: 33 | D36: Крайне редко, в исключительных случаях | E36: Отвечаю на входящие звонки | F36: 3 | G36: 4 | H36: 3 | I36: 3 | J36: 1 | K36: Я успеваю разобраться с необходимой текучкой, и даже изредка могу посвящать силы долгосрочным планам | L36: Я едва-едва успеваю выполнить необходимую текучку, но на долгосрочные планы не остается сил | M36: Практичеки всегда | N36: Часто | O36: Часто | P36: Иногда | Q36: Часто | R36: Иногда | S36: Иногда | T36: Иногда | U36: Часто | V36: Редко
A37: 43958.814 | B37: Ж | C37: 28 | D37: Ну... иногда бывает... | E37: Тупо скролю новости / социалки, Играю в игры | F37: 6 | G37: 5 | H37: 6 | I37: 5 | J37: 5 | K37: Я успеваю разобраться с необходимой текучкой, и даже изредка могу посвящать силы долгосрочным планам | L37: Я успеваю разобраться с необходимой текучкой, и даже изредка могу посвящать силы долгосрочным планам | M37: Часто | N37: Часто | O37: Иногда | P37: Редко | Q37: Иногда | R37: Редко | S37: Редко | T37: Иногда | U37: Редко | V37: Часто
A38: 43958.814 | B38: М | C38: 24 | D38: Очень часто | E38: Тупо скролю новости / социалки | F38: 5 | G38: 5 | H38: 6 | I38: 6 | J38: 6 | K38: Я успеваю разобраться с необходимой текучкой, и даже изредка могу посвящать силы долгосрочным планам | L38: Я вполне продуктивно продвигаюсь к своим долгосрочным целям. Завалы если и случаются, то не часто | M38: Иногда | N38: Редко | O38: Иногда | P38: Иногда | Q38: Редко | R38: Иногда | S38: Редко | T38: Редко | U38: Практически никогда | V38: Часто
A39: 43958.814 | B39: М | C39: 29 | D39: Никогда так не делаю | F39: 3 | G39: 5 | H39: 2 | I39: 4 | J39: 2 | K39: Я успеваю разобраться с необходимой текучкой, и даже изредка могу посвящать силы долгосрочным планам | L39: Я успеваю разобраться с необходимой текучкой, и даже изредка могу посвящать силы долгосрочным планам | M39: Часто | N39: Иногда | O39: Редко | P39: Редко | Q39: Часто | R39: Практичеки всегда | S39: Часто | T39: Иногда | U39: Иногда | V39: Иногда
A40: 43958.815 | B40: М | C40: 35 | D40: Не всегда, но часто | E40: Тупо скролю новости / социалки | F40: 6 | G40: 6 | H40: 6 | I40: 5 | J40: 3 | K40: Я вполне продуктивно продвигаюсь к своим долгосрочным целям. Завалы если и случаются, то не часто | L40: Я вполне продуктивно продвигаюсь к своим долгосрочным целям. Завалы если и случаются, то не часто | M40: Редко | N40: Иногда | O40: Редко | P40: Часто | Q40: Редко | R40: Редко | S40: Иногда | T40: Иногда | U40: Часто | V40: Часто
A41: 43958.815 | B41: М | C41: 26 | D41: Очень часто | E41: Отвечаю на сообщения в мессенджерах, Тупо скролю новости / социалки | F41: 3 | G41: 4 | H41: 5 | I41: 3 | J41: 2 | K41: Я едва-едва успеваю выполнить необходимую текучку, но на долгосрочные планы не остается сил | L41: Я едва-едва успеваю выполнить необходимую текучку, но на долгосрочные планы не остается сил | M41: Часто | N41: Часто | O41: Практичеки всегда | P41: Редко | Q41: Часто | R41: Часто | S41: Иногда | T41: Иногда | U41: Иногда | V41: Редко
A42: 43958.815 | B42: М | C42: 49 | D42: Не всегда, но часто | E42: Тупо скролю новости / социалки | F42: 6 | G42: 6 | H42: 6 | I42: 6 | J42: 5 | K42: Я едва-едва успеваю выполнить необходимую текучку, но на долгосрочные планы не остается сил | L42: Я успеваю разобраться с необходимой текучкой, и даже изредка могу посвящать силы долгосрочным планам | M42: Иногда | N42: Практически никогда | O42: Практически никогда | P42: Часто | Q42: Практически никогда | R42: Иногда | S42: Редко | T42: Практически никогда | U42: Практически никогда | V42: Часто
A43: 43958.815 | B43: М | C43: 37 | D43: Очень часто | E43: Отвечаю на сообщения в мессенджерах, Тупо скролю новости / социалки, Играю в игры, Отдыхаю в каком-то приложении / интернет-ресурсе | F43: 3 | G43: 4 | H43: 5 | I43: 6 | J43: 1 | K43: Я вполне продуктивно продвигаюсь к своим долгосрочным целям. Завалы если и случаются, то не часто | L43: Все происходит легко и естественно и временами мне кажется, что редко бывает лучше | M43: Иногда | N43: Редко | O43: Иногда | P43: Редко | Q43: Иногда | R43: Практичеки всегда | S43: Часто | T43: Часто | U43: Практичеки всегда | V43: Часто
A44: 43958.816 | B44: Ж | C44: 28 | D44: Очень часто | E44: Отдыхаю в каком-то приложении / интернет-ресурсе, читаю | F44: 5 | G44: 5 | H44: 5 | I44: 3 | J44: 4 | K44: Я успеваю разобраться с необходимой текучкой, и даже изредка могу посвящать силы долгосрочным планам | L44: Я успеваю разобраться с необходимой текучкой, и даже изредка могу посвящать силы долгосрочным планам | M44: Часто | N44: Часто | O44: Иногда | P44: Часто | Q44: Иногда | R44: Часто | S44: Редко | T44: Иногда | U44: Редко | V44: Часто
A45: 43958.816 | B45: Ж | C45: 39 | D45: Ну... иногда бывает... | E45: Отвечаю на сообщения в мессенджерах, Тупо скролю новости / социалки, Играю в игры | F45: 5 | G45: 4 | H45: 6 | I45: 5 | J45: 6 | K45: Я вполне продуктивно продвигаюсь к своим долгосрочным целям. Завалы если и случаются, то не часто | L45: Я вполне продуктивно продвигаюсь к своим долгосрочным целям. Завалы если и случаются, то не часто | M45: Часто | N45: Иногда | O45: Практически никогда | P45: Часто | Q45: Редко | R45: Иногда | S45: Редко | T45: Редко | U45: Иногда | V45: Практичеки всегда
A46: 43958.816 | B46: М | C46: 30 | D46: Не всегда, но часто | E46: Тупо скролю новости / социалки, pornhub | F46: 5 | G46: 5 | H46: 6 | I46: 4 | J46: 5 | K46: Я успеваю разобраться с необходимой текучкой, и даже изредка могу посвящать силы долгосрочным планам | L46: Я успеваю разобраться с необходимой текучкой, и даже изредка могу посвящать силы долгосрочным планам | M46: Часто | N46: Иногда | O46: Редко | P46: Редко | Q46: Иногда | R46: Редко | S46: Практически никогда | T46: Иногда | U46: Часто | V46: Иногда
A47: 43958.816 | B47: Ж | C47: 32 | D47: Очень часто | E47: Отвечаю на сообщения в мессенджерах, Тупо скролю новости / социалки | F47: 3 | G47: 3 | H47: 4 | I47: 3 | J47: 3 | K47: Я успеваю разобраться с необходимой текучкой, и даже изредка могу посвящать силы долгосрочным планам | L47: Все происходит легко и естественно и временами мне кажется, что редко бывает лучше | M47: Редко | N47: Иногда | O47: Часто | P47: Часто | Q47: Часто | R47: Часто | S47: Иногда | T47: Практичеки всегда | U47: Редко | V47: Иногда
A48: 43958.816 | B48: М | C48: 32 | D48: Крайне редко, в исключительных случаях | E48: Играю в игры | F48: 3 | G48: 4 | H48: 5 | I48: 2 | J48: 5 | K48: Я успеваю разобраться с необходимой текучкой, и даже изредка могу посвящать силы долгосрочным планам | L48: Я едва-едва успеваю выполнить необходимую текучку, но на долгосрочные планы не остается сил | M48: Редко | N48: Практически никогда | O48: Часто | P48: Часто | Q48: Часто | R48: Иногда | S48: Редко | T48: Редко | U48: Редко | V48: Часто
A49: 43958.816 | B49: М | C49: 23 | D49: Очень часто | E49: Тупо скролю новости / социалки | F49: 2 | G49: 2 | H49: 4 | I49: 4 | J49: 2 | K49: Я вполне продуктивно продвигаюсь к своим долгосрочным целям. Завалы если и случаются, то не часто | L49: Я успеваю разобраться с необходимой текучкой, и даже изредка могу посвящать силы долгосрочным планам | M49: Часто | N49: Иногда | O49: Иногда | P49: Редко | Q49: Часто | R49: Часто | S49: Иногда | T49: Иногда | U49: Иногда | V49: Иногда
A50: 43958.816 | B50: М | C50: 27 | D50: Очень часто | E50: Отвечаю на сообщения в мессенджерах, Тупо скролю новости / социалки, Отдыхаю в каком-то приложении / интернет-ресурсе | F50: 5 | G50: 4 | H50: 5 | I50: 6 | J50: 2 | K50: Я вполне продуктивно продвигаюсь к своим долгосрочным целям. Завалы если и случаются, то не часто | L50: Я успеваю разобраться с необходимой текучкой, и даже изредка могу посвящать силы долгосрочным планам | M50: Часто | N50: Иногда | O50: Иногда | P50: Редко | Q50: Иногда | R50: Редко | S50: Редко | T50: Иногда | U50: Иногда | V50: Часто
A51: 43958.816 | B51: Ж | C51: 23 | D51: Очень часто | E51: Отвечаю на сообщения в мессенджерах, Тупо скролю новости / социалки, Играю в игры, Отдыхаю в каком-то приложении / интернет-ресурсе | F51: 4 | G51: 3 | H51: 5 | I51: 4 | J51: 2 | K51: Я едва-едва успеваю выполнить необходимую текучку, но на долгосрочные планы не остается сил | L51: Я успеваю разобраться с необходимой текучкой, и даже изредка могу посвящать силы долгосрочным планам | M51: Часто | N51: Часто | O51: Часто | P51: Иногда | Q51: Иногда | R51: Практичеки всегда | S51: Часто | T51: Часто | U51: Часто | V51: Иногда
A52: 43958.816 | B52: М | C52: 30 | D52: Очень часто | E52: Отвечаю на входящие звонки, Отвечаю на сообщения в мессенджерах, Отвечаю на почту, Тупо скролю новости / социалки, Играю в игры, Отдыхаю в каком-то приложении / интернет-ресурсе, Совершаю покупки в интернет-магазине, ВСЁ | F52: 7 | G52: 7 | H52: 7 | I52: 7 | J52: 7 | K52: Я успеваю разобраться с необходимой текучкой, и даже изредка могу посвящать силы долгосрочным планам | L52: Я вполне продуктивно продвигаюсь к своим долгосрочным целям. Завалы если и случаются, то не часто | M52: Редко | N52: Практически никогда | O52: Иногда | P52: Практичеки всегда | Q52: Практически никогда | R52: Редко | S52: Редко | T52: Редко | U52: Иногда | V52: Часто
A53: 43958.817 | B53: М | C53: 37 | D53: Никогда так не делаю | F53: 5 | G53: 5 | H53: 6 | I53: 5 | J53: 3 | K53: Я вполне продуктивно продвигаюсь к своим долгосрочным целям. Завалы если и случаются, то не часто | L53: Я вполне продуктивно продвигаюсь к своим долгосрочным целям. Завалы если и случаются, то не часто | M53: Редко | N53: Редко | O53: Редко | P53: Практичеки всегда | Q53: Практически никогда | R53: Иногда | S53: Практически никогда | T53: Редко | U53: Практически никогда | V53: Практичеки всегда
A54: 43958.817 | B54: М | C54: 31 | D54: Очень часто | E54: Отвечаю на сообщения в мессенджерах, Отвечаю на почту, Тупо скролю новости / социалки, Играю в игры, Отдыхаю в каком-то приложении / интернет-ресурсе, Совершаю покупки в интернет-магазине | F54: 4 | G54: 4 | H54: 4 | I54: 3 | J54: 3 | K54: Я вполне продуктивно продвигаюсь к своим долгосрочным целям. Завалы если и случаются, то не часто | L54: Я вполне продуктивно продвигаюсь к своим долгосрочным целям. Завалы если и случаются, то не часто | M54: Иногда | N54: Редко | O54: Практически никогда | P54: Иногда | Q54: Редко | R54: Редко | S54: Практически никогда | T54: Редко | U54: Практически никогда | V54: Практичеки всегда
A55: 43958.817 | B55: М | C55: 34 | D55: Ну... иногда бывает... | E55: Тупо скролю новости / социалки, Отдыхаю в каком-то приложении / интернет-ресурсе | F55: 7 | G55: 7 | H55: 7 | I55: 7 | J55: 7 | K55: Я успеваю разобраться с необходимой текучкой, и даже изредка могу посвящать силы долгосрочным планам | L55: Я успеваю разобраться с необходимой текучкой, и даже изредка могу посвящать силы долгосрочным планам | M55: Редко | N55: Иногда | O55: Редко | P55: Часто | Q55: Практически никогда | R55: Практически никогда | S55: Практически никогда | T55: Практически никогда | U55: Практически никогда | V55: Часто
A56: 43958.818 | B56: М | C56: 37 | D56: Очень часто | E56: Отвечаю на сообщения в мессенджерах, Отвечаю на почту, Тупо скролю новости / социалки, Отдыхаю в каком-то приложении / интернет-ресурсе | F56: 3 | G56: 4 | H56: 2 | I56: 5 | J56: 3 | K56: Я едва-едва успеваю выполнить необходимую текучку, но на долгосрочные планы не остается сил | L56: Я едва-едва успеваю выполнить необходимую текучку, но на долгосрочные планы не остается сил | M56: Часто | N56: Иногда | O56: Иногда | P56: Иногда | Q56: Часто | R56: Практичеки всегда | S56: Иногда | T56: Иногда | U56: Редко | V56: Часто
A57: 43958.818 | B57: М | C57: 34 | D57: Очень часто | E57: Тупо скролю новости / социалки | F57: 4 | G57: 3 | H57: 5 | I57: 2 | J57: 4 | K57: Я успеваю разобраться с необходимой текучкой, и даже изредка могу посвящать силы долгосрочным планам | L57: Я успеваю разобраться с необходимой текучкой, и даже изредка могу посвящать силы долгосрочным планам | M57: Иногда | N57: Редко | O57: Редко | P57: Иногда | Q57: Иногда | R57: Иногда | S57: Иногда | T57: Иногда | U57: Иногда | V57: Иногда
A58: 43958.818 | B58: М | C58: 29 | D58: Очень часто | E58: Тупо скролю новости / социалки, Играю в игры, Отдыхаю в каком-то приложении / интернет-ресурсе | F58: 3 | G58: 2 | H58: 3 | I58: 2 | J58: 7 | K58: Я успеваю разобраться с необходимой текучкой, и даже изредка могу посвящать силы долгосрочным планам | L58: Я едва-едва успеваю выполнить необходимую текучку, но на долгосрочные планы не остается сил | M58: Иногда | N58: Иногда | O58: Часто | P58: Иногда | Q58: Иногда | R58: Часто | S58: Редко | T58: Редко | U58: Редко | V58: Иногда
A59: 43958.818 | B59: Ж | C59: 40 | D59: Очень часто | E59: Отвечаю на сообщения в мессенджерах, Тупо скролю новости / социалки | F59: 3 | G59: 3 | H59: 4 | I59: 4 | J59: 4 | K59: Я успеваю разобраться с необходимой текучкой, и даже изредка могу посвящать силы долгосрочным планам | L59: Я успеваю разобраться с необходимой текучкой, и даже изредка могу посвящать силы долгосрочным планам | M59: Часто | N59: Часто | O59: Часто | P59: Иногда | Q59: Иногда | R59: Часто | S59: Редко | T59: Иногда | U59: Редко | V59: Иногда
A60: 43958.818 | B60: М | C60: 24 | D60: Очень часто | E60: Отвечаю на сообщения в мессенджерах, Отвечаю на почту, Тупо скролю новости / социалки | F60: 5 | G60: 5 | H60: 5 | I60: 5 | J60: 3 | K60: Я едва-едва успеваю выполнить необходимую текучку, но на долгосрочные планы не остается сил | L60: Я успеваю разобраться с необходимой текучкой, и даже изредка могу посвящать силы долгосрочным планам | M60: Практичеки всегда | N60: Практичеки всегда | O60: Часто | P60: Иногда | Q60: Часто | R60: Часто | S60: Часто | T60: Часто | U60: Часто | V60: Часто
A61: 43958.819 | B61: Ж | C61: 36 | D61: Никогда так не делаю | F61: 5 | G61: 5 | H61: 6 | I61: 6 | J61: 6 | K61: Я едва-едва успеваю выполнить необходимую текучку, но на долгосрочные планы не остается сил | L61: Я успеваю разобраться с необходимой текучкой, и даже изредка могу посвящать силы долгосрочным планам | M61: Часто | N61: Иногда | O61: Иногда | P61: Часто | Q61: Редко | R61: Иногда | S61: Иногда | T61: Практически никогда | U61: Часто | V61: Часто
A62: 43958.819 | B62: Ж | C62: 34 | D62: Крайне редко, в исключительных случаях | E62: Отвечаю на сообщения в мессенджерах | F62: 7 | G62: 7 | H62: 7 | I62: 6 | J62: 6 | K62: Я успеваю разобраться с необходимой текучкой, и даже изредка могу посвящать силы долгосрочным планам | L62: Я вполне продуктивно продвигаюсь к своим долгосрочным целям. Завалы если и случаются, то не часто | M62: Часто | N62: Иногда | O62: Редко | P62: Практичеки всегда | Q62: Иногда | R62: Редко | S62: Практически никогда | T62: Иногда | U62: Практически никогда | V62: Часто
A63: 43958.82 | B63: Ж | C63: 42 | D63: Очень часто | E63: Тупо скролю новости / социалки | F63: 4 | G63: 5 | H63: 4 | I63: 4 | J63: 5 | K63: Я едва-едва успеваю выполнить необходимую текучку, но на долгосрочные планы не остается сил | L63: Я успеваю разобраться с необходимой текучкой, и даже изредка могу посвящать силы долгосрочным планам | M63: Иногда | N63: Редко | O63: Иногда | P63: Часто | Q63: Редко | R63: Часто | S63: Иногда | T63: Часто | U63: Часто | V63: Часто
A64: 43958.82 | B64: М | C64: 32 | D64: Не всегда, но часто | E64: Отвечаю на сообщения в мессенджерах, Тупо скролю новости / социалки | F64: 3 | G64: 3 | H64: 4 | I64: 4 | J64: 6 | K64: Я успеваю разобраться с необходимой текучкой, и даже изредка могу посвящать силы долгосрочным планам | L64: Я успеваю разобраться с необходимой текучкой, и даже изредка могу посвящать силы долгосрочным планам | M64: Редко | N64: Иногда | O64: Часто | P64: Иногда | Q64: Иногда | R64: Иногда | S64: Иногда | T64: Редко | U64: Редко | V64: Редко
A65: 43958.821 | B65: Ж | C65: 45 | D65: Не всегда, но часто | E65: Отвечаю на сообщения в мессенджерах, Тупо скролю новости / социалки, Играю в игры | F65: 2 | G65: 3 | H65: 2 | I65: 4 | J65: 3 | K65: Я успеваю разобраться с необходимой текучкой, и даже изредка могу посвящать силы долгосрочным планам | L65: Я успеваю разобраться с необходимой текучкой, и даже изредка могу посвящать силы долгосрочным планам | M65: Часто | N65: Часто | O65: Иногда | P65: Иногда | Q65: Иногда | R65: Практически никогда | S65: Иногда | T65: Иногда | U65: Часто | V65: Редко
A66: 43958.821 | B66: М | C66: 26 | D66: Не всегда, но часто | E66: Отвечаю на сообщения в мессенджерах, Тупо скролю новости / социалки | F66: 5 | G66: 4 | H66: 4 | I66: 3 | J66: 3 | K66: Я успеваю разобраться с необходимой текучкой, и даже изредка могу посвящать силы долгосрочным планам | L66: Я успеваю разобраться с необходимой текучкой, и даже изредка могу посвящать силы долгосрочным планам | M66: Редко | N66: Редко | O66: Иногда | P66: Практичеки всегда | Q66: Практически никогда | R66: Иногда | S66: Редко | T66: Редко | U66: Иногда | V66: Часто
A67: 43958.821 | B67: М | C67: 27 | D67: Не всегда, но часто | E67: Отвечаю на сообщения в мессенджерах, Тупо скролю новости / социалки | F67: 4 | G67: 5 | H67: 5 | I67: 4 | J67: 4 | K67: Я успеваю разобраться с необходимой текучкой, и даже изредка могу посвящать силы долгосрочным планам | L67: Я успеваю разобраться с необходимой текучкой, и даже изредка могу посвящать силы долгосрочным планам | M67: Часто | N67: Иногда | O67: Редко | P67: Часто | Q67: Практически никогда | R67: Редко | S67: Иногда | T67: Иногда | U67: Редко | V67: Часто
A68: 43958.822 | B68: М | C68: 34 | D68: Очень часто | E68: Youtube | F68: 5 | G68: 6 | H68: 4 | I68: 5 | J68: 5 | K68: Я успеваю разобраться с необходимой текучкой, и даже изредка могу посвящать силы долгосрочным планам | L68: Я успеваю разобраться с необходимой текучкой, и даже изредка могу посвящать силы долгосрочным планам | M68: Иногда | N68: Редко | O68: Часто | P68: Иногда | Q68: Редко | R68: Практичеки всегда | S68: Редко | T68: Часто | U68: Редко | V68: Часто
A69: 43958.822 | B69: М | C69: 40 | D69: Ну... иногда бывает... | E69: Отвечаю на сообщения в мессенджерах, Тупо скролю новости / социалки, Отдыхаю в каком-то приложении / интернет-ресурсе | F69: 5 | G69: 5 | H69: 6 | I69: 5 | J69: 4 | K69: Я вполне продуктивно продвигаюсь к своим долгосрочным целям. Завалы если и случаются, то не часто | L69: Я вполне продуктивно продвигаюсь к своим долгосрочным целям. Завалы если и случаются, то не часто | M69: Редко | N69: Иногда | O69: Редко | P69: Часто | Q69: Редко | R69: Иногда | S69: Редко | T69: Иногда | U69: Редко | V69: Часто
A70: 43958.822 | B70: Ж | C70: 33 | D70: Очень часто | E70: Тупо скролю новости / социалки | F70: 4 | G70: 5 | H70: 3 | I70: 4 | J70: 3 | K70: Я успеваю разобраться с необходимой текучкой, и даже изредка могу посвящать силы долгосрочным планам | L70: Я успеваю разобраться с необходимой текучкой, и даже изредка могу посвящать силы долгосрочным планам | M70: Иногда | N70: Иногда | O70: Иногда | P70: Часто | Q70: Редко | R70: Иногда | S70: Иногда | T70: Иногда | U70: Часто | V70: Часто
A71: 43958.822 | B71: М | C71: 27 | D71: Не всегда, но часто | E71: Тупо скролю новости / социалки | F71: 3 | G71: 3 | H71: 3 | I71: 3 | J71: 2 | K71: Я едва-едва успеваю выполнить необходимую текучку, но на долгосрочные планы не остается сил | L71: Я успеваю разобраться с необходимой текучкой, и даже изредка могу посвящать силы долгосрочным планам | M71: Часто | N71: Редко | O71: Иногда | P71: Иногда | Q71: Иногда | R71: Часто | S71: Практически никогда | T71: Иногда | U71: Практически никогда | V71: Редко
A72: 43958.823 | B72: Ж | C72: 20 | D72: Очень часто | E72: Отвечаю на входящие звонки, Отвечаю на сообщения в мессенджерах, Отвечаю на почту, Тупо скролю новости / социалки, Играю в игры, Отдыхаю в каком-то приложении / интернет-ресурсе, Совершаю покупки в интернет-магазине | F72: 6 | G72: 6 | H72: 6 | I72: 7 | J72: 6 | K72: Я вполне продуктивно продвигаюсь к своим долгосрочным целям. Завалы если и случаются, то не часто | L72: Я вполне продуктивно продвигаюсь к своим долгосрочным целям. Завалы если и случаются, то не часто | M72: Редко | N72: Практически никогда | O72: Редко | P72: Часто | Q72: Иногда | R72: Иногда | S72: Редко | T72: Часто | U72: Редко | V72: Часто
A73: 43958.823 | B73: М | C73: 31 | D73: Не всегда, но часто | E73: Тупо скролю новости / социалки | F73: 3 | G73: 6 | H73: 5 | I73: 5 | J73: 6 | K73: Я едва-едва успеваю выполнить необходимую текучку, но на долгосрочные планы не остается сил | L73: Я едва-едва успеваю выполнить необходимую текучку, но на долгосрочные планы не остается сил | M73: Практичеки всегда | N73: Практичеки всегда | O73: Практичеки всегда | P73: Иногда | Q73: Часто | R73: Часто | S73: Иногда | T73: Иногда | U73: Иногда | V73: Редко
A74: 43958.823 | B74: Ж | C74: 42 | D74: Никогда так не делаю | F74: 5 | G74: 5 | H74: 5 | I74: 5 | J74: 4 | K74: Я успеваю разобраться с необходимой текучкой, и даже изредка могу посвящать силы долгосрочным планам | L74: Я успеваю разобраться с необходимой текучкой, и даже изредка могу посвящать силы долгосрочным планам | M74: Часто | N74: Часто | O74: Иногда | P74: Редко | Q74: Иногда | R74: Часто | S74: Иногда | T74: Иногда | U74: Иногда | V74: Часто
A75: 43958.824 | B75: Ж | C75: 29 | D75: Не всегда, но часто | E75: Отвечаю на сообщения в мессенджерах, Тупо скролю новости / социалки | F75: 7 | G75: 7 | H75: 7 | I75: 7 | J75: 7 | K75: Я успеваю разобраться с необходимой текучкой, и даже изредка могу посвящать силы долгосрочным планам | L75: Я едва-едва успеваю выполнить необходимую текучку, но на долгосрочные планы не остается сил | M75: Иногда | N75: Иногда | O75: Иногда | P75: Часто | Q75: Редко | R75: Часто | S75: Редко | T75: Часто | U75: Часто | V75: Часто
A76: 43958.824 | B76: М | C76: 33 | D76: Очень часто | E76: Тупо скролю новости / социалки | F76: 1 | G76: 1 | H76: 1 | I76: 1 | J76: 1 | K76: Я успеваю разобраться с необходимой текучкой, и даже изредка могу посвящать силы долгосрочным планам | L76: Я едва-едва успеваю выполнить необходимую текучку, но на долгосрочные планы не остается сил | M76: Практичеки всегда | N76: Практичеки всегда | O76: Часто | P76: Часто | Q76: Часто | R76: Часто | S76: Часто | T76: Часто | U76: Часто | V76: Часто
A77: 43958.825 | B77: Ж | C77: 27 | D77: Очень часто | E77: Отвечаю на сообщения в мессенджерах, Тупо скролю новости / социалки, Играю в игры, Отдыхаю в каком-то приложении / интернет-ресурсе | F77: 5 | G77: 5 | H77: 4 | I77: 3 | J77: 1 | K77: Я вполне продуктивно продвигаюсь к своим долгосрочным целям. Завалы если и случаются, то не часто | L77: Я успеваю разобраться с необходимой текучкой, и даже изредка могу посвящать силы долгосрочным планам | M77: Практичеки всегда | N77: Часто | O77: Часто | P77: Редко | Q77: Иногда | R77: Часто | S77: Часто | T77: Иногда | U77: Часто | V77: Практичеки всегда
A78: 43958.825 | B78: Ж | C78: 40 | D78: Очень часто | E78: Тупо скролю новости / социалки, Совершаю покупки в интернет-магазине | F78: 1 | G78: 3 | H78: 1 | I78: 3 | J78: 1 | K78: Я едва-едва успеваю выполнить необходимую текучку, но на долгосрочные планы не остается сил | L78: Я едва-едва успеваю выполнить необходимую текучку, но на долгосрочные планы не остается сил | M78: Часто | N78: Часто | O78: Часто | P78: Практически никогда | Q78: Часто | R78: Практичеки всегда | S78: Практичеки всегда | T78: Практичеки всегда | U78: Практичеки всегда | V78: Редко
A79: 43958.825 | B79: Ж | C79: 43 | D79: Очень часто | E79: Отвечаю на сообщения в мессенджерах, Отвечаю на почту, Тупо скролю новости / социалки, Играю в игры, Отдыхаю в каком-то приложении / интернет-ресурсе | F79: 3 | G79: 3 | H79: 5 | I79: 5 | J79: 2 | K79: Я успеваю разобраться с необходимой текучкой, и даже изредка могу посвящать силы долгосрочным планам | L79: Я успеваю разобраться с необходимой текучкой, и даже изредка могу посвящать силы долгосрочным планам | M79: Редко | N79: Редко | O79: Часто | P79: Часто | Q79: Практически никогда | R79: Практичеки всегда | S79: Иногда | T79: Иногда | U79: Редко | V79: Часто
A80: 43958.825 | B80: Ж | C80: 22 | D80: Не всегда, но часто | E80: Отвечаю на сообщения в мессенджерах, Тупо скролю новости / социалки, Отдыхаю в каком-то приложении / интернет-ресурсе | F80: 5 | G80: 5 | H80: 6 | I80: 5 | J80: 3 | K80: Я вполне продуктивно продвигаюсь к своим долгосрочным целям. Завалы если и случаются, то не часто | L80: Я вполне продуктивно продвигаюсь к своим долгосрочным целям. Завалы если и случаются, то не часто | M80: Часто | N80: Иногда | O80: Часто | P80: Часто | Q80: Редко | R80: Редко | S80: Иногда | T80: Часто | U80: Иногда | V80: Часто
A81: 43958.826 | B81: М | C81: 37 | D81: Крайне редко, в исключительных случаях | E81: Лежит рядом - на случай звонка или просто для контроля времени | F81: 3 | G81: 5 | H81: 3 | I81: 2 | J81: 4 | K81: Я успеваю разобраться с необходимой текучкой, и даже изредка могу посвящать силы долгосрочным планам | L81: Я успеваю разобраться с необходимой текучкой, и даже изредка могу посвящать силы долгосрочным планам | M81: Часто | N81: Иногда | O81: Практичеки всегда | P81: Часто | Q81: Практически никогда | R81: Иногда | S81: Практически никогда | T81: Иногда | U81: Редко | V81: Иногда
A82: 43958.826 | B82: М | C82: 33 | D82: Никогда так не делаю | F82: 5 | G82: 5 | H82: 5 | I82: 5 | J82: 3 | K82: Я вполне продуктивно продвигаюсь к своим долгосрочным целям. Завалы если и случаются, то не часто | L82: Я вполне продуктивно продвигаюсь к своим долгосрочным целям. Завалы если и случаются, то не часто | M82: Иногда | N82: Редко | O82: Иногда | P82: Часто | Q82: Редко | R82: Редко | S82: Практически никогда | T82: Практически никогда | U82: Практически никогда | V82: Практичеки всегда
A83: 43958.826 | B83: М | C83: 31 | D83: Очень часто | E83: смотрю ютубчик, проверяю телеграмчик(но это на минуту, там мало сообщений) | F83: 6 | G83: 6 | H83: 7 | I83: 5 | J83: 4 | K83: Я успеваю разобраться с необходимой текучкой, и даже изредка могу посвящать силы долгосрочным планам | L83: Я успеваю разобраться с необходимой текучкой, и даже изредка могу посвящать силы долгосрочным планам | M83: Редко | N83: Редко | O83: Редко | P83: Часто | Q83: Редко | R83: Редко | S83: Практически никогда | T83: Редко | U83: Редко | V83: Иногда
A84: 43958.826 | B84: М | C84: 40 | D84: Крайне редко, в исключительных случаях | E84: Отвечаю на входящие звонки, Отвечаю на сообщения в мессенджерах | F84: 6 | G84: 6 | H84: 6 | I84: 6 | J84: 4 | K84: Я вполне продуктивно продвигаюсь к своим долгосрочным целям. Завалы если и случаются, то не часто | L84: Я вполне продуктивно продвигаюсь к своим долгосрочным целям. Завалы если и случаются, то не часто | M84: Редко | N84: Редко | O84: Редко | P84: Часто | Q84: Редко | R84: Редко | S84: Практически никогда | T84: Редко | U84: Редко | V84: Часто
A85: 43958.827 | B85: М | C85: 36 | D85: Очень часто | E85: Тупо скролю новости / социалки, Играю в игры, Отдыхаю в каком-то приложении / интернет-ресурсе, читаю книги (можно отнести к отдыху, наверное) | F85: 4 | G85: 5 | H85: 5 | I85: 2 | J85: 1 | K85: Я едва-едва успеваю выполнить необходимую текучку, но на долгосрочные планы не остается сил | L85: Я успеваю разобраться с необходимой текучкой, и даже изредка могу посвящать силы долгосрочным планам | M85: Часто | N85: Часто | O85: Иногда | P85: Редко | Q85: Иногда | R85: Практичеки всегда | S85: Редко | T85: Часто | U85: Часто | V85: Часто
A86: 43958.827 | B86: М | C86: 27 | D86: Очень часто | E86: Тупо скролю новости / социалки | F86: 5 | G86: 7 | H86: 5 | I86: 3 | J86: 7 | K86: Я не успеваю выполнять даже необходимый минимум | L86: Я вполне продуктивно продвигаюсь к своим долгосрочным целям. Завалы если и случаются, то не часто | M86: Иногда | N86: Редко | O86: Часто | P86: Иногда | Q86: Практически никогда | R86: Часто | S86: Иногда | T86: Часто | U86: Редко | V86: Часто
A87: 43958.827 | B87: М | C87: 32 | D87: Ну... иногда бывает... | E87: Отвечаю на сообщения в мессенджерах, Тупо скролю новости / социалки, Отдыхаю в каком-то приложении / интернет-ресурсе | F87: 5 | G87: 6 | H87: 4 | I87: 3 | J87: 2 | K87: Я едва-едва успеваю выполнить необходимую текучку, но на долгосрочные планы не остается сил | L87: Я успеваю разобраться с необходимой текучкой, и даже изредка могу посвящать силы долгосрочным планам | M87: Часто | N87: Практичеки всегда | O87: Часто | P87: Иногда | Q87: Иногда | R87: Часто | S87: Иногда | T87: Редко | U87: Редко | V87: Редко
A88: 43958.828 | B88: М | D88: Ну... иногда бывает... | E88: Отвечаю на сообщения в мессенджерах, Тупо скролю новости / социалки | F88: 5 | G88: 5 | H88: 6 | I88: 5 | J88: 6 | K88: Я вполне продуктивно продвигаюсь к своим долгосрочным целям. Завалы если и случаются, то не часто | L88: Я вполне продуктивно продвигаюсь к своим долгосрочным целям. Завалы если и случаются, то не часто | M88: Редко | N88: Редко | O88: Редко | P88: Часто | Q88: Редко | R88: Редко | S88: Редко | T88: Практически никогда | U88: Практически никогда | V88: Часто
A89: 43958.828 | B89: М | C89: 35 | D89: Не всегда, но часто | E89: Тупо скролю новости / социалки, Отдыхаю в каком-то приложении / интернет-ресурсе | F89: 4 | G89: 4 | H89: 4 | I89: 4 | J89: 4 | K89: Я успеваю разобраться с необходимой текучкой, и даже изредка могу посвящать силы долгосрочным планам | L89: Я успеваю разобраться с необходимой текучкой, и даже изредка могу посвящать силы долгосрочным планам | M89: Часто | N89: Часто | O89: Иногда | P89: Иногда | Q89: Часто | R89: Иногда | S89: Иногда | T89: Иногда | U89: Редко | V89: Редко
A90: 43958.828 | B90: М | C90: 31 | D90: Ну... иногда бывает... | E90: Тупо скролю новости / социалки | F90: 5 | G90: 6 | H90: 5 | I90: 6 | J90: 3 | K90: Я вполне продуктивно продвигаюсь к своим долгосрочным целям. Завалы если и случаются, то не часто | L90: Я успеваю разобраться с необходимой текучкой, и даже изредка могу посвящать силы долгосрочным планам | M90: Часто | N90: Иногда | O90: Иногда | P90: Часто | Q90: Практически никогда | R90: Редко | S90: Редко | T90: Практически никогда | U90: Иногда | V90: Редко
A91: 43958.829 | B91: М | C91: 34 | D91: Не всегда, но часто | E91: Тупо скролю новости / социалки, Совершаю покупки в интернет-магазине | F91: 3 | G91: 2 | H91: 1 | I91: 3 | J91: 1 | K91: Я едва-едва успеваю выполнить необходимую текучку, но на долгосрочные планы не остается сил | L91: Я вполне продуктивно продвигаюсь к своим долгосрочным целям. Завалы если и случаются, то не часто | M91: Часто | N91: Часто | O91: Часто | P91: Иногда | Q91: Часто | R91: Практичеки всегда | S91: Иногда | T91: Часто | U91: Часто | V91: Иногда
A92: 43958.83 | B92: Ж | C92: 29 | D92: Очень часто | E92: Отвечаю на сообщения в мессенджерах, Тупо скролю новости / социалки, Отдыхаю в каком-то приложении / интернет-ресурсе | F92: 5 | G92: 6 | H92: 5 | I92: 6 | J92: 5 | K92: Я успеваю разобраться с необходимой текучкой, и даже изредка могу посвящать силы долгосрочным планам | L92: Я вполне продуктивно продвигаюсь к своим долгосрочным целям. Завалы если и случаются, то не часто | M92: Иногда | N92: Часто | O92: Иногда | P92: Редко | Q92: Иногда | R92: Часто | S92: Иногда | T92: Иногда | U92: Часто | V92: Часто
A93: 43958.83 | B93: Ж | C93: 35 | D93: Не всегда, но часто | E93: Отвечаю на сообщения в мессенджерах, Тупо скролю новости / социалки, Играю в игры | F93: 5 | G93: 6 | H93: 6 | I93: 5 | J93: 4 | K93: Я вполне продуктивно продвигаюсь к своим долгосрочным целям. Завалы если и случаются, то не часто | L93: Я успеваю разобраться с необходимой текучкой, и даже изредка могу посвящать силы долгосрочным планам | M93: Часто | N93: Часто | O93: Иногда | P93: Иногда | Q93: Иногда | R93: Часто | S93: Редко | T93: Часто | U93: Часто | V93: Часто
A94: 43958.831 | B94: М | C94: 23 | D94: Очень часто | E94: Отвечаю на входящие звонки, Отвечаю на сообщения в мессенджерах, Отвечаю на почту, Тупо скролю новости / социалки, Отдыхаю в каком-то приложении / интернет-ресурсе, Совершаю покупки в интернет-магазине | F94: 4 | G94: 6 | H94: 5 | I94: 5 | J94: 6 | K94: Я успеваю разобраться с необходимой текучкой, и даже изредка могу посвящать силы долгосрочным планам | L94: Я вполне продуктивно продвигаюсь к своим долгосрочным целям. Завалы если и случаются, то не часто | M94: Иногда | N94: Редко | O94: Часто | P94: Практичеки всегда | Q94: Редко | R94: Часто | S94: Практически никогда | T94: Редко | U94: Редко | V94: Часто
A95: 43958.831 | B95: М | C95: 30 | D95: Очень часто | E95: Отвечаю на сообщения в мессенджерах, Тупо скролю новости / социалки | F95: 5 | G95: 6 | H95: 6 | I95: 6 | J95: 5 | K95: Я успеваю разобраться с необходимой текучкой, и даже изредка могу посвящать силы долгосрочным планам | L95: Я вполне продуктивно продвигаюсь к своим долгосрочным целям. Завалы если и случаются, то не часто | M95: Иногда | N95: Иногда | O95: Редко | P95: Иногда | Q95: Редко | R95: Практичеки всегда | S95: Иногда | T95: Практичеки всегда | U95: Иногда | V95: Часто
A96: 43958.831 | B96: Ж | C96: 34 | D96: Очень часто | E96: Отвечаю на сообщения в мессенджерах, Тупо скролю новости / социалки, Совершаю покупки в интернет-магазине | F96: 6 | G96: 5 | H96: 6 | I96: 5 | J96: 5 | K96: Я успеваю разобраться с необходимой текучкой, и даже изредка могу посвящать силы долгосрочным планам | L96: Я вполне продуктивно продвигаюсь к своим долгосрочным целям. Завалы если и случаются, то не часто | M96: Часто | N96: Часто | O96: Редко | P96: Иногда | Q96: Практически никогда | R96: Редко | S96: Редко | T96: Редко | U96: Редко | V96: Часто
A97: 43958.831 | B97: М | C97: 34 | D97: Очень часто | E97: Отвечаю на сообщения в мессенджерах, Тупо скролю новости / социалки | F97: 6 | G97: 6 | H97: 5 | I97: 7 | J97: 4 | K97: Я вполне продуктивно продвигаюсь к своим долгосрочным целям. Завалы если и случаются, то не часто | L97: Я успеваю разобраться с необходимой текучкой, и даже изредка могу посвящать силы долгосрочным планам | M97: Редко | N97: Редко | O97: Часто | P97: Часто | Q97: Практически никогда | R97: Редко | S97: Редко | T97: Иногда | U97: Практически никогда | V97: Иногда
A98: 43958.832 | B98: Ж | C98: 22 | D98: Очень часто | E98: Тупо скролю новости / социалки | F98: 2 | G98: 3 | H98: 2 | I98: 2 | J98: 1 | K98: Я едва-едва успеваю выполнить необходимую текучку, но на долгосрочные планы не остается сил | L98: Я не успеваю выполнять даже необходимый минимум | M98: Практичеки всегда | N98: Практичеки всегда | O98: Практичеки всегда | P98: Часто | Q98: Практичеки всегда | R98: Практичеки всегда | S98: Практичеки всегда | T98: Часто | U98: Практичеки всегда | V98: Практически никогда
A99: 43958.832 | B99: М | C99: 44 | D99: Очень часто | E99: Тупо скролю новости / социалки | F99: 2 | G99: 5 | H99: 2 | I99: 2 | J99: 2 | K99: Я не успеваю выполнять даже необходимый минимум | L99: Я успеваю разобраться с необходимой текучкой, и даже изредка могу посвящать силы долгосрочным планам | M99: Иногда | N99: Редко | O99: Иногда | P99: Иногда | Q99: Редко | R99: Часто | S99: Редко | T99: Часто | U99: Практически никогда | V99: Часто
A100: 43958.832 | B100: Ж | C100: 35 | D100: Ну... иногда бывает... | E100: Тупо скролю новости / социалки | F100: 4 | G100: 4 | H100: 4 | I100: 4 | J100: 3 | K100: Я успеваю разобраться с необходимой текучкой, и даже изредка могу посвящать силы долгосрочным планам | L100: Я успеваю разобраться с необходимой текучкой, и даже изредка могу посвящать силы долгосрочным планам | M100: Иногда | N100: Редко | O100: Часто | P100: Часто | Q100: Редко | R100: Часто | S100: Часто | T100: Иногда | U100: Редко | V100: Часто
...

Sheet Рабочий стол
A1: Ваш пол | B1: Сколько вам лет? | C1: Возраст | D1: Как часто вы используете смартфон в туалете? | E1: Отвечаю на входящие звонки | F1: Отвечаю на сообщения в мессенджерах | G1: Отвечаю на почту | H1: Тупо скролю новости / социалки | I1: Играю в игры | J1: Отдыхаю в каком-то приложении / интернет-ресурсе | K1: Совершаю покупки в интернет-магазине | L1: Дела в сортире | M1: SWLS | N1: Довольство жизнью | O1: Почти во всем моя жизнь соответствует моему идеалу | P1: Условия моей жизни превосходные | Q1: Я удовлетворен своей жизнью | R1: До настоящего момента из главного я получал всего, чего хотел в жизни | S1: Если бы я мог прожить свою жизнь еще раз, я бы почти ничего в ней не изменил | T1: Что лучше характеризует то, как вы справляетесь с делами в ЛИЧНОЙ жизни? | U1: Что лучше характеризует то, как вы справляетесь с делами по работе? | V1: FAS | W1: Усталость | X1: В какой степени утверждения ниже характеризуют ваше обычное состояние? [Меня беспокоит усталость] | Y1: В какой степени утверждения ниже характеризуют ваше обычное состояние? [Я очень быстро устаю] | Z1: В какой степени утверждения ниже характеризуют ваше обычное состояние? [Я успеваю сделать мало дел в течение дня] | AA1: В какой степени утверждения ниже характеризуют ваше обычное состояние? [У меня достаточно энергии для повседневной жизни] | AB1: В какой степени утверждения ниже характеризуют ваше обычное состояние? [Я чувствую физическое истощение] | AC1: В какой степени утверждения ниже характеризуют ваше обычное состояние? [Мне трудно начать что-нибудь делать] | AD1: В какой степени утверждения ниже характеризуют ваше обычное состояние? [Мне трудно думать четко и ясно] | AE1: В какой степени утверждения ниже характеризуют ваше обычное состояние? [У меня нет никакого желания что-нибудь делать] | AF1: В какой степени утверждения ниже характеризуют ваше обычное состояние? [Я чувствую умственное истощение] | AG1: В какой степени утверждения ниже характеризуют ваше обычное состояние? [Когда я делаю что-нибудь, я могу довольно хорошо сконцентрироваться]
A2: =VLOOKUP('Ответы на форму (1)'!B2,Пол,2,FALSE) -> Ж | B2: ='Ответы на форму (1)'!C2 -> 38 | C2: =IF(B2<27,"3. Миллениал :)",IF(B2<35,"2. Молодой", "1. Мудрый :)")) -> 1. Мудрый :) | D2: =VLOOKUP('Ответы на форму (1)'!D2,ЧастотаТолчкосмартфона,2,FALSE) -> 0. Никогда | E2: =IF(ISERR(FIND(E$1,'Ответы на форму (1)'!$E2)),0,IF(FIND(E$1,'Ответы на форму (1)'!$E2)>0,1,0)) -> 0 | F2: =IF(ISERR(FIND(F$1,'Ответы на форму (1)'!$E2)),0,IF(FIND(F$1,'Ответы на форму (1)'!$E2)>0,1,0)) -> 0 | G2: =IF(ISERR(FIND(G$1,'Ответы на форму (1)'!$E2)),0,IF(FIND(G$1,'Ответы на форму (1)'!$E2)>0,1,0)) -> 0 | H2: =IF(ISERR(FIND(H$1,'Ответы на форму (1)'!$E2)),0,IF(FIND(H$1,'Ответы на форму (1)'!$E2)>0,1,0)) -> 0 | I2: =IF(ISERR(FIND(I$1,'Ответы на форму (1)'!$E2)),0,IF(FIND(I$1,'Ответы на форму (1)'!$E2)>0,1,0)) -> 0 | J2: =IF(ISERR(FIND(J$1,'Ответы на форму (1)'!$E2)),0,IF(FIND(J$1,'Ответы на форму (1)'!$E2)>0,1,0)) -> 0 | K2: =IF(ISERR(FIND(K$1,'Ответы на форму (1)'!$E2)),0,IF(FIND(K$1,'Ответы на форму (1)'!$E2)>0,1,0)) -> 0 | L2: =SUM(E2:K2) -> 0 | M2: =SUM(O2:S2) -> 12 | N2: =IF(M2<16,"3. Не довольный",IF(M2<26,"2. Так себе", "1. Довольный")) -> 3. Не довольный | O2: ='Ответы на форму (1)'!F2 -> 2 | P2: ='Ответы на форму (1)'!G2 -> 2 | Q2: ='Ответы на форму (1)'!H2 -> 3 | R2: ='Ответы на форму (1)'!I2 -> 4 | S2: ='Ответы на форму (1)'!J2 -> 1 | T2: =VLOOKUP('Ответы на форму (1)'!K2,ДжедайскаяШкала,2,FALSE) -> 2. Средне | U2: =VLOOKUP('Ответы на форму (1)'!L2,ДжедайскаяШкала,2,FALSE) -> 3. Хорошо | V2: =SUM(X2:AG2) -> 33 | W2: =IF(V2<24,"1. Свежий",IF(V2<33,"2. Усталый", "3. В хлам")) -> 3. В хлам | X2: =VLOOKUP('Ответы на форму (1)'!M2,FAS,2,FALSE) -> 4 | Y2: =VLOOKUP('Ответы на форму (1)'!N2,FAS,2,FALSE) -> 2 | Z2: =VLOOKUP('Ответы на форму (1)'!O2,FAS,2,FALSE) -> 2 | AA2: =VLOOKUP('Ответы на форму (1)'!P2,FAS,2,FALSE) -> 4 | AB2: =VLOOKUP('Ответы на форму (1)'!Q2,FAS,2,FALSE) -> 3 | AC2: =VLOOKUP('Ответы на форму (1)'!R2,FAS,2,FALSE) -> 3 | AD2: =VLOOKUP('Ответы на форму (1)'!S2,FAS,2,FALSE) -> 3 | AE2: =VLOOKUP('Ответы на форму (1)'!T2,FAS,2,FALSE) -> 4 | ... AG2: =VLOOKUP('Ответы на форму (1)'!V2,FAS,2,FALSE) -> 4
A3: =VLOOKUP('Ответы на форму (1)'!B3,Пол,2,FALSE) -> М | B3: ='Ответы на форму (1)'!C3 -> 45 | C3: =IF(B3<27,"3. Миллениал :)",IF(B3<35,"2. Молодой", "1. Мудрый :)")) -> 1. Мудрый :) | D3: =VLOOKUP('Ответы на форму (1)'!D3,ЧастотаТолчкосмартфона,2,FALSE) -> 1. Редко | E3: =IF(ISERR(FIND(E$1,'Ответы на форму (1)'!$E3)),0,IF(FIND(E$1,'Ответы на форму (1)'!$E3)>0,1,0)) -> 1 | F3: =IF(ISERR(FIND(F$1,'Ответы на форму (1)'!$E3)),0,IF(FIND(F$1,'Ответы на форму (1)'!$E3)>0,1,0)) -> 1 | G3: =IF(ISERR(FIND(G$1,'Ответы на форму (1)'!$E3)),0,IF(FIND(G$1,'Ответы на форму (1)'!$E3)>0,1,0)) -> 0 | H3: =IF(ISERR(FIND(H$1,'Ответы на форму (1)'!$E3)),0,IF(FIND(H$1,'Ответы на форму (1)'!$E3)>0,1,0)) -> 0 | I3: =IF(ISERR(FIND(I$1,'Ответы на форму (1)'!$E3)),0,IF(FIND(I$1,'Ответы на форму (1)'!$E3)>0,1,0)) -> 0 | J3: =IF(ISERR(FIND(J$1,'Ответы на форму (1)'!$E3)),0,IF(FIND(J$1,'Ответы на форму (1)'!$E3)>0,1,0)) -> 0 | K3: =IF(ISERR(FIND(K$1,'Ответы на форму (1)'!$E3)),0,IF(FIND(K$1,'Ответы на форму (1)'!$E3)>0,1,0)) -> 0 | L3: =SUM(E3:K3) -> 2 | M3: =SUM(O3:S3) -> 11 | N3: =IF(M3<16,"3. Не довольный",IF(M3<26,"2. Так себе", "1. Довольный")) -> 3. Не довольный | O3: ='Ответы на форму (1)'!F3 -> 2 | P3: ='Ответы на форму (1)'!G3 -> 2 | Q3: ='Ответы на форму (1)'!H3 -> 2 | R3: ='Ответы на форму (1)'!I3 -> 2 | S3: ='Ответы на форму (1)'!J3 -> 3 | T3: =VLOOKUP('Ответы на форму (1)'!K3,ДжедайскаяШкала,2,FALSE) -> 2. Средне | U3: =VLOOKUP('Ответы на форму (1)'!L3,ДжедайскаяШкала,2,FALSE) -> 2. Средне | V3: =SUM(X3:AG3) -> 31 | W3: =IF(V3<24,"1. Свежий",IF(V3<33,"2. Усталый", "3. В хлам")) -> 2. Усталый | X3: =VLOOKUP('Ответы на форму (1)'!M3,FAS,2,FALSE) -> 3 | Y3: =VLOOKUP('Ответы на форму (1)'!N3,FAS,2,FALSE) -> 3 | Z3: =VLOOKUP('Ответы на форму (1)'!O3,FAS,2,FALSE) -> 4 | AA3: =VLOOKUP('Ответы на форму (1)'!P3,FAS,2,FALSE) -> 4 | AB3: =VLOOKUP('Ответы на форму (1)'!Q3,FAS,2,FALSE) -> 2 | AC3: =VLOOKUP('Ответы на форму (1)'!R3,FAS,2,FALSE) -> 4 | AD3: =VLOOKUP('Ответы на форму (1)'!S3,FAS,2,FALSE) -> 2 | AE3: =VLOOKUP('Ответы на форму (1)'!T3,FAS,2,FALSE) -> 3 | ... AG3: =VLOOKUP('Ответы на форму (1)'!V3,FAS,2,FALSE) -> 4
A4: =VLOOKUP('Ответы на форму (1)'!B4,Пол,2,FALSE) -> М | B4: ='Ответы на форму (1)'!C4 -> 44 | C4: =IF(B4<27,"3. Миллениал :)",IF(B4<35,"2. Молодой", "1. Мудрый :)")) -> 1. Мудрый :) | D4: =VLOOKUP('Ответы на форму (1)'!D4,ЧастотаТолчкосмартфона,2,FALSE) -> 4. Очень Часто | E4: =IF(ISERR(FIND(E$1,'Ответы на форму (1)'!$E4)),0,IF(FIND(E$1,'Ответы на форму (1)'!$E4)>0,1,0)) -> 0 | F4: =IF(ISERR(FIND(F$1,'Ответы на форму (1)'!$E4)),0,IF(FIND(F$1,'Ответы на форму (1)'!$E4)>0,1,0)) -> 1 | G4: =IF(ISERR(FIND(G$1,'Ответы на форму (1)'!$E4)),0,IF(FIND(G$1,'Ответы на форму (1)'!$E4)>0,1,0)) -> 0 | H4: =IF(ISERR(FIND(H$1,'Ответы на форму (1)'!$E4)),0,IF(FIND(H$1,'Ответы на форму (1)'!$E4)>0,1,0)) -> 1 | I4: =IF(ISERR(FIND(I$1,'Ответы на форму (1)'!$E4)),0,IF(FIND(I$1,'Ответы на форму (1)'!$E4)>0,1,0)) -> 1 | J4: =IF(ISERR(FIND(J$1,'Ответы на форму (1)'!$E4)),0,IF(FIND(J$1,'Ответы на форму (1)'!$E4)>0,1,0)) -> 0 | K4: =IF(ISERR(FIND(K$1,'Ответы на форму (1)'!$E4)),0,IF(FIND(K$1,'Ответы на форму (1)'!$E4)>0,1,0)) -> 0 | L4: =SUM(E4:K4) -> 3 | M4: =SUM(O4:S4) -> 24 | N4: =IF(M4<16,"3. Не довольный",IF(M4<26,"2. Так себе", "1. Довольный")) -> 2. Так себе | O4: ='Ответы на форму (1)'!F4 -> 5 | P4: ='Ответы на форму (1)'!G4 -> 5 | Q4: ='Ответы на форму (1)'!H4 -> 5 | R4: ='Ответы на форму (1)'!I4 -> 5 | S4: ='Ответы на форму (1)'!J4 -> 4 | T4: =VLOOKUP('Ответы на форму (1)'!K4,ДжедайскаяШкала,2,FALSE) -> 2. Средне | U4: =VLOOKUP('Ответы на форму (1)'!L4,ДжедайскаяШкала,2,FALSE) -> 3. Хорошо | V4: =SUM(X4:AG4) -> 32 | W4: =IF(V4<24,"1. Свежий",IF(V4<33,"2. Усталый", "3. В хлам")) -> 2. Усталый | X4: =VLOOKUP('Ответы на форму (1)'!M4,FAS,2,FALSE) -> 3 | Y4: =VLOOKUP('Ответы на форму (1)'!N4,FAS,2,FALSE) -> 3 | Z4: =VLOOKUP('Ответы на форму (1)'!O4,FAS,2,FALSE) -> 2 | AA4: =VLOOKUP('Ответы на форму (1)'!P4,FAS,2,FALSE) -> 4 | AB4: =VLOOKUP('Ответы на форму (1)'!Q4,FAS,2,FALSE) -> 2 | AC4: =VLOOKUP('Ответы на форму (1)'!R4,FAS,2,FALSE) -> 5 | AD4: =VLOOKUP('Ответы на форму (1)'!S4,FAS,2,FALSE) -> 3 | AE4: =VLOOKUP('Ответы на форму (1)'!T4,FAS,2,FALSE) -> 3 | ... AG4: =VLOOKUP('Ответы на форму (1)'!V4,FAS,2,FALSE) -> 4
A5: =VLOOKUP('Ответы на форму (1)'!B5,Пол,2,FALSE) -> Ж | B5: ='Ответы на форму (1)'!C5 -> 33 | C5: =IF(B5<27,"3. Миллениал :)",IF(B5<35,"2. Молодой", "1. Мудрый :)")) -> 2. Молодой | D5: =VLOOKUP('Ответы на форму (1)'!D5,ЧастотаТолчкосмартфона,2,FALSE) -> 3. Часто | E5: =IF(ISERR(FIND(E$1,'Ответы на форму (1)'!$E5)),0,IF(FIND(E$1,'Ответы на форму (1)'!$E5)>0,1,0)) -> 0 | F5: =IF(ISERR(FIND(F$1,'Ответы на форму (1)'!$E5)),0,IF(FIND(F$1,'Ответы на форму (1)'!$E5)>0,1,0)) -> 0 | G5: =IF(ISERR(FIND(G$1,'Ответы на форму (1)'!$E5)),0,IF(FIND(G$1,'Ответы на форму (1)'!$E5)>0,1,0)) -> 0 | H5: =IF(ISERR(FIND(H$1,'Ответы на форму (1)'!$E5)),0,IF(FIND(H$1,'Ответы на форму (1)'!$E5)>0,1,0)) -> 0 | I5: =IF(ISERR(FIND(I$1,'Ответы на форму (1)'!$E5)),0,IF(FIND(I$1,'Ответы на форму (1)'!$E5)>0,1,0)) -> 1 | J5: =IF(ISERR(FIND(J$1,'Ответы на форму (1)'!$E5)),0,IF(FIND(J$1,'Ответы на форму (1)'!$E5)>0,1,0)) -> 0 | K5: =IF(ISERR(FIND(K$1,'Ответы на форму (1)'!$E5)),0,IF(FIND(K$1,'Ответы на форму (1)'!$E5)>0,1,0)) -> 0 | L5: =SUM(E5:K5) -> 1 | M5: =SUM(O5:S5) -> 24 | N5: =IF(M5<16,"3. Не довольный",IF(M5<26,"2. Так себе", "1. Довольный")) -> 2. Так себе | O5: ='Ответы на форму (1)'!F5 -> 6 | P5: ='Ответы на форму (1)'!G5 -> 6 | Q5: ='Ответы на форму (1)'!H5 -> 6 | R5: ='Ответы на форму (1)'!I5 -> 3 | S5: ='Ответы на форму (1)'!J5 -> 3 | T5: =VLOOKUP('Ответы на форму (1)'!K5,ДжедайскаяШкала,2,FALSE) -> 2. Средне | U5: =VLOOKUP('Ответы на форму (1)'!L5,ДжедайскаяШкала,2,FALSE) -> 3. Хорошо | V5: =SUM(X5:AG5) -> 24 | W5: =IF(V5<24,"1. Свежий",IF(V5<33,"2. Усталый", "3. В хлам")) -> 2. Усталый | X5: =VLOOKUP('Ответы на форму (1)'!M5,FAS,2,FALSE) -> 3 | Y5: =VLOOKUP('Ответы на форму (1)'!N5,FAS,2,FALSE) -> 3 | Z5: =VLOOKUP('Ответы на форму (1)'!O5,FAS,2,FALSE) -> 1 | AA5: =VLOOKUP('Ответы на форму (1)'!P5,FAS,2,FALSE) -> 5 | AB5: =VLOOKUP('Ответы на форму (1)'!Q5,FAS,2,FALSE) -> 2 | AC5: =VLOOKUP('Ответы на форму (1)'!R5,FAS,2,FALSE) -> 1 | AD5: =VLOOKUP('Ответы на форму (1)'!S5,FAS,2,FALSE) -> 1 | AE5: =VLOOKUP('Ответы на форму (1)'!T5,FAS,2,FALSE) -> 2 | ... AG5: =VLOOKUP('Ответы на форму (1)'!V5,FAS,2,FALSE) -> 4
A6: =VLOOKUP('Ответы на форму (1)'!B6,Пол,2,FALSE) -> М | B6: ='Ответы на форму (1)'!C6 -> 31 | C6: =IF(B6<27,"3. Миллениал :)",IF(B6<35,"2. Молодой", "1. Мудрый :)")) -> 2. Молодой | D6: =VLOOKUP('Ответы на форму (1)'!D6,ЧастотаТолчкосмартфона,2,FALSE) -> 4. Очень Часто | E6: =IF(ISERR(FIND(E$1,'Ответы на форму (1)'!$E6)),0,IF(FIND(E$1,'Ответы на форму (1)'!$E6)>0,1,0)) -> 0 | F6: =IF(ISERR(FIND(F$1,'Ответы на форму (1)'!$E6)),0,IF(FIND(F$1,'Ответы на форму (1)'!$E6)>0,1,0)) -> 0 | G6: =IF(ISERR(FIND(G$1,'Ответы на форму (1)'!$E6)),0,IF(FIND(G$1,'Ответы на форму (1)'!$E6)>0,1,0)) -> 0 | H6: =IF(ISERR(FIND(H$1,'Ответы на форму (1)'!$E6)),0,IF(FIND(H$1,'Ответы на форму (1)'!$E6)>0,1,0)) -> 1 | I6: =IF(ISERR(FIND(I$1,'Ответы на форму (1)'!$E6)),0,IF(FIND(I$1,'Ответы на форму (1)'!$E6)>0,1,0)) -> 0 | J6: =IF(ISERR(FIND(J$1,'Ответы на форму (1)'!$E6)),0,IF(FIND(J$1,'Ответы на форму (1)'!$E6)>0,1,0)) -> 0 | K6: =IF(ISERR(FIND(K$1,'Ответы на форму (1)'!$E6)),0,IF(FIND(K$1,'Ответы на форму (1)'!$E6)>0,1,0)) -> 0 | L6: =SUM(E6:K6) -> 1 | M6: =SUM(O6:S6) -> 27 | N6: =IF(M6<16,"3. Не довольный",IF(M6<26,"2. Так себе", "1. Довольный")) -> 1. Довольный | O6: ='Ответы на форму (1)'!F6 -> 4 | P6: ='Ответы на форму (1)'!G6 -> 6 | Q6: ='Ответы на форму (1)'!H6 -> 5 | R6: ='Ответы на форму (1)'!I6 -> 6 | S6: ='Ответы на форму (1)'!J6 -> 6 | T6: =VLOOKUP('Ответы на форму (1)'!K6,ДжедайскаяШкала,2,FALSE) -> 3. Хорошо | U6: =VLOOKUP('Ответы на форму (1)'!L6,ДжедайскаяШкала,2,FALSE) -> 3. Хорошо | V6: =SUM(X6:AG6) -> 25 | W6: =IF(V6<24,"1. Свежий",IF(V6<33,"2. Усталый", "3. В хлам")) -> 2. Усталый | X6: =VLOOKUP('Ответы на форму (1)'!M6,FAS,2,FALSE) -> 3 | Y6: =VLOOKUP('Ответы на форму (1)'!N6,FAS,2,FALSE) -> 2 | Z6: =VLOOKUP('Ответы на форму (1)'!O6,FAS,2,FALSE) -> 4 | AA6: =VLOOKUP('Ответы на форму (1)'!P6,FAS,2,FALSE) -> 4 | AB6: =VLOOKUP('Ответы на форму (1)'!Q6,FAS,2,FALSE) -> 2 | AC6: =VLOOKUP('Ответы на форму (1)'!R6,FAS,2,FALSE) -> 2 | AD6: =VLOOKUP('Ответы на форму (1)'!S6,FAS,2,FALSE) -> 2 | AE6: =VLOOKUP('Ответы на форму (1)'!T6,FAS,2,FALSE) -> 2 | ... AG6: =VLOOKUP('Ответы на форму (1)'!V6,FAS,2,FALSE) -> 3
A7: =VLOOKUP('Ответы на форму (1)'!B7,Пол,2,FALSE) -> Ж | B7: ='Ответы на форму (1)'!C7 -> 31 | C7: =IF(B7<27,"3. Миллениал :)",IF(B7<35,"2. Молодой", "1. Мудрый :)")) -> 2. Молодой | D7: =VLOOKUP('Ответы на форму (1)'!D7,ЧастотаТолчкосмартфона,2,FALSE) -> 3. Часто | E7: =IF(ISERR(FIND(E$1,'Ответы на форму (1)'!$E7)),0,IF(FIND(E$1,'Ответы на форму (1)'!$E7)>0,1,0)) -> 0 | F7: =IF(ISERR(FIND(F$1,'Ответы на форму (1)'!$E7)),0,IF(FIND(F$1,'Ответы на форму (1)'!$E7)>0,1,0)) -> 0 | G7: =IF(ISERR(FIND(G$1,'Ответы на форму (1)'!$E7)),0,IF(FIND(G$1,'Ответы на форму (1)'!$E7)>0,1,0)) -> 0 | H7: =IF(ISERR(FIND(H$1,'Ответы на форму (1)'!$E7)),0,IF(FIND(H$1,'Ответы на форму (1)'!$E7)>0,1,0)) -> 1 | I7: =IF(ISERR(FIND(I$1,'Ответы на форму (1)'!$E7)),0,IF(FIND(I$1,'Ответы на форму (1)'!$E7)>0,1,0)) -> 0 | J7: =IF(ISERR(FIND(J$1,'Ответы на форму (1)'!$E7)),0,IF(FIND(J$1,'Ответы на форму (1)'!$E7)>0,1,0)) -> 0 | K7: =IF(ISERR(FIND(K$1,'Ответы на форму (1)'!$E7)),0,IF(FIND(K$1,'Ответы на форму (1)'!$E7)>0,1,0)) -> 0 | L7: =SUM(E7:K7) -> 1 | M7: =SUM(O7:S7) -> 24 | N7: =IF(M7<16,"3. Не довольный",IF(M7<26,"2. Так себе", "1. Довольный")) -> 2. Так себе | O7: ='Ответы на форму (1)'!F7 -> 3 | P7: ='Ответы на форму (1)'!G7 -> 5 | Q7: ='Ответы на форму (1)'!H7 -> 5 | R7: ='Ответы на форму (1)'!I7 -> 5 | S7: ='Ответы на форму (1)'!J7 -> 6 | T7: =VLOOKUP('Ответы на форму (1)'!K7,ДжедайскаяШкала,2,FALSE) -> 2. Средне | U7: =VLOOKUP('Ответы на форму (1)'!L7,ДжедайскаяШкала,2,FALSE) -> 2. Средне | V7: =SUM(X7:AG7) -> 31 | W7: =IF(V7<24,"1. Свежий",IF(V7<33,"2. Усталый", "3. В хлам")) -> 2. Усталый | X7: =VLOOKUP('Ответы на форму (1)'!M7,FAS,2,FALSE) -> 3 | Y7: =VLOOKUP('Ответы на форму (1)'!N7,FAS,2,FALSE) -> 3 | Z7: =VLOOKUP('Ответы на форму (1)'!O7,FAS,2,FALSE) -> 4 | AA7: =VLOOKUP('Ответы на форму (1)'!P7,FAS,2,FALSE) -> 5 | AB7: =VLOOKUP('Ответы на форму (1)'!Q7,FAS,2,FALSE) -> 3 | AC7: =VLOOKUP('Ответы на форму (1)'!R7,FAS,2,FALSE) -> 4 | AD7: =VLOOKUP('Ответы на форму (1)'!S7,FAS,2,FALSE) -> 1 | AE7: =VLOOKUP('Ответы на форму (1)'!T7,FAS,2,FALSE) -> 4 | ... AG7: =VLOOKUP('Ответы на форму (1)'!V7,FAS,2,FALSE) -> 2
A8: =VLOOKUP('Ответы на форму (1)'!B8,Пол,2,FALSE) -> М | B8: ='Ответы на форму (1)'!C8 -> 29 | C8: =IF(B8<27,"3. Миллениал :)",IF(B8<35,"2. Молодой", "1. Мудрый :)")) -> 2. Молодой | D8: =VLOOKUP('Ответы на форму (1)'!D8,ЧастотаТолчкосмартфона,2,FALSE) -> 3. Часто | E8: =IF(ISERR(FIND(E$1,'Ответы на форму (1)'!$E8)),0,IF(FIND(E$1,'Ответы на форму (1)'!$E8)>0,1,0)) -> 0 | F8: =IF(ISERR(FIND(F$1,'Ответы на форму (1)'!$E8)),0,IF(FIND(F$1,'Ответы на форму (1)'!$E8)>0,1,0)) -> 0 | G8: =IF(ISERR(FIND(G$1,'Ответы на форму (1)'!$E8)),0,IF(FIND(G$1,'Ответы на форму (1)'!$E8)>0,1,0)) -> 0 | H8: =IF(ISERR(FIND(H$1,'Ответы на форму (1)'!$E8)),0,IF(FIND(H$1,'Ответы на форму (1)'!$E8)>0,1,0)) -> 1 | I8: =IF(ISERR(FIND(I$1,'Ответы на форму (1)'!$E8)),0,IF(FIND(I$1,'Ответы на форму (1)'!$E8)>0,1,0)) -> 1 | J8: =IF(ISERR(FIND(J$1,'Ответы на форму (1)'!$E8)),0,IF(FIND(J$1,'Ответы на форму (1)'!$E8)>0,1,0)) -> 0 | K8: =IF(ISERR(FIND(K$1,'Ответы на форму (1)'!$E8)),0,IF(FIND(K$1,'Ответы на форму (1)'!$E8)>0,1,0)) -> 0 | L8: =SUM(E8:K8) -> 2 | M8: =SUM(O8:S8) -> 20 | N8: =IF(M8<16,"3. Не довольный",IF(M8<26,"2. Так себе", "1. Довольный")) -> 2. Так себе | O8: ='Ответы на форму (1)'!F8 -> 3 | P8: ='Ответы на форму (1)'!G8 -> 5 | Q8: ='Ответы на форму (1)'!H8 -> 3 | R8: ='Ответы на форму (1)'!I8 -> 4 | S8: ='Ответы на форму (1)'!J8 -> 5 | T8: =VLOOKUP('Ответы на форму (1)'!K8,ДжедайскаяШкала,2,FALSE) -> 1. Плохо | U8: =VLOOKUP('Ответы на форму (1)'!L8,ДжедайскаяШкала,2,FALSE) -> 1. Плохо | V8: =SUM(X8:AG8) -> 36 | W8: =IF(V8<24,"1. Свежий",IF(V8<33,"2. Усталый", "3. В хлам")) -> 3. В хлам | X8: =VLOOKUP('Ответы на форму (1)'!M8,FAS,2,FALSE) -> 4 | Y8: =VLOOKUP('Ответы на форму (1)'!N8,FAS,2,FALSE) -> 4 | Z8: =VLOOKUP('Ответы на форму (1)'!O8,FAS,2,FALSE) -> 4 | AA8: =VLOOKUP('Ответы на форму (1)'!P8,FAS,2,FALSE) -> 3 | AB8: =VLOOKUP('Ответы на форму (1)'!Q8,FAS,2,FALSE) -> 2 | AC8: =VLOOKUP('Ответы на форму (1)'!R8,FAS,2,FALSE) -> 5 | AD8: =VLOOKUP('Ответы на форму (1)'!S8,FAS,2,FALSE) -> 3 | AE8: =VLOOKUP('Ответы на форму (1)'!T8,FAS,2,FALSE) -> 4 | ... AG8: =VLOOKUP('Ответы на форму (1)'!V8,FAS,2,FALSE) -> 4
A9: =VLOOKUP('Ответы на форму (1)'!B9,Пол,2,FALSE) -> М | B9: ='Ответы на форму (1)'!C9 -> 33 | C9: =IF(B9<27,"3. Миллениал :)",IF(B9<35,"2. Молодой", "1. Мудрый :)")) -> 2. Молодой | D9: =VLOOKUP('Ответы на форму (1)'!D9,ЧастотаТолчкосмартфона,2,FALSE) -> 4. Очень Часто | E9: =IF(ISERR(FIND(E$1,'Ответы на форму (1)'!$E9)),0,IF(FIND(E$1,'Ответы на форму (1)'!$E9)>0,1,0)) -> 1 | F9: =IF(ISERR(FIND(F$1,'Ответы на форму (1)'!$E9)),0,IF(FIND(F$1,'Ответы на форму (1)'!$E9)>0,1,0)) -> 1 | G9: =IF(ISERR(FIND(G$1,'Ответы на форму (1)'!$E9)),0,IF(FIND(G$1,'Ответы на форму (1)'!$E9)>0,1,0)) -> 0 | H9: =IF(ISERR(FIND(H$1,'Ответы на форму (1)'!$E9)),0,IF(FIND(H$1,'Ответы на форму (1)'!$E9)>0,1,0)) -> 1 | I9: =IF(ISERR(FIND(I$1,'Ответы на форму (1)'!$E9)),0,IF(FIND(I$1,'Ответы на форму (1)'!$E9)>0,1,0)) -> 0 | J9: =IF(ISERR(FIND(J$1,'Ответы на форму (1)'!$E9)),0,IF(FIND(J$1,'Ответы на форму (1)'!$E9)>0,1,0)) -> 0 | K9: =IF(ISERR(FIND(K$1,'Ответы на форму (1)'!$E9)),0,IF(FIND(K$1,'Ответы на форму (1)'!$E9)>0,1,0)) -> 0 | L9: =SUM(E9:K9) -> 3 | M9: =SUM(O9:S9) -> 27 | N9: =IF(M9<16,"3. Не довольный",IF(M9<26,"2. Так себе", "1. Довольный")) -> 1. Довольный | O9: ='Ответы на форму (1)'!F9 -> 5 | P9: ='Ответы на форму (1)'!G9 -> 6 | Q9: ='Ответы на форму (1)'!H9 -> 5 | R9: ='Ответы на форму (1)'!I9 -> 5 | S9: ='Ответы на форму (1)'!J9 -> 6 | T9: =VLOOKUP('Ответы на форму (1)'!K9,ДжедайскаяШкала,2,FALSE) -> 3. Хорошо | U9: =VLOOKUP('Ответы на форму (1)'!L9,ДжедайскаяШкала,2,FALSE) -> 2. Средне | V9: =SUM(X9:AG9) -> 29 | W9: =IF(V9<24,"1. Свежий",IF(V9<33,"2. Усталый", "3. В хлам")) -> 2. Усталый | X9: =VLOOKUP('Ответы на форму (1)'!M9,FAS,2,FALSE) -> 1 | Y9: =VLOOKUP('Ответы на форму (1)'!N9,FAS,2,FALSE) -> 1 | Z9: =VLOOKUP('Ответы на форму (1)'!O9,FAS,2,FALSE) -> 3 | AA9: =VLOOKUP('Ответы на форму (1)'!P9,FAS,2,FALSE) -> 5 | AB9: =VLOOKUP('Ответы на форму (1)'!Q9,FAS,2,FALSE) -> 2 | AC9: =VLOOKUP('Ответы на форму (1)'!R9,FAS,2,FALSE) -> 3 | AD9: =VLOOKUP('Ответы на форму (1)'!S9,FAS,2,FALSE) -> 2 | AE9: =VLOOKUP('Ответы на форму (1)'!T9,FAS,2,FALSE) -> 4 | ... AG9: =VLOOKUP('Ответы на форму (1)'!V9,FAS,2,FALSE) -> 4
A10: =VLOOKUP('Ответы на форму (1)'!B10,Пол,2,FALSE) -> М | B10: ='Ответы на форму (1)'!C10 -> 34 | C10: =IF(B10<27,"3. Миллениал :)",IF(B10<35,"2. Молодой", "1. Мудрый :)")) -> 2. Молодой | D10: =VLOOKUP('Ответы на форму (1)'!D10,ЧастотаТолчкосмартфона,2,FALSE) -> 4. Очень Часто | E10: =IF(ISERR(FIND(E$1,'Ответы на форму (1)'!$E10)),0,IF(FIND(E$1,'Ответы на форму (1)'!$E10)>0,1,0)) -> 0 | F10: =IF(ISERR(FIND(F$1,'Ответы на форму (1)'!$E10)),0,IF(FIND(F$1,'Ответы на форму (1)'!$E10)>0,1,0)) -> 1 | G10: =IF(ISERR(FIND(G$1,'Ответы на форму (1)'!$E10)),0,IF(FIND(G$1,'Ответы на форму (1)'!$E10)>0,1,0)) -> 0 | H10: =IF(ISERR(FIND(H$1,'Ответы на форму (1)'!$E10)),0,IF(FIND(H$1,'Ответы на форму (1)'!$E10)>0,1,0)) -> 1 | I10: =IF(ISERR(FIND(I$1,'Ответы на форму (1)'!$E10)),0,IF(FIND(I$1,'Ответы на форму (1)'!$E10)>0,1,0)) -> 1 | J10: =IF(ISERR(FIND(J$1,'Ответы на форму (1)'!$E10)),0,IF(FIND(J$1,'Ответы на форму (1)'!$E10)>0,1,0)) -> 0 | K10: =IF(ISERR(FIND(K$1,'Ответы на форму (1)'!$E10)),0,IF(FIND(K$1,'Ответы на форму (1)'!$E10)>0,1,0)) -> 0 | L10: =SUM(E10:K10) -> 3 | M10: =SUM(O10:S10) -> 27 | N10: =IF(M10<16,"3. Не довольный",IF(M10<26,"2. Так себе", "1. Довольный")) -> 1. Довольный | O10: ='Ответы на форму (1)'!F10 -> 5 | P10: ='Ответы на форму (1)'!G10 -> 7 | Q10: ='Ответы на форму (1)'!H10 -> 4 | R10: ='Ответы на форму (1)'!I10 -> 5 | S10: ='Ответы на форму (1)'!J10 -> 6 | T10: =VLOOKUP('Ответы на форму (1)'!K10,ДжедайскаяШкала,2,FALSE) -> 3. Хорошо | U10: =VLOOKUP('Ответы на форму (1)'!L10,ДжедайскаяШкала,2,FALSE) -> 3. Хорошо | V10: =SUM(X10:AG10) -> 20 | W10: =IF(V10<24,"1. Свежий",IF(V10<33,"2. Усталый", "3. В хлам")) -> 1. Свежий | X10: =VLOOKUP('Ответы на форму (1)'!M10,FAS,2,FALSE) -> 4 | Y10: =VLOOKUP('Ответы на форму (1)'!N10,FAS,2,FALSE) -> 2 | Z10: =VLOOKUP('Ответы на форму (1)'!O10,FAS,2,FALSE) -> 3 | AA10: =VLOOKUP('Ответы на форму (1)'!P10,FAS,2,FALSE) -> 2 | AB10: =VLOOKUP('Ответы на форму (1)'!Q10,FAS,2,FALSE) -> 1 | AC10: =VLOOKUP('Ответы на форму (1)'!R10,FAS,2,FALSE) -> 1 | AD10: =VLOOKUP('Ответы на форму (1)'!S10,FAS,2,FALSE) -> 1 | AE10: =VLOOKUP('Ответы на форму (1)'!T10,FAS,2,FALSE) -> 1 | ... AG10: =VLOOKUP('Ответы на форму (1)'!V10,FAS,2,FALSE) -> 3
A11: =VLOOKUP('Ответы на форму (1)'!B11,Пол,2,FALSE) -> М | B11: ='Ответы на форму (1)'!C11 -> 34 | C11: =IF(B11<27,"3. Миллениал :)",IF(B11<35,"2. Молодой", "1. Мудрый :)")) -> 2. Молодой | D11: =VLOOKUP('Ответы на форму (1)'!D11,ЧастотаТолчкосмартфона,2,FALSE) -> 3. Часто | E11: =IF(ISERR(FIND(E$1,'Ответы на форму (1)'!$E11)),0,IF(FIND(E$1,'Ответы на форму (1)'!$E11)>0,1,0)) -> 0 | F11: =IF(ISERR(FIND(F$1,'Ответы на форму (1)'!$E11)),0,IF(FIND(F$1,'Ответы на форму (1)'!$E11)>0,1,0)) -> 0 | G11: =IF(ISERR(FIND(G$1,'Ответы на форму (1)'!$E11)),0,IF(FIND(G$1,'Ответы на форму (1)'!$E11)>0,1,0)) -> 0 | H11: =IF(ISERR(FIND(H$1,'Ответы на форму (1)'!$E11)),0,IF(FIND(H$1,'Ответы на форму (1)'!$E11)>0,1,0)) -> 1 | I11: =IF(ISERR(FIND(I$1,'Ответы на форму (1)'!$E11)),0,IF(FIND(I$1,'Ответы на форму (1)'!$E11)>0,1,0)) -> 0 | J11: =IF(ISERR(FIND(J$1,'Ответы на форму (1)'!$E11)),0,IF(FIND(J$1,'Ответы на форму (1)'!$E11)>0,1,0)) -> 0 | K11: =IF(ISERR(FIND(K$1,'Ответы на форму (1)'!$E11)),0,IF(FIND(K$1,'Ответы на форму (1)'!$E11)>0,1,0)) -> 0 | L11: =SUM(E11:K11) -> 1 | M11: =SUM(O11:S11) -> 26 | N11: =IF(M11<16,"3. Не довольный",IF(M11<26,"2. Так себе", "1. Довольный")) -> 1. Довольный | O11: ='Ответы на форму (1)'!F11 -> 5 | P11: ='Ответы на форму (1)'!G11 -> 5 | Q11: ='Ответы на форму (1)'!H11 -> 6 | R11: ='Ответы на форму (1)'!I11 -> 6 | S11: ='Ответы на форму (1)'!J11 -> 4 | T11: =VLOOKUP('Ответы на форму (1)'!K11,ДжедайскаяШкала,2,FALSE) -> 1. Плохо | U11: =VLOOKUP('Ответы на форму (1)'!L11,ДжедайскаяШкала,2,FALSE) -> 2. Средне | V11: =SUM(X11:AG11) -> 32 | W11: =IF(V11<24,"1. Свежий",IF(V11<33,"2. Усталый", "3. В хлам")) -> 2. Усталый | X11: =VLOOKUP('Ответы на форму (1)'!M11,FAS,2,FALSE) -> 3 | Y11: =VLOOKUP('Ответы на форму (1)'!N11,FAS,2,FALSE) -> 4 | Z11: =VLOOKUP('Ответы на форму (1)'!O11,FAS,2,FALSE) -> 4 | AA11: =VLOOKUP('Ответы на форму (1)'!P11,FAS,2,FALSE) -> 3 | AB11: =VLOOKUP('Ответы на форму (1)'!Q11,FAS,2,FALSE) -> 3 | AC11: =VLOOKUP('Ответы на форму (1)'!R11,FAS,2,FALSE) -> 4 | AD11: =VLOOKUP('Ответы на форму (1)'!S11,FAS,2,FALSE) -> 4 | AE11: =VLOOKUP('Ответы на форму (1)'!T11,FAS,2,FALSE) -> 2 | ... AG11: =VLOOKUP('Ответы на форму (1)'!V11,FAS,2,FALSE) -> 3
A12: =VLOOKUP('Ответы на форму (1)'!B12,Пол,2,FALSE) -> Ж | B12: ='Ответы на форму (1)'!C12 -> 0 | C12: =IF(B12<27,"3. Миллениал :)",IF(B12<35,"2. Молодой", "1. Мудрый :)")) -> 3. Миллениал :) | D12: =VLOOKUP('Ответы на форму (1)'!D12,ЧастотаТолчкосмартфона,2,FALSE) -> 4. Очень Часто | E12: =IF(ISERR(FIND(E$1,'Ответы на форму (1)'!$E12)),0,IF(FIND(E$1,'Ответы на форму (1)'!$E12)>0,1,0)) -> 0 | F12: =IF(ISERR(FIND(F$1,'Ответы на форму (1)'!$E12)),0,IF(FIND(F$1,'Ответы на форму (1)'!$E12)>0,1,0)) -> 1 | G12: =IF(ISERR(FIND(G$1,'Ответы на форму (1)'!$E12)),0,IF(FIND(G$1,'Ответы на форму (1)'!$E12)>0,1,0)) -> 0 | H12: =IF(ISERR(FIND(H$1,'Ответы на форму (1)'!$E12)),0,IF(FIND(H$1,'Ответы на форму (1)'!$E12)>0,1,0)) -> 1 | I12: =IF(ISERR(FIND(I$1,'Ответы на форму (1)'!$E12)),0,IF(FIND(I$1,'Ответы на форму (1)'!$E12)>0,1,0)) -> 0 | J12: =IF(ISERR(FIND(J$1,'Ответы на форму (1)'!$E12)),0,IF(FIND(J$1,'Ответы на форму (1)'!$E12)>0,1,0)) -> 1 | K12: =IF(ISERR(FIND(K$1,'Ответы на форму (1)'!$E12)),0,IF(FIND(K$1,'Ответы на форму (1)'!$E12)>0,1,0)) -> 0 | L12: =SUM(E12:K12) -> 3 | M12: =SUM(O12:S12) -> 26 | N12: =IF(M12<16,"3. Не довольный",IF(M12<26,"2. Так себе", "1. Довольный")) -> 1. Довольный | O12: ='Ответы на форму (1)'!F12 -> 5 | P12: ='Ответы на форму (1)'!G12 -> 6 | Q12: ='Ответы на форму (1)'!H12 -> 5 | R12: ='Ответы на форму (1)'!I12 -> 6 | S12: ='Ответы на форму (1)'!J12 -> 4 | T12: =VLOOKUP('Ответы на форму (1)'!K12,ДжедайскаяШкала,2,FALSE) -> 1. Плохо | U12: =VLOOKUP('Ответы на форму (1)'!L12,ДжедайскаяШкала,2,FALSE) -> 2. Средне | V12: =SUM(X12:AG12) -> 30 | W12: =IF(V12<24,"1. Свежий",IF(V12<33,"2. Усталый", "3. В хлам")) -> 2. Усталый | X12: =VLOOKUP('Ответы на форму (1)'!M12,FAS,2,FALSE) -> 4 | Y12: =VLOOKUP('Ответы на форму (1)'!N12,FAS,2,FALSE) -> 5 | Z12: =VLOOKUP('Ответы на форму (1)'!O12,FAS,2,FALSE) -> 3 | AA12: =VLOOKUP('Ответы на форму (1)'!P12,FAS,2,FALSE) -> 2 | AB12: =VLOOKUP('Ответы на форму (1)'!Q12,FAS,2,FALSE) -> 2 | AC12: =VLOOKUP('Ответы на форму (1)'!R12,FAS,2,FALSE) -> 3 | AD12: =VLOOKUP('Ответы на форму (1)'!S12,FAS,2,FALSE) -> 2 | AE12: =VLOOKUP('Ответы на форму (1)'!T12,FAS,2,FALSE) -> 3 | ... AG12: =VLOOKUP('Ответы на форму (1)'!V12,FAS,2,FALSE) -> 4
A13: =VLOOKUP('Ответы на форму (1)'!B13,Пол,2,FALSE) -> Ж | B13: ='Ответы на форму (1)'!C13 -> 21 | C13: =IF(B13<27,"3. Миллениал :)",IF(B13<35,"2. Молодой", "1. Мудрый :)")) -> 3. Миллениал :) | D13: =VLOOKUP('Ответы на форму (1)'!D13,ЧастотаТолчкосмартфона,2,FALSE) -> 3. Часто | E13: =IF(ISERR(FIND(E$1,'Ответы на форму (1)'!$E13)),0,IF(FIND(E$1,'Ответы на форму (1)'!$E13)>0,1,0)) -> 0 | F13: =IF(ISERR(FIND(F$1,'Ответы на форму (1)'!$E13)),0,IF(FIND(F$1,'Ответы на форму (1)'!$E13)>0,1,0)) -> 1 | G13: =IF(ISERR(FIND(G$1,'Ответы на форму (1)'!$E13)),0,IF(FIND(G$1,'Ответы на форму (1)'!$E13)>0,1,0)) -> 0 | H13: =IF(ISERR(FIND(H$1,'Ответы на форму (1)'!$E13)),0,IF(FIND(H$1,'Ответы на форму (1)'!$E13)>0,1,0)) -> 1 | I13: =IF(ISERR(FIND(I$1,'Ответы на форму (1)'!$E13)),0,IF(FIND(I$1,'Ответы на форму (1)'!$E13)>0,1,0)) -> 1 | J13: =IF(ISERR(FIND(J$1,'Ответы на форму (1)'!$E13)),0,IF(FIND(J$1,'Ответы на форму (1)'!$E13)>0,1,0)) -> 0 | K13: =IF(ISERR(FIND(K$1,'Ответы на форму (1)'!$E13)),0,IF(FIND(K$1,'Ответы на форму (1)'!$E13)>0,1,0)) -> 0 | L13: =SUM(E13:K13) -> 3 | M13: =SUM(O13:S13) -> 7 | N13: =IF(M13<16,"3. Не довольный",IF(M13<26,"2. Так себе", "1. Довольный")) -> 3. Не довольный | O13: ='Ответы на форму (1)'!F13 -> 2 | P13: ='Ответы на форму (1)'!G13 -> 1 | Q13: ='Ответы на форму (1)'!H13 -> 2 | R13: ='Ответы на форму (1)'!I13 -> 1 | S13: ='Ответы на форму (1)'!J13 -> 1 | T13: =VLOOKUP('Ответы на форму (1)'!K13,ДжедайскаяШкала,2,FALSE) -> 2. Средне | U13: =VLOOKUP('Ответы на форму (1)'!L13,ДжедайскаяШкала,2,FALSE) -> 3. Хорошо | V13: =SUM(X13:AG13) -> 32 | W13: =IF(V13<24,"1. Свежий",IF(V13<33,"2. Усталый", "3. В хлам")) -> 2. Усталый | X13: =VLOOKUP('Ответы на форму (1)'!M13,FAS,2,FALSE) -> 4 | Y13: =VLOOKUP('Ответы на форму (1)'!N13,FAS,2,FALSE) -> 3 | Z13: =VLOOKUP('Ответы на форму (1)'!O13,FAS,2,FALSE) -> 4 | AA13: =VLOOKUP('Ответы на форму (1)'!P13,FAS,2,FALSE) -> 2 | AB13: =VLOOKUP('Ответы на форму (1)'!Q13,FAS,2,FALSE) -> 4 | AC13: =VLOOKUP('Ответы на форму (1)'!R13,FAS,2,FALSE) -> 2 | AD13: =VLOOKUP('Ответы на форму (1)'!S13,FAS,2,FALSE) -> 1 | AE13: =VLOOKUP('Ответы на форму (1)'!T13,FAS,2,FALSE) -> 3 | ... AG13: =VLOOKUP('Ответы на форму (1)'!V13,FAS,2,FALSE) -> 4
... A327: =VLOOKUP('Ответы на форму (1)'!B327,Пол,2,FALSE) -> М | B327: ='Ответы на форму (1)'!C327 -> 42 | C327: =IF(B327<27,"3. Миллениал :)",IF(B327<35,"2. Молодой", "1. Мудрый :)")) -> 1. Мудрый :) | D327: =VLOOKUP('Ответы на форму (1)'!D327,ЧастотаТолчкосмартфона,2,FALSE) -> 4. Очень Часто | E327: =IF(ISERR(FIND(E$1,'Ответы на форму (1)'!$E327)),0,IF(FIND(E$1,'Ответы на форму (1)'!$E327)>0,1,0)) -> 0 | F327: =IF(ISERR(FIND(F$1,'Ответы на форму (1)'!$E327)),0,IF(FIND(F$1,'Ответы на форму (1)'!$E327)>0,1,0)) -> 1 | G327: =IF(ISERR(FIND(G$1,'Ответы на форму (1)'!$E327)),0,IF(FIND(G$1,'Ответы на форму (1)'!$E327)>0,1,0)) -> 0 | H327: =IF(ISERR(FIND(H$1,'Ответы на форму (1)'!$E327)),0,IF(FIND(H$1,'Ответы на форму (1)'!$E327)>0,1,0)) -> 1 | I327: =IF(ISERR(FIND(I$1,'Ответы на форму (1)'!$E327)),0,IF(FIND(I$1,'Ответы на форму (1)'!$E327)>0,1,0)) -> 0 | J327: =IF(ISERR(FIND(J$1,'Ответы на форму (1)'!$E327)),0,IF(FIND(J$1,'Ответы на форму (1)'!$E327)>0,1,0)) -> 0 | K327: =IF(ISERR(FIND(K$1,'Ответы на форму (1)'!$E327)),0,IF(FIND(K$1,'Ответы на форму (1)'!$E327)>0,1,0)) -> 0 | L327: =SUM(E327:K327) -> 2 | M327: =SUM(O327:S327) -> 22 | N327: =IF(M327<16,"3. Не довольный",IF(M327<26,"2. Так себе", "1. Довольный")) -> 2. Так себе | O327: ='Ответы на форму (1)'!F327 -> 3 | P327: ='Ответы на форму (1)'!G327 -> 4 | Q327: ='Ответы на форму (1)'!H327 -> 5 | R327: ='Ответы на форму (1)'!I327 -> 5 | S327: ='Ответы на форму (1)'!J327 -> 5 | T327: =VLOOKUP('Ответы на форму (1)'!K327,ДжедайскаяШкала,2,FALSE) -> 1. Плохо | U327: =VLOOKUP('Ответы на форму (1)'!L327,ДжедайскаяШкала,2,FALSE) -> 1. Плохо | V327: =SUM(X327:AG327) -> 31 | W327: =IF(V327<24,"1. Свежий",IF(V327<33,"2. Усталый", "3. В хлам")) -> 2. Усталый | X327: =VLOOKUP('Ответы на форму (1)'!M327,FAS,2,FALSE) -> 4 | Y327: =VLOOKUP('Ответы на форму (1)'!N327,FAS,2,FALSE) -> 3 | Z327: =VLOOKUP('Ответы на форму (1)'!O327,FAS,2,FALSE) -> 3 | AA327: =VLOOKUP('Ответы на форму (1)'!P327,FAS,2,FALSE) -> 3 | AB327: =VLOOKUP('Ответы на форму (1)'!Q327,FAS,2,FALSE) -> 3 | AC327: =VLOOKUP('Ответы на форму (1)'!R327,FAS,2,FALSE) -> 4 | AD327: =VLOOKUP('Ответы на форму (1)'!S327,FAS,2,FALSE) -> 3 | AE327: =VLOOKUP('Ответы на форму (1)'!T327,FAS,2,FALSE) -> 3 | ... AG327: =VLOOKUP('Ответы на форму (1)'!V327,FAS,2,FALSE) -> 2
A328: =VLOOKUP('Ответы на форму (1)'!B328,Пол,2,FALSE) -> Ж | C328: =IF(B328<27,"3. Миллениал :)",IF(B328<35,"2. Молодой", "1. Мудрый :)")) -> 3. Миллениал :) | D328: =VLOOKUP('Ответы на форму (1)'!D328,ЧастотаТолчкосмартфона,2,FALSE) -> 4. Очень Часто | E328: =IF(ISERR(FIND(E$1,'Ответы на форму (1)'!$E328)),0,IF(FIND(E$1,'Ответы на форму (1)'!$E328)>0,1,0)) -> 0 | F328: =IF(ISERR(FIND(F$1,'Ответы на форму (1)'!$E328)),0,IF(FIND(F$1,'Ответы на форму (1)'!$E328)>0,1,0)) -> 0 | G328: =IF(ISERR(FIND(G$1,'Ответы на форму (1)'!$E328)),0,IF(FIND(G$1,'Ответы на форму (1)'!$E328)>0,1,0)) -> 0 | H328: =IF(ISERR(FIND(H$1,'Ответы на форму (1)'!$E328)),0,IF(FIND(H$1,'Ответы на форму (1)'!$E328)>0,1,0)) -> 1 | I328: =IF(ISERR(FIND(I$1,'Ответы на форму (1)'!$E328)),0,IF(FIND(I$1,'Ответы на форму (1)'!$E328)>0,1,0)) -> 0 | J328: =IF(ISERR(FIND(J$1,'Ответы на форму (1)'!$E328)),0,IF(FIND(J$1,'Ответы на форму (1)'!$E328)>0,1,0)) -> 0 | K328: =IF(ISERR(FIND(K$1,'Ответы на форму (1)'!$E328)),0,IF(FIND(K$1,'Ответы на форму (1)'!$E328)>0,1,0)) -> 0 | L328: =SUM(E328:K328) -> 1 | M328: =SUM(O328:S328) -> 18 | N328: =IF(M328<16,"3. Не довольный",IF(M328<26,"2. Так себе", "1. Довольный")) -> 2. Так себе | O328: ='Ответы на форму (1)'!F328 -> 4 | P328: ='Ответы на форму (1)'!G328 -> 4 | Q328: ='Ответы на форму (1)'!H328 -> 4 | R328: ='Ответы на форму (1)'!I328 -> 4 | S328: ='Ответы на форму (1)'!J328 -> 2 | T328: =VLOOKUP('Ответы на форму (1)'!K328,ДжедайскаяШкала,2,FALSE) -> 2. Средне | U328: =VLOOKUP('Ответы на форму (1)'!L328,ДжедайскаяШкала,2,FALSE) -> 1. Плохо | V328: =SUM(X328:AG328) -> 41 | W328: =IF(V328<24,"1. Свежий",IF(V328<33,"2. Усталый", "3. В хлам")) -> 3. В хлам | X328: =VLOOKUP('Ответы на форму (1)'!M328,FAS,2,FALSE) -> 5 | Y328: =VLOOKUP('Ответы на форму (1)'!N328,FAS,2,FALSE) -> 5 | Z328: =VLOOKUP('Ответы на форму (1)'!O328,FAS,2,FALSE) -> 5 | AA328: =VLOOKUP('Ответы на форму (1)'!P328,FAS,2,FALSE) -> 1 | AB328: =VLOOKUP('Ответы на форму (1)'!Q328,FAS,2,FALSE) -> 5 | AC328: =VLOOKUP('Ответы на форму (1)'!R328,FAS,2,FALSE) -> 5 | AD328: =VLOOKUP('Ответы на форму (1)'!S328,FAS,2,FALSE) -> 5 | AE328: =VLOOKUP('Ответы на форму (1)'!T328,FAS,2,FALSE) -> 2 | ... AG328: =VLOOKUP('Ответы на форму (1)'!V328,FAS,2,FALSE) -> 3
A329: =VLOOKUP('Ответы на форму (1)'!B329,Пол,2,FALSE) -> М | B329: ='Ответы на форму (1)'!C329 -> 28 | C329: =IF(B329<27,"3. Миллениал :)",IF(B329<35,"2. Молодой", "1. Мудрый :)")) -> 2. Молодой | D329: =VLOOKUP('Ответы на форму (1)'!D329,ЧастотаТолчкосмартфона,2,FALSE) -> 4. Очень Часто | E329: =IF(ISERR(FIND(E$1,'Ответы на форму (1)'!$E329)),0,IF(FIND(E$1,'Ответы на форму (1)'!$E329)>0,1,0)) -> 0 | F329: =IF(ISERR(FIND(F$1,'Ответы на форму (1)'!$E329)),0,IF(FIND(F$1,'Ответы на форму (1)'!$E329)>0,1,0)) -> 1 | G329: =IF(ISERR(FIND(G$1,'Ответы на форму (1)'!$E329)),0,IF(FIND(G$1,'Ответы на форму (1)'!$E329)>0,1,0)) -> 0 | H329: =IF(ISERR(FIND(H$1,'Ответы на форму (1)'!$E329)),0,IF(FIND(H$1,'Ответы на форму (1)'!$E329)>0,1,0)) -> 1 | I329: =IF(ISERR(FIND(I$1,'Ответы на форму (1)'!$E329)),0,IF(FIND(I$1,'Ответы на форму (1)'!$E329)>0,1,0)) -> 0 | J329: =IF(ISERR(FIND(J$1,'Ответы на форму (1)'!$E329)),0,IF(FIND(J$1,'Ответы на форму (1)'!$E329)>0,1,0)) -> 0 | K329: =IF(ISERR(FIND(K$1,'Ответы на форму (1)'!$E329)),0,IF(FIND(K$1,'Ответы на форму (1)'!$E329)>0,1,0)) -> 0 | L329: =SUM(E329:K329) -> 2 | M329: =SUM(O329:S329) -> 29 | N329: =IF(M329<16,"3. Не довольный",IF(M329<26,"2. Так себе", "1. Довольный")) -> 1. Довольный | O329: ='Ответы на форму (1)'!F329 -> 6 | P329: ='Ответы на форму (1)'!G329 -> 6 | Q329: ='Ответы на форму (1)'!H329 -> 6 | R329: ='Ответы на форму (1)'!I329 -> 6 | S329: ='Ответы на форму (1)'!J329 -> 5 | T329: =VLOOKUP('Ответы на форму (1)'!K329,ДжедайскаяШкала,2,FALSE) -> 3. Хорошо | U329: =VLOOKUP('Ответы на форму (1)'!L329,ДжедайскаяШкала,2,FALSE) -> 3. Хорошо | V329: =SUM(X329:AG329) -> 23 | W329: =IF(V329<24,"1. Свежий",IF(V329<33,"2. Усталый", "3. В хлам")) -> 1. Свежий | X329: =VLOOKUP('Ответы на форму (1)'!M329,FAS,2,FALSE) -> 2 | Y329: =VLOOKUP('Ответы на форму (1)'!N329,FAS,2,FALSE) -> 2 | Z329: =VLOOKUP('Ответы на форму (1)'!O329,FAS,2,FALSE) -> 2 | AA329: =VLOOKUP('Ответы на форму (1)'!P329,FAS,2,FALSE) -> 4 | AB329: =VLOOKUP('Ответы на форму (1)'!Q329,FAS,2,FALSE) -> 2 | AC329: =VLOOKUP('Ответы на форму (1)'!R329,FAS,2,FALSE) -> 2 | AD329: =VLOOKUP('Ответы на форму (1)'!S329,FAS,2,FALSE) -> 2 | AE329: =VLOOKUP('Ответы на форму (1)'!T329,FAS,2,FALSE) -> 2 | ... AG329: =VLOOKUP('Ответы на форму (1)'!V329,FAS,2,FALSE) -> 4
A330: =VLOOKUP('Ответы на форму (1)'!B330,Пол,2,FALSE) -> Ж | B330: ='Ответы на форму (1)'!C330 -> 38 | C330: =IF(B330<27,"3. Миллениал :)",IF(B330<35,"2. Молодой", "1. Мудрый :)")) -> 1. Мудрый :) | D330: =VLOOKUP('Ответы на форму (1)'!D330,ЧастотаТолчкосмартфона,2,FALSE) -> 0. Никогда | E330: =IF(ISERR(FIND(E$1,'Ответы на форму (1)'!$E330)),0,IF(FIND(E$1,'Ответы на форму (1)'!$E330)>0,1,0)) -> 0 | F330: =IF(ISERR(FIND(F$1,'Ответы на форму (1)'!$E330)),0,IF(FIND(F$1,'Ответы на форму (1)'!$E330)>0,1,0)) -> 0 | G330: =IF(ISERR(FIND(G$1,'Ответы на форму (1)'!$E330)),0,IF(FIND(G$1,'Ответы на форму (1)'!$E330)>0,1,0)) -> 0 | H330: =IF(ISERR(FIND(H$1,'Ответы на форму (1)'!$E330)),0,IF(FIND(H$1,'Ответы на форму (1)'!$E330)>0,1,0)) -> 0 | I330: =IF(ISERR(FIND(I$1,'Ответы на форму (1)'!$E330)),0,IF(FIND(I$1,'Ответы на форму (1)'!$E330)>0,1,0)) -> 0 | J330: =IF(ISERR(FIND(J$1,'Ответы на форму (1)'!$E330)),0,IF(FIND(J$1,'Ответы на форму (1)'!$E330)>0,1,0)) -> 0 | K330: =IF(ISERR(FIND(K$1,'Ответы на форму (1)'!$E330)),0,IF(FIND(K$1,'Ответы на форму (1)'!$E330)>0,1,0)) -> 0 | L330: =SUM(E330:K330) -> 0 | M330: =SUM(O330:S330) -> 21 | N330: =IF(M330<16,"3. Не довольный",IF(M330<26,"2. Так себе", "1. Довольный")) -> 2. Так себе | O330: ='Ответы на форму (1)'!F330 -> 4 | P330: ='Ответы на форму (1)'!G330 -> 4 | Q330: ='Ответы на форму (1)'!H330 -> 4 | R330: ='Ответы на форму (1)'!I330 -> 4 | S330: ='Ответы на форму (1)'!J330 -> 5 | T330: =VLOOKUP('Ответы на форму (1)'!K330,ДжедайскаяШкала,2,FALSE) -> 2. Средне | U330: =VLOOKUP('Ответы на форму (1)'!L330,ДжедайскаяШкала,2,FALSE) -> 3. Хорошо | V330: =SUM(X330:AG330) -> 25 | W330: =IF(V330<24,"1. Свежий",IF(V330<33,"2. Усталый", "3. В хлам")) -> 2. Усталый | X330: =VLOOKUP('Ответы на форму (1)'!M330,FAS,2,FALSE) -> 3 | Y330: =VLOOKUP('Ответы на форму (1)'!N330,FAS,2,FALSE) -> 2 | Z330: =VLOOKUP('Ответы на форму (1)'!O330,FAS,2,FALSE) -> 2 | AA330: =VLOOKUP('Ответы на форму (1)'!P330,FAS,2,FALSE) -> 5 | AB330: =VLOOKUP('Ответы на форму (1)'!Q330,FAS,2,FALSE) -> 2 | AC330: =VLOOKUP('Ответы на форму (1)'!R330,FAS,2,FALSE) -> 2 | AD330: =VLOOKUP('Ответы на форму (1)'!S330,FAS,2,FALSE) -> 1 | AE330: =VLOOKUP('Ответы на форму (1)'!T330,FAS,2,FALSE) -> 2 | ... AG330: =VLOOKUP('Ответы на форму (1)'!V330,FAS,2,FALSE) -> 4
A331: =VLOOKUP('Ответы на форму (1)'!B331,Пол,2,FALSE) -> Ж | B331: ='Ответы на форму (1)'!C331 -> 34 | C331: =IF(B331<27,"3. Миллениал :)",IF(B331<35,"2. Молодой", "1. Мудрый :)")) -> 2. Молодой | D331: =VLOOKUP('Ответы на форму (1)'!D331,ЧастотаТолчкосмартфона,2,FALSE) -> 0. Никогда | E331: =IF(ISERR(FIND(E$1,'Ответы на форму (1)'!$E331)),0,IF(FIND(E$1,'Ответы на форму (1)'!$E331)>0,1,0)) -> 0 | F331: =IF(ISERR(FIND(F$1,'Ответы на форму (1)'!$E331)),0,IF(FIND(F$1,'Ответы на форму (1)'!$E331)>0,1,0)) -> 0 | G331: =IF(ISERR(FIND(G$1,'Ответы на форму (1)'!$E331)),0,IF(FIND(G$1,'Ответы на форму (1)'!$E331)>0,1,0)) -> 0 | H331: =IF(ISERR(FIND(H$1,'Ответы на форму (1)'!$E331)),0,IF(FIND(H$1,'Ответы на форму (1)'!$E331)>0,1,0)) -> 0 | I331: =IF(ISERR(FIND(I$1,'Ответы на форму (1)'!$E331)),0,IF(FIND(I$1,'Ответы на форму (1)'!$E331)>0,1,0)) -> 0 | J331: =IF(ISERR(FIND(J$1,'Ответы на форму (1)'!$E331)),0,IF(FIND(J$1,'Ответы на форму (1)'!$E331)>0,1,0)) -> 0 | K331: =IF(ISERR(FIND(K$1,'Ответы на форму (1)'!$E331)),0,IF(FIND(K$1,'Ответы на форму (1)'!$E331)>0,1,0)) -> 0 | L331: =SUM(E331:K331) -> 0 | M331: =SUM(O331:S331) -> 29 | N331: =IF(M331<16,"3. Не довольный",IF(M331<26,"2. Так себе", "1. Довольный")) -> 1. Довольный | O331: ='Ответы на форму (1)'!F331 -> 6 | P331: ='Ответы на форму (1)'!G331 -> 6 | Q331: ='Ответы на форму (1)'!H331 -> 6 | R331: ='Ответы на форму (1)'!I331 -> 6 | S331: ='Ответы на форму (1)'!J331 -> 5 | T331: =VLOOKUP('Ответы на форму (1)'!K331,ДжедайскаяШкала,2,FALSE) -> 2. Средне | U331: =VLOOKUP('Ответы на форму (1)'!L331,ДжедайскаяШкала,2,FALSE) -> 3. Хорошо | V331: =SUM(X331:AG331) -> 23 | W331: =IF(V331<24,"1. Свежий",IF(V331<33,"2. Усталый", "3. В хлам")) -> 1. Свежий | X331: =VLOOKUP('Ответы на форму (1)'!M331,FAS,2,FALSE) -> 2 | Y331: =VLOOKUP('Ответы на форму (1)'!N331,FAS,2,FALSE) -> 2 | Z331: =VLOOKUP('Ответы на форму (1)'!O331,FAS,2,FALSE) -> 3 | AA331: =VLOOKUP('Ответы на форму (1)'!P331,FAS,2,FALSE) -> 4 | AB331: =VLOOKUP('Ответы на форму (1)'!Q331,FAS,2,FALSE) -> 2 | AC331: =VLOOKUP('Ответы на форму (1)'!R331,FAS,2,FALSE) -> 2 | AD331: =VLOOKUP('Ответы на форму (1)'!S331,FAS,2,FALSE) -> 2 | AE331: =VLOOKUP('Ответы на форму (1)'!T331,FAS,2,FALSE) -> 1 | ... AG331: =VLOOKUP('Ответы на форму (1)'!V331,FAS,2,FALSE) -> 4
A332: =VLOOKUP('Ответы на форму (1)'!B332,Пол,2,FALSE) -> М | B332: ='Ответы на форму (1)'!C332 -> 42 | C332: =IF(B332<27,"3. Миллениал :)",IF(B332<35,"2. Молодой", "1. Мудрый :)")) -> 1. Мудрый :) | D332: =VLOOKUP('Ответы на форму (1)'!D332,ЧастотаТолчкосмартфона,2,FALSE) -> 4. Очень Часто | E332: =IF(ISERR(FIND(E$1,'Ответы на форму (1)'!$E332)),0,IF(FIND(E$1,'Ответы на форму (1)'!$E332)>0,1,0)) -> 0 | F332: =IF(ISERR(FIND(F$1,'Ответы на форму (1)'!$E332)),0,IF(FIND(F$1,'Ответы на форму (1)'!$E332)>0,1,0)) -> 1 | G332: =IF(ISERR(FIND(G$1,'Ответы на форму (1)'!$E332)),0,IF(FIND(G$1,'Ответы на форму (1)'!$E332)>0,1,0)) -> 0 | H332: =IF(ISERR(FIND(H$1,'Ответы на форму (1)'!$E332)),0,IF(FIND(H$1,'Ответы на форму (1)'!$E332)>0,1,0)) -> 1 | I332: =IF(ISERR(FIND(I$1,'Ответы на форму (1)'!$E332)),0,IF(FIND(I$1,'Ответы на форму (1)'!$E332)>0,1,0)) -> 1 | J332: =IF(ISERR(FIND(J$1,'Ответы на форму (1)'!$E332)),0,IF(FIND(J$1,'Ответы на форму (1)'!$E332)>0,1,0)) -> 1 | K332: =IF(ISERR(FIND(K$1,'Ответы на форму (1)'!$E332)),0,IF(FIND(K$1,'Ответы на форму (1)'!$E332)>0,1,0)) -> 0 | L332: =SUM(E332:K332) -> 4 | M332: =SUM(O332:S332) -> 24 | N332: =IF(M332<16,"3. Не довольный",IF(M332<26,"2. Так себе", "1. Довольный")) -> 2. Так себе | O332: ='Ответы на форму (1)'!F332 -> 5 | P332: ='Ответы на форму (1)'!G332 -> 6 | Q332: ='Ответы на форму (1)'!H332 -> 3 | R332: ='Ответы на форму (1)'!I332 -> 5 | S332: ='Ответы на форму (1)'!J332 -> 5 | T332: =VLOOKUP('Ответы на форму (1)'!K332,ДжедайскаяШкала,2,FALSE) -> 2. Средне | U332: =VLOOKUP('Ответы на форму (1)'!L332,ДжедайскаяШкала,2,FALSE) -> 2. Средне | V332: =SUM(X332:AG332) -> 38 | W332: =IF(V332<24,"1. Свежий",IF(V332<33,"2. Усталый", "3. В хлам")) -> 3. В хлам | X332: =VLOOKUP('Ответы на форму (1)'!M332,FAS,2,FALSE) -> 4 | Y332: =VLOOKUP('Ответы на форму (1)'!N332,FAS,2,FALSE) -> 4 | Z332: =VLOOKUP('Ответы на форму (1)'!O332,FAS,2,FALSE) -> 4 | AA332: =VLOOKUP('Ответы на форму (1)'!P332,FAS,2,FALSE) -> 3 | AB332: =VLOOKUP('Ответы на форму (1)'!Q332,FAS,2,FALSE) -> 4 | AC332: =VLOOKUP('Ответы на форму (1)'!R332,FAS,2,FALSE) -> 5 | AD332: =VLOOKUP('Ответы на форму (1)'!S332,FAS,2,FALSE) -> 3 | AE332: =VLOOKUP('Ответы на форму (1)'!T332,FAS,2,FALSE) -> 4 | ... AG332: =VLOOKUP('Ответы на форму (1)'!V332,FAS,2,FALSE) -> 3
A333: =VLOOKUP('Ответы на форму (1)'!B333,Пол,2,FALSE) -> М | B333: ='Ответы на форму (1)'!C333 -> 33 | C333: =IF(B333<27,"3. Миллениал :)",IF(B333<35,"2. Молодой", "1. Мудрый :)")) -> 2. Молодой | D333: =VLOOKUP('Ответы на форму (1)'!D333,ЧастотаТолчкосмартфона,2,FALSE) -> 4. Очень Часто | E333: =IF(ISERR(FIND(E$1,'Ответы на форму (1)'!$E333)),0,IF(FIND(E$1,'Ответы на форму (1)'!$E333)>0,1,0)) -> 0 | F333: =IF(ISERR(FIND(F$1,'Ответы на форму (1)'!$E333)),0,IF(FIND(F$1,'Ответы на форму (1)'!$E333)>0,1,0)) -> 1 | G333: =IF(ISERR(FIND(G$1,'Ответы на форму (1)'!$E333)),0,IF(FIND(G$1,'Ответы на форму (1)'!$E333)>0,1,0)) -> 0 | H333: =IF(ISERR(FIND(H$1,'Ответы на форму (1)'!$E333)),0,IF(FIND(H$1,'Ответы на форму (1)'!$E333)>0,1,0)) -> 1 | I333: =IF(ISERR(FIND(I$1,'Ответы на форму (1)'!$E333)),0,IF(FIND(I$1,'Ответы на форму (1)'!$E333)>0,1,0)) -> 0 | J333: =IF(ISERR(FIND(J$1,'Ответы на форму (1)'!$E333)),0,IF(FIND(J$1,'Ответы на форму (1)'!$E333)>0,1,0)) -> 1 | K333: =IF(ISERR(FIND(K$1,'Ответы на форму (1)'!$E333)),0,IF(FIND(K$1,'Ответы на форму (1)'!$E333)>0,1,0)) -> 0 | L333: =SUM(E333:K333) -> 3 | M333: =SUM(O333:S333) -> 20 | N333: =IF(M333<16,"3. Не довольный",IF(M333<26,"2. Так себе", "1. Довольный")) -> 2. Так себе | O333: ='Ответы на форму (1)'!F333 -> 4 | P333: ='Ответы на форму (1)'!G333 -> 5 | Q333: ='Ответы на форму (1)'!H333 -> 4 | R333: ='Ответы на форму (1)'!I333 -> 5 | S333: ='Ответы на форму (1)'!J333 -> 2 | T333: =VLOOKUP('Ответы на форму (1)'!K333,ДжедайскаяШкала,2,FALSE) -> 2. Средне | U333: =VLOOKUP('Ответы на форму (1)'!L333,ДжедайскаяШкала,2,FALSE) -> 3. Хорошо | V333: =SUM(X333:AG333) -> 29 | W333: =IF(V333<24,"1. Свежий",IF(V333<33,"2. Усталый", "3. В хлам")) -> 2. Усталый | X333: =VLOOKUP('Ответы на форму (1)'!M333,FAS,2,FALSE) -> 4 | Y333: =VLOOKUP('Ответы на форму (1)'!N333,FAS,2,FALSE) -> 3 | Z333: =VLOOKUP('Ответы на форму (1)'!O333,FAS,2,FALSE) -> 2 | AA333: =VLOOKUP('Ответы на форму (1)'!P333,FAS,2,FALSE) -> 3 | AB333: =VLOOKUP('Ответы на форму (1)'!Q333,FAS,2,FALSE) -> 2 | AC333: =VLOOKUP('Ответы на форму (1)'!R333,FAS,2,FALSE) -> 3 | AD333: =VLOOKUP('Ответы на форму (1)'!S333,FAS,2,FALSE) -> 3 | AE333: =VLOOKUP('Ответы на форму (1)'!T333,FAS,2,FALSE) -> 2 | ... AG333: =VLOOKUP('Ответы на форму (1)'!V333,FAS,2,FALSE) -> 4
A334: =VLOOKUP('Ответы на форму (1)'!B334,Пол,2,FALSE) -> Ж | B334: ='Ответы на форму (1)'!C334 -> 31 | C334: =IF(B334<27,"3. Миллениал :)",IF(B334<35,"2. Молодой", "1. Мудрый :)")) -> 2. Молодой | D334: =VLOOKUP('Ответы на форму (1)'!D334,ЧастотаТолчкосмартфона,2,FALSE) -> 1. Редко | E334: =IF(ISERR(FIND(E$1,'Ответы на форму (1)'!$E334)),0,IF(FIND(E$1,'Ответы на форму (1)'!$E334)>0,1,0)) -> 0 | F334: =IF(ISERR(FIND(F$1,'Ответы на форму (1)'!$E334)),0,IF(FIND(F$1,'Ответы на форму (1)'!$E334)>0,1,0)) -> 0 | G334: =IF(ISERR(FIND(G$1,'Ответы на форму (1)'!$E334)),0,IF(FIND(G$1,'Ответы на форму (1)'!$E334)>0,1,0)) -> 0 | H334: =IF(ISERR(FIND(H$1,'Ответы на форму (1)'!$E334)),0,IF(FIND(H$1,'Ответы на форму (1)'!$E334)>0,1,0)) -> 1 | I334: =IF(ISERR(FIND(I$1,'Ответы на форму (1)'!$E334)),0,IF(FIND(I$1,'Ответы на форму (1)'!$E334)>0,1,0)) -> 0 | J334: =IF(ISERR(FIND(J$1,'Ответы на форму (1)'!$E334)),0,IF(FIND(J$1,'Ответы на форму (1)'!$E334)>0,1,0)) -> 0 | K334: =IF(ISERR(FIND(K$1,'Ответы на форму (1)'!$E334)),0,IF(FIND(K$1,'Ответы на форму (1)'!$E334)>0,1,0)) -> 0 | L334: =SUM(E334:K334) -> 1 | M334: =SUM(O334:S334) -> 16 | N334: =IF(M334<16,"3. Не довольный",IF(M334<26,"2. Так себе", "1. Довольный")) -> 2. Так себе | O334: ='Ответы на форму (1)'!F334 -> 3 | P334: ='Ответы на форму (1)'!G334 -> 3 | Q334: ='Ответы на форму (1)'!H334 -> 3 | R334: ='Ответы на форму (1)'!I334 -> 3 | S334: ='Ответы на форму (1)'!J334 -> 4 | T334: =VLOOKUP('Ответы на форму (1)'!K334,ДжедайскаяШкала,2,FALSE) -> 2. Средне | U334: =VLOOKUP('Ответы на форму (1)'!L334,ДжедайскаяШкала,2,FALSE) -> 2. Средне | V334: =SUM(X334:AG334) -> 34 | W334: =IF(V334<24,"1. Свежий",IF(V334<33,"2. Усталый", "3. В хлам")) -> 3. В хлам | X334: =VLOOKUP('Ответы на форму (1)'!M334,FAS,2,FALSE) -> 4 | Y334: =VLOOKUP('Ответы на форму (1)'!N334,FAS,2,FALSE) -> 3 | Z334: =VLOOKUP('Ответы на форму (1)'!O334,FAS,2,FALSE) -> 3 | AA334: =VLOOKUP('Ответы на форму (1)'!P334,FAS,2,FALSE) -> 4 | AB334: =VLOOKUP('Ответы на форму (1)'!Q334,FAS,2,FALSE) -> 3 | AC334: =VLOOKUP('Ответы на форму (1)'!R334,FAS,2,FALSE) -> 4 | AD334: =VLOOKUP('Ответы на форму (1)'!S334,FAS,2,FALSE) -> 3 | AE334: =VLOOKUP('Ответы на форму (1)'!T334,FAS,2,FALSE) -> 3 | ... AG334: =VLOOKUP('Ответы на форму (1)'!V334,FAS,2,FALSE) -> 4
A335: =VLOOKUP('Ответы на форму (1)'!B335,Пол,2,FALSE) -> Ж | B335: ='Ответы на форму (1)'!C335 -> 39 | C335: =IF(B335<27,"3. Миллениал :)",IF(B335<35,"2. Молодой", "1. Мудрый :)")) -> 1. Мудрый :) | D335: =VLOOKUP('Ответы на форму (1)'!D335,ЧастотаТолчкосмартфона,2,FALSE) -> 1. Редко | E335: =IF(ISERR(FIND(E$1,'Ответы на форму (1)'!$E335)),0,IF(FIND(E$1,'Ответы на форму (1)'!$E335)>0,1,0)) -> 1 | F335: =IF(ISERR(FIND(F$1,'Ответы на форму (1)'!$E335)),0,IF(FIND(F$1,'Ответы на форму (1)'!$E335)>0,1,0)) -> 0 | G335: =IF(ISERR(FIND(G$1,'Ответы на форму (1)'!$E335)),0,IF(FIND(G$1,'Ответы на форму (1)'!$E335)>0,1,0)) -> 0 | H335: =IF(ISERR(FIND(H$1,'Ответы на форму (1)'!$E335)),0,IF(FIND(H$1,'Ответы на форму (1)'!$E335)>0,1,0)) -> 0 | I335: =IF(ISERR(FIND(I$1,'Ответы на форму (1)'!$E335)),0,IF(FIND(I$1,'Ответы на форму (1)'!$E335)>0,1,0)) -> 0 | J335: =IF(ISERR(FIND(J$1,'Ответы на форму (1)'!$E335)),0,IF(FIND(J$1,'Ответы на форму (1)'!$E335)>0,1,0)) -> 0 | K335: =IF(ISERR(FIND(K$1,'Ответы на форму (1)'!$E335)),0,IF(FIND(K$1,'Ответы на форму (1)'!$E335)>0,1,0)) -> 0 | L335: =SUM(E335:K335) -> 1 | M335: =SUM(O335:S335) -> 30 | N335: =IF(M335<16,"3. Не довольный",IF(M335<26,"2. Так себе", "1. Довольный")) -> 1. Довольный | O335: ='Ответы на форму (1)'!F335 -> 5 | P335: ='Ответы на форму (1)'!G335 -> 6 | Q335: ='Ответы на форму (1)'!H335 -> 6 | R335: ='Ответы на форму (1)'!I335 -> 6 | S335: ='Ответы на форму (1)'!J335 -> 7 | T335: =VLOOKUP('Ответы на форму (1)'!K335,ДжедайскаяШкала,2,FALSE) -> 2. Средне | U335: =VLOOKUP('Ответы на форму (1)'!L335,ДжедайскаяШкала,2,FALSE) -> 3. Хорошо | V335: =SUM(X335:AG335) -> 25 | W335: =IF(V335<24,"1. Свежий",IF(V335<33,"2. Усталый", "3. В хлам")) -> 2. Усталый | X335: =VLOOKUP('Ответы на форму (1)'!M335,FAS,2,FALSE) -> 4 | Y335: =VLOOKUP('Ответы на форму (1)'!N335,FAS,2,FALSE) -> 3 | Z335: =VLOOKUP('Ответы на форму (1)'!O335,FAS,2,FALSE) -> 2 | AA335: =VLOOKUP('Ответы на форму (1)'!P335,FAS,2,FALSE) -> 4 | AB335: =VLOOKUP('Ответы на форму (1)'!Q335,FAS,2,FALSE) -> 2 | AC335: =VLOOKUP('Ответы на форму (1)'!R335,FAS,2,FALSE) -> 2 | AD335: =VLOOKUP('Ответы на форму (1)'!S335,FAS,2,FALSE) -> 1 | AE335: =VLOOKUP('Ответы на форму (1)'!T335,FAS,2,FALSE) -> 2 | ... AG335: =VLOOKUP('Ответы на форму (1)'!V335,FAS,2,FALSE) -> 4
A336: =VLOOKUP('Ответы на форму (1)'!B336,Пол,2,FALSE) -> М | B336: ='Ответы на форму (1)'!C336 -> 37 | C336: =IF(B336<27,"3. Миллениал :)",IF(B336<35,"2. Молодой", "1. Мудрый :)")) -> 1. Мудрый :) | D336: =VLOOKUP('Ответы на форму (1)'!D336,ЧастотаТолчкосмартфона,2,FALSE) -> 3. Часто | E336: =IF(ISERR(FIND(E$1,'Ответы на форму (1)'!$E336)),0,IF(FIND(E$1,'Ответы на форму (1)'!$E336)>0,1,0)) -> 0 | F336: =IF(ISERR(FIND(F$1,'Ответы на форму (1)'!$E336)),0,IF(FIND(F$1,'Ответы на форму (1)'!$E336)>0,1,0)) -> 1 | G336: =IF(ISERR(FIND(G$1,'Ответы на форму (1)'!$E336)),0,IF(FIND(G$1,'Ответы на форму (1)'!$E336)>0,1,0)) -> 1 | H336: =IF(ISERR(FIND(H$1,'Ответы на форму (1)'!$E336)),0,IF(FIND(H$1,'Ответы на форму (1)'!$E336)>0,1,0)) -> 1 | I336: =IF(ISERR(FIND(I$1,'Ответы на форму (1)'!$E336)),0,IF(FIND(I$1,'Ответы на форму (1)'!$E336)>0,1,0)) -> 0 | J336: =IF(ISERR(FIND(J$1,'Ответы на форму (1)'!$E336)),0,IF(FIND(J$1,'Ответы на форму (1)'!$E336)>0,1,0)) -> 0 | K336: =IF(ISERR(FIND(K$1,'Ответы на форму (1)'!$E336)),0,IF(FIND(K$1,'Ответы на форму (1)'!$E336)>0,1,0)) -> 1 | L336: =SUM(E336:K336) -> 4 | M336: =SUM(O336:S336) -> 14 | N336: =IF(M336<16,"3. Не довольный",IF(M336<26,"2. Так себе", "1. Довольный")) -> 3. Не довольный | O336: ='Ответы на форму (1)'!F336 -> 3 | P336: ='Ответы на форму (1)'!G336 -> 3 | Q336: ='Ответы на форму (1)'!H336 -> 3 | R336: ='Ответы на форму (1)'!I336 -> 4 | S336: ='Ответы на форму (1)'!J336 -> 1 | T336: =VLOOKUP('Ответы на форму (1)'!K336,ДжедайскаяШкала,2,FALSE) -> 2. Средне | U336: =VLOOKUP('Ответы на форму (1)'!L336,ДжедайскаяШкала,2,FALSE) -> 3. Хорошо | V336: =SUM(X336:AG336) -> 22 | W336: =IF(V336<24,"1. Свежий",IF(V336<33,"2. Усталый", "3. В хлам")) -> 1. Свежий | X336: =VLOOKUP('Ответы на форму (1)'!M336,FAS,2,FALSE) -> 3 | Y336: =VLOOKUP('Ответы на форму (1)'!N336,FAS,2,FALSE) -> 2 | Z336: =VLOOKUP('Ответы на форму (1)'!O336,FAS,2,FALSE) -> 2 | AA336: =VLOOKUP('Ответы на форму (1)'!P336,FAS,2,FALSE) -> 4 | AB336: =VLOOKUP('Ответы на форму (1)'!Q336,FAS,2,FALSE) -> 1 | AC336: =VLOOKUP('Ответы на форму (1)'!R336,FAS,2,FALSE) -> 2 | AD336: =VLOOKUP('Ответы на форму (1)'!S336,FAS,2,FALSE) -> 1 | AE336: =VLOOKUP('Ответы на форму (1)'!T336,FAS,2,FALSE) -> 1 | ... AG336: =VLOOKUP('Ответы на форму (1)'!V336,FAS,2,FALSE) -> 4
A337: =VLOOKUP('Ответы на форму (1)'!B337,Пол,2,FALSE) -> М | B337: ='Ответы на форму (1)'!C337 -> 37 | C337: =IF(B337<27,"3. Миллениал :)",IF(B337<35,"2. Молодой", "1. Мудрый :)")) -> 1. Мудрый :) | D337: =VLOOKUP('Ответы на форму (1)'!D337,ЧастотаТолчкосмартфона,2,FALSE) -> 4. Очень Часто | E337: =IF(ISERR(FIND(E$1,'Ответы на форму (1)'!$E337)),0,IF(FIND(E$1,'Ответы на форму (1)'!$E337)>0,1,0)) -> 0 | F337: =IF(ISERR(FIND(F$1,'Ответы на форму (1)'!$E337)),0,IF(FIND(F$1,'Ответы на форму (1)'!$E337)>0,1,0)) -> 0 | G337: =IF(ISERR(FIND(G$1,'Ответы на форму (1)'!$E337)),0,IF(FIND(G$1,'Ответы на форму (1)'!$E337)>0,1,0)) -> 0 | H337: =IF(ISERR(FIND(H$1,'Ответы на форму (1)'!$E337)),0,IF(FIND(H$1,'Ответы на форму (1)'!$E337)>0,1,0)) -> 1 | I337: =IF(ISERR(FIND(I$1,'Ответы на форму (1)'!$E337)),0,IF(FIND(I$1,'Ответы на форму (1)'!$E337)>0,1,0)) -> 0 | J337: =IF(ISERR(FIND(J$1,'Ответы на форму (1)'!$E337)),0,IF(FIND(J$1,'Ответы на форму (1)'!$E337)>0,1,0)) -> 0 | K337: =IF(ISERR(FIND(K$1,'Ответы на форму (1)'!$E337)),0,IF(FIND(K$1,'Ответы на форму (1)'!$E337)>0,1,0)) -> 0 | L337: =SUM(E337:K337) -> 1 | M337: =SUM(O337:S337) -> 27 | N337: =IF(M337<16,"3. Не довольный",IF(M337<26,"2. Так себе", "1. Довольный")) -> 1. Довольный | O337: ='Ответы на форму (1)'!F337 -> 3 | P337: ='Ответы на форму (1)'!G337 -> 5 | Q337: ='Ответы на форму (1)'!H337 -> 5 | R337: ='Ответы на форму (1)'!I337 -> 7 | S337: ='Ответы на форму (1)'!J337 -> 7 | T337: =VLOOKUP('Ответы на форму (1)'!K337,ДжедайскаяШкала,2,FALSE) -> 3. Хорошо | U337: =VLOOKUP('Ответы на форму (1)'!L337,ДжедайскаяШкала,2,FALSE) -> 3. Хорошо | V337: =SUM(X337:AG337) -> 37 | W337: =IF(V337<24,"1. Свежий",IF(V337<33,"2. Усталый", "3. В хлам")) -> 3. В хлам | X337: =VLOOKUP('Ответы на форму (1)'!M337,FAS,2,FALSE) -> 3 | Y337: =VLOOKUP('Ответы на форму (1)'!N337,FAS,2,FALSE) -> 4 | Z337: =VLOOKUP('Ответы на форму (1)'!O337,FAS,2,FALSE) -> 4 | AA337: =VLOOKUP('Ответы на форму (1)'!P337,FAS,2,FALSE) -> 4 | AB337: =VLOOKUP('Ответы на форму (1)'!Q337,FAS,2,FALSE) -> 2 | AC337: =VLOOKUP('Ответы на форму (1)'!R337,FAS,2,FALSE) -> 3 | AD337: =VLOOKUP('Ответы на форму (1)'!S337,FAS,2,FALSE) -> 4 | AE337: =VLOOKUP('Ответы на форму (1)'!T337,FAS,2,FALSE) -> 4 | ... AG337: =VLOOKUP('Ответы на форму (1)'!V337,FAS,2,FALSE) -> 5
A338: =VLOOKUP('Ответы на форму (1)'!B338,Пол,2,FALSE) -> М | B338: ='Ответы на форму (1)'!C338 -> 37 | C338: =IF(B338<27,"3. Миллениал :)",IF(B338<35,"2. Молодой", "1. Мудрый :)")) -> 1. Мудрый :) | D338: =VLOOKUP('Ответы на форму (1)'!D338,ЧастотаТолчкосмартфона,2,FALSE) -> 4. Очень Часто | E338: =IF(ISERR(FIND(E$1,'Ответы на форму (1)'!$E338)),0,IF(FIND(E$1,'Ответы на форму (1)'!$E338)>0,1,0)) -> 0 | F338: =IF(ISERR(FIND(F$1,'Ответы на форму (1)'!$E338)),0,IF(FIND(F$1,'Ответы на форму (1)'!$E338)>0,1,0)) -> 0 | G338: =IF(ISERR(FIND(G$1,'Ответы на форму (1)'!$E338)),0,IF(FIND(G$1,'Ответы на форму (1)'!$E338)>0,1,0)) -> 0 | H338: =IF(ISERR(FIND(H$1,'Ответы на форму (1)'!$E338)),0,IF(FIND(H$1,'Ответы на форму (1)'!$E338)>0,1,0)) -> 1 | I338: =IF(ISERR(FIND(I$1,'Ответы на форму (1)'!$E338)),0,IF(FIND(I$1,'Ответы на форму (1)'!$E338)>0,1,0)) -> 0 | J338: =IF(ISERR(FIND(J$1,'Ответы на форму (1)'!$E338)),0,IF(FIND(J$1,'Ответы на форму (1)'!$E338)>0,1,0)) -> 0 | K338: =IF(ISERR(FIND(K$1,'Ответы на форму (1)'!$E338)),0,IF(FIND(K$1,'Ответы на форму (1)'!$E338)>0,1,0)) -> 0 | L338: =SUM(E338:K338) -> 1 | M338: =SUM(O338:S338) -> 27 | N338: =IF(M338<16,"3. Не довольный",IF(M338<26,"2. Так себе", "1. Довольный")) -> 1. Довольный | O338: ='Ответы на форму (1)'!F338 -> 3 | P338: ='Ответы на форму (1)'!G338 -> 5 | Q338: ='Ответы на форму (1)'!H338 -> 5 | R338: ='Ответы на форму (1)'!I338 -> 7 | S338: ='Ответы на форму (1)'!J338 -> 7 | T338: =VLOOKUP('Ответы на форму (1)'!K338,ДжедайскаяШкала,2,FALSE) -> 3. Хорошо | U338: =VLOOKUP('Ответы на форму (1)'!L338,ДжедайскаяШкала,2,FALSE) -> 3. Хорошо | V338: =SUM(X338:AG338) -> 37 | W338: =IF(V338<24,"1. Свежий",IF(V338<33,"2. Усталый", "3. В хлам")) -> 3. В хлам | X338: =VLOOKUP('Ответы на форму (1)'!M338,FAS,2,FALSE) -> 3 | Y338: =VLOOKUP('Ответы на форму (1)'!N338,FAS,2,FALSE) -> 4 | Z338: =VLOOKUP('Ответы на форму (1)'!O338,FAS,2,FALSE) -> 4 | AA338: =VLOOKUP('Ответы на форму (1)'!P338,FAS,2,FALSE) -> 4 | AB338: =VLOOKUP('Ответы на форму (1)'!Q338,FAS,2,FALSE) -> 2 | AC338: =VLOOKUP('Ответы на форму (1)'!R338,FAS,2,FALSE) -> 3 | AD338: =VLOOKUP('Ответы на форму (1)'!S338,FAS,2,FALSE) -> 4 | AE338: =VLOOKUP('Ответы на форму (1)'!T338,FAS,2,FALSE) -> 4 | ... AG338: =VLOOKUP('Ответы на форму (1)'!V338,FAS,2,FALSE) -> 5
A339: =VLOOKUP('Ответы на форму (1)'!B339,Пол,2,FALSE) -> Ж | B339: ='Ответы на форму (1)'!C339 -> 45 | C339: =IF(B339<27,"3. Миллениал :)",IF(B339<35,"2. Молодой", "1. Мудрый :)")) -> 1. Мудрый :) | D339: =VLOOKUP('Ответы на форму (1)'!D339,ЧастотаТолчкосмартфона,2,FALSE) -> 3. Часто | E339: =IF(ISERR(FIND(E$1,'Ответы на форму (1)'!$E339)),0,IF(FIND(E$1,'Ответы на форму (1)'!$E339)>0,1,0)) -> 0 | F339: =IF(ISERR(FIND(F$1,'Ответы на форму (1)'!$E339)),0,IF(FIND(F$1,'Ответы на форму (1)'!$E339)>0,1,0)) -> 0 | G339: =IF(ISERR(FIND(G$1,'Ответы на форму (1)'!$E339)),0,IF(FIND(G$1,'Ответы на форму (1)'!$E339)>0,1,0)) -> 0 | H339: =IF(ISERR(FIND(H$1,'Ответы на форму (1)'!$E339)),0,IF(FIND(H$1,'Ответы на форму (1)'!$E339)>0,1,0)) -> 1 | I339: =IF(ISERR(FIND(I$1,'Ответы на форму (1)'!$E339)),0,IF(FIND(I$1,'Ответы на форму (1)'!$E339)>0,1,0)) -> 0 | J339: =IF(ISERR(FIND(J$1,'Ответы на форму (1)'!$E339)),0,IF(FIND(J$1,'Ответы на форму (1)'!$E339)>0,1,0)) -> 0 | K339: =IF(ISERR(FIND(K$1,'Ответы на форму (1)'!$E339)),0,IF(FIND(K$1,'Ответы на форму (1)'!$E339)>0,1,0)) -> 0 | L339: =SUM(E339:K339) -> 1 | M339: =SUM(O339:S339) -> 12 | N339: =IF(M339<16,"3. Не довольный",IF(M339<26,"2. Так себе", "1. Довольный")) -> 3. Не довольный | O339: ='Ответы на форму (1)'!F339 -> 2 | P339: ='Ответы на форму (1)'!G339 -> 3 | Q339: ='Ответы на форму (1)'!H339 -> 2 | R339: ='Ответы на форму (1)'!I339 -> 3 | S339: ='Ответы на форму (1)'!J339 -> 2 | T339: =VLOOKUP('Ответы на форму (1)'!K339,ДжедайскаяШкала,2,FALSE) -> 2. Средне | U339: =VLOOKUP('Ответы на форму (1)'!L339,ДжедайскаяШкала,2,FALSE) -> 2. Средне | V339: =SUM(X339:AG339) -> 27 | W339: =IF(V339<24,"1. Свежий",IF(V339<33,"2. Усталый", "3. В хлам")) -> 2. Усталый | X339: =VLOOKUP('Ответы на форму (1)'!M339,FAS,2,FALSE) -> 3 | Y339: =VLOOKUP('Ответы на форму (1)'!N339,FAS,2,FALSE) -> 2 | Z339: =VLOOKUP('Ответы на форму (1)'!O339,FAS,2,FALSE) -> 3 | AA339: =VLOOKUP('Ответы на форму (1)'!P339,FAS,2,FALSE) -> 3 | AB339: =VLOOKUP('Ответы на форму (1)'!Q339,FAS,2,FALSE) -> 3 | AC339: =VLOOKUP('Ответы на форму (1)'!R339,FAS,2,FALSE) -> 3 | AD339: =VLOOKUP('Ответы на форму (1)'!S339,FAS,2,FALSE) -> 3 | AE339: =VLOOKUP('Ответы на форму (1)'!T339,FAS,2,FALSE) -> 2 | ... AG339: =VLOOKUP('Ответы на форму (1)'!V339,FAS,2,FALSE) -> 3
A340: =VLOOKUP('Ответы на форму (1)'!B340,Пол,2,FALSE) -> М | B340: ='Ответы на форму (1)'!C340 -> 40 | C340: =IF(B340<27,"3. Миллениал :)",IF(B340<35,"2. Молодой", "1. Мудрый :)")) -> 1. Мудрый :) | D340: =VLOOKUP('Ответы на форму (1)'!D340,ЧастотаТолчкосмартфона,2,FALSE) -> 3. Часто | E340: =IF(ISERR(FIND(E$1,'Ответы на форму (1)'!$E340)),0,IF(FIND(E$1,'Ответы на форму (1)'!$E340)>0,1,0)) -> 0 | F340: =IF(ISERR(FIND(F$1,'Ответы на форму (1)'!$E340)),0,IF(FIND(F$1,'Ответы на форму (1)'!$E340)>0,1,0)) -> 0 | G340: =IF(ISERR(FIND(G$1,'Ответы на форму (1)'!$E340)),0,IF(FIND(G$1,'Ответы на форму (1)'!$E340)>0,1,0)) -> 0 | H340: =IF(ISERR(FIND(H$1,'Ответы на форму (1)'!$E340)),0,IF(FIND(H$1,'Ответы на форму (1)'!$E340)>0,1,0)) -> 1 | I340: =IF(ISERR(FIND(I$1,'Ответы на форму (1)'!$E340)),0,IF(FIND(I$1,'Ответы на форму (1)'!$E340)>0,1,0)) -> 0 | J340: =IF(ISERR(FIND(J$1,'Ответы на форму (1)'!$E340)),0,IF(FIND(J$1,'Ответы на форму (1)'!$E340)>0,1,0)) -> 0 | K340: =IF(ISERR(FIND(K$1,'Ответы на форму (1)'!$E340)),0,IF(FIND(K$1,'Ответы на форму (1)'!$E340)>0,1,0)) -> 1 | L340: =SUM(E340:K340) -> 2 | M340: =SUM(O340:S340) -> 27 | N340: =IF(M340<16,"3. Не довольный",IF(M340<26,"2. Так себе", "1. Довольный")) -> 1. Довольный | O340: ='Ответы на форму (1)'!F340 -> 5 | P340: ='Ответы на форму (1)'!G340 -> 6 | Q340: ='Ответы на форму (1)'!H340 -> 5 | R340: ='Ответы на форму (1)'!I340 -> 6 | S340: ='Ответы на форму (1)'!J340 -> 5 | T340: =VLOOKUP('Ответы на форму (1)'!K340,ДжедайскаяШкала,2,FALSE) -> 2. Средне | U340: =VLOOKUP('Ответы на форму (1)'!L340,ДжедайскаяШкала,2,FALSE) -> 2. Средне | V340: =SUM(X340:AG340) -> 32 | W340: =IF(V340<24,"1. Свежий",IF(V340<33,"2. Усталый", "3. В хлам")) -> 2. Усталый | X340: =VLOOKUP('Ответы на форму (1)'!M340,FAS,2,FALSE) -> 4 | Y340: =VLOOKUP('Ответы на форму (1)'!N340,FAS,2,FALSE) -> 3 | Z340: =VLOOKUP('Ответы на форму (1)'!O340,FAS,2,FALSE) -> 3 | AA340: =VLOOKUP('Ответы на форму (1)'!P340,FAS,2,FALSE) -> 4 | AB340: =VLOOKUP('Ответы на форму (1)'!Q340,FAS,2,FALSE) -> 3 | AC340: =VLOOKUP('Ответы на форму (1)'!R340,FAS,2,FALSE) -> 2 | AD340: =VLOOKUP('Ответы на форму (1)'!S340,FAS,2,FALSE) -> 3 | AE340: =VLOOKUP('Ответы на форму (1)'!T340,FAS,2,FALSE) -> 3 | ... AG340: =VLOOKUP('Ответы на форму (1)'!V340,FAS,2,FALSE) -> 4
... A527: =VLOOKUP('Ответы на форму (1)'!B527,Пол,2,FALSE) -> М | B527: ='Ответы на форму (1)'!C527 -> 42 | C527: =IF(B527<27,"3. Миллениал :)",IF(B527<35,"2. Молодой", "1. Мудрый :)")) -> 1. Мудрый :) | D527: =VLOOKUP('Ответы на форму (1)'!D527,ЧастотаТолчкосмартфона,2,FALSE) -> 4. Очень Часто | E527: =IF(ISERR(FIND(E$1,'Ответы на форму (1)'!$E527)),0,IF(FIND(E$1,'Ответы на форму (1)'!$E527)>0,1,0)) -> 0 | F527: =IF(ISERR(FIND(F$1,'Ответы на форму (1)'!$E527)),0,IF(FIND(F$1,'Ответы на форму (1)'!$E527)>0,1,0)) -> 1 | G527: =IF(ISERR(FIND(G$1,'Ответы на форму (1)'!$E527)),0,IF(FIND(G$1,'Ответы на форму (1)'!$E527)>0,1,0)) -> 0 | H527: =IF(ISERR(FIND(H$1,'Ответы на форму (1)'!$E527)),0,IF(FIND(H$1,'Ответы на форму (1)'!$E527)>0,1,0)) -> 1 | I527: =IF(ISERR(FIND(I$1,'Ответы на форму (1)'!$E527)),0,IF(FIND(I$1,'Ответы на форму (1)'!$E527)>0,1,0)) -> 0 | J527: =IF(ISERR(FIND(J$1,'Ответы на форму (1)'!$E527)),0,IF(FIND(J$1,'Ответы на форму (1)'!$E527)>0,1,0)) -> 0 | K527: =IF(ISERR(FIND(K$1,'Ответы на форму (1)'!$E527)),0,IF(FIND(K$1,'Ответы на форму (1)'!$E527)>0,1,0)) -> 0 | L527: =SUM(E527:K527) -> 2 | M527: =SUM(O527:S527) -> 21 | N527: =IF(M527<16,"3. Не довольный",IF(M527<26,"2. Так себе", "1. Довольный")) -> 2. Так себе | O527: ='Ответы на форму (1)'!F527 -> 5 | P527: ='Ответы на форму (1)'!G527 -> 4 | Q527: ='Ответы на форму (1)'!H527 -> 5 | R527: ='Ответы на форму (1)'!I527 -> 3 | S527: ='Ответы на форму (1)'!J527 -> 4 | T527: =VLOOKUP('Ответы на форму (1)'!K527,ДжедайскаяШкала,2,FALSE) -> 2. Средне | U527: =VLOOKUP('Ответы на форму (1)'!L527,ДжедайскаяШкала,2,FALSE) -> 2. Средне | V527: =SUM(X527:AG527) -> 30 | W527: =IF(V527<24,"1. Свежий",IF(V527<33,"2. Усталый", "3. В хлам")) -> 2. Усталый | X527: =VLOOKUP('Ответы на форму (1)'!M527,FAS,2,FALSE) -> 4 | Y527: =VLOOKUP('Ответы на форму (1)'!N527,FAS,2,FALSE) -> 4 | Z527: =VLOOKUP('Ответы на форму (1)'!O527,FAS,2,FALSE) -> 3 | AA527: =VLOOKUP('Ответы на форму (1)'!P527,FAS,2,FALSE) -> 4 | AB527: =VLOOKUP('Ответы на форму (1)'!Q527,FAS,2,FALSE) -> 3 | AC527: =VLOOKUP('Ответы на форму (1)'!R527,FAS,2,FALSE) -> 3 | AD527: =VLOOKUP('Ответы на форму (1)'!S527,FAS,2,FALSE) -> 2 | AE527: =VLOOKUP('Ответы на форму (1)'!T527,FAS,2,FALSE) -> 2 | ... AG527: =VLOOKUP('Ответы на форму (1)'!V527,FAS,2,FALSE) -> 4

Sheet довольство и усталость
B1: You are using the XLSTAT trial version. Number of days remaining until the trial expires: -100
B3: XLSTAT 2019.4.2.63762 - Tests on contingency tables (Chi-square...) - Start time: 15/05/2020 at 18:51:47 / End time: 15/05/2020 at 18:51:48 / Microsoft Excel 16.012730
B4: These results have been generated using XLSTAT Free. You can benefit from many more tools and options with a full version.
B5: Row variable(s): Workbook = Использование смартфона в туалете (Ответы).xlsx / Sheet = Рабочий стол / Range = 'Рабочий стол'!$N:$N / 526 rows and 1 column
B6: Column variable(s): Workbook = Использование смартфона в туалете (Ответы).xlsx / Sheet = Рабочий стол / Range = 'Рабочий стол'!$W:$W / 526 rows and 1 column
B11: Results for the variables Довольство жизнью and Усталость:
B13: Contingency table (Довольство жизнью / Усталость):
C15: 1. Свежий | D15: 2. Усталый | E15: 3. В хлам
B16: 1. Довольный | C16: 42 | D16: 126 | E16: 24
B17: 2. Так себе | C17: 28 | D17: 167 | E17: 78
B18: 3. Не довольный | C18: 8 | D18: 24 | E18: 29
B21: Test of independence between the rows and the columns (Довольство жизнью / Усталость):
B23: Chi-square (Observed value) | C23: 41.667738
B24: Chi-square (Critical value) | C24: 9.487729
B25: DF | C25: 4
B26: p-value | C26: < 0,0001
B27: alpha | C27: 0.05
B29: Test interpretation:
B30: H0: The rows and the columns of the table are independent.
B31: Ha: There is a link between the rows and the columns of the table.
B32: As the computed p-value is lower than the significance level alpha=0,05, one should reject the null hypothesis H0, and accept the alternative hypothesis Ha.
B36: Significance by cell (Fisher's exact test) (Довольство жизнью / Усталость):
C38: 1. Свежий | D38: 2. Усталый | E38: 3. В хлам
B39: 1. Довольный | C39: > | D39: > | E39: <
B40: 2. Так себе | C40: < | D40: > | E40: >
B41: 3. Не довольный | C41: < | D41: < | E41: >
B42: Values displayed in red are significant at the level alpha=0,05
B45: Chi-square by cell (Довольство жизнью / Усталость):
C47: 1. Свежий | D47: 2. Усталый | E47: 3. В хлам | F47: Total
B48: 1. Довольный | C48: 6.4282137 | D48: 0.91489097 | E48: 11.863292 | F48: 19.206397
B49: 2. Так себе | C49: 3.8490962 | D49: 0.037183215 | E49: 1.4735914 | F49: 5.3598707
B50: 3. Не довольный | C50: 0.12086907 | D50: 4.4305583 | E50: 12.550043 | F50: 17.10147
B51: Total | C51: 10.398179 | D51: 5.3826325 | E51: 25.886926 | F51: 41.667738
B54: Residuals (Pearson) (Довольство жизнью / Усталость):
C56: 1. Свежий | D56: 2. Усталый | E56: 3. В хлам
B57: 1. Довольный | C57: 2.5353922 | D57: 0.95649933 | E57: -3.444313
B58: 2. Так себе | C58: -1.9619114 | D58: 0.1928295 | E58: 1.2139157
B59: 3. Не довольный | C59: -0.3476623 | D59: -2.1048891 | E59: 3.542604
B62: Residuals (Adjusted) (Довольство жизнью / Усталость):
C64: 1. Свежий | D64: 2. Усталый | E64: 3. В хлам
B65: 1. Довольный | C65: 3.4476142 | D65: 1.9042503 | E65: -4.9878866
B66: 2. Так себе | C66: -3.0652497 | D66: 0.44108858 | E66: 2.019833
B67: 3. Не довольный | C67: -0.40066173 | D67: -3.5515289 | E67: 4.3479378
B68: Values displayed in bold are significant at the level alpha=0,05
B94: Observed frequencies (Довольство жизнью / Усталость):
C96: 1. Свежий | D96: 2. Усталый | E96: 3. В хлам | F96: Total
B97: 1. Довольный | C97: 42 | D97: 126 | E97: 24 | F97: 192
B98: 2. Так себе | C98: 28 | D98: 167 | E98: 78 | F98: 273
B99: 3. Не довольный | C99: 8 | D99: 24 | E99: 29 | F99: 61
B100: Total | C100: 78 | D100: 317 | E100: 131 | F100: 526
B103: Percentages / Row (Довольство жизнью / Усталость):
C105: 1. Свежий | D105: 2. Усталый | E105: 3. В хлам | F105: Total
B106: 1. Довольный | C106: 21.875 | D106: 65.625 | E106: 12.5 | F106: 100
B107: 2. Так себе | C107: 10.25641 | D107: 61.172161 | E107: 28.571429 | F107: 100
B108: 3. Не довольный | C108: 13.114754 | D108: 39.344262 | E108: 47.540984 | F108: 100
B109: Total | C109: 14.828897 | D109: 60.26616 | E109: 24.904943 | F109: 100
B112: Percentages / Column (Довольство жизнью / Усталость):
C114: 1. Свежий | D114: 2. Усталый | E114: 3. В хлам | F114: Total
B115: 1. Довольный | C115: 53.846154 | D115: 39.747634 | E115: 18.320611 | F115: 36.501901
B116: 2. Так себе | C116: 35.897436 | D116: 52.681388 | E116: 59.541985 | F116: 51.901141
B117: 3. Не довольный | C117: 10.25641 | D117: 7.5709779 | E117: 22.137405 | F117: 11.596958
B118: Total | C118: 100 | D118: 100 | E118: 100 | F118: 100
B121: Percentages / Total (Довольство жизнью / Усталость):
C123: 1. Свежий | D123: 2. Усталый | E123: 3. В хлам | F123: Total
B124: 1. Довольный | C124: 7.9847909 | D124: 23.954373 | E124: 4.5627376 | F124: 36.501901
B125: 2. Так себе | C125: 5.3231939 | D125: 31.749049 | E125: 14.828897 | F125: 51.901141
B126: 3. Не довольный | C126: 1.5209125 | D126: 4.5627376 | E126: 5.513308 | F126: 11.596958
B127: Total | C127: 14.828897 | D127: 60.26616 | E127: 24.904943 | F127: 100
B130: Test of independence between the rows and the columns (Chi-square):
B132: Chi-square (Observed value) | C132: 41.667738
B133: Chi-square (Critical value) | C133: 9.487729
B134: DF | C134: 4
B135: p-value | C135: < 0,0001
B136: alpha | C136: 0.05
B138: Test interpretation:
B139: H0: The rows and the columns of the table are independent.
B140: Ha: There is a link between the rows and the columns of the table.
B141: As the computed p-value is lower than the significance level alpha=0,05, one should reject the null hypothesis H0, and accept the alternative hypothesis Ha.
B145: Fisher's exact test:
B147: p-value (Two-tailed) | C147: < 0,0001
B148: alpha | C148: 0.05
B150: Test interpretation:
B151: H0: The rows and the columns of the table are independent.
B152: Ha: There is a link between the rows and the columns of the table.
B153: As the computed p-value is lower than the significance level alpha=0,05, one should reject the null hypothesis H0, and accept the alternative hypothesis Ha.
B157: Test of independence between the rows and the columns (Wilks' G²):
B159: Wilks' G² (Observed value) | C159: 41.863083
B160: Wilks' G² (Critical value) | C160: 9.487729
B161: DF | C161: 4
B162: p-value | C162: < 0,0001
B163: alpha | C163: 0.05
B165: Test interpretation:
B166: H0: The rows and the columns of the table are independent.
B167: Ha: There is a link between the rows and the columns of the table.
B168: As the computed p-value is lower than the significance level alpha=0,05, one should reject the null hypothesis H0, and accept the alternative hypothesis Ha.
B172: Association coefficients (1):
B174: Coefficient | C174: Value
B175: Pearson's Phi | C175: 0.28145378
B176: Contingency coefficient | C176: 0.27092735
B177: Cramer's V | C177: 0.19901788
...

Sheet смартфон и рабочее
B1: You are using the XLSTAT trial version. Number of days remaining until the trial expires: -100
B3: XLSTAT 2019.4.2.63762 - Tests on contingency tables (Chi-square...) - Start time: 15/05/2020 at 18:41:36 / End time: 15/05/2020 at 18:41:37 / Microsoft Excel 16.012730
B4: These results have been generated using XLSTAT Free. You can benefit from many more tools and options with a full version.
B5: Row variable(s): Workbook = Использование смартфона в туалете (Ответы).xlsx / Sheet = Рабочий стол / Range = 'Рабочий стол'!$D:$D / 526 rows and 1 column
B6: Column variable(s): Workbook = Использование смартфона в туалете (Ответы).xlsx / Sheet = Рабочий стол / Range = 'Рабочий стол'!$U:$U / 526 rows and 1 column
B11: Results for the variables Как часто вы используете смартфон в туалете? and Что лучше характеризует то, как вы справляетесь с делами по работе?:
B13: Contingency table (Как часто вы используете смартфон в туалете? / Что лучше характеризует то, как вы справляетесь с делами по работе?):
C15: 1. Плохо | D15: 2. Средне | E15: 3. Хорошо
B16: 1. Редко | C16: 12 | D16: 41 | E16: 57
B17: 2. Иногда | C17: 7 | D17: 30 | E17: 19
B18: 3. Часто | C18: 41 | D18: 169 | E18: 150
B21: Test of independence between the rows and the columns (Как часто вы используете смартфон в туалете? / Что лучше характеризует то, как вы справляетесь с делами по работе?):
B23: Chi-square (Observed value) | C23: 5.8889983
B24: Chi-square (Critical value) | C24: 9.487729
B25: DF | C25: 4
B26: p-value | C26: 0.20759273
B27: alpha | C27: 0.05
B29: Test interpretation:
B30: H0: The rows and the columns of the table are independent.
B31: Ha: There is a link between the rows and the columns of the table.
B32: As the computed p-value is greater than the significance level alpha=0,05, one cannot reject the null hypothesis H0.
B36: Significance by cell (Fisher's exact test) (Как часто вы используете смартфон в туалете? / Что лучше характеризует то, как вы справляетесь с делами по работе?):
C38: 1. Плохо | D38: 2. Средне | E38: 3. Хорошо
B39: 1. Редко | C39: < | D39: < | E39: >
B40: 2. Иногда | C40: > | D40: > | E40: <
B41: 3. Часто | C41: < | D41: > | E41: <
B42: Values displayed in red are significant at the level alpha=0,05
B45: Chi-square by cell (Как часто вы используете смартфон в туалете? / Что лучше характеризует то, как вы справляетесь с делами по работе?):
C47: 1. Плохо | D47: 2. Средне | E47: 3. Хорошо | F47: Total
B48: 1. Редко | C48: 0.023892153 | D48: 1.6827656 | E48: 2.0062834 | F48: 3.7129411
B49: 2. Иногда | C49: 0.058666033 | D49: 0.77454508 | E49: 1.0644711 | F49: 1.8976823
B50: 3. Часто | C50: 0.00010174623 | D50: 0.13686532 | E50: 0.14140785 | F50: 0.27837492
B51: Total | C51: 0.082659933 | D51: 2.594176 | E51: 3.2121624 | F51: 5.8889983
B54: Residuals (Pearson) (Как часто вы используете смартфон в туалете? / Что лучше характеризует то, как вы справляетесь с делами по работе?):
C56: 1. Плохо | D56: 2. Средне | E56: 3. Хорошо
B57: 1. Редко | C57: -0.15457087 | D57: -1.2972145 | E57: 1.4164333
B58: 2. Иногда | C58: 0.24221072 | D58: 0.88008243 | E58: -1.0317321
B59: 3. Часто | C59: -0.010086934 | D59: 0.36995313 | E59: -0.37604236
B62: Residuals (Adjusted) (Как часто вы используете смартфон в туалете? / Что лучше характеризует то, как вы справляетесь с делами по работе?):
C64: 1. Плохо | D64: 2. Средне | E64: 3. Хорошо
B65: 1. Редко | C65: -0.1846604 | D65: -1.9781894 | E65: 2.1089903
B66: 2. Иногда | C66: 0.27223077 | D66: 1.262633 | E66: -1.4452505
B67: 3. Часто | C67: -0.019076465 | D67: 0.89309033 | E67: -0.88635528
B68: Values displayed in bold are significant at the level alpha=0,05
B94: Observed frequencies (Как часто вы используете смартфон в туалете? / Что лучше характеризует то, как вы справляетесь с делами по работе?):
C96: 1. Плохо | D96: 2. Средне | E96: 3. Хорошо | F96: Total
B97: 1. Редко | C97: 12 | D97: 41 | E97: 57 | F97: 110
B98: 2. Иногда | C98: 7 | D98: 30 | E98: 19 | F98: 56
B99: 3. Часто | C99: 41 | D99: 169 | E99: 150 | F99: 360
B100: Total | C100: 60 | D100: 240 | E100: 226 | F100: 526
B103: Percentages / Row (Как часто вы используете смартфон в туалете? / Что лучше характеризует то, как вы справляетесь с делами по работе?):
C105: 1. Плохо | D105: 2. Средне | E105: 3. Хорошо | F105: Total
B106: 1. Редко | C106: 10.909091 | D106: 37.272727 | E106: 51.818182 | F106: 100
B107: 2. Иногда | C107: 12.5 | D107: 53.571429 | E107: 33.928571 | F107: 100
B108: 3. Часто | C108: 11.388889 | D108: 46.944444 | E108: 41.666667 | F108: 100
B109: Total | C109: 11.406844 | D109: 45.627376 | E109: 42.965779 | F109: 100
B112: Percentages / Column (Как часто вы используете смартфон в туалете? / Что лучше характеризует то, как вы справляетесь с делами по работе?):
C114: 1. Плохо | D114: 2. Средне | E114: 3. Хорошо | F114: Total
B115: 1. Редко | C115: 20 | D115: 17.083333 | E115: 25.221239 | F115: 20.912548
B116: 2. Иногда | C116: 11.666667 | D116: 12.5 | E116: 8.4070796 | F116: 10.646388
B117: 3. Часто | C117: 68.333333 | D117: 70.416667 | E117: 66.371681 | F117: 68.441065
B118: Total | C118: 100 | D118: 100 | E118: 100 | F118: 100
B121: Percentages / Total (Как часто вы используете смартфон в туалете? / Что лучше характеризует то, как вы справляетесь с делами по работе?):
C123: 1. Плохо | D123: 2. Средне | E123: 3. Хорошо | F123: Total
B124: 1. Редко | C124: 2.2813688 | D124: 7.7946768 | E124: 10.836502 | F124: 20.912548
B125: 2. Иногда | C125: 1.3307985 | D125: 5.7034221 | E125: 3.6121673 | F125: 10.646388
B126: 3. Часто | C126: 7.7946768 | D126: 32.129278 | E126: 28.51711 | F126: 68.441065
B127: Total | C127: 11.406844 | D127: 45.627376 | E127: 42.965779 | F127: 100
B130: Test of independence between the rows and the columns (Chi-square):
B132: Chi-square (Observed value) | C132: 5.8889983
B133: Chi-square (Critical value) | C133: 9.487729
B134: DF | C134: 4
B135: p-value | C135: 0.20759273
B136: alpha | C136: 0.05
B138: Test interpretation:
B139: H0: The rows and the columns of the table are independent.
B140: Ha: There is a link between the rows and the columns of the table.
B141: As the computed p-value is greater than the significance level alpha=0,05, one cannot reject the null hypothesis H0.
B145: Fisher's exact test:
B147: p-value (Two-tailed) | C147: 0.20175105
B148: alpha | C148: 0.05
B150: Test interpretation:
B151: H0: The rows and the columns of the table are independent.
B152: Ha: There is a link between the rows and the columns of the table.
B153: As the computed p-value is greater than the significance level alpha=0,05, one cannot reject the null hypothesis H0.
B157: Test of independence between the rows and the columns (Wilks' G²):
B159: Wilks' G² (Observed value) | C159: 5.9180961
B160: Wilks' G² (Critical value) | C160: 9.487729
B161: DF | C161: 4
B162: p-value | C162: 0.20534897
B163: alpha | C163: 0.05
B165: Test interpretation:
B166: H0: The rows and the columns of the table are independent.
B167: Ha: There is a link between the rows and the columns of the table.
B168: As the computed p-value is greater than the significance level alpha=0,05, one cannot reject the null hypothesis H0.
B172: Association coefficients (1):
B174: Coefficient | C174: Value
B175: Pearson's Phi | C175: 0.10581027
B176: Contingency coefficient | C176: 0.10522289
B177: Cramer's V | C177: 0.074819163
...

Sheet Смартфон и личное
B1: You are using the XLSTAT trial version. Number of days remaining until the trial expires: -100
B3: XLSTAT 2019.4.2.63762 - Tests on contingency tables (Chi-square...) - Start time: 15/05/2020 at 18:41:13 / End time: 15/05/2020 at 18:41:14 / Microsoft Excel 16.012730
B4: These results have been generated using XLSTAT Free. You can benefit from many more tools and options with a full version.
B5: Row variable(s): Workbook = Использование смартфона в туалете (Ответы).xlsx / Sheet = Рабочий стол / Range = 'Рабочий стол'!$D:$D / 526 rows and 1 column
B6: Column variable(s): Workbook = Использование смартфона в туалете (Ответы).xlsx / Sheet = Рабочий стол / Range = 'Рабочий стол'!$T:$T / 526 rows and 1 column
B11: Results for the variables Как часто вы используете смартфон в туалете? and Что лучше характеризует то, как вы справляетесь с делами в ЛИЧНОЙ жизни?:
B13: Contingency table (Как часто вы используете смартфон в туалете? / Что лучше характеризует то, как вы справляетесь с делами в ЛИЧНОЙ жизни?):
C15: 1. Плохо | D15: 2. Средне | E15: 3. Хорошо
B16: 1. Редко | C16: 17 | D16: 45 | E16: 48
B17: 2. Иногда | C17: 13 | D17: 22 | E17: 21
B18: 3. Часто | C18: 86 | D18: 177 | E18: 97
B21: Test of independence between the rows and the columns (Как часто вы используете смартфон в туалете? / Что лучше характеризует то, как вы справляетесь с делами в ЛИЧНОЙ жизни?):
B23: Chi-square (Observed value) | C23: 12.81563
B24: Chi-square (Critical value) | C24: 9.487729
B25: DF | C25: 4
B26: p-value | C26: 0.01221269
B27: alpha | C27: 0.05
B29: Test interpretation:
B30: H0: The rows and the columns of the table are independent.
B31: Ha: There is a link between the rows and the columns of the table.
B32: As the computed p-value is lower than the significance level alpha=0,05, one should reject the null hypothesis H0, and accept the alternative hypothesis Ha.
B36: Significance by cell (Fisher's exact test) (Как часто вы используете смартфон в туалете? / Что лучше характеризует то, как вы справляетесь с делами в ЛИЧНОЙ жизни?):
C38: 1. Плохо | D38: 2. Средне | E38: 3. Хорошо
B39: 1. Редко | C39: < | D39: < | E39: >
B40: 2. Иногда | C40: > | D40: < | E40: >
B41: 3. Часто | C41: > | D41: > | E41: <
B42: Values displayed in red are significant at the level alpha=0,05
B45: Chi-square by cell (Как часто вы используете смартфон в туалете? / Что лучше характеризует то, как вы справляетесь с делами в ЛИЧНОЙ жизни?):
C47: 1. Плохо | D47: 2. Средне | E47: 3. Хорошо | F47: Total
B48: 1. Редко | C48: 2.171878 | D48: 0.71178736 | E48: 5.0841608 | F48: 7.9678261
B49: 2. Иногда | C49: 0.034231068 | D49: 0.60891933 | E49: 0.62631706 | F49: 1.2694675
B50: 3. Часто | C50: 0.5500641 | D50: 0.59927149 | E50: 2.4290013 | F50: 3.5783369
B51: Total | C51: 2.7561732 | D51: 1.9199782 | E51: 8.1394791 | F51: 12.81563
B54: Residuals (Pearson) (Как часто вы используете смартфон в туалете? / Что лучше характеризует то, как вы справляетесь с делами в ЛИЧНОЙ жизни?):
C56: 1. Плохо | D56: 2. Средне | E56: 3. Хорошо
B57: 1. Редко | C57: -1.4737293 | D57: -0.84367491 | E57: 2.2548084
B58: 2. Иногда | C58: 0.1850164 | D58: -0.78033283 | E58: 0.79140196
B59: 3. Часто | C59: 0.74166306 | D59: 0.77412627 | E59: -1.5585254
B62: Residuals (Adjusted) (Как часто вы используете смартфон в туалете? / Что лучше характеризует то, как вы справляетесь с делами в ЛИЧНОЙ жизни?):
C64: 1. Плохо | D64: 2. Средне | E64: 3. Хорошо
B65: 1. Редко | C65: -1.8770026 | D65: -1.2956558 | E65: 3.064767
B66: 2. Иногда | C66: 0.2216946 | D66: -1.1274366 | E66: 1.0120051
B67: 3. Часто | C67: 1.4953623 | D67: 1.8819971 | E67: -3.3534692
B68: Values displayed in bold are significant at the level alpha=0,05
B94: Observed frequencies (Как часто вы используете смартфон в туалете? / Что лучше характеризует то, как вы справляетесь с делами в ЛИЧНОЙ жизни?):
C96: 1. Плохо | D96: 2. Средне | E96: 3. Хорошо | F96: Total
B97: 1. Редко | C97: 17 | D97: 45 | E97: 48 | F97: 110
B98: 2. Иногда | C98: 13 | D98: 22 | E98: 21 | F98: 56
B99: 3. Часто | C99: 86 | D99: 177 | E99: 97 | F99: 360
B100: Total | C100: 116 | D100: 244 | E100: 166 | F100: 526
B103: Percentages / Row (Как часто вы используете смартфон в туалете? / Что лучше характеризует то, как вы справляетесь с делами в ЛИЧНОЙ жизни?):
C105: 1. Плохо | D105: 2. Средне | E105: 3. Хорошо | F105: Total
B106: 1. Редко | C106: 15.454545 | D106: 40.909091 | E106: 43.636364 | F106: 100
B107: 2. Иногда | C107: 23.214286 | D107: 39.285714 | E107: 37.5 | F107: 100
B108: 3. Часто | C108: 23.888889 | D108: 49.166667 | E108: 26.944444 | F108: 100
B109: Total | C109: 22.053232 | D109: 46.387833 | E109: 31.558935 | F109: 100
B112: Percentages / Column (Как часто вы используете смартфон в туалете? / Что лучше характеризует то, как вы справляетесь с делами в ЛИЧНОЙ жизни?):
C114: 1. Плохо | D114: 2. Средне | E114: 3. Хорошо | F114: Total
B115: 1. Редко | C115: 14.655172 | D115: 18.442623 | E115: 28.915663 | F115: 20.912548
B116: 2. Иногда | C116: 11.206897 | D116: 9.0163934 | E116: 12.650602 | F116: 10.646388
B117: 3. Часто | C117: 74.137931 | D117: 72.540984 | E117: 58.433735 | F117: 68.441065
B118: Total | C118: 100 | D118: 100 | E118: 100 | F118: 100
B121: Percentages / Total (Как часто вы используете смартфон в туалете? / Что лучше характеризует то, как вы справляетесь с делами в ЛИЧНОЙ жизни?):
C123: 1. Плохо | D123: 2. Средне | E123: 3. Хорошо | F123: Total
B124: 1. Редко | C124: 3.2319392 | D124: 8.5551331 | E124: 9.1254753 | F124: 20.912548
B125: 2. Иногда | C125: 2.4714829 | D125: 4.1825095 | E125: 3.9923954 | F125: 10.646388
B126: 3. Часто | C126: 16.34981 | D126: 33.65019 | E126: 18.441065 | F126: 68.441065
B127: Total | C127: 22.053232 | D127: 46.387833 | E127: 31.558935 | F127: 100
B130: Test of independence between the rows and the columns (Chi-square):
B132: Chi-square (Observed value) | C132: 12.81563
B133: Chi-square (Critical value) | C133: 9.487729
B134: DF | C134: 4
B135: p-value | C135: 0.01221269
B136: alpha | C136: 0.05
B138: Test interpretation:
B139: H0: The rows and the columns of the table are independent.
B140: Ha: There is a link between the rows and the columns of the table.
B141: As the computed p-value is lower than the significance level alpha=0,05, one should reject the null hypothesis H0, and accept the alternative hypothesis Ha.
B145: Fisher's exact test:
B147: p-value (Two-tailed) | C147: 0.013052038
B148: alpha | C148: 0.05
B150: Test interpretation:
B151: H0: The rows and the columns of the table are independent.
B152: Ha: There is a link between the rows and the columns of the table.
B153: As the computed p-value is lower than the significance level alpha=0,05, one should reject the null hypothesis H0, and accept the alternative hypothesis Ha.
B157: Test of independence between the rows and the columns (Wilks' G²):
B159: Wilks' G² (Observed value) | C159: 12.653278
B160: Wilks' G² (Critical value) | C160: 9.487729
B161: DF | C161: 4
B162: p-value | C162: 0.013100275
B163: alpha | C163: 0.05
B165: Test interpretation:
B166: H0: The rows and the columns of the table are independent.
B167: Ha: There is a link between the rows and the columns of the table.
B168: As the computed p-value is lower than the significance level alpha=0,05, one should reject the null hypothesis H0, and accept the alternative hypothesis Ha.
B172: Association coefficients (1):
B174: Coefficient | C174: Value
B175: Pearson's Phi | C175: 0.15609073
B176: Contingency coefficient | C176: 0.15422327
B177: Cramer's V | C177: 0.11037281
...

Sheet смартфон и пол
B1: You are using the XLSTAT trial version. Number of days remaining until the trial expires: -100
B3: XLSTAT 2019.4.2.63762 - Tests on contingency tables (Chi-square...) - Start time: 15/05/2020 at 18:35:40 / End time: 15/05/2020 at 18:35:41 / Microsoft Excel 16.012730
B4: These results have been generated using XLSTAT Free. You can benefit from many more tools and options with a full version.
B5: Row variable(s): Workbook = Использование смартфона в туалете (Ответы).xlsx / Sheet = Рабочий стол / Range = 'Рабочий стол'!$A:$A / 526 rows and 1 column
B6: Column variable(s): Workbook = Использование смартфона в туалете (Ответы).xlsx / Sheet = Рабочий стол / Range = 'Рабочий стол'!$D:$D / 526 rows and 1 column
B11: Results for the variables Ваш пол and Как часто вы используете смартфон в туалете?:
B13: Contingency table (Ваш пол / Как часто вы используете смартфон в туалете?):
C15: 1. Редко | D15: 2. Иногда | E15: 3. Часто
B16: Ж | C16: 72 | D16: 30 | E16: 136
B17: М | C17: 38 | D17: 26 | E17: 224
B20: Test of independence between the rows and the columns (Ваш пол / Как часто вы используете смартфон в туалете?):
B22: Chi-square (Observed value) | C22: 27.8043
B23: Chi-square (Critical value) | C23: 5.9914645
B24: DF | C24: 2
B25: p-value | C25: < 0,0001
B26: alpha | C26: 0.05
B28: Test interpretation:
B29: H0: The rows and the columns of the table are independent.
B30: Ha: There is a link between the rows and the columns of the table.
B31: As the computed p-value is lower than the significance level alpha=0,05, one should reject the null hypothesis H0, and accept the alternative hypothesis Ha.
B35: Significance by cell (Fisher's exact test) (Ваш пол / Как часто вы используете смартфон в туалете?):
C37: 1. Редко | D37: 2. Иногда | E37: 3. Часто
B38: Ж | C38: > | D38: > | E38: <
B39: М | C39: < | D39: < | E39: >
B40: Values displayed in red are significant at the level alpha=0,05
B43: Chi-square by cell (Ваш пол / Как часто вы используете смартфон в туалете?):
C45: 1. Редко | D45: 2. Иногда | E45: 3. Часто | F45: Total
B46: Ж | C46: 9.9270961 | D46: 0.85761072 | E46: 4.4389402 | F46: 15.223647
B47: М | C47: 8.2036419 | D47: 0.70871997 | E47: 3.6682909 | F47: 12.580653
B48: Total | C48: 18.130738 | D48: 1.5663307 | E48: 8.107231 | F48: 27.8043
B51: Residuals (Pearson) (Ваш пол / Как часто вы используете смартфон в туалете?):
C53: 1. Редко | D53: 2. Иногда | E53: 3. Часто
B54: Ж | C54: 3.1507295 | D54: 0.92607274 | E54: -2.1068793
B55: М | C55: -2.8642001 | D55: -0.84185508 | E55: 1.9152783
B58: Residuals (Adjusted) (Ваш пол / Как часто вы используете смартфон в туалете?):
C60: 1. Редко | D60: 2. Иногда | E60: 3. Часто
B61: Ж | C61: 4.7879979 | D61: 1.323993 | E61: -5.0684493
B62: М | C62: -4.7879979 | D62: -1.323993 | E62: 5.0684493
B63: Values displayed in bold are significant at the level alpha=0,05
B89: Observed frequencies (Ваш пол / Как часто вы используете смартфон в туалете?):
C91: 1. Редко | D91: 2. Иногда | E91: 3. Часто | F91: Total
B92: Ж | C92: 72 | D92: 30 | E92: 136 | F92: 238
B93: М | C93: 38 | D93: 26 | E93: 224 | F93: 288
B94: Total | C94: 110 | D94: 56 | E94: 360 | F94: 526
B97: Percentages / Row (Ваш пол / Как часто вы используете смартфон в туалете?):
C99: 1. Редко | D99: 2. Иногда | E99: 3. Часто | F99: Total
B100: Ж | C100: 30.252101 | D100: 12.605042 | E100: 57.142857 | F100: 100
B101: М | C101: 13.194444 | D101: 9.0277778 | E101: 77.777778 | F101: 100
B102: Total | C102: 20.912548 | D102: 10.646388 | E102: 68.441065 | F102: 100
B105: Percentages / Column (Ваш пол / Как часто вы используете смартфон в туалете?):
C107: 1. Редко | D107: 2. Иногда | E107: 3. Часто | F107: Total
B108: Ж | C108: 65.454545 | D108: 53.571429 | E108: 37.777778 | F108: 45.247148
B109: М | C109: 34.545455 | D109: 46.428571 | E109: 62.222222 | F109: 54.752852
B110: Total | C110: 100 | D110: 100 | E110: 100 | F110: 100
B113: Percentages / Total (Ваш пол / Как часто вы используете смартфон в туалете?):
C115: 1. Редко | D115: 2. Иногда | E115: 3. Часто | F115: Total
B116: Ж | C116: 13.688213 | D116: 5.7034221 | E116: 25.855513 | F116: 45.247148
B117: М | C117: 7.2243346 | D117: 4.9429658 | E117: 42.585551 | F117: 54.752852
B118: Total | C118: 20.912548 | D118: 10.646388 | E118: 68.441065 | F118: 100
B121: Test of independence between the rows and the columns (Chi-square):
B123: Chi-square (Observed value) | C123: 27.8043
B124: Chi-square (Critical value) | C124: 5.9914645
B125: DF | C125: 2
B126: p-value | C126: < 0,0001
B127: alpha | C127: 0.05
B129: Test interpretation:
B130: H0: The rows and the columns of the table are independent.
B131: Ha: There is a link between the rows and the columns of the table.
B132: As the computed p-value is lower than the significance level alpha=0,05, one should reject the null hypothesis H0, and accept the alternative hypothesis Ha.
B136: Fisher's exact test:
B138: p-value (Two-tailed) | C138: < 0,0001
B139: alpha | C139: 0.05
B141: Test interpretation:
B142: H0: The rows and the columns of the table are independent.
B143: Ha: There is a link between the rows and the columns of the table.
B144: As the computed p-value is lower than the significance level alpha=0,05, one should reject the null hypothesis H0, and accept the alternative hypothesis Ha.
B148: Test of independence between the rows and the columns (Wilks' G²):
B150: Wilks' G² (Observed value) | C150: 27.939718
B151: Wilks' G² (Critical value) | C151: 5.9914645
B152: DF | C152: 2
B153: p-value | C153: < 0,0001
B154: alpha | C154: 0.05
B156: Test interpretation:
B157: H0: The rows and the columns of the table are independent.
B158: Ha: There is a link between the rows and the columns of the table.
B159: As the computed p-value is lower than the significance level alpha=0,05, one should reject the null hypothesis H0, and accept the alternative hypothesis Ha.
B163: Association coefficients (1):
B165: Coefficient | C165: Value
B166: Pearson's Phi | C166: 0.22991278
B167: Contingency coefficient | C167: 0.22406696
B168: Cramer's V | C168: 0.22991278
B169: Tschuprow's T | C169: 0.19333283
B170: Goodman and Kruskal tau (R/C) | C170: 0.052859886
B171: Goodman and Kruskal tau (C/R) | C171: 0.037930058
B174: Association coefficients (2):
B176: Coefficient | C176: Value | D176: Standard deviation | E176: Lower bound 95% | F176: Upper bound 95%
B177: Goodman and Kruskal Gamma | C177: 0.43039 | D177: 0.072457231 | E177: 0.28837644 | F177: 0.57240357
B178: Kendall's tau | C178: 0.22130583 | D178: 0.041116561 | E178: 0.14071885 | F178: 0.30189281
B179: Stuart's tau | C179: 0.21506744 | D179: 0.040625396 | E179: 0.13544313 | F179: 0.29469176
B180: Somers' D (R/C) | C180: 0.22566748 | D180: 0.04181513 | E180: 0.14371133 | F180: 0.30762362
...

Sheet Association coefficients
B1: You are using the XLSTAT trial version. Number of days remaining until the trial expires: -100
B3: XLSTAT 2019.4.2.63762 - Tests on contingency tables (Chi-square...) - Start time: 15/05/2020 at 13:30:51 / End time: 15/05/2020 at 13:30:52 / Microsoft Excel 16.012730
B4: These results have been generated using XLSTAT Free. You can benefit from many more tools and options with a full version.
B5: Row variable(s): Workbook = Использование смартфона в туалете (Ответы).xlsx / Sheet = Рабочий стол / Range = 'Рабочий стол'!$C:$C / 526 rows and 1 column
B6: Column variable(s): Workbook = Использование смартфона в туалете (Ответы).xlsx / Sheet = Рабочий стол / Range = 'Рабочий стол'!$N:$N / 526 rows and 1 column
B11: Results for the variables Возраст and Довольство жизнью:
B13: Contingency table (Возраст / Довольство жизнью):
C15: 1. Довольный | D15: 2. Так себе | E15: 3. Не довольный
B16: 1. Мудрый :) | C16: 73 | D16: 112 | E16: 22
B17: 2. Молодой | C17: 86 | D17: 115 | E17: 26
B18: 3. Миллениал :) | C18: 33 | D18: 46 | E18: 13
B21: Test of independence between the rows and the columns (Возраст / Довольство жизнью):
B23: Chi-square (Observed value) | C23: 1.22186
B24: Chi-square (Critical value) | C24: 9.487729
B25: DF | C25: 4
B26: p-value | C26: 0.87448657
B27: alpha | C27: 0.05
B29: Test interpretation:
B30: H0: The rows and the columns of the table are independent.
B31: Ha: There is a link between the rows and the columns of the table.
B32: As the computed p-value is greater than the significance level alpha=0,05, one cannot reject the null hypothesis H0.
B36: Significance by cell (Fisher's exact test) (Возраст / Довольство жизнью):
C38: 1. Довольный | D38: 2. Так себе | E38: 3. Не довольный
B39: 1. Мудрый :) | C39: < | D39: > | E39: <
B40: 2. Молодой | C40: > | D40: < | E40: <
B41: 3. Миллениал :) | C41: < | D41: < | E41: >
B42: Values displayed in red are significant at the level alpha=0,05
B45: Chi-square by cell (Возраст / Довольство жизнью):
C47: 1. Довольный | D47: 2. Так себе | E47: 3. Не довольный | F47: Total
B48: 1. Мудрый :) | C48: 0.086662817 | D48: 0.19393919 | E48: 0.16757877 | F48: 0.44818078
B49: 2. Молодой | C49: 0.11904393 | D49: 0.067287729 | E49: 0.0040146786 | F49: 0.19034634
B50: 3. Миллениал :) | C50: 0.010077854 | D50: 0.064067745 | E50: 0.50918727 | F50: 0.58333286
B51: Total | C51: 0.2157846 | D51: 0.32529467 | E51: 0.68078071 | F51: 1.22186
B54: Residuals (Pearson) (Возраст / Довольство жизнью):
C56: 1. Довольный | D56: 2. Так себе | E56: 3. Не довольный
B57: 1. Мудрый :) | C57: -0.29438549 | D57: 0.44038528 | E57: -0.40936386
B58: 2. Молодой | C58: 0.34502743 | D58: -0.25939878 | E58: -0.063361492
B59: 3. Миллениал :) | C59: -0.10038851 | D59: -0.25311607 | E59: 0.71357359
B62: Residuals (Adjusted) (Возраст / Довольство жизнью):
C64: 1. Довольный | D64: 2. Так себе | E64: 3. Не довольный
B65: 1. Мудрый :) | C65: -0.47438786 | D65: 0.81538541 | E65: -0.55907931
B66: 2. Молодой | C66: 0.57428906 | D66: -0.49608697 | E66: -0.089381794
B67: 3. Миллениал :) | C67: -0.13869208 | D67: -0.40179112 | E67: 0.83551292
B68: Values displayed in bold are significant at the level alpha=0,05
B94: Observed frequencies (Возраст / Довольство жизнью):
C96: 1. Довольный | D96: 2. Так себе | E96: 3. Не довольный | F96: Total
B97: 1. Мудрый :) | C97: 73 | D97: 112 | E97: 22 | F97: 207
B98: 2. Молодой | C98: 86 | D98: 115 | E98: 26 | F98: 227
B99: 3. Миллениал :) | C99: 33 | D99: 46 | E99: 13 | F99: 92
B100: Total | C100: 192 | D100: 273 | E100: 61 | F100: 526
B103: Percentages / Row (Возраст / Довольство жизнью):
C105: 1. Довольный | D105: 2. Так себе | E105: 3. Не довольный | F105: Total
B106: 1. Мудрый :) | C106: 35.2657 | D106: 54.10628 | E106: 10.628019 | F106: 100
B107: 2. Молодой | C107: 37.885463 | D107: 50.660793 | E107: 11.453744 | F107: 100
B108: 3. Миллениал :) | C108: 35.869565 | D108: 50 | E108: 14.130435 | F108: 100
B109: Total | C109: 36.501901 | D109: 51.901141 | E109: 11.596958 | F109: 100
B112: Percentages / Column (Возраст / Довольство жизнью):
C114: 1. Довольный | D114: 2. Так себе | E114: 3. Не довольный | F114: Total
B115: 1. Мудрый :) | C115: 38.020833 | D115: 41.025641 | E115: 36.065574 | F115: 39.353612
B116: 2. Молодой | C116: 44.791667 | D116: 42.124542 | E116: 42.622951 | F116: 43.155894
B117: 3. Миллениал :) | C117: 17.1875 | D117: 16.849817 | E117: 21.311475 | F117: 17.490494
B118: Total | C118: 100 | D118: 100 | E118: 100 | F118: 100
B121: Percentages / Total (Возраст / Довольство жизнью):
C123: 1. Довольный | D123: 2. Так себе | E123: 3. Не довольный | F123: Total
B124: 1. Мудрый :) | C124: 13.878327 | D124: 21.292776 | E124: 4.1825095 | F124: 39.353612
B125: 2. Молодой | C125: 16.34981 | D125: 21.863118 | E125: 4.9429658 | F125: 43.155894
B126: 3. Миллениал :) | C126: 6.2737643 | D126: 8.7452471 | E126: 2.4714829 | F126: 17.490494
B127: Total | C127: 36.501901 | D127: 51.901141 | E127: 11.596958 | F127: 100
B130: Test of independence between the rows and the columns (Chi-square):
B132: Chi-square (Observed value) | C132: 1.22186
B133: Chi-square (Critical value) | C133: 9.487729
B134: DF | C134: 4
B135: p-value | C135: 0.87448657
B136: alpha | C136: 0.05
B138: Test interpretation:
B139: H0: The rows and the columns of the table are independent.
B140: Ha: There is a link between the rows and the columns of the table.
B141: As the computed p-value is greater than the significance level alpha=0,05, one cannot reject the null hypothesis H0.
B145: Fisher's exact test:
B147: p-value (Two-tailed) | C147: 0.8663307
B148: alpha | C148: 0.05
B150: Test interpretation:
B151: H0: The rows and the columns of the table are independent.
B152: Ha: There is a link between the rows and the columns of the table.
B153: As the computed p-value is greater than the significance level alpha=0,05, one cannot reject the null hypothesis H0.
B157: Test of independence between the rows and the columns (Wilks' G²):
B159: Wilks' G² (Observed value) | C159: 1.1914836
B160: Wilks' G² (Critical value) | C160: 9.487729
B161: DF | C161: 4
B162: p-value | C162: 0.87949878
B163: alpha | C163: 0.05
B165: Test interpretation:
B166: H0: The rows and the columns of the table are independent.
B167: Ha: There is a link between the rows and the columns of the table.
B168: As the computed p-value is greater than the significance level alpha=0,05, one cannot reject the null hypothesis H0.
B172: Association coefficients (1):
B174: Coefficient | C174: Value
B175: Pearson's Phi | C175: 0.04819676
B176: Contingency coefficient | C176: 0.048140879
B177: Cramer's V | C177: 0.034080256
...

Sheet возраст и смартфон
B1: You are using the XLSTAT trial version. Number of days remaining until the trial expires: -100
B3: XLSTAT 2019.4.2.63762 - Tests on contingency tables (Chi-square...) - Start time: 15/05/2020 at 13:30:32 / End time: 15/05/2020 at 13:30:33 / Microsoft Excel 16.012730
B4: These results have been generated using XLSTAT Free. You can benefit from many more tools and options with a full version.
B5: Row variable(s): Workbook = Использование смартфона в туалете (Ответы).xlsx / Sheet = Рабочий стол / Range = 'Рабочий стол'!$C:$C / 526 rows and 1 column
B6: Column variable(s): Workbook = Использование смартфона в туалете (Ответы).xlsx / Sheet = Рабочий стол / Range = 'Рабочий стол'!$D:$D / 526 rows and 1 column
B11: Results for the variables Возраст and Как часто вы используете смартфон в туалете?:
B13: Contingency table (Возраст / Как часто вы используете смартфон в туалете?):
C15: 1. Редко | D15: 2. Иногда | E15: 3. Часто
B16: 1. Мудрый :) | C16: 50 | D16: 19 | E16: 138
B17: 2. Молодой | C17: 47 | D17: 23 | E17: 157
B18: 3. Миллениал :) | C18: 13 | D18: 14 | E18: 65
B21: Test of independence between the rows and the columns (Возраст / Как часто вы используете смартфон в туалете?):
B23: Chi-square (Observed value) | C23: 5.5275812
B24: Chi-square (Critical value) | C24: 9.487729
B25: DF | C25: 4
B26: p-value | C26: 0.23731569
B27: alpha | C27: 0.05
B29: Test interpretation:
B30: H0: The rows and the columns of the table are independent.
B31: Ha: There is a link between the rows and the columns of the table.
B32: As the computed p-value is greater than the significance level alpha=0,05, one cannot reject the null hypothesis H0.
B36: Significance by cell (Fisher's exact test) (Возраст / Как часто вы используете смартфон в туалете?):
C38: 1. Редко | D38: 2. Иногда | E38: 3. Часто
B39: 1. Мудрый :) | C39: > | D39: < | E39: <
B40: 2. Молодой | C40: < | D40: < | E40: >
B41: 3. Миллениал :) | C41: < | D41: > | E41: >
B42: Values displayed in red are significant at the level alpha=0,05
B45: Chi-square by cell (Возраст / Как часто вы используете смартфон в туалете?):
C47: 1. Редко | D47: 2. Иногда | E47: 3. Часто | F47: Total
B48: 1. Мудрый :) | C48: 1.0404007 | D48: 0.41880266 | E48: 0.095226025 | F48: 1.5544294
B49: 2. Молодой | C49: 0.0046827295 | D49: 0.056381563 | E49: 0.017286236 | F49: 0.078350529
B50: 3. Миллениал :) | C50: 2.0235358 | D50: 1.8055464 | E50: 0.065719081 | F50: 3.8948013
B51: Total | C51: 3.0686193 | D51: 2.2807306 | E51: 0.17823134 | F51: 5.5275812
B54: Residuals (Pearson) (Возраст / Как часто вы используете смартфон в туалете?):
C56: 1. Редко | D56: 2. Иногда | E56: 3. Часто
B57: 1. Мудрый :) | C57: 1.0200003 | D57: -0.64714964 | E57: -0.30858714
B58: 2. Молодой | C58: -0.068430472 | D58: -0.23744802 | E58: 0.13147713
B59: 3. Миллениал :) | C59: -1.4225104 | D59: 1.3437062 | E59: 0.25635733
B62: Residuals (Adjusted) (Возраст / Как часто вы используете смартфон в туалете?):
C64: 1. Редко | D64: 2. Иногда | E64: 3. Часто
B65: 1. Мудрый :) | C65: 1.4728009 | D65: -0.87911601 | E65: -0.70536545
B66: 2. Молодой | C66: -0.1020594 | D66: -0.33317298 | E66: 0.31041759
B67: 3. Миллениал :) | C67: -1.7609607 | D67: 1.5649349 | E67: 0.50238027
B68: Values displayed in bold are significant at the level alpha=0,05
B94: Observed frequencies (Возраст / Как часто вы используете смартфон в туалете?):
C96: 1. Редко | D96: 2. Иногда | E96: 3. Часто | F96: Total
B97: 1. Мудрый :) | C97: 50 | D97: 19 | E97: 138 | F97: 207
B98: 2. Молодой | C98: 47 | D98: 23 | E98: 157 | F98: 227
B99: 3. Миллениал :) | C99: 13 | D99: 14 | E99: 65 | F99: 92
B100: Total | C100: 110 | D100: 56 | E100: 360 | F100: 526
B103: Percentages / Row (Возраст / Как часто вы используете смартфон в туалете?):
C105: 1. Редко | D105: 2. Иногда | E105: 3. Часто | F105: Total
B106: 1. Мудрый :) | C106: 24.154589 | D106: 9.178744 | E106: 66.666667 | F106: 100
B107: 2. Молодой | C107: 20.704846 | D107: 10.132159 | E107: 69.162996 | F107: 100
B108: 3. Миллениал :) | C108: 14.130435 | D108: 15.217391 | E108: 70.652174 | F108: 100
B109: Total | C109: 20.912548 | D109: 10.646388 | E109: 68.441065 | F109: 100
B112: Percentages / Column (Возраст / Как часто вы используете смартфон в туалете?):
C114: 1. Редко | D114: 2. Иногда | E114: 3. Часто | F114: Total
B115: 1. Мудрый :) | C115: 45.454545 | D115: 33.928571 | E115: 38.333333 | F115: 39.353612
B116: 2. Молодой | C116: 42.727273 | D116: 41.071429 | E116: 43.611111 | F116: 43.155894
B117: 3. Миллениал :) | C117: 11.818182 | D117: 25 | E117: 18.055556 | F117: 17.490494
B118: Total | C118: 100 | D118: 100 | E118: 100 | F118: 100
B121: Percentages / Total (Возраст / Как часто вы используете смартфон в туалете?):
C123: 1. Редко | D123: 2. Иногда | E123: 3. Часто | F123: Total
B124: 1. Мудрый :) | C124: 9.5057034 | D124: 3.6121673 | E124: 26.235741 | F124: 39.353612
B125: 2. Молодой | C125: 8.9353612 | D125: 4.3726236 | E125: 29.847909 | F125: 43.155894
B126: 3. Миллениал :) | C126: 2.4714829 | D126: 2.661597 | E126: 12.357414 | F126: 17.490494
B127: Total | C127: 20.912548 | D127: 10.646388 | E127: 68.441065 | F127: 100
B130: Test of independence between the rows and the columns (Chi-square):
B132: Chi-square (Observed value) | C132: 5.5275812
B133: Chi-square (Critical value) | C133: 9.487729
B134: DF | C134: 4
B135: p-value | C135: 0.23731569
B136: alpha | C136: 0.05
B138: Test interpretation:
B139: H0: The rows and the columns of the table are independent.
B140: Ha: There is a link between the rows and the columns of the table.
B141: As the computed p-value is greater than the significance level alpha=0,05, one cannot reject the null hypothesis H0.
B145: Fisher's exact test:
B147: p-value (Two-tailed) | C147: 0.23699736
B148: alpha | C148: 0.05
B150: Test interpretation:
B151: H0: The rows and the columns of the table are independent.
B152: Ha: There is a link between the rows and the columns of the table.
B153: As the computed p-value is greater than the significance level alpha=0,05, one cannot reject the null hypothesis H0.
B157: Test of independence between the rows and the columns (Wilks' G²):
B159: Wilks' G² (Observed value) | C159: 5.5483406
B160: Wilks' G² (Critical value) | C160: 9.487729
B161: DF | C161: 4
B162: p-value | C162: 0.23551286
B163: alpha | C163: 0.05
B165: Test interpretation:
B166: H0: The rows and the columns of the table are independent.
B167: Ha: There is a link between the rows and the columns of the table.
B168: As the computed p-value is greater than the significance level alpha=0,05, one cannot reject the null hypothesis H0.
B172: Association coefficients (1):
B174: Coefficient | C174: Value
B175: Pearson's Phi | C175: 0.102512
B176: Contingency coefficient | C176: 0.10197757
B177: Cramer's V | C177: 0.072486928
...

Sheet Усталость и работа
B1: You are using the XLSTAT trial version. Number of days remaining until the trial expires: -100
B3: XLSTAT 2019.4.2.63762 - Tests on contingency tables (Chi-square...) - Start time: 15/05/2020 at 13:15:23 / End time: 15/05/2020 at 13:15:24 / Microsoft Excel 16.012730
B4: These results have been generated using XLSTAT Free. You can benefit from many more tools and options with a full version.
B5: Row variable(s): Workbook = Использование смартфона в туалете (Ответы).xlsx / Sheet = Рабочий стол / Range = 'Рабочий стол'!$V:$V / 526 rows and 1 column
B6: Column variable(s): Workbook = Использование смартфона в туалете (Ответы).xlsx / Sheet = Рабочий стол / Range = 'Рабочий стол'!$T:$T / 526 rows and 1 column
B11: Results for the variables Усталость and Что лучше характеризует то, как вы справляетесь с делами по работе?:
B13: Contingency table (Усталость / Что лучше характеризует то, как вы справляетесь с делами по работе?):
C15: 1. Плохо | D15: 2. Средне | E15: 3. Хорошо
B16: 1. Свежий | C16: 2 | D16: 26 | E16: 50
B17: 2. Усталый | C17: 19 | D17: 152 | E17: 146
B18: 3. В хлам | C18: 39 | D18: 62 | E18: 30
B21: Test of independence between the rows and the columns (Усталость / Что лучше характеризует то, как вы справляетесь с делами по работе?):
B23: Chi-square (Observed value) | C23: 76.35221
B24: Chi-square (Critical value) | C24: 9.487729
B25: DF | C25: 4
B26: p-value | C26: < 0,0001
B27: alpha | C27: 0.05
B29: Test interpretation:
B30: H0: The rows and the columns of the table are independent.
B31: Ha: There is a link between the rows and the columns of the table.
B32: As the computed p-value is lower than the significance level alpha=0,05, one should reject the null hypothesis H0, and accept the alternative hypothesis Ha.
B36: Significance by cell (Fisher's exact test) (Усталость / Что лучше характеризует то, как вы справляетесь с делами по работе?):
C38: 1. Плохо | D38: 2. Средне | E38: 3. Хорошо
B39: 1. Свежий | C39: < | D39: < | E39: >
B40: 2. Усталый | C40: < | D40: > | E40: >
B41: 3. В хлам | C41: > | D41: > | E41: <
B42: Values displayed in red are significant at the level alpha=0,05
B45: Chi-square by cell (Усталость / Что лучше характеризует то, как вы справляетесь с делами по работе?):
C47: 1. Плохо | D47: 2. Средне | E47: 3. Хорошо | F47: Total
B48: 1. Свежий | C48: 5.3469111 | D48: 2.5837981 | E48: 8.1105397 | F48: 16.041249
B49: 2. Усталый | C49: 8.1431869 | D49: 0.37464026 | E49: 0.70491278 | F49: 9.2227399
B50: 3. В хлам | C50: 38.729989 | D50: 0.083059047 | E50: 12.275173 | F50: 51.088221
B51: Total | C51: 52.220087 | D51: 3.0414974 | E51: 21.090626 | F51: 76.35221
B54: Residuals (Pearson) (Усталость / Что лучше характеризует то, как вы справляетесь с делами по работе?):
C56: 1. Плохо | D56: 2. Средне | E56: 3. Хорошо
B57: 1. Свежий | C57: -2.3123389 | D57: -1.6074197 | E57: 2.8479009
B58: 2. Усталый | C58: -2.853627 | D58: 0.61207864 | E58: 0.83959084
B59: 3. В хлам | C59: 6.2233422 | D59: 0.28819966 | E59: -3.5035943
B62: Residuals (Adjusted) (Усталость / Что лучше характеризует то, как вы справляетесь с делами по работе?):
C64: 1. Плохо | D64: 2. Средне | E64: 3. Хорошо
B65: 1. Свежий | C65: -2.6619829 | D65: -2.3620713 | E65: 4.0861188
B66: 2. Усталый | C66: -4.8096873 | D66: 1.3168515 | E66: 1.7636795
B67: 3. В хлам | C67: 7.6298838 | D67: 0.45102192 | E67: -5.3535317
B68: Values displayed in bold are significant at the level alpha=0,05
B94: Observed frequencies (Усталость / Что лучше характеризует то, как вы справляетесь с делами по работе?):
C96: 1. Плохо | D96: 2. Средне | E96: 3. Хорошо | F96: Total
B97: 1. Свежий | C97: 2 | D97: 26 | E97: 50 | F97: 78
B98: 2. Усталый | C98: 19 | D98: 152 | E98: 146 | F98: 317
B99: 3. В хлам | C99: 39 | D99: 62 | E99: 30 | F99: 131
B100: Total | C100: 60 | D100: 240 | E100: 226 | F100: 526
B103: Percentages / Row (Усталость / Что лучше характеризует то, как вы справляетесь с делами по работе?):
C105: 1. Плохо | D105: 2. Средне | E105: 3. Хорошо | F105: Total
B106: 1. Свежий | C106: 2.5641026 | D106: 33.333333 | E106: 64.102564 | F106: 100
B107: 2. Усталый | C107: 5.9936909 | D107: 47.949527 | E107: 46.056782 | F107: 100
B108: 3. В хлам | C108: 29.770992 | D108: 47.328244 | E108: 22.900763 | F108: 100
B109: Total | C109: 11.406844 | D109: 45.627376 | E109: 42.965779 | F109: 100
B112: Percentages / Column (Усталость / Что лучше характеризует то, как вы справляетесь с делами по работе?):
C114: 1. Плохо | D114: 2. Средне | E114: 3. Хорошо | F114: Total
B115: 1. Свежий | C115: 3.3333333 | D115: 10.833333 | E115: 22.123894 | F115: 14.828897
B116: 2. Усталый | C116: 31.666667 | D116: 63.333333 | E116: 64.60177 | F116: 60.26616
B117: 3. В хлам | C117: 65 | D117: 25.833333 | E117: 13.274336 | F117: 24.904943
B118: Total | C118: 100 | D118: 100 | E118: 100 | F118: 100
B121: Percentages / Total (Усталость / Что лучше характеризует то, как вы справляетесь с делами по работе?):
C123: 1. Плохо | D123: 2. Средне | E123: 3. Хорошо | F123: Total
B124: 1. Свежий | C124: 0.38022814 | D124: 4.9429658 | E124: 9.5057034 | F124: 14.828897
B125: 2. Усталый | C125: 3.6121673 | D125: 28.897338 | E125: 27.756654 | F125: 60.26616
B126: 3. В хлам | C126: 7.4144487 | D126: 11.787072 | E126: 5.7034221 | F126: 24.904943
B127: Total | C127: 11.406844 | D127: 45.627376 | E127: 42.965779 | F127: 100
B130: Test of independence between the rows and the columns (Chi-square):
B132: Chi-square (Observed value) | C132: 76.35221
B133: Chi-square (Critical value) | C133: 9.487729
B134: DF | C134: 4
B135: p-value | C135: < 0,0001
B136: alpha | C136: 0.05
B138: Test interpretation:
B139: H0: The rows and the columns of the table are independent.
B140: Ha: There is a link between the rows and the columns of the table.
B141: As the computed p-value is lower than the significance level alpha=0,05, one should reject the null hypothesis H0, and accept the alternative hypothesis Ha.
B145: Fisher's exact test:
B147: p-value (Two-tailed) | C147: < 0,0001
B148: alpha | C148: 0.05
B150: Test interpretation:
B151: H0: The rows and the columns of the table are independent.
B152: Ha: There is a link between the rows and the columns of the table.
B153: As the computed p-value is lower than the significance level alpha=0,05, one should reject the null hypothesis H0, and accept the alternative hypothesis Ha.
B157: Test of independence between the rows and the columns (Wilks' G²):
B159: Wilks' G² (Observed value) | C159: 70.246743
B160: Wilks' G² (Critical value) | C160: 9.487729
B161: DF | C161: 4
B162: p-value | C162: < 0,0001
B163: alpha | C163: 0.05
B165: Test interpretation:
B166: H0: The rows and the columns of the table are independent.
B167: Ha: There is a link between the rows and the columns of the table.
B168: As the computed p-value is lower than the significance level alpha=0,05, one should reject the null hypothesis H0, and accept the alternative hypothesis Ha.
B172: Association coefficients (1):
B174: Coefficient | C174: Value
B175: Pearson's Phi | C175: 0.38099382
B176: Contingency coefficient | C176: 0.35602914
B177: Cramer's V | C177: 0.26940331
...

Sheet Усталость и личное
B1: You are using the XLSTAT trial version. Number of days remaining until the trial expires: -100
B3: XLSTAT 2019.4.2.63762 - Tests on contingency tables (Chi-square...) - Start time: 15/05/2020 at 13:15:07 / End time: 15/05/2020 at 13:15:08 / Microsoft Excel 16.012730
B4: These results have been generated using XLSTAT Free. You can benefit from many more tools and options with a full version.
B5: Row variable(s): Workbook = Использование смартфона в туалете (Ответы).xlsx / Sheet = Рабочий стол / Range = 'Рабочий стол'!$V:$V / 526 rows and 1 column
B6: Column variable(s): Workbook = Использование смартфона в туалете (Ответы).xlsx / Sheet = Рабочий стол / Range = 'Рабочий стол'!$S:$S / 526 rows and 1 column
B11: Results for the variables Усталость and Что лучше характеризует то, как вы справляетесь с делами в ЛИЧНОЙ жизни?:
B13: Contingency table (Усталость / Что лучше характеризует то, как вы справляетесь с делами в ЛИЧНОЙ жизни?):
C15: 1. Плохо | D15: 2. Средне | E15: 3. Хорошо
B16: 1. Свежий | C16: 9 | D16: 29 | E16: 40
B17: 2. Усталый | C17: 45 | D17: 169 | E17: 103
B18: 3. В хлам | C18: 62 | D18: 46 | E18: 23
B21: Test of independence between the rows and the columns (Усталость / Что лучше характеризует то, как вы справляетесь с делами в ЛИЧНОЙ жизни?):
B23: Chi-square (Observed value) | C23: 76.864013
B24: Chi-square (Critical value) | C24: 9.487729
B25: DF | C25: 4
B26: p-value | C26: < 0,0001
B27: alpha | C27: 0.05
B29: Test interpretation:
B30: H0: The rows and the columns of the table are independent.
B31: Ha: There is a link between the rows and the columns of the table.
B32: As the computed p-value is lower than the significance level alpha=0,05, one should reject the null hypothesis H0, and accept the alternative hypothesis Ha.
B36: Significance by cell (Fisher's exact test) (Усталость / Что лучше характеризует то, как вы справляетесь с делами в ЛИЧНОЙ жизни?):
C38: 1. Плохо | D38: 2. Средне | E38: 3. Хорошо
B39: 1. Свежий | C39: < | D39: < | E39: >
B40: 2. Усталый | C40: < | D40: > | E40: >
B41: 3. В хлам | C41: > | D41: < | E41: <
B42: Values displayed in red are significant at the level alpha=0,05
B45: Chi-square by cell (Усталость / Что лучше характеризует то, как вы справляетесь с делами в ЛИЧНОЙ жизни?):
C47: 1. Плохо | D47: 2. Средне | E47: 3. Хорошо | F47: Total
B48: 1. Свежий | C48: 3.9104069 | D48: 1.425784 | E48: 9.6144249 | F48: 14.950616
B49: 2. Усталый | C49: 8.8750783 | D49: 3.2766366 | E49: 0.087471403 | F49: 12.239186
B50: 3. В хлам | C50: 37.947381 | D50: 3.5889844 | E50: 8.1378459 | F50: 49.674211
B51: Total | C51: 50.732866 | D51: 8.2914049 | E51: 17.839742 | F51: 76.864013
B54: Residuals (Pearson) (Усталость / Что лучше характеризует то, как вы справляетесь с делами в ЛИЧНОЙ жизни?):
C56: 1. Плохо | D56: 2. Средне | E56: 3. Хорошо
B57: 1. Свежий | C57: -1.9774749 | D57: -1.194062 | E57: 3.1007136
B58: 2. Усталый | C58: -2.979107 | D58: 1.8101482 | E58: 0.29575565
B59: 3. В хлам | C59: 6.1601445 | D59: -1.8944615 | E59: -2.852691
B62: Residuals (Adjusted) (Усталость / Что лучше характеризует то, как вы справляетесь с делами в ЛИЧНОЙ жизни?):
C64: 1. Плохо | D64: 2. Средне | E64: 3. Хорошо
B65: 1. Свежий | C65: -2.4269777 | D65: -1.7670509 | E65: 4.0612259
B66: 2. Усталый | C66: -5.3531174 | D66: 3.9219512 | E66: 0.56714538
B67: 3. В хлам | C67: 8.0516738 | D67: -2.9857155 | E67: -3.9791534
B68: Values displayed in bold are significant at the level alpha=0,05
B94: Observed frequencies (Усталость / Что лучше характеризует то, как вы справляетесь с делами в ЛИЧНОЙ жизни?):
C96: 1. Плохо | D96: 2. Средне | E96: 3. Хорошо | F96: Total
B97: 1. Свежий | C97: 9 | D97: 29 | E97: 40 | F97: 78
B98: 2. Усталый | C98: 45 | D98: 169 | E98: 103 | F98: 317
B99: 3. В хлам | C99: 62 | D99: 46 | E99: 23 | F99: 131
B100: Total | C100: 116 | D100: 244 | E100: 166 | F100: 526
B103: Percentages / Row (Усталость / Что лучше характеризует то, как вы справляетесь с делами в ЛИЧНОЙ жизни?):
C105: 1. Плохо | D105: 2. Средне | E105: 3. Хорошо | F105: Total
B106: 1. Свежий | C106: 11.538462 | D106: 37.179487 | E106: 51.282051 | F106: 100
B107: 2. Усталый | C107: 14.195584 | D107: 53.312303 | E107: 32.492114 | F107: 100
B108: 3. В хлам | C108: 47.328244 | D108: 35.114504 | E108: 17.557252 | F108: 100
B109: Total | C109: 22.053232 | D109: 46.387833 | E109: 31.558935 | F109: 100
B112: Percentages / Column (Усталость / Что лучше характеризует то, как вы справляетесь с делами в ЛИЧНОЙ жизни?):
C114: 1. Плохо | D114: 2. Средне | E114: 3. Хорошо | F114: Total
B115: 1. Свежий | C115: 7.7586207 | D115: 11.885246 | E115: 24.096386 | F115: 14.828897
B116: 2. Усталый | C116: 38.793103 | D116: 69.262295 | E116: 62.048193 | F116: 60.26616
B117: 3. В хлам | C117: 53.448276 | D117: 18.852459 | E117: 13.855422 | F117: 24.904943
B118: Total | C118: 100 | D118: 100 | E118: 100 | F118: 100
B121: Percentages / Total (Усталость / Что лучше характеризует то, как вы справляетесь с делами в ЛИЧНОЙ жизни?):
C123: 1. Плохо | D123: 2. Средне | E123: 3. Хорошо | F123: Total
B124: 1. Свежий | C124: 1.7110266 | D124: 5.513308 | E124: 7.6045627 | F124: 14.828897
B125: 2. Усталый | C125: 8.5551331 | D125: 32.129278 | E125: 19.581749 | F125: 60.26616
B126: 3. В хлам | C126: 11.787072 | D126: 8.7452471 | E126: 4.3726236 | F126: 24.904943
B127: Total | C127: 22.053232 | D127: 46.387833 | E127: 31.558935 | F127: 100
B130: Test of independence between the rows and the columns (Chi-square):
B132: Chi-square (Observed value) | C132: 76.864013
B133: Chi-square (Critical value) | C133: 9.487729
B134: DF | C134: 4
B135: p-value | C135: < 0,0001
B136: alpha | C136: 0.05
B138: Test interpretation:
B139: H0: The rows and the columns of the table are independent.
B140: Ha: There is a link between the rows and the columns of the table.
B141: As the computed p-value is lower than the significance level alpha=0,05, one should reject the null hypothesis H0, and accept the alternative hypothesis Ha.
B145: Fisher's exact test:
B147: p-value (Two-tailed) | C147: < 0,0001
B148: alpha | C148: 0.05
B150: Test interpretation:
B151: H0: The rows and the columns of the table are independent.
B152: Ha: There is a link between the rows and the columns of the table.
B153: As the computed p-value is lower than the significance level alpha=0,05, one should reject the null hypothesis H0, and accept the alternative hypothesis Ha.
B157: Test of independence between the rows and the columns (Wilks' G²):
B159: Wilks' G² (Observed value) | C159: 69.829436
B160: Wilks' G² (Critical value) | C160: 9.487729
B161: DF | C161: 4
B162: p-value | C162: < 0,0001
B163: alpha | C163: 0.05
B165: Test interpretation:
B166: H0: The rows and the columns of the table are independent.
B167: Ha: There is a link between the rows and the columns of the table.
B168: As the computed p-value is lower than the significance level alpha=0,05, one should reject the null hypothesis H0, and accept the alternative hypothesis Ha.
B172: Association coefficients (1):
B174: Coefficient | C174: Value
B175: Pearson's Phi | C175: 0.38226863
B176: Contingency coefficient | C176: 0.35706875
B177: Cramer's V | C177: 0.27030474
...

Sheet Довольство и работа
B1: You are using the XLSTAT trial version. Number of days remaining until the trial expires: -100
B3: XLSTAT 2019.4.2.63762 - Tests on contingency tables (Chi-square...) - Start time: 15/05/2020 at 13:14:46 / End time: 15/05/2020 at 13:14:47 / Microsoft Excel 16.012730
B4: These results have been generated using XLSTAT Free. You can benefit from many more tools and options with a full version.
B5: Row variable(s): Workbook = Использование смартфона в туалете (Ответы).xlsx / Sheet = Рабочий стол / Range = 'Рабочий стол'!$M:$M / 526 rows and 1 column
B6: Column variable(s): Workbook = Использование смартфона в туалете (Ответы).xlsx / Sheet = Рабочий стол / Range = 'Рабочий стол'!$T:$T / 526 rows and 1 column
B11: Results for the variables Довольство жизнью and Что лучше характеризует то, как вы справляетесь с делами по работе?:
B13: Contingency table (Довольство жизнью / Что лучше характеризует то, как вы справляетесь с делами по работе?):
C15: 1. Плохо | D15: 2. Средне | E15: 3. Хорошо
B16: 1. Довольный | C16: 10 | D16: 71 | E16: 111
B17: 2. Так себе | C17: 31 | D17: 140 | E17: 102
B18: 3. Не довольный | C18: 19 | D18: 29 | E18: 13
B21: Test of independence between the rows and the columns (Довольство жизнью / Что лучше характеризует то, как вы справляетесь с делами по работе?):
B23: Chi-square (Observed value) | C23: 50.918849
B24: Chi-square (Critical value) | C24: 9.487729
B25: DF | C25: 4
B26: p-value | C26: < 0,0001
B27: alpha | C27: 0.05
B29: Test interpretation:
B30: H0: The rows and the columns of the table are independent.
B31: Ha: There is a link between the rows and the columns of the table.
B32: As the computed p-value is lower than the significance level alpha=0,05, one should reject the null hypothesis H0, and accept the alternative hypothesis Ha.
B36: Significance by cell (Fisher's exact test) (Довольство жизнью / Что лучше характеризует то, как вы справляетесь с делами по работе?):
C38: 1. Плохо | D38: 2. Средне | E38: 3. Хорошо
B39: 1. Довольный | C39: < | D39: < | E39: >
B40: 2. Так себе | C40: < | D40: > | E40: <
B41: 3. Не довольный | C41: > | D41: > | E41: <
B42: Values displayed in red are significant at the level alpha=0,05
B45: Chi-square by cell (Довольство жизнью / Что лучше характеризует то, как вы справляетесь с делами по работе?):
C47: 1. Плохо | D47: 2. Средне | E47: 3. Хорошо | F47: Total
B48: 1. Довольный | C48: 6.4671129 | D48: 3.1472277 | E48: 9.8500764 | F48: 19.464417
B49: 2. Так себе | C49: 0.0006355706 | D49: 1.913165 | E49: 1.9948178 | F49: 3.9086183
B50: 3. Не довольный | C50: 20.839596 | D50: 0.04895645 | E50: 6.6572613 | F50: 27.545813
B51: Total | C51: 27.307344 | D51: 5.1093491 | E51: 18.502155 | F51: 50.918849
B54: Residuals (Pearson) (Довольство жизнью / Что лучше характеризует то, как вы справляетесь с делами по работе?):
C56: 1. Плохо | D56: 2. Средне | E56: 3. Хорошо
B57: 1. Довольный | C57: -2.5430519 | D57: -1.7740427 | E57: 3.1384831
B58: 2. Так себе | C58: -0.025210526 | D58: 1.3831721 | E58: -1.4123802
B59: 3. Не довольный | C59: 4.5650406 | D59: 0.22126105 | E59: -2.5801669
B62: Residuals (Adjusted) (Довольство жизнью / Что лучше характеризует то, как вы справляетесь с делами по работе?):
C64: 1. Плохо | D64: 2. Средне | E64: 3. Хорошо
B65: 1. Довольный | C65: -3.3905861 | D65: -3.0192118 | E65: 5.2152086
B66: 2. Так себе | C66: -0.038620192 | D66: 2.7046974 | E66: -2.6965996
B67: 3. Не довольный | C67: 5.1583518 | D67: 0.31913998 | E67: -3.633678
B68: Values displayed in bold are significant at the level alpha=0,05
B94: Observed frequencies (Довольство жизнью / Что лучше характеризует то, как вы справляетесь с делами по работе?):
C96: 1. Плохо | D96: 2. Средне | E96: 3. Хорошо | F96: Total
B97: 1. Довольный | C97: 10 | D97: 71 | E97: 111 | F97: 192
B98: 2. Так себе | C98: 31 | D98: 140 | E98: 102 | F98: 273
B99: 3. Не довольный | C99: 19 | D99: 29 | E99: 13 | F99: 61
B100: Total | C100: 60 | D100: 240 | E100: 226 | F100: 526
B103: Percentages / Row (Довольство жизнью / Что лучше характеризует то, как вы справляетесь с делами по работе?):
C105: 1. Плохо | D105: 2. Средне | E105: 3. Хорошо | F105: Total
B106: 1. Довольный | C106: 5.2083333 | D106: 36.979167 | E106: 57.8125 | F106: 100
B107: 2. Так себе | C107: 11.355311 | D107: 51.282051 | E107: 37.362637 | F107: 100
B108: 3. Не довольный | C108: 31.147541 | D108: 47.540984 | E108: 21.311475 | F108: 100
B109: Total | C109: 11.406844 | D109: 45.627376 | E109: 42.965779 | F109: 100
B112: Percentages / Column (Довольство жизнью / Что лучше характеризует то, как вы справляетесь с делами по работе?):
C114: 1. Плохо | D114: 2. Средне | E114: 3. Хорошо | F114: Total
B115: 1. Довольный | C115: 16.666667 | D115: 29.583333 | E115: 49.115044 | F115: 36.501901
B116: 2. Так себе | C116: 51.666667 | D116: 58.333333 | E116: 45.132743 | F116: 51.901141
B117: 3. Не довольный | C117: 31.666667 | D117: 12.083333 | E117: 5.7522124 | F117: 11.596958
B118: Total | C118: 100 | D118: 100 | E118: 100 | F118: 100
B121: Percentages / Total (Довольство жизнью / Что лучше характеризует то, как вы справляетесь с делами по работе?):
C123: 1. Плохо | D123: 2. Средне | E123: 3. Хорошо | F123: Total
B124: 1. Довольный | C124: 1.9011407 | D124: 13.498099 | E124: 21.102662 | F124: 36.501901
B125: 2. Так себе | C125: 5.8935361 | D125: 26.61597 | E125: 19.391635 | F125: 51.901141
B126: 3. Не довольный | C126: 3.6121673 | D126: 5.513308 | E126: 2.4714829 | F126: 11.596958
B127: Total | C127: 11.406844 | D127: 45.627376 | E127: 42.965779 | F127: 100
B130: Test of independence between the rows and the columns (Chi-square):
B132: Chi-square (Observed value) | C132: 50.918849
B133: Chi-square (Critical value) | C133: 9.487729
B134: DF | C134: 4
B135: p-value | C135: < 0,0001
B136: alpha | C136: 0.05
B138: Test interpretation:
B139: H0: The rows and the columns of the table are independent.
B140: Ha: There is a link between the rows and the columns of the table.
B141: As the computed p-value is lower than the significance level alpha=0,05, one should reject the null hypothesis H0, and accept the alternative hypothesis Ha.
B145: Fisher's exact test:
B147: p-value (Two-tailed) | C147: < 0,0001
B148: alpha | C148: 0.05
B150: Test interpretation:
B151: H0: The rows and the columns of the table are independent.
B152: Ha: There is a link between the rows and the columns of the table.
B153: As the computed p-value is lower than the significance level alpha=0,05, one should reject the null hypothesis H0, and accept the alternative hypothesis Ha.
B157: Test of independence between the rows and the columns (Wilks' G²):
B159: Wilks' G² (Observed value) | C159: 46.620602
B160: Wilks' G² (Critical value) | C160: 9.487729
B161: DF | C161: 4
B162: p-value | C162: < 0,0001
B163: alpha | C163: 0.05
B165: Test interpretation:
B166: H0: The rows and the columns of the table are independent.
B167: Ha: There is a link between the rows and the columns of the table.
B168: As the computed p-value is lower than the significance level alpha=0,05, one should reject the null hypothesis H0, and accept the alternative hypothesis Ha.
B172: Association coefficients (1):
B174: Coefficient | C174: Value
B175: Pearson's Phi | C175: 0.31113324
B176: Contingency coefficient | C176: 0.29708582
B177: Cramer's V | C177: 0.22000443
...

Sheet Довольство и личное
B1: You are using the XLSTAT trial version. Number of days remaining until the trial expires: -100
B3: XLSTAT 2019.4.2.63762 - Tests on contingency tables (Chi-square...) - Start time: 15/05/2020 at 13:14:31 / End time: 15/05/2020 at 13:14:32 / Microsoft Excel 16.012730
B4: These results have been generated using XLSTAT Free. You can benefit from many more tools and options with a full version.
B5: Row variable(s): Workbook = Использование смартфона в туалете (Ответы).xlsx / Sheet = Рабочий стол / Range = 'Рабочий стол'!$M:$M / 526 rows and 1 column
B6: Column variable(s): Workbook = Использование смартфона в туалете (Ответы).xlsx / Sheet = Рабочий стол / Range = 'Рабочий стол'!$S:$S / 526 rows and 1 column
B11: Results for the variables Довольство жизнью and Что лучше характеризует то, как вы справляетесь с делами в ЛИЧНОЙ жизни?:
B13: Contingency table (Довольство жизнью / Что лучше характеризует то, как вы справляетесь с делами в ЛИЧНОЙ жизни?):
C15: 1. Плохо | D15: 2. Средне | E15: 3. Хорошо
B16: 1. Довольный | C16: 16 | D16: 77 | E16: 99
B17: 2. Так себе | C17: 64 | D17: 148 | E17: 61
B18: 3. Не довольный | C18: 36 | D18: 19 | E18: 6
B21: Test of independence between the rows and the columns (Довольство жизнью / Что лучше характеризует то, как вы справляетесь с делами в ЛИЧНОЙ жизни?):
B23: Chi-square (Observed value) | C23: 103.52088
B24: Chi-square (Critical value) | C24: 9.487729
B25: DF | C25: 4
B26: p-value | C26: < 0,0001
B27: alpha | C27: 0.05
B29: Test interpretation:
B30: H0: The rows and the columns of the table are independent.
B31: Ha: There is a link between the rows and the columns of the table.
B32: As the computed p-value is lower than the significance level alpha=0,05, one should reject the null hypothesis H0, and accept the alternative hypothesis Ha.
B36: Significance by cell (Fisher's exact test) (Довольство жизнью / Что лучше характеризует то, как вы справляетесь с делами в ЛИЧНОЙ жизни?):
C38: 1. Плохо | D38: 2. Средне | E38: 3. Хорошо
B39: 1. Довольный | C39: < | D39: < | E39: >
B40: 2. Так себе | C40: > | D40: > | E40: <
B41: 3. Не довольный | C41: > | D41: < | E41: <
B42: Values displayed in red are significant at the level alpha=0,05
B45: Chi-square by cell (Довольство жизнью / Что лучше характеризует то, как вы справляетесь с делами в ЛИЧНОЙ жизни?):
C47: 1. Плохо | D47: 2. Средне | E47: 3. Хорошо | F47: Total
B48: 1. Довольный | C48: 16.388182 | D48: 1.6342682 | E48: 24.344097 | F48: 42.366548
B49: 2. Так себе | C49: 0.2391744 | D49: 3.6031741 | E49: 7.3450457 | F49: 11.187394
B50: 3. Не довольный | C50: 37.791646 | D50: 3.0543044 | E50: 9.1209881 | F50: 49.966939
B51: Total | C51: 54.419003 | D51: 8.2917467 | E51: 40.810131 | F51: 103.52088
B54: Residuals (Pearson) (Довольство жизнью / Что лучше характеризует то, как вы справляетесь с делами в ЛИЧНОЙ жизни?):
C56: 1. Плохо | D56: 2. Средне | E56: 3. Хорошо
B57: 1. Довольный | C57: -4.048232 | D57: -1.278385 | E57: 4.9339738
B58: 2. Так себе | C58: 0.4890546 | D58: 1.8982029 | E58: -2.7101745
B59: 3. Не довольный | C59: 6.147491 | D59: -1.7476568 | E59: -3.0200974
B62: Residuals (Adjusted) (Довольство жизнью / Что лучше характеризует то, как вы справляетесь с делами в ЛИЧНОЙ жизни?):
C64: 1. Плохо | D64: 2. Средне | E64: 3. Хорошо
B65: 1. Довольный | C65: -5.7542136 | D65: -2.1910366 | E65: 7.4844191
B66: 2. Так себе | C66: 0.79871327 | D66: 3.7380366 | E66: -4.7235823
B67: 3. Не довольный | C67: 7.4056851 | D67: -2.5385801 | E67: -3.8826564
B68: Values displayed in bold are significant at the level alpha=0,05
B94: Observed frequencies (Довольство жизнью / Что лучше характеризует то, как вы справляетесь с делами в ЛИЧНОЙ жизни?):
C96: 1. Плохо | D96: 2. Средне | E96: 3. Хорошо | F96: Total
B97: 1. Довольный | C97: 16 | D97: 77 | E97: 99 | F97: 192
B98: 2. Так себе | C98: 64 | D98: 148 | E98: 61 | F98: 273
B99: 3. Не довольный | C99: 36 | D99: 19 | E99: 6 | F99: 61
B100: Total | C100: 116 | D100: 244 | E100: 166 | F100: 526
B103: Percentages / Row (Довольство жизнью / Что лучше характеризует то, как вы справляетесь с делами в ЛИЧНОЙ жизни?):
C105: 1. Плохо | D105: 2. Средне | E105: 3. Хорошо | F105: Total
B106: 1. Довольный | C106: 8.3333333 | D106: 40.104167 | E106: 51.5625 | F106: 100
B107: 2. Так себе | C107: 23.443223 | D107: 54.212454 | E107: 22.344322 | F107: 100
B108: 3. Не довольный | C108: 59.016393 | D108: 31.147541 | E108: 9.8360656 | F108: 100
B109: Total | C109: 22.053232 | D109: 46.387833 | E109: 31.558935 | F109: 100
B112: Percentages / Column (Довольство жизнью / Что лучше характеризует то, как вы справляетесь с делами в ЛИЧНОЙ жизни?):
C114: 1. Плохо | D114: 2. Средне | E114: 3. Хорошо | F114: Total
B115: 1. Довольный | C115: 13.793103 | D115: 31.557377 | E115: 59.638554 | F115: 36.501901
B116: 2. Так себе | C116: 55.172414 | D116: 60.655738 | E116: 36.746988 | F116: 51.901141
B117: 3. Не довольный | C117: 31.034483 | D117: 7.7868852 | E117: 3.6144578 | F117: 11.596958
B118: Total | C118: 100 | D118: 100 | E118: 100 | F118: 100
B121: Percentages / Total (Довольство жизнью / Что лучше характеризует то, как вы справляетесь с делами в ЛИЧНОЙ жизни?):
C123: 1. Плохо | D123: 2. Средне | E123: 3. Хорошо | F123: Total
B124: 1. Довольный | C124: 3.0418251 | D124: 14.638783 | E124: 18.821293 | F124: 36.501901
B125: 2. Так себе | C125: 12.1673 | D125: 28.136882 | E125: 11.596958 | F125: 51.901141
B126: 3. Не довольный | C126: 6.8441065 | D126: 3.6121673 | E126: 1.1406844 | F126: 11.596958
B127: Total | C127: 22.053232 | D127: 46.387833 | E127: 31.558935 | F127: 100
B130: Test of independence between the rows and the columns (Chi-square):
B132: Chi-square (Observed value) | C132: 103.52088
B133: Chi-square (Critical value) | C133: 9.487729
B134: DF | C134: 4
B135: p-value | C135: < 0,0001
B136: alpha | C136: 0.05
B138: Test interpretation:
B139: H0: The rows and the columns of the table are independent.
B140: Ha: There is a link between the rows and the columns of the table.
B141: As the computed p-value is lower than the significance level alpha=0,05, one should reject the null hypothesis H0, and accept the alternative hypothesis Ha.
B145: Fisher's exact test:
B147: p-value (Two-tailed) | C147: < 0,0001
B148: alpha | C148: 0.05
B150: Test interpretation:
B151: H0: The rows and the columns of the table are independent.
B152: Ha: There is a link between the rows and the columns of the table.
B153: As the computed p-value is lower than the significance level alpha=0,05, one should reject the null hypothesis H0, and accept the alternative hypothesis Ha.
B157: Test of independence between the rows and the columns (Wilks' G²):
B159: Wilks' G² (Observed value) | C159: 97.233719
B160: Wilks' G² (Critical value) | C160: 9.487729
B161: DF | C161: 4
B162: p-value | C162: < 0,0001
B163: alpha | C163: 0.05
B165: Test interpretation:
B166: H0: The rows and the columns of the table are independent.
B167: Ha: There is a link between the rows and the columns of the table.
B168: As the computed p-value is lower than the significance level alpha=0,05, one should reject the null hypothesis H0, and accept the alternative hypothesis Ha.
B172: Association coefficients (1):
B174: Coefficient | C174: Value
B175: Pearson's Phi | C175: 0.4436302
B176: Contingency coefficient | C176: 0.40551685
B177: Cramer's V | C177: 0.31369393
...

Sheet Пол и шоппинг
B1: You are using the XLSTAT trial version. Number of days remaining until the trial expires: -100
B3: XLSTAT 2019.4.2.63762 - Tests on contingency tables (Chi-square...) - Start time: 15/05/2020 at 13:13:01 / End time: 15/05/2020 at 13:13:02 / Microsoft Excel 16.012730
B4: These results have been generated using XLSTAT Free. You can benefit from many more tools and options with a full version.
B5: Row variable(s): Workbook = Использование смартфона в туалете (Ответы).xlsx / Sheet = Рабочий стол / Range = 'Рабочий стол'!$A:$A / 526 rows and 1 column
B6: Column variable(s): Workbook = Использование смартфона в туалете (Ответы).xlsx / Sheet = Рабочий стол / Range = 'Рабочий стол'!$J:$J / 526 rows and 1 column
B11: Results for the variables Ваш пол and Совершаю покупки в интернет-магазине:
B13: Contingency table (Ваш пол / Совершаю покупки в интернет-магазине):
C15: 0 | D15: 1
B16: Ж | C16: 207 | D16: 31
B17: М. | C17: 257 | D17: 31
B20: Test of independence between the rows and the columns (Ваш пол / Совершаю покупки в интернет-магазине):
B22: Chi-square (Observed value) | C22: 0.64087012
B23: Chi-square (Critical value) | C23: 3.8414588
B24: DF | C24: 1
B25: p-value | C25: 0.42339589
B26: alpha | C26: 0.05
B28: Test interpretation:
B29: H0: The rows and the columns of the table are independent.
B30: Ha: There is a link between the rows and the columns of the table.
B31: As the computed p-value is greater than the significance level alpha=0,05, one cannot reject the null hypothesis H0.
B35: Significance by cell (Fisher's exact test) (Ваш пол / Совершаю покупки в интернет-магазине):
C37: 0 | D37: 1
B38: Ж | C38: < | D38: >
B39: М. | C39: > | D39: <
B40: Values displayed in red are significant at the level alpha=0,05
B43: Chi-square by cell (Ваш пол / Совершаю покупки в интернет-магазине):
C45: 0 | D45: 1 | E45: Total
B46: Ж | C46: 0.041360208 | D46: 0.30953446 | E46: 0.35089467
B47: М. | C47: 0.034179616 | D47: 0.25579584 | E47: 0.28997545
B48: Total | C48: 0.075539824 | D48: 0.5653303 | E48: 0.64087012
B51: Residuals (Pearson) (Ваш пол / Совершаю покупки в интернет-магазине):
C53: 0 | D53: 1
B54: Ж | C54: -0.20337209 | D54: 0.55635821
B55: М. | C55: 0.1848773 | D55: -0.50576263
B58: Residuals (Adjusted) (Ваш пол / Совершаю покупки в интернет-магазине):
C60: 0 | D60: 1
B61: Ж | C61: -0.80054364 | D61: 0.80054364
B62: М. | C62: 0.80054364 | D62: -0.80054364
B63: Values displayed in bold are significant at the level alpha=0,05
B89: Observed frequencies (Ваш пол / Совершаю покупки в интернет-магазине):
C91: 0 | D91: 1 | E91: Total
B92: Ж | C92: 207 | D92: 31 | E92: 238
B93: М. | C93: 257 | D93: 31 | E93: 288
B94: Total | C94: 464 | D94: 62 | E94: 526
B97: Percentages / Row (Ваш пол / Совершаю покупки в интернет-магазине):
C99: 0 | D99: 1 | E99: Total
B100: Ж | C100: 86.97479 | D100: 13.02521 | E100: 100
B101: М. | C101: 89.236111 | D101: 10.763889 | E101: 100
B102: Total | C102: 88.212928 | D102: 11.787072 | E102: 100
B105: Percentages / Column (Ваш пол / Совершаю покупки в интернет-магазине):
C107: 0 | D107: 1 | E107: Total
B108: Ж | C108: 44.612069 | D108: 50 | E108: 45.247148
B109: М. | C109: 55.387931 | D109: 50 | E109: 54.752852
B110: Total | C110: 100 | D110: 100 | E110: 100
B113: Percentages / Total (Ваш пол / Совершаю покупки в интернет-магазине):
C115: 0 | D115: 1 | E115: Total
B116: Ж | C116: 39.353612 | D116: 5.8935361 | E116: 45.247148
B117: М. | C117: 48.859316 | D117: 5.8935361 | E117: 54.752852
B118: Total | C118: 88.212928 | D118: 11.787072 | E118: 100
B121: Test of independence between the rows and the columns (Chi-square):
B123: Chi-square (Observed value) | C123: 0.64087012
B124: Chi-square (Critical value) | C124: 3.8414588
B125: DF | C125: 1
B126: p-value | C126: 0.42339589
B127: alpha | C127: 0.05
B129: Test interpretation:
B130: H0: The rows and the columns of the table are independent.
B131: Ha: There is a link between the rows and the columns of the table.
B132: As the computed p-value is greater than the significance level alpha=0,05, one cannot reject the null hypothesis H0.
B136: Test of independence between the rows and the columns (Chi-square with Yates' continuity correction):
B138: Chi-square (Observed value) | C138: 0.44183867
B139: Chi-square (Critical value) | C139: 3.8414588
B140: DF | C140: 1
B141: p-value (Two-tailed) | C141: 0.50623634
B142: alpha | C142: 0.05
B144: Test interpretation:
B145: H0: The rows and the columns of the table are independent.
B146: Ha: There is a link between the rows and the columns of the table.
B147: As the computed p-value is greater than the significance level alpha=0,05, one cannot reject the null hypothesis H0.
B151: Fisher's exact test:
B153: p-value (Two-tailed) | C153: 0.49727955
B154: alpha | C154: 0.05
B156: Test interpretation:
B157: H0: The rows and the columns of the table are independent.
B158: Ha: There is a link between the rows and the columns of the table.
B159: As the computed p-value is greater than the significance level alpha=0,05, one cannot reject the null hypothesis H0.
B163: Test of independence between the rows and the columns (Wilks' G²):
B165: Wilks' G² (Observed value) | C165: 0.63837177
B166: Wilks' G² (Critical value) | C166: 3.8414588
B167: DF | C167: 1
B168: p-value | C168: 0.42430102
B169: alpha | C169: 0.05
B171: Test interpretation:
B172: H0: The rows and the columns of the table are independent.
B173: Ha: There is a link between the rows and the columns of the table.
B174: As the computed p-value is greater than the significance level alpha=0,05, one cannot reject the null hypothesis H0.
B178: Association coefficients (1):
B180: Coefficient | C180: Value
B181: Pearson's Phi | C181: -0.034905362
B182: Contingency coefficient | C182: 0.034884117
...

Sheet Пол и отдых
B1: You are using the XLSTAT trial version. Number of days remaining until the trial expires: -100
B3: XLSTAT 2019.4.2.63762 - Tests on contingency tables (Chi-square...) - Start time: 15/05/2020 at 13:12:18 / End time: 15/05/2020 at 13:12:19 / Microsoft Excel 16.012730
B4: These results have been generated using XLSTAT Free. You can benefit from many more tools and options with a full version.
B5: Row variable(s): Workbook = Использование смартфона в туалете (Ответы).xlsx / Sheet = Рабочий стол / Range = 'Рабочий стол'!$A:$A / 526 rows and 1 column
B6: Column variable(s): Workbook = Использование смартфона в туалете (Ответы).xlsx / Sheet = Рабочий стол / Range = 'Рабочий стол'!$I:$I / 526 rows and 1 column
B11: Results for the variables Ваш пол and Отдыхаю в каком-то приложении / интернет-ресурсе:
B13: Contingency table (Ваш пол / Отдыхаю в каком-то приложении / интернет-ресурсе):
C15: 0 | D15: 1
B16: Ж | C16: 202 | D16: 36
B17: М. | C17: 212 | D17: 76
B20: Test of independence between the rows and the columns (Ваш пол / Отдыхаю в каком-то приложении / интернет-ресурсе):
B22: Chi-square (Observed value) | C22: 9.8635338
B23: Chi-square (Critical value) | C23: 3.8414588
B24: DF | C24: 1
B25: p-value | C25: 0.0016858698
B26: alpha | C26: 0.05
B28: Test interpretation:
B29: H0: The rows and the columns of the table are independent.
B30: Ha: There is a link between the rows and the columns of the table.
B31: As the computed p-value is lower than the significance level alpha=0,05, one should reject the null hypothesis H0, and accept the alternative hypothesis Ha.
B35: Significance by cell (Fisher's exact test) (Ваш пол / Отдыхаю в каком-то приложении / интернет-ресурсе):
C37: 0 | D37: 1
B38: Ж | C38: > | D38: <
B39: М. | C39: < | D39: >
B40: Values displayed in red are significant at the level alpha=0,05
B43: Chi-square by cell (Ваш пол / Отдыхаю в каком-то приложении / интернет-ресурсе):
C45: 0 | D45: 1 | E45: Total
B46: Ж | C46: 1.1499304 | D46: 4.2506356 | E46: 5.400566
B47: М. | C47: 0.95028971 | D47: 3.512678 | E47: 4.4629678
B48: Total | C48: 2.1002201 | D48: 7.7633137 | E48: 9.8635338
B51: Residuals (Pearson) (Ваш пол / Отдыхаю в каком-то приложении / интернет-ресурсе):
C53: 0 | D53: 1
B54: Ж | C54: 1.0723481 | D54: -2.061707
B55: М. | C55: -0.97482804 | D55: 1.874214
B58: Residuals (Adjusted) (Ваш пол / Отдыхаю в каком-то приложении / интернет-ресурсе):
C60: 0 | D60: 1
B61: Ж | C61: 3.1406263 | D61: -3.1406263
B62: М. | C62: -3.1406263 | D62: 3.1406263
B63: Values displayed in bold are significant at the level alpha=0,05
B89: Observed frequencies (Ваш пол / Отдыхаю в каком-то приложении / интернет-ресурсе):
C91: 0 | D91: 1 | E91: Total
B92: Ж | C92: 202 | D92: 36 | E92: 238
B93: М. | C93: 212 | D93: 76 | E93: 288
B94: Total | C94: 414 | D94: 112 | E94: 526
B97: Percentages / Row (Ваш пол / Отдыхаю в каком-то приложении / интернет-ресурсе):
C99: 0 | D99: 1 | E99: Total
