Workbook
Name FAS: Ключи!$A$14:$B$18
Name ДжедайскаяШкала: Ключи!$A$7:$B$11
Name Пол: Ключи!$A$21:$B$22
Name ЧастотаТолчкосмартфона: Ключи!$A$1:$B$5

Sheet Обзор
A1: М | B1: =COUNTIF('Рабочий стол'!A:A,Обзор!A1) -> 288
A2: Ж | B2: =COUNTIF('Рабочий стол'!A:A,Обзор!A2) -> 238
A5: 0 | B5: 20 | C5: =A5&".."&B5 -> 0..20 | D5: =COUNTIFS('Рабочий стол'!B:B,">="&Обзор!A5,'Рабочий стол'!B:B,"<"&Обзор!B5)/525 -> 0.024761905
A6: =B5 -> 20 | B6: =B5+5 -> 25 | C6: =A6&".."&B6 -> 20..25 | D6: =COUNTIFS('Рабочий стол'!B:B,">="&Обзор!A6,'Рабочий стол'!B:B,"<"&Обзор!B6)/525 -> 0.095238095
A7: =B6 -> 25 | B7: =B6+5 -> 30 | C7: =A7&".."&B7 -> 25..30 | D7: =COUNTIFS('Рабочий стол'!B:B,">="&Обзор!A7,'Рабочий стол'!B:B,"<"&Обзор!B7)/525 -> 0.18285714
A8: =B7 -> 30 | B8: =B7+5 -> 35 | C8: =A8&".."&B8 -> 30..35 | D8: =COUNTIFS('Рабочий стол'!B:B,">="&Обзор!A8,'Рабочий стол'!B:B,"<"&Обзор!B8)/525 -> 0.30285714
A9: =B8 -> 35 | B9: =B8+5 -> 40 | C9: =A9&".."&B9 -> 35..40 | D9: =COUNTIFS('Рабочий стол'!B:B,">="&Обзор!A9,'Рабочий стол'!B:B,"<"&Обзор!B9)/525 -> 0.24
A10: =B9 -> 40 | B10: =B9+5 -> 45 | C10: =A10&".."&B10 -> 40..45 | D10: =COUNTIFS('Рабочий стол'!B:B,">="&Обзор!A10,'Рабочий стол'!B:B,"<"&Обзор!B10)/525 -> 0.10857143
A11: =B10 -> 45 | B11: =B10+5 -> 50 | C11: =A11&".."&B11 -> 45..50 | D11: =COUNTIFS('Рабочий стол'!B:B,">="&Обзор!A11,'Рабочий стол'!B:B,"<"&Обзор!B11)/525 -> 0.032380952
A12: =B11 -> 50 | B12: 100 | C12: =A12&".."&B12 -> 50..100 | D12: =COUNTIFS('Рабочий стол'!B:B,">="&Обзор!A12,'Рабочий стол'!B:B,"<"&Обзор!B12)/525 -> 0.013333333
A16: 0. Никогда | B16: =COUNTIF('Рабочий стол'!D:D,Обзор!A16)/526 -> 0.087452471
A17: 1. Редко | B17: =COUNTIF('Рабочий стол'!D:D,Обзор!A17)/526 -> 0.121673
A18: 2. Иногда | B18: =COUNTIF('Рабочий стол'!D:D,Обзор!A18)/526 -> 0.10646388
A19: 3. Часто | B19: =COUNTIF('Рабочий стол'!D:D,Обзор!A19)/526 -> 0.2148289
A20: 4. Очень часто | B20: =COUNTIF('Рабочий стол'!D:D,Обзор!A20)/526 -> 0.46958175
A23: 1. Свежий | B23: =COUNTIF('Рабочий стол'!W:W,Обзор!A23) -> 78
A24: 2. Усталый | B24: =COUNTIF('Рабочий стол'!W:W,Обзор!A24) -> 317
A25: 3. В хлам | B25: =COUNTIF('Рабочий стол'!W:W,Обзор!A25) -> 131

Sheet Ключи
A1: Никогда так не делаю | B1: 0. Никогда | D1: 0. Никогда
A2: Крайне редко, в исключительных случаях | B2: 1. Редко | D2: 1. Редко
A3: Ну... иногда бывает... | B3: 2. Иногда | D3: 2. Иногда
A4: Не всегда, но часто | B4: 3. Часто | D4: 3. Часто
A5: Очень часто | B5: 4. Очень Часто | D5: 4. Очень часто
A7: Я не успеваю выполнять даже необходимый минимум | B7: 1. Плохо
A8: Я едва-едва успеваю выполнить необходимую текучку, но на долгосрочные планы не остается сил | B8: 1. Плохо
A9: Я успеваю разобраться с необходимой текучкой, и даже изредка могу посвящать силы долгосрочным планам | B9: 2. Средне
A10: Я вполне продуктивно продвигаюсь к своим долгосрочным целям. Завалы если и случаются, то не часто | B10: 3. Хорошо
A11: Все происходит легко и естественно и временами мне кажется, что редко бывает лучше | B11: 3. Хорошо
A14: Практически никогда | B14: 1
A15: Редко | B15: 2
A16: Иногда | B16: 3
A17: Часто | B17: 4
A18: Практичеки всегда | B18: 5
A21: М | B21: М
A22: Ж | B22: Ж

Sheet Ответы на форму (1)
A1: Отметка времени | B1: Ваш пол | C1: Сколько вам лет? | D1: Как часто вы используете смартфон в туалете? | E1: Как правило, для чего вы используете смартфон в туалете? | F1: Почти во всем моя жизнь соответствует моему идеалу | G1: Условия моей жизни превосходные | H1: Я удовлетворен своей жизнью | I1: До настоящего момента из главного я получал всего, чего хотел в жизни | J1: Если бы я мог прожить свою жизнь еще раз, я бы почти ничего в ней не изменил | K1: Что лучше характеризует то, как вы справляетесь с делами в ЛИЧНОЙ жизни? | L1: Что лучше характеризует то, как вы справляетесь с делами по работе? | M1: В какой степени утверждения ниже характеризуют ваше обычное состояние? [Меня беспокоит усталость] | N1: В какой степени утверждения ниже характеризуют ваше обычное состояние? [Я очень быстро устаю] | O1: В какой степени утверждения ниже характеризуют ваше обычное состояние? [Я успеваю сделать мало дел в течение дня] | P1: В какой степени утверждения ниже характеризуют ваше обычное состояние? [У меня достаточно энергии для повседневной жизни] | Q1: В какой степени утверждения ниже характеризуют ваше обычное состояние? [Я чувствую физическое истощение] | R1: В какой степени утверждения ниже характеризуют ваше обычное состояние? [Мне трудно начать что-нибудь делать] | S1: В какой степени утверждения ниже характеризуют ваше обычное состояние? [Мне трудно думать четко и ясно] | T1: В какой степени утверждения ниже характеризуют ваше обычное состояние? [У меня нет никакого желания что-нибудь делать] | U1: В какой степени утверждения ниже характеризуют ваше обычное состояние? [Я чувствую умственное истощение] | V1: В какой степени утверждения ниже характеризуют ваше обычное состояние? [Когда я делаю что-нибудь, я могу довольно хорошо сконцентрироваться]
A2: 43958.805 | B2: Ж | C2: 38 | D2: Никогда так не делаю | F2: 2 | G2: 2 | H2: 3 | I2: 4 | J2: 1 | K2: Я успеваю разобраться с необходимой текучкой, и даже изредка могу посвящать силы долгосрочным планам | L2: Я вполне продуктивно продвигаюсь к своим долгосрочным целям. Завалы если и случаются, то не часто | M2: Часто | N2: Редко | O2: Редко | P2: Часто | Q2: Иногда | R2: Иногда | S2: Иногда | T2: Часто | U2: Часто | V2: Часто
A3: 43958.806 | B3: М | C3: 45 | D3: Крайне редко, в исключительных случаях | E3: Отвечаю на входящие звонки, Отвечаю на сообщения в мессенджерах | F3: 2 | G3: 2 | H3: 2 | I3: 2 | J3: 3 | K3: Я успеваю разобраться с необходимой текучкой, и даже изредка могу посвящать силы долгосрочным планам | L3: Я успеваю разобраться с необходимой текучкой, и даже изредка могу посвящать силы долгосрочным планам | M3: Иногда | N3: Иногда | O3: Часто | P3: Часто | Q3: Редко | R3: Часто | S3: Редко | T3: Иногда | U3: Редко | V3: Часто
A4: 43958.807 | B4: М | C4: 44 | D4: Очень часто | E4: Отвечаю на сообщения в мессенджерах, Тупо скролю новости / социалки, Играю в игры | F4: 5 | G4: 5 | H4: 5 | I4: 5 | J4: 4 | K4: Я успеваю разобраться с необходимой текучкой, и даже изредка могу посвящать силы долгосрочным планам | L4: Я вполне продуктивно продвигаюсь к своим долгосрочным целям. Завалы если и случаются, то не часто | M4: Иногда | N4: Иногда | O4: Редко | P4: Часто | Q4: Редко | R4: Практичеки всегда | S4: Иногда | T4: Иногда | U4: Иногда | V4: Часто
A5: 43958.807 | B5: Ж | C5: 33 | D5: Не всегда, но часто | E5: Играю в игры, Читаю книгу | F5: 6 | G5: 6 | H5: 6 | I5: 3 | J5: 3 | K5: Я успеваю разобраться с необходимой текучкой, и даже изредка могу посвящать силы долгосрочным планам | L5: Я вполне продуктивно продвигаюсь к своим долгосрочным целям. Завалы если и случаются, то не часто | M5: Иногда | N5: Иногда | O5: Практически никогда | P5: Практичеки всегда | Q5: Редко | R5: Практически никогда | S5: Практически никогда | T5: Редко | U5: Редко | V5: Часто
A6: 43958.807 | B6: М | C6: 31 | D6: Очень часто | E6: Тупо скролю новости / социалки | F6: 4 | G6: 6 | H6: 5 | I6: 6 | J6: 6 | K6: Я вполне продуктивно продвигаюсь к своим долгосрочным целям. Завалы если и случаются, то не часто | L6: Я вполне продуктивно продвигаюсь к своим долгосрочным целям. Завалы если и случаются, то не часто | M6: Иногда | N6: Редко | O6: Часто | P6: Часто | Q6: Редко | R6: Редко | S6: Редко | T6: Редко | U6: Практически никогда | V6: Иногда
A7: 43958.807 | B7: Ж | C7: 31 | D7: Не всегда, но часто | E7: Тупо скролю новости / социалки | F7: 3 | G7: 5 | H7: 5 | I7: 5 | J7: 6 | K7: Я успеваю разобраться с необходимой текучкой, и даже изредка могу посвящать силы долгосрочным планам | L7: Я успеваю разобраться с необходимой текучкой, и даже изредка могу посвящать силы долгосрочным планам | M7: Иногда | N7: Иногда | O7: Часто | P7: Практичеки всегда | Q7: Иногда | R7: Часто | S7: Практически никогда | T7: Часто | U7: Редко | V7: Редко
A8: 43958.807 | B8: М | C8: 29 | D8: Не всегда, но часто | E8: Тупо скролю новости / социалки, Играю в игры | F8: 3 | G8: 5 | H8: 3 | I8: 4 | J8: 5 | K8: Я едва-едва успеваю выполнить необходимую текучку, но на долгосрочные планы не остается сил | L8: Я едва-едва успеваю выполнить необходимую текучку, но на долгосрочные планы не остается сил | M8: Часто | N8: Часто | O8: Часто | P8: Иногда | Q8: Редко | R8: Практичеки всегда | S8: Иногда | T8: Часто | U8: Иногда | V8: Часто
A9: 43958.807 | B9: М | C9: 33 | D9: Очень часто | E9: Отвечаю на входящие звонки, Отвечаю на сообщения в мессенджерах, Тупо скролю новости / социалки | F9: 5 | G9: 6 | H9: 5 | I9: 5 | J9: 6 | K9: Я вполне продуктивно продвигаюсь к своим долгосрочным целям. Завалы если и случаются, то не часто | L9: Я успеваю разобраться с необходимой текучкой, и даже изредка могу посвящать силы долгосрочным планам | M9: Практически никогда | N9: Практически никогда | O9: Иногда | P9: Практичеки всегда | Q9: Редко | R9: Иногда | S9: Редко | T9: Часто | U9: Часто | V9: Часто
A10: 43958.808 | B10: М | C10: 34 | D10: Очень часто | E10: Отвечаю на сообщения в мессенджерах, Тупо скролю новости / социалки, Играю в игры | F10: 5 | G10: 7 | H10: 4 | I10: 5 | J10: 6 | K10: Я вполне продуктивно продвигаюсь к своим долгосрочным целям. Завалы если и случаются, то не часто | L10: Я вполне продуктивно продвигаюсь к своим долгосрочным целям. Завалы если и случаются, то не часто | M10: Часто | N10: Редко | O10: Иногда | P10: Редко | Q10: Практически никогда | R10: Практически никогда | S10: Практически никогда | T10: Практически никогда | U10: Редко | V10: Иногда
A11: 43958.808 | B11: М | C11: 34 | D11: Не всегда, но часто | E11: Тупо скролю новости / социалки | F11: 5 | G11: 5 | H11: 6 | I11: 6 | J11: 4 | K11: Я едва-едва успеваю выполнить необходимую текучку, но на долгосрочные планы не остается сил | L11: Я успеваю разобраться с необходимой текучкой, и даже изредка могу посвящать силы долгосрочным планам | M11: Иногда | N11: Часто | O11: Часто | P11: Иногда | Q11: Иногда | R11: Часто | S11: Часто | T11: Редко | U11: Редко | V11: Иногда
A12: 43958.809 | B12: Ж | D12: Очень часто | E12: Отвечаю на сообщения в мессенджерах, Тупо скролю новости / социалки, Отдыхаю в каком-то приложении / интернет-ресурсе | F12: 5 | G12: 6 | H12: 5 | I12: 6 | J12: 4 | K12: Я едва-едва успеваю выполнить необходимую текучку, но на долгосрочные планы не остается сил | L12: Я успеваю разобраться с необходимой текучкой, и даже изредка могу посвящать силы долгосрочным планам | M12: Часто | N12: Практичеки всегда | O12: Иногда | P12: Редко | Q12: Редко | R12: Иногда | S12: Редко | T12: Иногда | U12: Редко | V12: Часто
A13: 43958.809 | B13: Ж | C13: 21 | D13: Не всегда, но часто | E13: Отвечаю на сообщения в мессенджерах, Тупо скролю новости / социалки, Играю в игры | F13: 2 | G13: 1 | H13: 2 | I13: 1 | J13: 1 | K13: Я успеваю разобраться с необходимой текучкой, и даже изредка могу посвящать силы долгосрочным планам | L13: Я вполне продуктивно продвигаюсь к своим долгосрочным целям. Завалы если и случаются, то не часто | M13: Часто | N13: Иногда | O13: Часто | P13: Редко | Q13: Часто | R13: Редко | S13: Практически никогда | T13: Иногда | U13: Практичеки всегда | V13: Часто
A14: 43958.809 | B14: М | C14: 38 | D14: Очень часто | E14: Тупо скролю новости / социалки | F14: 2 | G14: 3 | H14: 2 | I14: 1 | J14: 1 | K14: Я едва-едва успеваю выполнить необходимую текучку, но на долгосрочные планы не остается сил | L14: Я успеваю разобраться с необходимой текучкой, и даже изредка могу посвящать силы долгосрочным планам | M14: Практически никогда | N14: Редко | O14: Редко | P14: Редко | Q14: Практически никогда | R14: Практически никогда | S14: Практически никогда | T14: Практически никогда | U14: Практически никогда | V14: Практически никогда
A15: 43958.809 | B15: М | C15: 36 | D15: Очень часто | E15: Отвечаю на сообщения в мессенджерах, Отвечаю на почту, Тупо скролю новости / социалки, Совершаю покупки в интернет-магазине | F15: 5 | G15: 6 | H15: 6 | I15: 6 | J15: 5 | K15: Я успеваю разобраться с необходимой текучкой, и даже изредка могу посвящать силы долгосрочным планам | L15: Я успеваю разобраться с необходимой текучкой, и даже изредка могу посвящать силы долгосрочным планам | M15: Иногда | N15: Иногда | O15: Иногда | P15: Часто | Q15: Иногда | R15: Иногда | S15: Редко | T15: Редко | U15: Редко | V15: Иногда
A16: 43958.81 | B16: М | C16: 27 | D16: Крайне редко, в исключительных случаях | E16: Отвечаю на сообщения в мессенджерах, Тупо скролю новости / социалки | F16: 4 | G16: 5 | H16: 5 | I16: 4 | J16: 4 | K16: Я успеваю разобраться с необходимой текучкой, и даже изредка могу посвящать силы долгосрочным планам | L16: Я вполне продуктивно продвигаюсь к своим долгосрочным целям. Завалы если и случаются, то не часто | M16: Редко | N16: Практически никогда | O16: Редко | P16: Практичеки всегда | Q16: Практически никогда | R16: Редко | S16: Редко | T16: Иногда | U16: Редко | V16: Часто
A17: 43958.81 | B17: Ж | C17: 33 | D17: Ну... иногда бывает... | E17: Совершаю покупки в интернет-магазине | F17: 3 | G17: 4 | H17: 2 | I17: 3 | J17: 3 | K17: Я едва-едва успеваю выполнить необходимую текучку, но на долгосрочные планы не остается сил | L17: Я успеваю разобраться с необходимой текучкой, и даже изредка могу посвящать силы долгосрочным планам | M17: Часто | N17: Часто | O17: Практичеки всегда | P17: Редко | Q17: Практичеки всегда | R17: Практичеки всегда | S17: Практичеки всегда | T17: Практичеки всегда | U17: Практичеки всегда | V17: Практичеки всегда
A18: 43958.81 | B18: М | C18: 30 | D18: Крайне редко, в исключительных случаях | E18: Тупо скролю новости / социалки, Отдыхаю в каком-то приложении / интернет-ресурсе | F18: 6 | G18: 5 | H18: 6 | I18: 5 | J18: 3 | K18: Я вполне продуктивно продвигаюсь к своим долгосрочным целям. Завалы если и случаются, то не часто | L18: Я вполне продуктивно продвигаюсь к своим долгосрочным целям. Завалы если и случаются, то не часто | M18: Редко | N18: Редко | O18: Иногда | P18: Часто | Q18: Редко | R18: Редко | S18: Редко | T18: Редко | U18: Редко | V18: Часто
A19: 43958.811 | B19: М | C19: 47 | D19: Никогда так не делаю | F19: 6 | G19: 6 | H19: 6 | I19: 6 | J19: 5 | K19: Я вполне продуктивно продвигаюсь к своим долгосрочным целям. Завалы если и случаются, то не часто | L19: Я вполне продуктивно продвигаюсь к своим долгосрочным целям. Завалы если и случаются, то не часто | M19: Редко | N19: Редко | O19: Редко | P19: Часто | Q19: Редко | R19: Иногда | S19: Редко | T19: Редко | U19: Редко | V19: Часто
A20: 43958.811 | B20: Ж | C20: 41 | D20: Не всегда, но часто | E20: Отвечаю на сообщения в мессенджерах, Отвечаю на почту, Тупо скролю новости / социалки | F20: 3 | G20: 4 | H20: 5 | I20: 5 | J20: 3 | K20: Я успеваю разобраться с необходимой текучкой, и даже изредка могу посвящать силы долгосрочным планам | L20: Я успеваю разобраться с необходимой текучкой, и даже изредка могу посвящать силы долгосрочным планам | M20: Редко | N20: Редко | O20: Редко | P20: Редко | Q20: Редко | R20: Редко | S20: Редко | T20: Редко | U20: Редко | V20: Редко
A21: 43958.811 | B21: Ж | C21: 27 | D21: Не всегда, но часто | E21: Отвечаю на сообщения в мессенджерах, Тупо скролю новости / социалки, Играю в игры | F21: 3 | G21: 5 | H21: 4 | I21: 4 | J21: 5 | K21: Я успеваю разобраться с необходимой текучкой, и даже изредка могу посвящать силы долгосрочным планам | L21: Я вполне продуктивно продвигаюсь к своим долгосрочным целям. Завалы если и случаются, то не часто | M21: Часто | N21: Иногда | O21: Иногда | P21: Часто | Q21: Иногда | R21: Редко | S21: Практически никогда | T21: Редко | U21: Практически никогда | V21: Практичеки всегда
A22: 43958.811 | B22: М | C22: 27 | D22: Не всегда, но часто | E22: Тупо скролю новости / социалки, Играю в игры | F22: 6 | G22: 6 | H22: 6 | I22: 4 | J22: 7 | K22: Все происходит легко и естественно и временами мне кажется, что редко бывает лучше | L22: Все происходит легко и естественно и временами мне кажется, что редко бывает лучше | M22: Редко | N22: Иногда | O22: Редко | P22: Часто | Q22: Практически никогда | R22: Часто | S22: Практически никогда | T22: Иногда | U22: Практически никогда | V22: Практичеки всегда
A23: 43958.811 | B23: М | C23: 38 | D23: Не всегда, но часто | E23: Отвечаю на сообщения в мессенджерах, Тупо скролю новости / социалки | F23: 4 | G23: 4 | H23: 4 | I23: 4 | J23: 4 | K23: Я успеваю разобраться с необходимой текучкой, и даже изредка могу посвящать силы долгосрочным планам | L23: Я успеваю разобраться с необходимой текучкой, и даже изредка могу посвящать силы долгосрочным планам | M23: Иногда | N23: Иногда | O23: Редко | P23: Часто | Q23: Редко | R23: Иногда | S23: Иногда | T23: Практически никогда | U23: Редко | V23: Часто
A24: 43958.811 | B24: Ж | C24: 31 | D24: Крайне редко, в исключительных случаях | E24: Отвечаю на сообщения в мессенджерах, Отвечаю на почту | F24: 5 | G24: 4 | H24: 6 | I24: 5 | J24: 6 | K24: Я успеваю разобраться с необходимой текучкой, и даже изредка могу посвящать силы долгосрочным планам | L24: Я вполне продуктивно продвигаюсь к своим долгосрочным целям. Завалы если и случаются, то не часто | M24: Иногда | N24: Редко | O24: Часто | P24: Часто | Q24: Редко | R24: Иногда | S24: Редко | T24: Практически никогда | U24: Иногда | V24: Часто
A25: 43958.811 | B25: Ж | C25: 25 | D25: Ну... иногда бывает... | E25: Тупо скролю новости / социалки, Играю в игры, Совершаю покупки в интернет-магазине | F25: 4 | G25: 5 | H25: 5 | I25: 6 | J25: 6 | K25: Я вполне продуктивно продвигаюсь к своим долгосрочным целям. Завалы если и случаются, то не часто | L25: Я успеваю разобраться с необходимой текучкой, и даже изредка могу посвящать силы долгосрочным планам | M25: Иногда | N25: Иногда | O25: Иногда | P25: Часто | Q25: Редко | R25: Редко | S25: Практически никогда | T25: Редко | U25: Редко | V25: Иногда
A26: 43958.811 | B26: М | C26: 28 | D26: Очень часто | E26: Отвечаю на сообщения в мессенджерах, Тупо скролю новости / социалки, Отдыхаю в каком-то приложении / интернет-ресурсе | F26: 5 | G26: 5 | H26: 6 | I26: 6 | J26: 5 | K26: Я вполне продуктивно продвигаюсь к своим долгосрочным целям. Завалы если и случаются, то не часто | L26: Я вполне продуктивно продвигаюсь к своим долгосрочным целям. Завалы если и случаются, то не часто | M26: Иногда | N26: Редко | O26: Иногда | P26: Практичеки всегда | Q26: Практически никогда | R26: Иногда | S26: Редко | T26: Редко | U26: Редко | V26: Часто
A27: 43958.811 | B27: Ж | C27: 41 | D27: Никогда так не делаю | F27: 5 | G27: 6 | H27: 5 | I27: 7 | J27: 7 | K27: Я вполне продуктивно продвигаюсь к своим долгосрочным целям. Завалы если и случаются, то не часто | L27: Я вполне продуктивно продвигаюсь к своим долгосрочным целям. Завалы если и случаются, то не часто | M27: Иногда | N27: Иногда | O27: Часто | P27: Часто | Q27: Редко | R27: Практически никогда | S27: Практически никогда | T27: Практически никогда | U27: Практически никогда | V27: Часто
A28: 43958.811 | B28: М | C28: 29 | D28: Не всегда, но часто | E28: Отвечаю на сообщения в мессенджерах, Тупо скролю новости / социалки | F28: 3 | G28: 4 | H28: 3 | I28: 2 | J28: 1 | K28: Я не успеваю выполнять даже необходимый минимум | L28: Я успеваю разобраться с необходимой текучкой, и даже изредка могу посвящать силы долгосрочным планам | M28: Иногда | N28: Иногда | O28: Часто | P28: Иногда | Q28: Практически никогда | R28: Часто | S28: Иногда | T28: Иногда | U28: Иногда | V28: Иногда
A29: 43958.812 | B29: Ж | C29: 21 | D29: Никогда так не делаю | F29: 3 | G29: 2 | H29: 3 | I29: 2 | J29: 2 | K29: Я вполне продуктивно продвигаюсь к своим долгосрочным целям. Завалы если и случаются, то не часто | L29: Я вполне продуктивно продвигаюсь к своим долгосрочным целям. Завалы если и случаются, то не часто | M29: Редко | N29: Иногда | O29: Иногда | P29: Иногда | Q29: Редко | R29: Часто | S29: Практически никогда | T29: Иногда | U29: Редко | V29: Практичеки всегда
A30: 43958.812 | B30: Ж | C30: 29 | D30: Никогда так не делаю | F30: 6 | G30: 5 | H30: 6 | I30: 7 | J30: 6 | K30: Я едва-едва успеваю выполнить необходимую текучку, но на долгосрочные планы не остается сил | L30: Я успеваю разобраться с необходимой текучкой, и даже изредка могу посвящать силы долгосрочным планам | M30: Часто | N30: Редко | O30: Иногда | P30: Иногда | Q30: Редко | R30: Иногда | S30: Редко | T30: Практически никогда | U30: Иногда | V30: Часто
A31: 43958.813 | B31: М | C31: 24 | D31: Не всегда, но часто | E31: Отвечаю на сообщения в мессенджерах, Тупо скролю новости / социалки, Играю в игры, Отдыхаю в каком-то приложении / интернет-ресурсе | F31: 6 | G31: 6 | H31: 6 | I31: 6 | J31: 5 | K31: Я едва-едва успеваю выполнить необходимую текучку, но на долгосрочные планы не остается сил | L31: Я успеваю разобраться с необходимой текучкой, и даже изредка могу посвящать силы долгосрочным планам | M31: Часто | N31: Иногда | O31: Иногда | P31: Часто | Q31: Редко | R31: Часто | S31: Иногда | T31: Иногда | U31: Часто | V31: Часто
A32: 43958.813 | B32: Ж | C32: 38 | D32: Не всегда, но часто | E32: Тупо скролю новости / социалки | F32: 5 | G32: 4 | H32: 5 | I32: 5 | J32: 6 | K32: Я едва-едва успеваю выполнить необходимую текучку, но на долгосрочные планы не остается сил | L32: Я успеваю разобраться с необходимой текучкой, и даже изредка могу посвящать силы долгосрочным планам | M32: Часто | N32: Часто | O32: Иногда | P32: Часто | Q32: Иногда | R32: Иногда | S32: Редко | T32: Иногда | U32: Редко | V32: Часто
A33: 43958.813 | B33: М | C33: 39 | D33: Не всегда, но часто | E33: Тупо скролю новости / социалки | F33: 5 | G33: 6 | H33: 5 | I33: 5 | J33: 5 | K33: Я успеваю разобраться с необходимой текучкой, и даже изредка могу посвящать силы долгосрочным планам | L33: Я успеваю разобраться с необходимой текучкой, и даже изредка могу посвящать силы долгосрочным планам | M33: Редко | N33: Практически никогда | O33: Иногда | P33: Часто | Q33: Иногда | R33: Иногда | S33: Редко | T33: Иногда | U33: Редко | V33: Часто
A34: 43958.813 | B34: М | C34: 40 | D34: Крайне редко, в исключительных случаях | E34: Тупо скролю новости / социалки | F34: 5 | G34: 5 | H34: 5 | I34: 6 | J34: 6 | K34: Я успеваю разобраться с необходимой текучкой, и даже изредка могу посвящать силы долгосрочным планам | L34: Я успеваю разобраться с необходимой текучкой, и даже изредка могу посвящать силы долгосрочным планам | M34: Иногда | N34: Иногда | O34: Иногда | P34: Часто | Q34: Редко | R34: Редко | S34: Редко | T34: Редко | U34: Часто | V34: Часто
A35: 43958.813 | B35: Ж | C35: 28 | D35: Крайне редко, в исключительных случаях | E35: Отвечаю на сообщения в мессенджерах, Играю в игры, Смотрю видео или слушаю аудиозапись | F35: 5 | G35: 5 | H35: 4 | I35: 5 | J35: 2 | K35: Я вполне продуктивно продвигаюсь к своим долгосрочным целям. Завалы если и случаются, то не часто | L35: Я вполне продуктивно продвигаюсь к своим долгосрочным целям. Завалы если и случаются, то не часто | M35: Редко | N35: Редко | O35: Иногда | P35: Иногда | Q35: Иногда | R35: Иногда | S35: Редко | T35: Иногда | U35: Редко | V35: Редко
A36: 43958.814 | B36: Ж | C36: 33 | D36: Крайне редко, в исключительных случаях | E36: Отвечаю на входящие звонки | F36: 3 | G36: 4 | H36: 3 | I36: 3 | J36: 1 | K36: Я успеваю разобраться с необходимой текучкой, и даже изредка могу посвящать силы долгосрочным планам | L36: Я едва-едва успеваю выполнить необходимую текучку, но на долгосрочные планы не остается сил | M36: Практичеки всегда | N36: Часто | O36: Часто | P36: Иногда | Q36: Часто | R36: Иногда | S36: Иногда | T36: Иногда | U36: Часто | V36: Редко
A37: 43958.814 | B37: Ж | C37: 28 | D37: Ну... иногда бывает... | E37: Тупо скролю новости / социалки, Играю в игры | F37: 6 | G37: 5 | H37: 6 | I37: 5 | J37: 5 | K37: Я успеваю разобраться с необходимой текучкой, и даже изредка могу посвящать силы долгосрочным планам | L37: Я успеваю разобраться с необходимой текучкой, и даже изредка могу посвящать силы долгосрочным планам | M37: Часто | N37: Часто | O37: Иногда | P37: Редко | Q37: Иногда | R37: Редко | S37: Редко | T37: Иногда | U37: Редко | V37: Часто
A38: 43958.814 | B38: М | C38: 24 | D38: Очень часто | E38: Тупо скролю новости / социалки | F38: 5 | G38: 5 | H38: 6 | I38: 6 | J38: 6 | K38: Я успеваю разобраться с необходимой текучкой, и даже изредка могу посвящать силы долгосрочным планам | L38: Я вполне продуктивно продвигаюсь к своим долгосрочным целям. Завалы если и случаются, то не часто | M38: Иногда | N38: Редко | O38: Иногда | P38: Иногда | Q38: Редко | R38: Иногда | S38: Редко | T38: Редко | U38: Практически никогда | V38: Часто
A39: 43958.814 | B39: М | C39: 29 | D39: Никогда так не делаю | F39: 3 | G39: 5 | H39: 2 | I39: 4 | J39: 2 | K39: Я успеваю разобраться с необходимой текучкой, и даже изредка могу посвящать силы долгосрочным планам | L39: Я успеваю разобраться с необходимой текучкой, и даже изредка могу посвящать силы долгосрочным планам | M39: Часто | N39: Иногда | O39: Редко | P39: Редко | Q39: Часто | R39: Практичеки всегда | S39: Часто | T39: Иногда | U39: Иногда | V39: Иногда
A40: 43958.815 | B40: М | C40: 35 | D40: Не всегда, но часто | E40: Тупо скролю новости / социалки | F40: 6 | G40: 6 | H40: 6 | I40: 5 | J40: 3 | K40: Я вполне продуктивно продвигаюсь к своим долгосрочным целям. Завалы если и случаются, то не часто | L40: Я вполне продуктивно продвигаюсь к своим долгосрочным целям. Завалы если и случаются, то не часто | M40: Редко | N40: Иногда | O40: Редко | P40: Часто | Q40: Редко | R40: Редко | S40: Иногда | T40: Иногда | U40: Часто | V40: Часто
...

Sheet Рабочий стол
A1: Ваш пол | B1: Сколько вам лет? | C1: Возраст | D1: Как часто вы используете смартфон в туалете? | E1: Отвечаю на входящие звонки | F1: Отвечаю на сообщения в мессенджерах | G1: Отвечаю на почту | H1: Тупо скролю новости / социалки | I1: Играю в игры | J1: Отдыхаю в каком-то приложении / интернет-ресурсе | K1: Совершаю покупки в интернет-магазине | L1: Дела в сортире | M1: SWLS | N1: Довольство жизнью | O1: Почти во всем моя жизнь соответствует моему идеалу | P1: Условия моей жизни превосходные | Q1: Я удовлетворен своей жизнью | R1: До настоящего момента из главного я получал всего, чего хотел в жизни | S1: Если бы я мог прожить свою жизнь еще раз, я бы почти ничего в ней не изменил | T1: Что лучше характеризует то, как вы справляетесь с делами в ЛИЧНОЙ жизни? | U1: Что лучше характеризует то, как вы справляетесь с делами по работе? | V1: FAS | W1: Усталость | X1: В какой степени утверждения ниже характеризуют ваше обычное состояние? [Меня беспокоит усталость] | Y1: В какой степени утверждения ниже характеризуют ваше обычное состояние? [Я очень быстро устаю] | Z1: В какой степени утверждения ниже характеризуют ваше обычное состояние? [Я успеваю сделать мало дел в течение дня] | AA1: В какой степени утверждения ниже характеризуют ваше обычное состояние? [У меня достаточно энергии для повседневной жизни] | AB1: В какой степени утверждения ниже характеризуют ваше обычное состояние? [Я чувствую физическое истощение] | AC1: В какой степени утверждения ниже характеризуют ваше обычное состояние? [Мне трудно начать что-нибудь делать] | AD1: В какой степени утверждения ниже характеризуют ваше обычное состояние? [Мне трудно думать четко и ясно] | AE1: В какой степени утверждения ниже характеризуют ваше обычное состояние? [У меня нет никакого желания что-нибудь делать] | AF1: В какой степени утверждения ниже характеризуют ваше обычное состояние? [Я чувствую умственное истощение] | AG1: В какой степени утверждения ниже характеризуют ваше обычное состояние? [Когда я делаю что-нибудь, я могу довольно хорошо сконцентрироваться]
A2: =VLOOKUP('Ответы на форму (1)'!B2,Пол,2,FALSE) -> Ж | B2: ='Ответы на форму (1)'!C2 -> 38 | C2: =IF(B2<27,"3. Миллениал :)",IF(B2<35,"2. Молодой", "1. Мудрый :)")) -> 1. Мудрый :) | D2: =VLOOKUP('Ответы на форму (1)'!D2,ЧастотаТолчкосмартфона,2,FALSE) -> 0. Никогда | E2: =IF(ISERR(FIND(E$1,'Ответы на форму (1)'!$E2)),0,IF(FIND(E$1,'Ответы на форму (1)'!$E2)>0,1,0)) -> 0 | F2: =IF(ISERR(FIND(F$1,'Ответы на форму (1)'!$E2)),0,IF(FIND(F$1,'Ответы на форму (1)'!$E2)>0,1,0)) -> 0 | G2: =IF(ISERR(FIND(G$1,'Ответы на форму (1)'!$E2)),0,IF(FIND(G$1,'Ответы на форму (1)'!$E2)>0,1,0)) -> 0 | H2: =IF(ISERR(FIND(H$1,'Ответы на форму (1)'!$E2)),0,IF(FIND(H$1,'Ответы на форму (1)'!$E2)>0,1,0)) -> 0 | I2: =IF(ISERR(FIND(I$1,'Ответы на форму (1)'!$E2)),0,IF(FIND(I$1,'Ответы на форму (1)'!$E2)>0,1,0)) -> 0 | J2: =IF(ISERR(FIND(J$1,'Ответы на форму (1)'!$E2)),0,IF(FIND(J$1,'Ответы на форму (1)'!$E2)>0,1,0)) -> 0 | K2: =IF(ISERR(FIND(K$1,'Ответы на форму (1)'!$E2)),0,IF(FIND(K$1,'Ответы на форму (1)'!$E2)>0,1,0)) -> 0 | L2: =SUM(E2:K2) -> 0 | M2: =SUM(O2:S2) -> 12 | N2: =IF(M2<16,"3. Не довольный",IF(M2<26,"2. Так себе", "1. Довольный")) -> 3. Не довольный | O2: ='Ответы на форму (1)'!F2 -> 2 | P2: ='Ответы на форму (1)'!G2 -> 2 | Q2: ='Ответы на форму (1)'!H2 -> 3 | R2: ='Ответы на форму (1)'!I2 -> 4 | S2: ='Ответы на форму (1)'!J2 -> 1 | T2: =VLOOKUP('Ответы на форму (1)'!K2,ДжедайскаяШкала,2,FALSE) -> 2. Средне | U2: =VLOOKUP('Ответы на форму (1)'!L2,ДжедайскаяШкала,2,FALSE) -> 3. Хорошо | V2: =SUM(X2:AG2) -> 33 | W2: =IF(V2<24,"1. Свежий",IF(V2<33,"2. Усталый", "3. В хлам")) -> 3. В хлам | X2: =VLOOKUP('Ответы на форму (1)'!M2,FAS,2,FALSE) -> 4 | Y2: =VLOOKUP('Ответы на форму (1)'!N2,FAS,2,FALSE) -> 2 | Z2: =VLOOKUP('Ответы на форму (1)'!O2,FAS,2,FALSE) -> 2 | AA2: =VLOOKUP('Ответы на форму (1)'!P2,FAS,2,FALSE) -> 4 | AB2: =VLOOKUP('Ответы на форму (1)'!Q2,FAS,2,FALSE) -> 3 | AC2: =VLOOKUP('Ответы на форму (1)'!R2,FAS,2,FALSE) -> 3 | AD2: =VLOOKUP('Ответы на форму (1)'!S2,FAS,2,FALSE) -> 3 | AE2: =VLOOKUP('Ответы на форму (1)'!T2,FAS,2,FALSE) -> 4 | ... AG2: =VLOOKUP('Ответы на форму (1)'!V2,FAS,2,FALSE) -> 4
A3: =VLOOKUP('Ответы на форму (1)'!B3,Пол,2,FALSE) -> М | B3: ='Ответы на форму (1)'!C3 -> 45 | C3: =IF(B3<27,"3. Миллениал :)",IF(B3<35,"2. Молодой", "1. Мудрый :)")) -> 1. Мудрый :) | D3: =VLOOKUP('Ответы на форму (1)'!D3,ЧастотаТолчкосмартфона,2,FALSE) -> 1. Редко | E3: =IF(ISERR(FIND(E$1,'Ответы на форму (1)'!$E3)),0,IF(FIND(E$1,'Ответы на форму (1)'!$E3)>0,1,0)) -> 1 | F3: =IF(ISERR(FIND(F$1,'Ответы на форму (1)'!$E3)),0,IF(FIND(F$1,'Ответы на форму (1)'!$E3)>0,1,0)) -> 1 | G3: =IF(ISERR(FIND(G$1,'Ответы на форму (1)'!$E3)),0,IF(FIND(G$1,'Ответы на форму (1)'!$E3)>0,1,0)) -> 0 | H3: =IF(ISERR(FIND(H$1,'Ответы на форму (1)'!$E3)),0,IF(FIND(H$1,'Ответы на форму (1)'!$E3)>0,1,0)) -> 0 | I3: =IF(ISERR(FIND(I$1,'Ответы на форму (1)'!$E3)),0,IF(FIND(I$1,'Ответы на форму (1)'!$E3)>0,1,0)) -> 0 | J3: =IF(ISERR(FIND(J$1,'Ответы на форму (1)'!$E3)),0,IF(FIND(J$1,'Ответы на форму (1)'!$E3)>0,1,0)) -> 0 | K3: =IF(ISERR(FIND(K$1,'Ответы на форму (1)'!$E3)),0,IF(FIND(K$1,'Ответы на форму (1)'!$E3)>0,1,0)) -> 0 | L3: =SUM(E3:K3) -> 2 | M3: =SUM(O3:S3) -> 11 | N3: =IF(M3<16,"3. Не довольный",IF(M3<26,"2. Так себе", "1. Довольный")) -> 3. Не довольный | O3: ='Ответы на форму (1)'!F3 -> 2 | P3: ='Ответы на форму (1)'!G3 -> 2 | Q3: ='Ответы на форму (1)'!H3 -> 2 | R3: ='Ответы на форму (1)'!I3 -> 2 | S3: ='Ответы на форму (1)'!J3 -> 3 | T3: =VLOOKUP('Ответы на форму (1)'!K3,ДжедайскаяШкала,2,FALSE) -> 2. Средне | U3: =VLOOKUP('Ответы на форму (1)'!L3,ДжедайскаяШкала,2,FALSE) -> 2. Средне | V3: =SUM(X3:AG3) -> 31 | W3: =IF(V3<24,"1. Свежий",IF(V3<33,"2. Усталый", "3. В хлам")) -> 2. Усталый | X3: =VLOOKUP('Ответы на форму (1)'!M3,FAS,2,FALSE) -> 3 | Y3: =VLOOKUP('Ответы на форму (1)'!N3,FAS,2,FALSE) -> 3 | Z3: =VLOOKUP('Ответы на форму (1)'!O3,FAS,2,FALSE) -> 4 | AA3: =VLOOKUP('Ответы на форму (1)'!P3,FAS,2,FALSE) -> 4 | AB3: =VLOOKUP('Ответы на форму (1)'!Q3,FAS,2,FALSE) -> 2 | AC3: =VLOOKUP('Ответы на форму (1)'!R3,FAS,2,FALSE) -> 4 | AD3: =VLOOKUP('Ответы на форму (1)'!S3,FAS,2,FALSE) -> 2 | AE3: =VLOOKUP('Ответы на форму (1)'!T3,FAS,2,FALSE) -> 3 | ... AG3: =VLOOKUP('Ответы на форму (1)'!V3,FAS,2,FALSE) -> 4
A4: =VLOOKUP('Ответы на форму (1)'!B4,Пол,2,FALSE) -> М | B4: ='Ответы на форму (1)'!C4 -> 44 | C4: =IF(B4<27,"3. Миллениал :)",IF(B4<35,"2. Молодой", "1. Мудрый :)")) -> 1. Мудрый :) | D4: =VLOOKUP('Ответы на форму (1)'!D4,ЧастотаТолчкосмартфона,2,FALSE) -> 4. Очень Часто | E4: =IF(ISERR(FIND(E$1,'Ответы на форму (1)'!$E4)),0,IF(FIND(E$1,'Ответы на форму (1)'!$E4)>0,1,0)) -> 0 | F4: =IF(ISERR(FIND(F$1,'Ответы на форму (1)'!$E4)),0,IF(FIND(F$1,'Ответы на форму (1)'!$E4)>0,1,0)) -> 1 | G4: =IF(ISERR(FIND(G$1,'Ответы на форму (1)'!$E4)),0,IF(FIND(G$1,'Ответы на форму (1)'!$E4)>0,1,0)) -> 0 | H4: =IF(ISERR(FIND(H$1,'Ответы на форму (1)'!$E4)),0,IF(FIND(H$1,'Ответы на форму (1)'!$E4)>0,1,0)) -> 1 | I4: =IF(ISERR(FIND(I$1,'Ответы на форму (1)'!$E4)),0,IF(FIND(I$1,'Ответы на форму (1)'!$E4)>0,1,0)) -> 1 | J4: =IF(ISERR(FIND(J$1,'Ответы на форму (1)'!$E4)),0,IF(FIND(J$1,'Ответы на форму (1)'!$E4)>0,1,0)) -> 0 | K4: =IF(ISERR(FIND(K$1,'Ответы на форму (1)'!$E4)),0,IF(FIND(K$1,'Ответы на форму (1)'!$E4)>0,1,0)) -> 0 | L4: =SUM(E4:K4) -> 3 | M4: =SUM(O4:S4) -> 24 | N4: =IF(M4<16,"3. Не довольный",IF(M4<26,"2. Так себе", "1. Довольный")) -> 2. Так себе | O4: ='Ответы на форму (1)'!F4 -> 5 | P4: ='Ответы на форму (1)'!G4 -> 5 | Q4: ='Ответы на форму (1)'!H4 -> 5 | R4: ='Ответы на форму (1)'!I4 -> 5 | S4: ='Ответы на форму (1)'!J4 -> 4 | T4: =VLOOKUP('Ответы на форму (1)'!K4,ДжедайскаяШкала,2,FALSE) -> 2. Средне | U4: =VLOOKUP('Ответы на форму (1)'!L4,ДжедайскаяШкала,2,FALSE) -> 3. Хорошо | V4: =SUM(X4:AG4) -> 32 | W4: =IF(V4<24,"1. Свежий",IF(V4<33,"2. Усталый", "3. В хлам")) -> 2. Усталый | X4: =VLOOKUP('Ответы на форму (1)'!M4,FAS,2,FALSE) -> 3 | Y4: =VLOOKUP('Ответы на форму (1)'!N4,FAS,2,FALSE) -> 3 | Z4: =VLOOKUP('Ответы на форму (1)'!O4,FAS,2,FALSE) -> 2 | AA4: =VLOOKUP('Ответы на форму (1)'!P4,FAS,2,FALSE) -> 4 | AB4: =VLOOKUP('Ответы на форму (1)'!Q4,FAS,2,FALSE) -> 2 | AC4: =VLOOKUP('Ответы на форму (1)'!R4,FAS,2,FALSE) -> 5 | AD4: =VLOOKUP('Ответы на форму (1)'!S4,FAS,2,FALSE) -> 3 | AE4: =VLOOKUP('Ответы на форму (1)'!T4,FAS,2,FALSE) -> 3 | ... AG4: =VLOOKUP('Ответы на форму (1)'!V4,FAS,2,FALSE) -> 4
A5: =VLOOKUP('Ответы на форму (1)'!B5,Пол,2,FALSE) -> Ж | B5: ='Ответы на форму (1)'!C5 -> 33 | C5: =IF(B5<27,"3. Миллениал :)",IF(B5<35,"2. Молодой", "1. Мудрый :)")) -> 2. Молодой | D5: =VLOOKUP('Ответы на форму (1)'!D5,ЧастотаТолчкосмартфона,2,FALSE) -> 3. Часто | E5: =IF(ISERR(FIND(E$1,'Ответы на форму (1)'!$E5)),0,IF(FIND(E$1,'Ответы на форму (1)'!$E5)>0,1,0)) -> 0 | F5: =IF(ISERR(FIND(F$1,'Ответы на форму (1)'!$E5)),0,IF(FIND(F$1,'Ответы на форму (1)'!$E5)>0,1,0)) -> 0 | G5: =IF(ISERR(FIND(G$1,'Ответы на форму (1)'!$E5)),0,IF(FIND(G$1,'Ответы на форму (1)'!$E5)>0,1,0)) -> 0 | H5: =IF(ISERR(FIND(H$1,'Ответы на форму (1)'!$E5)),0,IF(FIND(H$1,'Ответы на форму (1)'!$E5)>0,1,0)) -> 0 | I5: =IF(ISERR(FIND(I$1,'Ответы на форму (1)'!$E5)),0,IF(FIND(I$1,'Ответы на форму (1)'!$E5)>0,1,0)) -> 1 | J5: =IF(ISERR(FIND(J$1,'Ответы на форму (1)'!$E5)),0,IF(FIND(J$1,'Ответы на форму (1)'!$E5)>0,1,0)) -> 0 | K5: =IF(ISERR(FIND(K$1,'Ответы на форму (1)'!$E5)),0,IF(FIND(K$1,'Ответы на форму (1)'!$E5)>0,1,0)) -> 0 | L5: =SUM(E5:K5) -> 1 | M5: =SUM(O5:S5) -> 24 | N5: =IF(M5<16,"3. Не довольный",IF(M5<26,"2. Так себе", "1. Довольный")) -> 2. Так себе | O5: ='Ответы на форму (1)'!F5 -> 6 | P5: ='Ответы на форму (1)'!G5 -> 6 | Q5: ='Ответы на форму (1)'!H5 -> 6 | R5: ='Ответы на форму (1)'!I5 -> 3 | S5: ='Ответы на форму (1)'!J5 -> 3 | T5: =VLOOKUP('Ответы на форму (1)'!K5,ДжедайскаяШкала,2,FALSE) -> 2. Средне | U5: =VLOOKUP('Ответы на форму (1)'!L5,ДжедайскаяШкала,2,FALSE) -> 3. Хорошо | V5: =SUM(X5:AG5) -> 24 | W5: =IF(V5<24,"1. Свежий",IF(V5<33,"2. Усталый", "3. В хлам")) -> 2. Усталый | X5: =VLOOKUP('Ответы на форму (1)'!M5,FAS,2,FALSE) -> 3 | Y5: =VLOOKUP('Ответы на форму (1)'!N5,FAS,2,FALSE) -> 3 | Z5: =VLOOKUP('Ответы на форму (1)'!O5,FAS,2,FALSE) -> 1 | AA5: =VLOOKUP('Ответы на форму (1)'!P5,FAS,2,FALSE) -> 5 | AB5: =VLOOKUP('Ответы на форму (1)'!Q5,FAS,2,FALSE) -> 2 | AC5: =VLOOKUP('Ответы на форму (1)'!R5,FAS,2,FALSE) -> 1 | AD5: =VLOOKUP('Ответы на форму (1)'!S5,FAS,2,FALSE) -> 1 | AE5: =VLOOKUP('Ответы на форму (1)'!T5,FAS,2,FALSE) -> 2 | ... AG5: =VLOOKUP('Ответы на форму (1)'!V5,FAS,2,FALSE) -> 4
A6: =VLOOKUP('Ответы на форму (1)'!B6,Пол,2,FALSE) -> М | B6: ='Ответы на форму (1)'!C6 -> 31 | C6: =IF(B6<27,"3. Миллениал :)",IF(B6<35,"2. Молодой", "1. Мудрый :)")) -> 2. Молодой | D6: =VLOOKUP('Ответы на форму (1)'!D6,ЧастотаТолчкосмартфона,2,FALSE) -> 4. Очень Часто | E6: =IF(ISERR(FIND(E$1,'Ответы на форму (1)'!$E6)),0,IF(FIND(E$1,'Ответы на форму (1)'!$E6)>0,1,0)) -> 0 | F6: =IF(ISERR(FIND(F$1,'Ответы на форму (1)'!$E6)),0,IF(FIND(F$1,'Ответы на форму (1)'!$E6)>0,1,0)) -> 0 | G6: =IF(ISERR(FIND(G$1,'Ответы на форму (1)'!$E6)),0,IF(FIND(G$1,'Ответы на форму (1)'!$E6)>0,1,0)) -> 0 | H6: =IF(ISERR(FIND(H$1,'Ответы на форму (1)'!$E6)),0,IF(FIND(H$1,'Ответы на форму (1)'!$E6)>0,1,0)) -> 1 | I6: =IF(ISERR(FIND(I$1,'Ответы на форму (1)'!$E6)),0,IF(FIND(I$1,'Ответы на форму (1)'!$E6)>0,1,0)) -> 0 | J6: =IF(ISERR(FIND(J$1,'Ответы на форму (1)'!$E6)),0,IF(FIND(J$1,'Ответы на форму (1)'!$E6)>0,1,0)) -> 0 | K6: =IF(ISERR(FIND(K$1,'Ответы на форму (1)'!$E6)),0,IF(FIND(K$1,'Ответы на форму (1)'!$E6)>0,1,0)) -> 0 | L6: =SUM(E6:K6) -> 1 | M6: =SUM(O6:S6) -> 27 | N6: =IF(M6<16,"3. Не довольный",IF(M6<26,"2. Так себе", "1. Довольный")) -> 1. Довольный | O6: ='Ответы на форму (1)'!F6 -> 4 | P6: ='Ответы на форму (1)'!G6 -> 6 | Q6: ='Ответы на форму (1)'!H6 -> 5 | R6: ='Ответы на форму (1)'!I6 -> 6 | S6: ='Ответы на форму (1)'!J6 -> 6 | T6: =VLOOKUP('Ответы на форму (1)'!K6,ДжедайскаяШкала,2,FALSE) -> 3. Хорошо | U6: =VLOOKUP('Ответы на форму (1)'!L6,ДжедайскаяШкала,2,FALSE) -> 3. Хорошо | V6: =SUM(X6:AG6) -> 25 | W6: =IF(V6<24,"1. Свежий",IF(V6<33,"2. Усталый", "3. В хлам")) -> 2. Усталый | X6: =VLOOKUP('Ответы на форму (1)'!M6,FAS,2,FALSE) -> 3 | Y6: =VLOOKUP('Ответы на форму (1)'!N6,FAS,2,FALSE) -> 2 | Z6: =VLOOKUP('Ответы на форму (1)'!O6,FAS,2,FALSE) -> 4 | AA6: =VLOOKUP('Ответы на форму (1)'!P6,FAS,2,FALSE) -> 4 | AB6: =VLOOKUP('Ответы на форму (1)'!Q6,FAS,2,FALSE) -> 2 | AC6: =VLOOKUP('Ответы на форму (1)'!R6,FAS,2,FALSE) -> 2 | AD6: =VLOOKUP('Ответы на форму (1)'!S6,FAS,2,FALSE) -> 2 | AE6: =VLOOKUP('Ответы на форму (1)'!T6,FAS,2,FALSE) -> 2 | ... AG6: =VLOOKUP('Ответы на форму (1)'!V6,FAS,2,FALSE) -> 3
A7: =VLOOKUP('Ответы на форму (1)'!B7,Пол,2,FALSE) -> Ж | B7: ='Ответы на форму (1)'!C7 -> 31 | C7: =IF(B7<27,"3. Миллениал :)",IF(B7<35,"2. Молодой", "1. Мудрый :)")) -> 2. Молодой | D7: =VLOOKUP('Ответы на форму (1)'!D7,ЧастотаТолчкосмартфона,2,FALSE) -> 3. Часто | E7: =IF(ISERR(FIND(E$1,'Ответы на форму (1)'!$E7)),0,IF(FIND(E$1,'Ответы на форму (1)'!$E7)>0,1,0)) -> 0 | F7: =IF(ISERR(FIND(F$1,'Ответы на форму (1)'!$E7)),0,IF(FIND(F$1,'Ответы на форму (1)'!$E7)>0,1,0)) -> 0 | G7: =IF(ISERR(FIND(G$1,'Ответы на форму (1)'!$E7)),0,IF(FIND(G$1,'Ответы на форму (1)'!$E7)>0,1,0)) -> 0 | H7: =IF(ISERR(FIND(H$1,'Ответы на форму (1)'!$E7)),0,IF(FIND(H$1,'Ответы на форму (1)'!$E7)>0,1,0)) -> 1 | I7: =IF(ISERR(FIND(I$1,'Ответы на форму (1)'!$E7)),0,IF(FIND(I$1,'Ответы на форму (1)'!$E7)>0,1,0)) -> 0 | J7: =IF(ISERR(FIND(J$1,'Ответы на форму (1)'!$E7)),0,IF(FIND(J$1,'Ответы на форму (1)'!$E7)>0,1,0)) -> 0 | K7: =IF(ISERR(FIND(K$1,'Ответы на форму (1)'!$E7)),0,IF(FIND(K$1,'Ответы на форму (1)'!$E7)>0,1,0)) -> 0 | L7: =SUM(E7:K7) -> 1 | M7: =SUM(O7:S7) -> 24 | N7: =IF(M7<16,"3. Не довольный",IF(M7<26,"2. Так себе", "1. Довольный")) -> 2. Так себе | O7: ='Ответы на форму (1)'!F7 -> 3 | P7: ='Ответы на форму (1)'!G7 -> 5 | Q7: ='Ответы на форму (1)'!H7 -> 5 | R7: ='Ответы на форму (1)'!I7 -> 5 | S7: ='Ответы на форму (1)'!J7 -> 6 | T7: =VLOOKUP('Ответы на форму (1)'!K7,ДжедайскаяШкала,2,FALSE) -> 2. Средне | U7: =VLOOKUP('Ответы на форму (1)'!L7,ДжедайскаяШкала,2,FALSE) -> 2. Средне | V7: =SUM(X7:AG7) -> 31 | W7: =IF(V7<24,"1. Свежий",IF(V7<33,"2. Усталый", "3. В хлам")) -> 2. Усталый | X7: =VLOOKUP('Ответы на форму (1)'!M7,FAS,2,FALSE) -> 3 | Y7: =VLOOKUP('Ответы на форму (1)'!N7,FAS,2,FALSE) -> 3 | Z7: =VLOOKUP('Ответы на форму (1)'!O7,FAS,2,FALSE) -> 4 | AA7: =VLOOKUP('Ответы на форму (1)'!P7,FAS,2,FALSE) -> 5 | AB7: =VLOOKUP('Ответы на форму (1)'!Q7,FAS,2,FALSE) -> 3 | AC7: =VLOOKUP('Ответы на форму (1)'!R7,FAS,2,FALSE) -> 4 | AD7: =VLOOKUP('Ответы на форму (1)'!S7,FAS,2,FALSE) -> 1 | AE7: =VLOOKUP('Ответы на форму (1)'!T7,FAS,2,FALSE) -> 4 | ... AG7: =VLOOKUP('Ответы на форму (1)'!V7,FAS,2,FALSE) -> 2
A8: =VLOOKUP('Ответы на форму (1)'!B8,Пол,2,FALSE) -> М | B8: ='Ответы на форму (1)'!C8 -> 29 | C8: =IF(B8<27,"3. Миллениал :)",IF(B8<35,"2. Молодой", "1. Мудрый :)")) -> 2. Молодой | D8: =VLOOKUP('Ответы на форму (1)'!D8,ЧастотаТолчкосмартфона,2,FALSE) -> 3. Часто | E8: =IF(ISERR(FIND(E$1,'Ответы на форму (1)'!$E8)),0,IF(FIND(E$1,'Ответы на форму (1)'!$E8)>0,1,0)) -> 0 | F8: =IF(ISERR(FIND(F$1,'Ответы на форму (1)'!$E8)),0,IF(FIND(F$1,'Ответы на форму (1)'!$E8)>0,1,0)) -> 0 | G8: =IF(ISERR(FIND(G$1,'Ответы на форму (1)'!$E8)),0,IF(FIND(G$1,'Ответы на форму (1)'!$E8)>0,1,0)) -> 0 | H8: =IF(ISERR(FIND(H$1,'Ответы на форму (1)'!$E8)),0,IF(FIND(H$1,'Ответы на форму (1)'!$E8)>0,1,0)) -> 1 | I8: =IF(ISERR(FIND(I$1,'Ответы на форму (1)'!$E8)),0,IF(FIND(I$1,'Ответы на форму (1)'!$E8)>0,1,0)) -> 1 | J8: =IF(ISERR(FIND(J$1,'Ответы на форму (1)'!$E8)),0,IF(FIND(J$1,'Ответы на форму (1)'!$E8)>0,1,0)) -> 0 | K8: =IF(ISERR(FIND(K$1,'Ответы на форму (1)'!$E8)),0,IF(FIND(K$1,'Ответы на форму (1)'!$E8)>0,1,0)) -> 0 | L8: =SUM(E8:K8) -> 2 | M8: =SUM(O8:S8) -> 20 | N8: =IF(M8<16,"3. Не довольный",IF(M8<26,"2. Так себе", "1. Довольный")) -> 2. Так себе | O8: ='Ответы на форму (1)'!F8 -> 3 | P8: ='Ответы на форму (1)'!G8 -> 5 | Q8: ='Ответы на форму (1)'!H8 -> 3 | R8: ='Ответы на форму (1)'!I8 -> 4 | S8: ='Ответы на форму (1)'!J8 -> 5 | T8: =VLOOKUP('Ответы на форму (1)'!K8,ДжедайскаяШкала,2,FALSE) -> 1. Плохо | U8: =VLOOKUP('Ответы на форму (1)'!L8,ДжедайскаяШкала,2,FALSE) -> 1. Плохо | V8: =SUM(X8:AG8) -> 36 | W8: =IF(V8<24,"1. Свежий",IF(V8<33,"2. Усталый", "3. В хлам")) -> 3. В хлам | X8: =VLOOKUP('Ответы на форму (1)'!M8,FAS,2,FALSE) -> 4 | Y8: =VLOOKUP('Ответы на форму (1)'!N8,FAS,2,FALSE) -> 4 | Z8: =VLOOKUP('Ответы на форму (1)'!O8,FAS,2,FALSE) -> 4 | AA8: =VLOOKUP('Ответы на форму (1)'!P8,FAS,2,FALSE) -> 3 | AB8: =VLOOKUP('Ответы на форму (1)'!Q8,FAS,2,FALSE) -> 2 | AC8: =VLOOKUP('Ответы на форму (1)'!R8,FAS,2,FALSE) -> 5 | AD8: =VLOOKUP('Ответы на форму (1)'!S8,FAS,2,FALSE) -> 3 | AE8: =VLOOKUP('Ответы на форму (1)'!T8,FAS,2,FALSE) -> 4 | ... AG8: =VLOOKUP('Ответы на форму (1)'!V8,FAS,2,FALSE) -> 4
A9: =VLOOKUP('Ответы на форму (1)'!B9,Пол,2,FALSE) -> М | B9: ='Ответы на форму (1)'!C9 -> 33 | C9: =IF(B9<27,"3. Миллениал :)",IF(B9<35,"2. Молодой", "1. Мудрый :)")) -> 2. Молодой | D9: =VLOOKUP('Ответы на форму (1)'!D9,ЧастотаТолчкосмартфона,2,FALSE) -> 4. Очень Часто | E9: =IF(ISERR(FIND(E$1,'Ответы на форму (1)'!$E9)),0,IF(FIND(E$1,'Ответы на форму (1)'!$E9)>0,1,0)) -> 1 | F9: =IF(ISERR(FIND(F$1,'Ответы на форму (1)'!$E9)),0,IF(FIND(F$1,'Ответы на форму (1)'!$E9)>0,1,0)) -> 1 | G9: =IF(ISERR(FIND(G$1,'Ответы на форму (1)'!$E9)),0,IF(FIND(G$1,'Ответы на форму (1)'!$E9)>0,1,0)) -> 0 | H9: =IF(ISERR(FIND(H$1,'Ответы на форму (1)'!$E9)),0,IF(FIND(H$1,'Ответы на форму (1)'!$E9)>0,1,0)) -> 1 | I9: =IF(ISERR(FIND(I$1,'Ответы на форму (1)'!$E9)),0,IF(FIND(I$1,'Ответы на форму (1)'!$E9)>0,1,0)) -> 0 | J9: =IF(ISERR(FIND(J$1,'Ответы на форму (1)'!$E9)),0,IF(FIND(J$1,'Ответы на форму (1)'!$E9)>0,1,0)) -> 0 | K9: =IF(ISERR(FIND(K$1,'Ответы на форму (1)'!$E9)),0,IF(FIND(K$1,'Ответы на форму (1)'!$E9)>0,1,0)) -> 0 | L9: =SUM(E9:K9) -> 3 | M9: =SUM(O9:S9) -> 27 | N9: =IF(M9<16,"3. Не довольный",IF(M9<26,"2. Так себе", "1. Довольный")) -> 1. Довольный | O9: ='Ответы на форму (1)'!F9 -> 5 | P9: ='Ответы на форму (1)'!G9 -> 6 | Q9: ='Ответы на форму (1)'!H9 -> 5 | R9: ='Ответы на форму (1)'!I9 -> 5 | S9: ='Ответы на форму (1)'!J9 -> 6 | T9: =VLOOKUP('Ответы на форму (1)'!K9,ДжедайскаяШкала,2,FALSE) -> 3. Хорошо | U9: =VLOOKUP('Ответы на форму (1)'!L9,ДжедайскаяШкала,2,FALSE) -> 2. Средне | V9: =SUM(X9:AG9) -> 29 | W9: =IF(V9<24,"1. Свежий",IF(V9<33,"2. Усталый", "3. В хлам")) -> 2. Усталый | X9: =VLOOKUP('Ответы на форму (1)'!M9,FAS,2,FALSE) -> 1 | Y9: =VLOOKUP('Ответы на форму (1)'!N9,FAS,2,FALSE) -> 1 | Z9: =VLOOKUP('Ответы на форму (1)'!O9,FAS,2,FALSE) -> 3 | AA9: =VLOOKUP('Ответы на форму (1)'!P9,FAS,2,FALSE) -> 5 | AB9: =VLOOKUP('Ответы на форму (1)'!Q9,FAS,2,FALSE) -> 2 | AC9: =VLOOKUP('Ответы на форму (1)'!R9,FAS,2,FALSE) -> 3 | AD9: =VLOOKUP('Ответы на форму (1)'!S9,FAS,2,FALSE) -> 2 | AE9: =VLOOKUP('Ответы на форму (1)'!T9,FAS,2,FALSE) -> 4 | ... AG9: =VLOOKUP('Ответы на форму (1)'!V9,FAS,2,FALSE) -> 4
A10: =VLOOKUP('Ответы на форму (1)'!B10,Пол,2,FALSE) -> М | B10: ='Ответы на форму (1)'!C10 -> 34 | C10: =IF(B10<27,"3. Миллениал :)",IF(B10<35,"2. Молодой", "1. Мудрый :)")) -> 2. Молодой | D10: =VLOOKUP('Ответы на форму (1)'!D10,ЧастотаТолчкосмартфона,2,FALSE) -> 4. Очень Часто | E10: =IF(ISERR(FIND(E$1,'Ответы на форму (1)'!$E10)),0,IF(FIND(E$1,'Ответы на форму (1)'!$E10)>0,1,0)) -> 0 | F10: =IF(ISERR(FIND(F$1,'Ответы на форму (1)'!$E10)),0,IF(FIND(F$1,'Ответы на форму (1)'!$E10)>0,1,0)) -> 1 | G10: =IF(ISERR(FIND(G$1,'Ответы на форму (1)'!$E10)),0,IF(FIND(G$1,'Ответы на форму (1)'!$E10)>0,1,0)) -> 0 | H10: =IF(ISERR(FIND(H$1,'Ответы на форму (1)'!$E10)),0,IF(FIND(H$1,'Ответы на форму (1)'!$E10)>0,1,0)) -> 1 | I10: =IF(ISERR(FIND(I$1,'Ответы на форму (1)'!$E10)),0,IF(FIND(I$1,'Ответы на форму (1)'!$E10)>0,1,0)) -> 1 | J10: =IF(ISERR(FIND(J$1,'Ответы на форму (1)'!$E10)),0,IF(FIND(J$1,'Ответы на форму (1)'!$E10)>0,1,0)) -> 0 | K10: =IF(ISERR(FIND(K$1,'Ответы на форму (1)'!$E10)),0,IF(FIND(K$1,'Ответы на форму (1)'!$E10)>0,1,0)) -> 0 | L10: =SUM(E10:K10) -> 3 | M10: =SUM(O10:S10) -> 27 | N10: =IF(M10<16,"3. Не довольный",IF(M10<26,"2. Так себе", "1. Довольный")) -> 1. Довольный | O10: ='Ответы на форму (1)'!F10 -> 5 | P10: ='Ответы на форму (1)'!G10 -> 7 | Q10: ='Ответы на форму (1)'!H10 -> 4 | R10: ='Ответы на форму (1)'!I10 -> 5 | S10: ='Ответы на форму (1)'!J10 -> 6 | T10: =VLOOKUP('Ответы на форму (1)'!K10,ДжедайскаяШкала,2,FALSE) -> 3. Хорошо | U10: =VLOOKUP('Ответы на форму (1)'!L10,ДжедайскаяШкала,2,FALSE) -> 3. Хорошо | V10: =SUM(X10:AG10) -> 20 | W10: =IF(V10<24,"1. Свежий",IF(V10<33,"2. Усталый", "3. В хлам")) -> 1. Свежий | X10: =VLOOKUP('Ответы на форму (1)'!M10,FAS,2,FALSE) -> 4 | Y10: =VLOOKUP('Ответы на форму (1)'!N10,FAS,2,FALSE) -> 2 | Z10: =VLOOKUP('Ответы на форму (1)'!O10,FAS,2,FALSE) -> 3 | AA10: =VLOOKUP('Ответы на форму (1)'!P10,FAS,2,FALSE) -> 2 | AB10: =VLOOKUP('Ответы на форму (1)'!Q10,FAS,2,FALSE) -> 1 | AC10: =VLOOKUP('Ответы на форму (1)'!R10,FAS,2,FALSE) -> 1 | AD10: =VLOOKUP('Ответы на форму (1)'!S10,FAS,2,FALSE) -> 1 | AE10: =VLOOKUP('Ответы на форму (1)'!T10,FAS,2,FALSE) -> 1 | ... AG10: =VLOOKUP('Ответы на форму (1)'!V10,FAS,2,FALSE) -> 3
A11: =VLOOKUP('Ответы на форму (1)'!B11,Пол,2,FALSE) -> М | B11: ='Ответы на форму (1)'!C11 -> 34 | C11: =IF(B11<27,"3. Миллениал :)",IF(B11<35,"2. Молодой", "1. Мудрый :)")) -> 2. Молодой | D11: =VLOOKUP('Ответы на форму (1)'!D11,ЧастотаТолчкосмартфона,2,FALSE) -> 3. Часто | E11: =IF(ISERR(FIND(E$1,'Ответы на форму (1)'!$E11)),0,IF(FIND(E$1,'Ответы на форму (1)'!$E11)>0,1,0)) -> 0 | F11: =IF(ISERR(FIND(F$1,'Ответы на форму (1)'!$E11)),0,IF(FIND(F$1,'Ответы на форму (1)'!$E11)>0,1,0)) -> 0 | G11: =IF(ISERR(FIND(G$1,'Ответы на форму (1)'!$E11)),0,IF(FIND(G$1,'Ответы на форму (1)'!$E11)>0,1,0)) -> 0 | H11: =IF(ISERR(FIND(H$1,'Ответы на форму (1)'!$E11)),0,IF(FIND(H$1,'Ответы на форму (1)'!$E11)>0,1,0)) -> 1 | I11: =IF(ISERR(FIND(I$1,'Ответы на форму (1)'!$E11)),0,IF(FIND(I$1,'Ответы на форму (1)'!$E11)>0,1,0)) -> 0 | J11: =IF(ISERR(FIND(J$1,'Ответы на форму (1)'!$E11)),0,IF(FIND(J$1,'Ответы на форму (1)'!$E11)>0,1,0)) -> 0 | K11: =IF(ISERR(FIND(K$1,'Ответы на форму (1)'!$E11)),0,IF(FIND(K$1,'Ответы на форму (1)'!$E11)>0,1,0)) -> 0 | L11: =SUM(E11:K11) -> 1 | M11: =SUM(O11:S11) -> 26 | N11: =IF(M11<16,"3. Не довольный",IF(M11<26,"2. Так себе", "1. Довольный")) -> 1. Довольный | O11: ='Ответы на форму (1)'!F11 -> 5 | P11: ='Ответы на форму (1)'!G11 -> 5 | Q11: ='Ответы на форму (1)'!H11 -> 6 | R11: ='Ответы на форму (1)'!I11 -> 6 | S11: ='Ответы на форму (1)'!J11 -> 4 | T11: =VLOOKUP('Ответы на форму (1)'!K11,ДжедайскаяШкала,2,FALSE) -> 1. Плохо | U11: =VLOOKUP('Ответы на форму (1)'!L11,ДжедайскаяШкала,2,FALSE) -> 2. Средне | V11: =SUM(X11:AG11) -> 32 | W11: =IF(V11<24,"1. Свежий",IF(V11<33,"2. Усталый", "3. В хлам")) -> 2. Усталый | X11: =VLOOKUP('Ответы на форму (1)'!M11,FAS,2,FALSE) -> 3 | Y11: =VLOOKUP('Ответы на форму (1)'!N11,FAS,2,FALSE) -> 4 | Z11: =VLOOKUP('Ответы на форму (1)'!O11,FAS,2,FALSE) -> 4 | AA11: =VLOOKUP('Ответы на форму (1)'!P11,FAS,2,FALSE) -> 3 | AB11: =VLOOKUP('Ответы на форму (1)'!Q11,FAS,2,FALSE) -> 3 | AC11: =VLOOKUP('Ответы на форму (1)'!R11,FAS,2,FALSE) -> 4 | AD11: =VLOOKUP('Ответы на форму (1)'!S11,FAS,2,FALSE) -> 4 | AE11: =VLOOKUP('Ответы на форму (1)'!T11,FAS,2,FALSE) -> 2 | ... AG11: =VLOOKUP('Ответы на форму (1)'!V11,FAS,2,FALSE) -> 3
A12: =VLOOKUP('Ответы на форму (1)'!B12,Пол,2,FALSE) -> Ж | B12: ='Ответы на форму (1)'!C12 -> 0 | C12: =IF(B12<27,"3. Миллениал :)",IF(B12<35,"2. Молодой", "1. Мудрый :)")) -> 3. Миллениал :) | D12: =VLOOKUP('Ответы на форму (1)'!D12,ЧастотаТолчкосмартфона,2,FALSE) -> 4. Очень Часто | E12: =IF(ISERR(FIND(E$1,'Ответы на форму (1)'!$E12)),0,IF(FIND(E$1,'Ответы на форму (1)'!$E12)>0,1,0)) -> 0 | F12: =IF(ISERR(FIND(F$1,'Ответы на форму (1)'!$E12)),0,IF(FIND(F$1,'Ответы на форму (1)'!$E12)>0,1,0)) -> 1 | G12: =IF(ISERR(FIND(G$1,'Ответы на форму (1)'!$E12)),0,IF(FIND(G$1,'Ответы на форму (1)'!$E12)>0,1,0)) -> 0 | H12: =IF(ISERR(FIND(H$1,'Ответы на форму (1)'!$E12)),0,IF(FIND(H$1,'Ответы на форму (1)'!$E12)>0,1,0)) -> 1 | I12: =IF(ISERR(FIND(I$1,'Ответы на форму (1)'!$E12)),0,IF(FIND(I$1,'Ответы на форму (1)'!$E12)>0,1,0)) -> 0 | J12: =IF(ISERR(FIND(J$1,'Ответы на форму (1)'!$E12)),0,IF(FIND(J$1,'Ответы на форму (1)'!$E12)>0,1,0)) -> 1 | K12: =IF(ISERR(FIND(K$1,'Ответы на форму (1)'!$E12)),0,IF(FIND(K$1,'Ответы на форму (1)'!$E12)>0,1,0)) -> 0 | L12: =SUM(E12:K12) -> 3 | M12: =SUM(O12:S12) -> 26 | N12: =IF(M12<16,"3. Не довольный",IF(M12<26,"2. Так себе", "1. Довольный")) -> 1. Довольный | O12: ='Ответы на форму (1)'!F12 -> 5 | P12: ='Ответы на форму (1)'!G12 -> 6 | Q12: ='Ответы на форму (1)'!H12 -> 5 | R12: ='Ответы на форму (1)'!I12 -> 6 | S12: ='Ответы на форму (1)'!J12 -> 4 | T12: =VLOOKUP('Ответы на форму (1)'!K12,ДжедайскаяШкала,2,FALSE) -> 1. Плохо | U12: =VLOOKUP('Ответы на форму (1)'!L12,ДжедайскаяШкала,2,FALSE) -> 2. Средне | V12: =SUM(X12:AG12) -> 30 | W12: =IF(V12<24,"1. Свежий",IF(V12<33,"2. Усталый", "3. В хлам")) -> 2. Усталый | X12: =VLOOKUP('Ответы на форму (1)'!M12,FAS,2,FALSE) -> 4 | Y12: =VLOOKUP('Ответы на форму (1)'!N12,FAS,2,FALSE) -> 5 | Z12: =VLOOKUP('Ответы на форму (1)'!O12,FAS,2,FALSE) -> 3 | AA12: =VLOOKUP('Ответы на форму (1)'!P12,FAS,2,FALSE) -> 2 | AB12: =VLOOKUP('Ответы на форму (1)'!Q12,FAS,2,FALSE) -> 2 | AC12: =VLOOKUP('Ответы на форму (1)'!R12,FAS,2,FALSE) -> 3 | AD12: =VLOOKUP('Ответы на форму (1)'!S12,FAS,2,FALSE) -> 2 | AE12: =VLOOKUP('Ответы на форму (1)'!T12,FAS,2,FALSE) -> 3 | ... AG12: =VLOOKUP('Ответы на форму (1)'!V12,FAS,2,FALSE) -> 4
A13: =VLOOKUP('Ответы на форму (1)'!B13,Пол,2,FALSE) -> Ж | B13: ='Ответы на форму (1)'!C13 -> 21 | C13: =IF(B13<27,"3. Миллениал :)",IF(B13<35,"2. Молодой", "1. Мудрый :)")) -> 3. Миллениал :) | D13: =VLOOKUP('Ответы на форму (1)'!D13,ЧастотаТолчкосмартфона,2,FALSE) -> 3. Часто | E13: =IF(ISERR(FIND(E$1,'Ответы на форму (1)'!$E13)),0,IF(FIND(E$1,'Ответы на форму (1)'!$E13)>0,1,0)) -> 0 | F13: =IF(ISERR(FIND(F$1,'Ответы на форму (1)'!$E13)),0,IF(FIND(F$1,'Ответы на форму (1)'!$E13)>0,1,0)) -> 1 | G13: =IF(ISERR(FIND(G$1,'Ответы на форму (1)'!$E13)),0,IF(FIND(G$1,'Ответы на форму (1)'!$E13)>0,1,0)) -> 0 | H13: =IF(ISERR(FIND(H$1,'Ответы на форму (1)'!$E13)),0,IF(FIND(H$1,'Ответы на форму (1)'!$E13)>0,1,0)) -> 1 | I13: =IF(ISERR(FIND(I$1,'Ответы на форму (1)'!$E13)),0,IF(FIND(I$1,'Ответы на форму (1)'!$E13)>0,1,0)) -> 1 | J13: =IF(ISERR(FIND(J$1,'Ответы на форму (1)'!$E13)),0,IF(FIND(J$1,'Ответы на форму (1)'!$E13)>0,1,0)) -> 0 | K13: =IF(ISERR(FIND(K$1,'Ответы на форму (1)'!$E13)),0,IF(FIND(K$1,'Ответы на форму (1)'!$E13)>0,1,0)) -> 0 | L13: =SUM(E13:K13) -> 3 | M13: =SUM(O13:S13) -> 7 | N13: =IF(M13<16,"3. Не довольный",IF(M13<26,"2. Так себе", "1. Довольный")) -> 3. Не довольный | O13: ='Ответы на форму (1)'!F13 -> 2 | P13: ='Ответы на форму (1)'!G13 -> 1 | Q13: ='Ответы на форму (1)'!H13 -> 2 | R13: ='Ответы на форму (1)'!I13 -> 1 | S13: ='Ответы на форму (1)'!J13 -> 1 | T13: =VLOOKUP('Ответы на форму (1)'!K13,ДжедайскаяШкала,2,FALSE) -> 2. Средне | U13: =VLOOKUP('Ответы на форму (1)'!L13,ДжедайскаяШкала,2,FALSE) -> 3. Хорошо | V13: =SUM(X13:AG13) -> 32 | W13: =IF(V13<24,"1. Свежий",IF(V13<33,"2. Усталый", "3. В хлам")) -> 2. Усталый | X13: =VLOOKUP('Ответы на форму (1)'!M13,FAS,2,FALSE) -> 4 | Y13: =VLOOKUP('Ответы на форму (1)'!N13,FAS,2,FALSE) -> 3 | Z13: =VLOOKUP('Ответы на форму (1)'!O13,FAS,2,FALSE) -> 4 | AA13: =VLOOKUP('Ответы на форму (1)'!P13,FAS,2,FALSE) -> 2 | AB13: =VLOOKUP('Ответы на форму (1)'!Q13,FAS,2,FALSE) -> 4 | AC13: =VLOOKUP('Ответы на форму (1)'!R13,FAS,2,FALSE) -> 2 | AD13: =VLOOKUP('Ответы на форму (1)'!S13,FAS,2,FALSE) -> 1 | AE13: =VLOOKUP('Ответы на форму (1)'!T13,FAS,2,FALSE) -> 3 | ... AG13: =VLOOKUP('Ответы на форму (1)'!V13,FAS,2,FALSE) -> 4
... A327: =VLOOKUP('Ответы на форму (1)'!B327,Пол,2,FALSE) -> М | B327: ='Ответы на форму (1)'!C327 -> 42 | C327: =IF(B327<27,"3. Миллениал :)",IF(B327<35,"2. Молодой", "1. Мудрый :)")) -> 1. Мудрый :) | D327: =VLOOKUP('Ответы на форму (1)'!D327,ЧастотаТолчкосмартфона,2,FALSE) -> 4. Очень Часто | E327: =IF(ISERR(FIND(E$1,'Ответы на форму (1)'!$E327)),0,IF(FIND(E$1,'Ответы на форму (1)'!$E327)>0,1,0)) -> 0 | F327: =IF(ISERR(FIND(F$1,'Ответы на форму (1)'!$E327)),0,IF(FIND(F$1,'Ответы на форму (1)'!$E327)>0,1,0)) -> 1 | G327: =IF(ISERR(FIND(G$1,'Ответы на форму (1)'!$E327)),0,IF(FIND(G$1,'Ответы на форму (1)'!$E327)>0,1,0)) -> 0 | H327: =IF(ISERR(FIND(H$1,'Ответы на форму (1)'!$E327)),0,IF(FIND(H$1,'Ответы на форму (1)'!$E327)>0,1,0)) -> 1 | I327: =IF(ISERR(FIND(I$1,'Ответы на форму (1)'!$E327)),0,IF(FIND(I$1,'Ответы на форму (1)'!$E327)>0,1,0)) -> 0 | J327: =IF(ISERR(FIND(J$1,'Ответы на форму (1)'!$E327)),0,IF(FIND(J$1,'Ответы на форму (1)'!$E327)>0,1,0)) -> 0 | K327: =IF(ISERR(FIND(K$1,'Ответы на форму (1)'!$E327)),0,IF(FIND(K$1,'Ответы на форму (1)'!$E327)>0,1,0)) -> 0 | L327: =SUM(E327:K327) -> 2 | M327: =SUM(O327:S327) -> 22 | N327: =IF(M327<16,"3. Не довольный",IF(M327<26,"2. Так себе", "1. Довольный")) -> 2. Так себе | O327: ='Ответы на форму (1)'!F327 -> 3 | P327: ='Ответы на форму (1)'!G327 -> 4 | Q327: ='Ответы на форму (1)'!H327 -> 5 | R327: ='Ответы на форму (1)'!I327 -> 5 | S327: ='Ответы на форму (1)'!J327 -> 5 | T327: =VLOOKUP('Ответы на форму (1)'!K327,ДжедайскаяШкала,2,FALSE) -> 1. Плохо | U327: =VLOOKUP('Ответы на форму (1)'!L327,ДжедайскаяШкала,2,FALSE) -> 1. Плохо | V327: =SUM(X327:AG327) -> 31 | W327: =IF(V327<24,"1. Свежий",IF(V327<33,"2. Усталый", "3. В хлам")) -> 2. Усталый | X327: =VLOOKUP('Ответы на форму (1)'!M327,FAS,2,FALSE) -> 4 | Y327: =VLOOKUP('Ответы на форму (1)'!N327,FAS,2,FALSE) -> 3 | Z327: =VLOOKUP('Ответы на форму (1)'!O327,FAS,2,FALSE) -> 3 | AA327: =VLOOKUP('Ответы на форму (1)'!P327,FAS,2,FALSE) -> 3 | AB327: =VLOOKUP('Ответы на форму (1)'!Q327,FAS,2,FALSE) -> 3 | AC327: =VLOOKUP('Ответы на форму (1)'!R327,FAS,2,FALSE) -> 4 | AD327: =VLOOKUP('Ответы на форму (1)'!S327,FAS,2,FALSE) -> 3 | AE327: =VLOOKUP('Ответы на форму (1)'!T327,FAS,2,FALSE) -> 3 | ... AG327: =VLOOKUP('Ответы на форму (1)'!V327,FAS,2,FALSE) -> 2
A328: =VLOOKUP('Ответы на форму (1)'!B328,Пол,2,FALSE) -> Ж | C328: =IF(B328<27,"3. Миллениал :)",IF(B328<35,"2. Молодой", "1. Мудрый :)")) -> 3. Миллениал :) | D328: =VLOOKUP('Ответы на форму (1)'!D328,ЧастотаТолчкосмартфона,2,FALSE) -> 4. Очень Часто | E328: =IF(ISERR(FIND(E$1,'Ответы на форму (1)'!$E328)),0,IF(FIND(E$1,'Ответы на форму (1)'!$E328)>0,1,0)) -> 0 | F328: =IF(ISERR(FIND(F$1,'Ответы на форму (1)'!$E328)),0,IF(FIND(F$1,'Ответы на форму (1)'!$E328)>0,1,0)) -> 0 | G328: =IF(ISERR(FIND(G$1,'Ответы на форму (1)'!$E328)),0,IF(FIND(G$1,'Ответы на форму (1)'!$E328)>0,1,0)) -> 0 | H328: =IF(ISERR(FIND(H$1,'Ответы на форму (1)'!$E328)),0,IF(FIND(H$1,'Ответы на форму (1)'!$E328)>0,1,0)) -> 1 | I328: =IF(ISERR(FIND(I$1,'Ответы на форму (1)'!$E328)),0,IF(FIND(I$1,'Ответы на форму (1)'!$E328)>0,1,0)) -> 0 | J328: =IF(ISERR(FIND(J$1,'Ответы на форму (1)'!$E328)),0,IF(FIND(J$1,'Ответы на форму (1)'!$E328)>0,1,0)) -> 0 | K328: =IF(ISERR(FIND(K$1,'Ответы на форму (1)'!$E328)),0,IF(FIND(K$1,'Ответы на форму (1)'!$E328)>0,1,0)) -> 0 | L328: =SUM(E328:K328) -> 1 | M328: =SUM(O328:S328) -> 18 | N328: =IF(M328<16,"3. Не довольный",IF(M328<26,"2. Так себе", "1. Довольный")) -> 2. Так себе | O328: ='Ответы на форму (1)'!F328 -> 4 | P328: ='Ответы на форму (1)'!G328 -> 4 | Q328: ='Ответы на форму (1)'!H328 -> 4 | R328: ='Ответы на форму (1)'!I328 -> 4 | S328: ='Ответы на форму (1)'!J328 -> 2 | T328: =VLOOKUP('Ответы на форму (1)'!K328,ДжедайскаяШкала,2,FALSE) -> 2. Средне | U328: =VLOOKUP('Ответы на форму (1)'!L328,ДжедайскаяШкала,2,FALSE) -> 1. Плохо | V328: =SUM(X328:AG328) -> 41 | W328: =IF(V328<24,"1. Свежий",IF(V328<33,"2. Усталый", "3. В хлам")) -> 3. В хлам | X328: =VLOOKUP('Ответы на форму (1)'!M328,FAS,2,FALSE) -> 5 | Y328: =VLOOKUP('Ответы на форму (1)'!N328,FAS,2,FALSE) -> 5 | Z328: =VLOOKUP('Ответы на форму (1)'!O328,FAS,2,FALSE) -> 5 | AA328: =VLOOKUP('Ответы на форму (1)'!P328,FAS,2,FALSE) -> 1 | AB328: =VLOOKUP('Ответы на форму (1)'!Q328,FAS,2,FALSE) -> 5 | AC328: =VLOOKUP('Ответы на форму (1)'!R328,FAS,2,FALSE) -> 5 | AD328: =VLOOKUP('Ответы на форму (1)'!S328,FAS,2,FALSE) -> 5 | AE328: =VLOOKUP('Ответы на форму (1)'!T328,FAS,2,FALSE) -> 2 | ... AG328: =VLOOKUP('Ответы на форму (1)'!V328,FAS,2,FALSE) -> 3
