Workbook
Name Алкоголь: Ответы!$A$47:$B$51
Name Блыки: Ответы!$A$89:$B$92
Name ДаПочтиНет: Ответы!$A$25:$B$27
Name Курение: Ответы!$A$39:$B$43
Name ОбразЖизни: Ответы!$A$31:$B$35
Name ОбъемИнфы: Ответы!$A$72:$B$76
Name СемейныйОпыт: Ответы!$A$55:$B$59
Name ТараканоБалл: Ответы!$A$80:$B$84
Name УровниЗнакомства: Ответы!$A$62:$B$68
Name Успевание: Ответы!$A$2:$D$6
Name ЧастотаПрактик: Ответы!$A$17:$B$21
Name ШкалаРомека: Ответы!$A$10:$B$13

Sheet Ответы на форму (1)
A1: Отметка времени | B1: Ваш пол | C1: Сколько вам полных лет? | E1: В какой индустрии вы работаете? | F1: Как называется ваша должность? | G1: Как вы охаректеризуете свою текущую ситуациию ... [... НА РАБОТЕ] | H1: Как вы охаректеризуете свою текущую ситуациию ... [... В ЛИЧНОЙ ЖИЗНИ] | I1: [Если я как следует постараюсь, то всегда найду решение даже сложным проблемам] | J1: [Если мне что-либо мешает, то я все же нахожу пути достижения своей цели] | K1: [Мне довольно просто удается достичь своих целей] | L1: [В неожиданных ситуациях я всегда знаю, как я должен себя вести] | M1: [При непредвиденно возникающих трудностях я верю, что смогу с ними справиться] | N1: [Если я приложу достаточно усилий, то смогу справиться с большинством проблем] | O1: [Я готов к любым трудностям, поскольку полагаюсь на собственные способности] | P1: [Если передо мной встает какая-либо проблема, то я обычно нахожу несколько вариантов ее решения] | Q1: [Я могу что-либо придумать даже в безвыходных на первый взгляд ситуациях] | R1: [Я обычно способен держать ситуацию под контролем] | S1: Сесть и ничего не делать несколько минут (понаблюдать за мыслями / дыханием / окружающим миром) | T1: Останавливаюсь в середине рабочего дня, чтобы подумать, не упустил ли я чего важного? | U1: Смотрю в список задач, чтобы понять, какую задачу брать следующей | V1: Максимально просто и четко формулирую задачи в своем списке (как для обезьянки) | W1: Использую таймер при работе над задачами (метод помидора) | X1: Ложусь спать без экранов (не смотрю в постели смартфон / планшет / ноутбук) | Y1: Навожу порядок в своих списках задач | Z1: Вижу дно своего основного инбокса (довожу его до пустого состояния) | AA1: Выполняю задачи, которая не горит, не срочная, но хоть чуточку приближает меня к моим хотелкам | AB1: Ковыряюсь в областях знания, не связанных напрямую с моей профессией. Просто так, из интереса. | AC1: Закрываю все открытые вкладки в моих браузерах | AD1: Срочные задачи выполняю с хорошим запасом заранее, а не в день дедлайна | AE1: Удаляю из своего списка задач задачи, которые слишком долго там находятся без движения | AF1: Если вижу, что задача занимает меньше 2-3 минут, то делаю ее немедленно (не записывая в списки) | AG1: Как настроены ваши рабочие инструменты [Отключены оповещения о новой РАБОЧЕЙ почте] | AH1: Как настроены ваши рабочие инструменты [Отключены оповещения о новой ЛИЧНОЙ почте] | AI1: Как настроены ваши рабочие инструменты [Отключены оповещения на приложения социальных сетей] | AJ1: Как настроены ваши рабочие инструменты [Все новые письма автоматом отмечаются прочитанными] | AK1: Как настроены ваши рабочие инструменты [Все залипабельные программы спрятаны с главной страницы смартфона] | AL1: Как настроены ваши рабочие инструменты [В браузере установлена пустая начальная страница (а не тот список последних сайтов, что стоит по умолчанию)] | AM1: Как настроены ваши рабочие инструменты [На смартфоне установлен автоматический ночной режим экрана] | AN1: Как настроены ваши рабочие инструменты [На рабочем компьютере стоит автоматический ночной режим экрана] | AO1: Как настроены ваши рабочие инструменты [В основном браузере установлена банерорезка] | AP1: Как настроены ваши рабочие инструменты [Личные и рабочие задачи веду в едином списке] | AQ1: Аспекты образа жизни [Встаю в одно и то же время] | AR1: Аспекты образа жизни [Ухожу с работы вовремя] | AS1: Аспекты образа жизни [Занимаюсь спортом] | AT1: Аспекты образа жизни [Работаю по выходным] | AU1: Аспекты образа жизни [Просыпаюсь свежим и отдохнувшим] | AV1: Аспекты образа жизни [Ложусь спать в одно и то же время] | AW1: В общем и целом, на сколько вы довольны своей работой? | AX1: Отметьте те утверждения, с которыми относятся к вам | AY1: Вы курите? | AZ1: А как с алкоголем? ;) | BA1: Какое ваше семейное положение | BB1: Сколько у вас детей? | BC1: С какими учениями из области продуктивности и в какой степени вы знакомы [Тайм-менеджмент Глеба Архангельского] | BD1: С какими учениями из области продуктивности и в какой степени вы знакомы ["7 навыков" по С. Кови] | BE1: С какими учениями из области продуктивности и в какой степени вы знакомы [GTD Дэвида Аллена] | BF1: С какими учениями из области продуктивности и в какой степени вы знакомы ["Джедайские Техники" по Дорофееву] | BG1: С какими учениями из области продуктивности и в какой степени вы знакомы [Успеватель Василия Кислого] | BH1: С какими учениями из области продуктивности и в какой степени вы знакомы [Эссенциализм по Г. МакКеону] | BI1: Как часто вы ведете себя в соответствии с утверждениями ниже? [Перед тем, как приступить к важному, я смотрю не пришло ли ко мне чего-нибудь срочного] | BJ1: Как часто вы ведете себя в соответствии с утверждениями ниже? [Перед работой над важными задачами я стараюсь сначала разобраться с мелочевкой] | BK1: Как часто вы ведете себя в соответствии с утверждениями ниже? [Если задача важная, но не срочная, то я откладываю ее на попозже] | BL1: Как часто вы ведете себя в соответствии с утверждениями ниже? [Первым делом с утра я проверяю почту и мессенджеры, чтобы понять, нет ли там срочного] | BM1: Как много информации ПО РАБОТЕ к вам приходит по различным каналам [Мессенджеры] | BN1: Как много информации ПО РАБОТЕ к вам приходит по различным каналам [Личные встречи] | BO1: Как много информации ПО РАБОТЕ к вам приходит по различным каналам [Телефонные звонки / видеоконференции] | BP1: Как много информации ПО РАБОТЕ к вам приходит по различным каналам [Электронная почта] | BQ1: Как много информации ИЗ ЛИЧНОЙ ЖИЗНИ к вам приходит по различным каналам [Мессенджеры] | BR1: Как много информации ИЗ ЛИЧНОЙ ЖИЗНИ к вам приходит по различным каналам [Личные встречи] | BS1: Как много информации ИЗ ЛИЧНОЙ ЖИЗНИ к вам приходит по различным каналам [Телефонные звонки / видеоконференции] | BT1: Как много информации ИЗ ЛИЧНОЙ ЖИЗНИ к вам приходит по различным каналам [Электронная почта] | BU1: Сколько разных мессенджеров вам приходится использовать для общения по работе? | BV1: Сколько раз ваш смартфон блыкнул уведомлением за время заполнения этого опросника? | BW1: Какое хобби из перечисленных ниже вам больше по душе? Этот вопрос очень важен для меня и позволяет, пусть немного грубо, но все же оценить с каким уровнем осознанности вы заполняли этот опрос. Ни для кого не секрет, что в области экспериментальной психологии это одна из самых сложных сложностей - получение осознанных ответов или хотя бы определение с каким уровнем осознанности человек заполнял опросник. Поэтому, если вы дочитали до этого момента, я попрошу вас отметить в вариантах ниже вариант другое и написать, что-то типа Дорофеев, меня не обманешь. Ну а остальные варианты типа чтения книг, просмотра сериалов и всего такого они нужны исключительно для отвода глаз от важного. В жизни такое часто случается, между прочим... | BX1: Все, чем вам бы хотелось со мной поделиться | BY1: В общем и целом... На сколько вы счастливы?
A2: 43367.864 | B2: М | C2: 31 | E2: IT | F2: programming manager | G2: Я вполне успешно продвигаюсь по своим долгосрочным планам. Если завалы и случаются, то не часто. | H2: Я время от времени могу делать заделы на будущее, но меньше, чем хочется | I2: Абсолютно верно | J2: Скорее верно | K2: Скорее верно | L2: Едва ли верно | M2: Скорее верно | N2: Скорее верно | O2: Абсолютно верно | P2: Скорее верно | Q2: Едва ли верно | R2: Скорее верно | S2: Иногда | T2: Иногда | U2: Регулярно, системно и вообще я доволен тем, как часто это удается | V2: Достаточно часто, но иногда упускаю и забываю | W2: Крайне редко | X2: Регулярно, системно и вообще я доволен тем, как часто это удается | Y2: Достаточно часто, но иногда упускаю и забываю | Z2: Регулярно, системно и вообще я доволен тем, как часто это удается | AA2: Достаточно часто, но иногда упускаю и забываю | AB2: Регулярно, системно и вообще я доволен тем, как часто это удается | AC2: Иногда | AD2: Достаточно часто, но иногда упускаю и забываю | AE2: Иногда | AF2: Достаточно часто, но иногда упускаю и забываю | AG2: Да | AH2: Да | AI2: Да | AJ2: Нет | AK2: Да | AL2: Нет | AM2: Нет | AN2: Нет | AO2: Да | AP2: Да | AQ2: Регулярно | AR2: Регулярно | AS2: Крайне редко | AT2: Никогда | AU2: Не редко, но хотелось бы чаще | AV2: Регулярно | AW2: 5 | AX2: У меня есть дело за пределами работы, от которого меня искренне прет | AY2: Нет и никогда не курил | AZ2: Время от времени | BA2: Разведен | BB2: 1 | BC2: Читал, изучал, но не проникся | BD2: Читал, изучал, проникся, но не использую | BE2: Читал, изучал, проникся, но не использую | BF2: Читал, изучал, проникся, использую | BG2: Не слышал | BH2: Слышал, но не вдавался в детали | BI2: Когда как, но не часто | BJ2: Да, постоянно | BK2: Редко | BL2: Часто, но не всегда | BM2: Много | BN2: Средненько так | BO2: Средненько так | BP2: Ничего | BQ2: Очень мало | BR2: Очень мало | BS2: Ничего | BT2: Средненько так | BU2: 1 | BV2: ни разу | BW2: Дорофеев, врешь, не возьмешь! Я дофига читаю, на самом деле, так что первый пункт подходит. Но раз нет, так нет. | BX2: Надо ли что-то делать, если все хорошо? Ну, или кажется, что все хорошо.
A3: 43367.865 | B3: Ж | C3: 32 | E3: Реклама и дизайн | F3: Дизайнер | G3: Я вполне успешно продвигаюсь по своим долгосрочным планам. Если завалы и случаются, то не часто. | H3: Я время от времени могу делать заделы на будущее, но меньше, чем хочется | I3: Абсолютно верно | J3: Абсолютно верно | K3: Скорее верно | L3: Скорее верно | M3: Скорее верно | N3: Абсолютно верно | O3: Абсолютно верно | P3: Едва ли верно | Q3: Скорее верно | R3: Скорее верно | S3: Достаточно часто, но иногда упускаю и забываю | T3: Регулярно, системно и вообще я доволен тем, как часто это удается | U3: Достаточно часто, но иногда упускаю и забываю | V3: Регулярно, системно и вообще я доволен тем, как часто это удается | W3: Регулярно, системно и вообще я доволен тем, как часто это удается | X3: Достаточно часто, но иногда упускаю и забываю | Y3: Регулярно, системно и вообще я доволен тем, как часто это удается | Z3: Достаточно часто, но иногда упускаю и забываю | AA3: Достаточно часто, но иногда упускаю и забываю | AB3: Иногда | AC3: Регулярно, системно и вообще я доволен тем, как часто это удается | AD3: Иногда | AE3: Иногда | AF3: Достаточно часто, но иногда упускаю и забываю | AG3: Да | AH3: Да | AI3: Да | AJ3: Да | AK3: Нуу... почти... | AL3: Нет | AM3: Нет | AN3: Нет | AO3: Да | AP3: Да | AQ3: Не редко, но хотелось бы чаще | AR3: Не редко, но хотелось бы чаще | AS3: Крайне редко | AT3: Иногда | AU3: Не редко, но хотелось бы чаще | AV3: Не редко, но хотелось бы чаще | AW3: 7 | AX3: У меня есть дело за пределами работы, от которого меня искренне прет | AY3: Курил, но бросил | AZ3: Редко и мало (2-3 раза в год) | BA3: Женат / замужем впервые | BB3: 1 | BC3: Читал, изучал, проникся, использую | BD3: Читал, изучал, проникся, использую | BE3: Не слышал | BF3: ...и еще горячо насаживаю всем окружающим | BG3: Не слышал | BH3: ...и еще горячо насаживаю всем окружающим | BI3: Редко | BJ3: Когда как, но не часто | BK3: Редко | BL3: Никогда или очень редко | BM3: Много | BN3: Очень мало | BO3: Много | BP3: Много | BQ3: Много | BR3: Много | BS3: Очень мало | BT3: Очень мало | BU3: 2 | BV3: ни разу | BW3: Минимализм! А вообще, "Дорофеев, меня не обманешь".
A4: 43367.865 | B4: М | C4: 37 | E4: Ит | F4: Тимлид | G4: Я время от времени могу делать заделы на будущее, но меньше, чем хочется | H4: Я время от времени могу делать заделы на будущее, но меньше, чем хочется | I4: Абсолютно верно | J4: Скорее верно | K4: Скорее верно | L4: Едва ли верно | M4: Скорее верно | N4: Скорее верно | O4: Скорее верно | P4: Скорее верно | Q4: Скорее верно | R4: Скорее верно | S4: Крайне редко | T4: Крайне редко | U4: Иногда | V4: Крайне редко | W4: Никогда | X4: Достаточно часто, но иногда упускаю и забываю | Y4: Иногда | Z4: Крайне редко | AA4: Иногда | AB4: Достаточно часто, но иногда упускаю и забываю | AC4: Достаточно часто, но иногда упускаю и забываю | AD4: Крайне редко | AE4: Иногда | AF4: Достаточно часто, но иногда упускаю и забываю | AG4: Да | AH4: Да | AI4: Нуу... почти... | AJ4: Нет | AK4: Нет | AL4: Нет | AM4: Нет | AN4: Нет | AO4: Да | AP4: Да | AQ4: Регулярно | AR4: Иногда | AS4: Не редко, но хотелось бы чаще | AT4: Не редко, но хотелось бы чаще | AU4: Не редко, но хотелось бы чаще | AV4: Не редко, но хотелось бы чаще | AW4: 3 | AX4: У меня есть дело за пределами работы, от которого меня искренне прет | AY4: Нет и никогда не курил | AZ4: Регулярно, но в пределах разумного | BA4: Женат / замужем впервые | BB4: 2 | BC4: Слышал, но не вдавался в детали | BD4: Читал, изучал, но не проникся | BE4: Читал, изучал, но не проникся | BF4: Читал, изучал, проникся, но не использую | BG4: Не слышал | BH4: Не слышал | BI4: Часто, но не всегда | BJ4: Да, постоянно | BK4: Да, постоянно | BL4: Да, постоянно | BM4: Много | BN4: Много | BO4: Много | BP4: ДОФИГИЩА! | BQ4: Много | BR4: Много | BS4: Много | BT4: Очень мало | BU4: 2 | BV4: ни разу | BW4: Чтение книг, Просмотр сериалов, Самообразование, Охота и воспитание собаки | BX4: Как заставить себя делать то, что нужно, по чуть чуть каждый день, а не за пару дней до дедлайна?
A5: 43367.865 | B5: Ж | C5: 45 | E5: Образование | F5: Научный сотрудник. Менеджер программ | G5: Я еле-еле справляюсь с текучкой, но никак не могу приступить к чему-то долгосрочному | H5: Я еле-еле справляюсь с текучкой, но никак не могу приступить к чему-то долгосрочному | I5: Едва ли верно | J5: Едва ли верно | K5: Едва ли верно | L5: Едва ли верно | M5: Абсолютно НЕ верно | N5: Едва ли верно | O5: Едва ли верно | P5: Едва ли верно | Q5: Абсолютно НЕ верно | R5: Едва ли верно | S5: Иногда | T5: Достаточно часто, но иногда упускаю и забываю | U5: Регулярно, системно и вообще я доволен тем, как часто это удается | V5: Достаточно часто, но иногда упускаю и забываю | W5: Никогда | X5: Достаточно часто, но иногда упускаю и забываю | Y5: Регулярно, системно и вообще я доволен тем, как часто это удается | Z5: Крайне редко | AA5: Достаточно часто, но иногда упускаю и забываю | AB5: Иногда | AC5: Иногда | AD5: Иногда | AE5: Никогда | AF5: Регулярно, системно и вообще я доволен тем, как часто это удается | AG5: Нет | AH5: Да | AI5: Нуу... почти... | AJ5: Нет | AK5: Да | AL5: Да | AM5: Нет | AN5: Нет | AO5: Нет | AP5: Нет | AQ5: Регулярно | AR5: Не редко, но хотелось бы чаще | AS5: Не редко, но хотелось бы чаще | AT5: Иногда | AU5: Не редко, но хотелось бы чаще | AV5: Не редко, но хотелось бы чаще | AW5: 6 | AX5: У меня есть дело за пределами работы, от которого меня искренне прет | AY5: Нет и никогда не курил | AZ5: Редко и мало (2-3 раза в год) | BA5: Не женат / не замужем | BB5: 0 | BC5: Слышал, но не вдавался в детали | BD5: Читал, изучал, но не проникся | BE5: Читал, изучал, проникся, использую | BF5: Читал, изучал, но не проникся | BG5: Не слышал | BH5: Не слышал | BI5: Редко | BJ5: Когда как, но не часто | BK5: Редко | BL5: Да, постоянно | BM5: Ничего | BN5: Средненько так | BO5: Очень мало | BP5: ДОФИГИЩА! | BQ5: Много | BR5: Много | BS5: Средненько так | BT5: Ничего | BU5: 2 | BV5: ни разу | BW5: Чтение книг, Самообразование, Музыка, Йога | BX5: Благодарю за всё
A6: 43367.866 | B6: М | C6: 35 | E6: FMCG | F6: Руководитель отдела аналитики | G6: Я еле-еле справляюсь с текучкой, но никак не могу приступить к чему-то долгосрочному | H6: Я время от времени могу делать заделы на будущее, но меньше, чем хочется | I6: Абсолютно верно | J6: Скорее верно | K6: Едва ли верно | L6: Едва ли верно | M6: Едва ли верно | N6: Абсолютно верно | O6: Скорее верно | P6: Скорее верно | Q6: Едва ли верно | R6: Едва ли верно | S6: Иногда | T6: Иногда | U6: Иногда | V6: Иногда | W6: Иногда | X6: Достаточно часто, но иногда упускаю и забываю | Y6: Достаточно часто, но иногда упускаю и забываю | Z6: Регулярно, системно и вообще я доволен тем, как часто это удается | AA6: Достаточно часто, но иногда упускаю и забываю | AB6: Регулярно, системно и вообще я доволен тем, как часто это удается | AC6: Достаточно часто, но иногда упускаю и забываю | AD6: Иногда | AE6: Достаточно часто, но иногда упускаю и забываю | AF6: Иногда | AG6: Да | AH6: Да | AI6: Да | AJ6: Да | AK6: Да | AL6: Да | AM6: Да | AN6: Нуу... почти... | AO6: Да | AP6: Нет | AQ6: Не редко, но хотелось бы чаще | AR6: Не редко, но хотелось бы чаще | AS6: Крайне редко | AT6: Крайне редко | AU6: Иногда | AV6: Не редко, но хотелось бы чаще | AW6: 5 | AX6: У меня есть дело за пределами работы, от которого меня искренне прет | AY6: Нет и никогда не курил | AZ6: Время от времени | BA6: Не женат / не замужем | BB6: 0 | BC6: Читал, изучал, но не проникся | BD6: Читал, изучал, но не проникся | BE6: Читал, изучал, но не проникся | BF6: Читал, изучал, проникся, использую | BG6: Не слышал | BH6: Не слышал | BI6: Когда как, но не часто | BJ6: Часто, но не всегда | BK6: Когда как, но не часто | BL6: Часто, но не всегда | BM6: Очень мало | BN6: Много | BO6: Очень мало | BP6: ДОФИГИЩА! | BQ6: Средненько так | BR6: Очень мало | BS6: Ничего | BT6: Ничего | BU6: 2 | BV6: ни разу | BW6: Чтение книг, Просмотр сериалов, Самообразование | BX6: https://www.youtube.com/watch?time_continue=42&v=qcP9YkXaU-k
A7: 43367.868 | B7: Ж | C7: 39 | E7: IT в банковской области | F7: Руководитель направления | G7: Я еле-еле справляюсь с текучкой, но никак не могу приступить к чему-то долгосрочному | H7: Я еле-еле справляюсь с текучкой, но никак не могу приступить к чему-то долгосрочному | I7: Скорее верно | J7: Едва ли верно | K7: Скорее верно | L7: Едва ли верно | M7: Абсолютно верно | N7: Едва ли верно | O7: Абсолютно НЕ верно | P7: Скорее верно | Q7: Абсолютно НЕ верно | R7: Едва ли верно | S7: Никогда | T7: Достаточно часто, но иногда упускаю и забываю | U7: Регулярно, системно и вообще я доволен тем, как часто это удается | V7: Иногда | W7: Никогда | X7: Никогда | Y7: Достаточно часто, но иногда упускаю и забываю | Z7: Достаточно часто, но иногда упускаю и забываю | AA7: Иногда | AB7: Достаточно часто, но иногда упускаю и забываю | AC7: Крайне редко | AD7: Крайне редко | AE7: Достаточно часто, но иногда упускаю и забываю | AF7: Регулярно, системно и вообще я доволен тем, как часто это удается | AG7: Да | AH7: Да | AI7: Да | AJ7: Нет | AK7: Нет | AL7: Да | AM7: Нет | AN7: Да | AO7: Да | AP7: Нет | AQ7: Не редко, но хотелось бы чаще | AR7: Не редко, но хотелось бы чаще | AS7: Крайне редко | AT7: Иногда | AU7: Крайне редко | AV7: Не редко, но хотелось бы чаще | AW7: 5 | AY7: Нет и никогда не курил | AZ7: Регулярно, но в пределах разумного | BA7: Женат / замужем впервые | BB7: 1 | BC7: Читал, изучал, но не проникся | BD7: Читал, изучал, но не проникся | BE7: Не слышал | BF7: ...и еще горячо насаживаю всем окружающим | BG7: Не слышал | BH7: Не слышал | BI7: Когда как, но не часто | BJ7: Никогда или очень редко | BK7: Часто, но не всегда | BL7: Часто, но не всегда | BM7: Много | BN7: Много | BO7: ДОФИГИЩА! | BP7: ДОФИГИЩА! | BQ7: Много | BR7: Средненько так | BS7: Много | BT7: Средненько так | BU7: 1 | BV7: 1-2 раза | BW7: Чтение книг, Просмотр сериалов, Рисование, Вязать крючком как способ медитации | BX7: Спасибо за ненудный и очень человечный подход к таймменежменту.
A8: 43367.868 | B8: Ж | C8: 35 | E8: ERP | F8: Разработчик | G8: Я вполне успешно продвигаюсь по своим долгосрочным планам. Если завалы и случаются, то не часто. | H8: Я вполне успешно продвигаюсь по своим долгосрочным планам. Если завалы и случаются, то не часто. | I8: Абсолютно верно | J8: Скорее верно | K8: Скорее верно | L8: Скорее верно | M8: Скорее верно | N8: Скорее верно | O8: Скорее верно | P8: Абсолютно верно | Q8: Скорее верно | R8: Абсолютно верно | S8: Достаточно часто, но иногда упускаю и забываю | T8: Регулярно, системно и вообще я доволен тем, как часто это удается | U8: Регулярно, системно и вообще я доволен тем, как часто это удается | V8: Регулярно, системно и вообще я доволен тем, как часто это удается | W8: Никогда | X8: Иногда | Y8: Регулярно, системно и вообще я доволен тем, как часто это удается | Z8: Регулярно, системно и вообще я доволен тем, как часто это удается | AA8: Достаточно часто, но иногда упускаю и забываю | AB8: Достаточно часто, но иногда упускаю и забываю | AC8: Регулярно, системно и вообще я доволен тем, как часто это удается | AD8: Достаточно часто, но иногда упускаю и забываю | AE8: Регулярно, системно и вообще я доволен тем, как часто это удается | AF8: Регулярно, системно и вообще я доволен тем, как часто это удается | AG8: Нет | AH8: Нет | AI8: Да | AJ8: Нет | AK8: Да | AL8: Нет | AM8: Нет | AN8: Нет | AO8: Нет | AP8: Нет | AQ8: Регулярно | AR8: Не редко, но хотелось бы чаще | AS8: Не редко, но хотелось бы чаще | AT8: Иногда | AU8: Не редко, но хотелось бы чаще | AV8: Не редко, но хотелось бы чаще | AW8: 7 | AX8: У меня есть дело за пределами работы, от которого меня искренне прет | AY8: Нет и никогда не курил | AZ8: Время от времени | BA8: Женат / замужем впервые | BB8: 1 | BC8: Слышал, но не вдавался в детали | BD8: Не слышал | BE8: Не слышал | BF8: Слышал, но не вдавался в детали | BG8: Не слышал | BH8: Не слышал | BI8: Часто, но не всегда | BJ8: Часто, но не всегда | BK8: Когда как, но не часто | BL8: Часто, но не всегда | BM8: Много | BN8: Много | BO8: Много | BP8: Много | BQ8: Много | BR8: Много | BS8: Много | BT8: Средненько так | BU8: 2 | BV8: ни разу | BW8: Не обманешь )
A9: 43367.869 | B9: Ж | C9: 26 | E9: marketing | F9: Market research manager | G9: Я время от времени могу делать заделы на будущее, но меньше, чем хочется | H9: Я еле-еле справляюсь с текучкой, но никак не могу приступить к чему-то долгосрочному | I9: Абсолютно верно | J9: Скорее верно | K9: Скорее верно | L9: Едва ли верно | M9: Скорее верно | N9: Абсолютно верно | O9: Скорее верно | P9: Едва ли верно | Q9: Едва ли верно | R9: Скорее верно | S9: Иногда | T9: Достаточно часто, но иногда упускаю и забываю | U9: Достаточно часто, но иногда упускаю и забываю | V9: Регулярно, системно и вообще я доволен тем, как часто это удается | W9: Крайне редко | X9: Никогда | Y9: Достаточно часто, но иногда упускаю и забываю | Z9: Регулярно, системно и вообще я доволен тем, как часто это удается | AA9: Иногда | AB9: Иногда | AC9: Регулярно, системно и вообще я доволен тем, как часто это удается | AD9: Достаточно часто, но иногда упускаю и забываю | AE9: Крайне редко | AF9: Регулярно, системно и вообще я доволен тем, как часто это удается | AG9: Нуу... почти... | AH9: Да | AI9: Нуу... почти... | AJ9: Нет | AK9: Нет | AL9: Да | AM9: Нет | AN9: Нет | AO9: Нет | AP9: Нет | AQ9: Не редко, но хотелось бы чаще | AR9: Иногда | AS9: Никогда | AT9: Иногда | AU9: Не редко, но хотелось бы чаще | AV9: Регулярно | AW9: 6 | AY9: Курил, но бросил | AZ9: Время от времени | BA9: Женат / замужем впервые | BB9: 0 | BC9: Не слышал | BD9: Читал, изучал, но не проникся | BE9: Не слышал | BF9: ...и еще горячо насаживаю всем окружающим | BG9: Не слышал | BH9: Не слышал | BI9: Часто, но не всегда | BJ9: Когда как, но не часто | BK9: Часто, но не всегда | BL9: Часто, но не всегда | BM9: Очень мало | BN9: Много | BO9: Много | BP9: ДОФИГИЩА! | BQ9: Средненько так | BR9: Много | BS9: Очень мало | BT9: Ничего | BU9: 1 | BV9: ни разу | BW9: Я учусь читать задания полностью) | BX9: Ты классный! Жду вторую книгу
A10: 43367.87 | B10: Ж | C10: 26 | E10: IT | F10: QA | G10: Я еле-еле справляюсь с текучкой, но никак не могу приступить к чему-то долгосрочному | H10: Я время от времени могу делать заделы на будущее, но меньше, чем хочется | I10: Абсолютно верно | J10: Скорее верно | K10: Скорее верно | L10: Скорее верно | M10: Абсолютно верно | N10: Абсолютно верно | O10: Скорее верно | P10: Скорее верно | Q10: Скорее верно | R10: Скорее верно | S10: Крайне редко | T10: Иногда | U10: Иногда | V10: Крайне редко | W10: Никогда | X10: Достаточно часто, но иногда упускаю и забываю | Y10: Крайне редко | Z10: Крайне редко | AA10: Иногда | AB10: Иногда | AC10: Никогда | AD10: Иногда | AE10: Крайне редко | AF10: Достаточно часто, но иногда упускаю и забываю | AG10: Да | AH10: Да | AI10: Да | AJ10: Нуу... почти... | AK10: Да | AL10: Нет | AM10: Да | AN10: Да | AO10: Да | AP10: Да | AQ10: Не редко, но хотелось бы чаще | AR10: Не редко, но хотелось бы чаще | AS10: Не редко, но хотелось бы чаще | AT10: Крайне редко | AU10: Иногда | AV10: Не редко, но хотелось бы чаще | AW10: 5 | AY10: Нет и никогда не курил | AZ10: Редко и мало (2-3 раза в год) | BA10: Не женат / не замужем | BB10: 0 | BC10: Не слышал | BD10: Читал, изучал, проникся, но не использую | BE10: Читал, изучал, проникся, но не использую | BF10: Читал, изучал, проникся, но не использую | BG10: Не слышал | BH10: Читал, изучал, проникся, использую | BI10: Часто, но не всегда | BJ10: Часто, но не всегда | BK10: Да, постоянно | BL10: Когда как, но не часто | BM10: Ничего | BN10: Средненько так | BO10: Очень мало | BP10: Много | BQ10: Много | BR10: Средненько так | BS10: Очень мало | BT10: Ничего | BU10: 3 | BV10: ни разу | BW10: ата-та!
A11: 43367.871 | B11: М | C11: 38 | E11: Научная (физика + IT) | F11: старший научный сотрудник | G11: Я время от времени могу делать заделы на будущее, но меньше, чем хочется | H11: Я время от времени могу делать заделы на будущее, но меньше, чем хочется | I11: Скорее верно | J11: Скорее верно | K11: Едва ли верно | L11: Скорее верно | M11: Скорее верно | N11: Абсолютно верно | O11: Абсолютно верно | P11: Скорее верно | Q11: Абсолютно верно | R11: Скорее верно | S11: Иногда | T11: Иногда | U11: Достаточно часто, но иногда упускаю и забываю | V11: Крайне редко | W11: Иногда | X11: Достаточно часто, но иногда упускаю и забываю | Y11: Крайне редко | Z11: Достаточно часто, но иногда упускаю и забываю | AA11: Крайне редко | AB11: Иногда | AC11: Регулярно, системно и вообще я доволен тем, как часто это удается | AD11: Крайне редко | AE11: Крайне редко | AF11: Достаточно часто, но иногда упускаю и забываю | AG11: Нет | AH11: Нет | AI11: Да | AJ11: Нет | AK11: Нуу... почти... | AL11: Нуу... почти... | AM11: Нет | AN11: Нет | AO11: Нет | AP11: Нуу... почти... | AQ11: Крайне редко | AR11: Не редко, но хотелось бы чаще | AS11: Не редко, но хотелось бы чаще | AT11: Регулярно | AU11: Не редко, но хотелось бы чаще | AV11: Иногда | AW11: 5 | AY11: Нет и никогда не курил | AZ11: Время от времени | BA11: Не женат / не замужем | BB11: 0 | BC11: Не слышал | BD11: Не слышал | BE11: Не слышал | BF11: Читал, изучал, проникся, использую | BG11: Не слышал | BH11: Не слышал | BI11: Когда как, но не часто | BJ11: Редко | BK11: Часто, но не всегда | BL11: Да, постоянно | BM11: Ничего | BN11: Средненько так | BO11: Очень мало | BP11: Много | BQ11: Средненько так | BR11: Средненько так | BS11: Средненько так | BT11: Очень мало | BU11: 0 | BV11: ни разу | BW11: Меня не обманешь! Я, кстати, реально предполагал подвох :) | BX11: Спасибо вам за вашу работу! Жизнь понемногу налаживается...
A12: 24.09.2018 20:55:47 | B12: Ж | C12: 37 | E12: творчество | F12: писатель, коуч | G12: Я время от времени могу делать заделы на будущее, но меньше, чем хочется | H12: Я время от времени могу делать заделы на будущее, но меньше, чем хочется | I12: Абсолютно верно | J12: Скорее верно | K12: Скорее верно | L12: Скорее верно | M12: Абсолютно верно | N12: Скорее верно | O12: Едва ли верно | P12: Скорее верно | Q12: Скорее верно | R12: Скорее верно | S12: Иногда | T12: Достаточно часто, но иногда упускаю и забываю | U12: Достаточно часто, но иногда упускаю и забываю | V12: Регулярно, системно и вообще я доволен тем, как часто это удается | W12: Достаточно часто, но иногда упускаю и забываю | X12: Иногда | Y12: Регулярно, системно и вообще я доволен тем, как часто это удается | Z12: Крайне редко | AA12: Достаточно часто, но иногда упускаю и забываю | AB12: Достаточно часто, но иногда упускаю и забываю | AC12: Регулярно, системно и вообще я доволен тем, как часто это удается | AD12: Иногда | AE12: Достаточно часто, но иногда упускаю и забываю | AF12: Регулярно, системно и вообще я доволен тем, как часто это удается | AG12: Да | AH12: Да | AI12: Нуу... почти... | AJ12: Нет | AK12: Да | AL12: Нет | AM12: Нет | AN12: Нет | AO12: Да | AP12: Да | AQ12: Регулярно | AR12: Не редко, но хотелось бы чаще | AS12: Иногда | AT12: Иногда | AU12: Регулярно | AV12: Регулярно | AW12: 7 | AX12: У меня есть дело за пределами работы, от которого меня искренне прет | AY12: Курил, но бросил | AZ12: Вообще не пью | BA12: Разведен | BB12: 1 | BC12: Читал, изучал, проникся, но не использую | BD12: ...и еще горячо насаживаю всем окружающим | BE12: ...и еще горячо насаживаю всем окружающим | BF12: ...и еще горячо насаживаю всем окружающим | BG12: Не слышал | BH12: Слышал, но не вдавался в детали | BI12: Редко | BJ12: Редко | BK12: Редко | BL12: Когда как, но не часто | BM12: Средненько так | BN12: Много | BO12: Очень мало | BP12: Очень мало | BQ12: Много | BR12: Средненько так | BS12: Средненько так | BT12: Ничего | BU12: 3 | BV12: ни разу | BW12: Чтение книг, Самообразование, вязание, служение | BX12: Уже хочется новой книги :-) Ну и хотела спросить, как относишься к 12-недельному году?
A13: 24.09.2018 20:56:06 | B13: М | C13: 36 | E13: IT | F13: Начальник отдела | G13: Я вполне успешно продвигаюсь по своим долгосрочным планам. Если завалы и случаются, то не часто. | H13: Я вполне успешно продвигаюсь по своим долгосрочным планам. Если завалы и случаются, то не часто. | I13: Абсолютно верно | J13: Скорее верно | K13: Едва ли верно | L13: Едва ли верно | M13: Едва ли верно | N13: Абсолютно верно | O13: Скорее верно | P13: Скорее верно | Q13: Скорее верно | R13: Скорее верно | S13: Достаточно часто, но иногда упускаю и забываю | T13: Достаточно часто, но иногда упускаю и забываю | U13: Регулярно, системно и вообще я доволен тем, как часто это удается | V13: Иногда | W13: Никогда | X13: Достаточно часто, но иногда упускаю и забываю | Y13: Достаточно часто, но иногда упускаю и забываю | Z13: Достаточно часто, но иногда упускаю и забываю | AA13: Регулярно, системно и вообще я доволен тем, как часто это удается | AB13: Регулярно, системно и вообще я доволен тем, как часто это удается | AC13: Регулярно, системно и вообще я доволен тем, как часто это удается | AD13: Достаточно часто, но иногда упускаю и забываю | AE13: Регулярно, системно и вообще я доволен тем, как часто это удается | AF13: Достаточно часто, но иногда упускаю и забываю | AG13: Да | AH13: Да | AI13: Да | AJ13: Нет | AK13: Да | AL13: Нет | AM13: Нет | AN13: Нет | AO13: Да | AP13: Да | AQ13: Регулярно | AR13: Регулярно | AS13: Крайне редко | AT13: Никогда | AU13: Иногда | AV13: Регулярно | AW13: 6 | AX13: У меня есть дело за пределами работы, от которого меня искренне прет | AY13: Курил, но бросил | AZ13: Время от времени | BA13: Женат / замужем впервые | BB13: 2 | BC13: Не слышал | BD13: Не слышал | BE13: Читал, изучал, проникся, использую | BF13: Не слышал | BG13: Не слышал | BH13: Не слышал | BI13: Когда как, но не часто | BJ13: Когда как, но не часто | BK13: Часто, но не всегда | BL13: Когда как, но не часто | BM13: Очень мало | BN13: Много | BO13: Очень мало | BP13: Много | BQ13: Очень мало | BR13: Средненько так | BS13: Очень мало | BT13: Очень мало | BU13: 3 | BV13: ни разу | BW13: Дорофеев, меня не обманешь | BX13: Ничего :)
A14: 24.09.2018 20:56:21 | B14: Ж | C14: 37 | E14: IT | F14: рук. направления по развитию ИТ систем | G14: Я время от времени могу делать заделы на будущее, но меньше, чем хочется | H14: Я вполне успешно продвигаюсь по своим долгосрочным планам. Если завалы и случаются, то не часто. | I14: Скорее верно | J14: Скорее верно | K14: Едва ли верно | L14: Едва ли верно | M14: Скорее верно | N14: Скорее верно | O14: Скорее верно | P14: Скорее верно | Q14: Скорее верно | R14: Скорее верно | S14: Достаточно часто, но иногда упускаю и забываю | T14: Иногда | U14: Иногда | V14: Достаточно часто, но иногда упускаю и забываю | W14: Никогда | X14: Иногда | Y14: Иногда | Z14: Иногда | AA14: Иногда | AB14: Иногда | AC14: Крайне редко | AD14: Достаточно часто, но иногда упускаю и забываю | AE14: Достаточно часто, но иногда упускаю и забываю | AF14: Достаточно часто, но иногда упускаю и забываю | AG14: Нет | AH14: Нет | AI14: Нет | AJ14: Нет | AK14: Нуу... почти... | AL14: Нет | AM14: Нет | AN14: Нет | AO14: Да | AP14: Нет | AQ14: Регулярно | AR14: Регулярно | AS14: Крайне редко | AT14: Крайне редко | AU14: Не редко, но хотелось бы чаще | AV14: Не редко, но хотелось бы чаще | AW14: 5 | AX14: У меня есть дело за пределами работы, от которого меня искренне прет | AY14: Нет и никогда не курил | AZ14: Редко и мало (2-3 раза в год) | BA14: Разведен | BB14: 0 | BC14: Читал, изучал, проникся, но не использую | BD14: Читал, изучал, но не проникся | BE14: Слышал, но не вдавался в детали | BF14: Читал, изучал, но не проникся | BG14: Не слышал | BH14: Не слышал | BI14: Когда как, но не часто | BJ14: Когда как, но не часто | BK14: Когда как, но не часто | BL14: Да, постоянно | BM14: Много | BN14: ДОФИГИЩА! | BO14: Много | BP14: ДОФИГИЩА! | BQ14: Много | BR14: Много | BS14: Очень мало | BT14: Очень мало | BU14: 1 | BV14: ни разу | BW14: Дорофеев, меня не обманешь
A15: 24.09.2018 20:57:47 | B15: М | C15: 25 | E15: IT | F15: Senior iOS Developer | G15: Я время от времени могу делать заделы на будущее, но меньше, чем хочется | H15: Я время от времени могу делать заделы на будущее, но меньше, чем хочется | I15: Абсолютно верно | J15: Абсолютно верно | K15: Едва ли верно | L15: Едва ли верно | M15: Абсолютно верно | N15: Абсолютно верно | O15: Абсолютно верно | P15: Абсолютно верно | Q15: Абсолютно верно | R15: Скорее верно | S15: Крайне редко | T15: Иногда | U15: Достаточно часто, но иногда упускаю и забываю | V15: Регулярно, системно и вообще я доволен тем, как часто это удается | W15: Никогда | X15: Крайне редко | Y15: Регулярно, системно и вообще я доволен тем, как часто это удается | Z15: Достаточно часто, но иногда упускаю и забываю | AA15: Иногда | AB15: Регулярно, системно и вообще я доволен тем, как часто это удается | AC15: Иногда | AD15: Достаточно часто, но иногда упускаю и забываю | AE15: Регулярно, системно и вообще я доволен тем, как часто это удается | AF15: Достаточно часто, но иногда упускаю и забываю | AG15: Да | AH15: Да | AI15: Да | AJ15: Нуу... почти... | AK15: Да | AL15: Да | AM15: Да | AN15: Да | AO15: Да | AP15: Да | AQ15: Не редко, но хотелось бы чаще | AR15: Крайне редко | AS15: Не редко, но хотелось бы чаще | AT15: Регулярно | AU15: Не редко, но хотелось бы чаще | AV15: Не редко, но хотелось бы чаще | AW15: 5 | AX15: У меня есть дело за пределами работы, от которого меня искренне прет | AY15: Курю не системно (могу неделями не курить, но иногда за компанию...) | AZ15: Время от времени | BA15: Не женат / не замужем | BB15: 0 | BC15: Не слышал | BD15: Не слышал | BE15: Слышал, но не вдавался в детали | BF15: Читал, изучал, проникся, использую | BG15: Слышал, но не вдавался в детали | BH15: Не слышал | BI15: Никогда или очень редко | BJ15: Редко | BK15: Когда как, но не часто | BL15: Когда как, но не часто | BM15: Много | BN15: Много | BO15: Очень мало | BP15: ДОФИГИЩА! | BQ15: ДОФИГИЩА! | BR15: Много | BS15: Средненько так | BT15: Ничего | BU15: 2 | BV15: ни разу | BW15: Чтение книг, Самообразование, Дорофеев, меня не обманешь =) И спорт =)
A16: 24.09.2018 20:58:04 | B16: Ж | C16: 36 | E16: IT | F16: Ведущий системный аналитик | G16: Я время от времени могу делать заделы на будущее, но меньше, чем хочется | H16: Я вполне успешно продвигаюсь по своим долгосрочным планам. Если завалы и случаются, то не часто. | I16: Скорее верно | J16: Абсолютно верно | K16: Едва ли верно | L16: Едва ли верно | M16: Скорее верно | N16: Скорее верно | O16: Едва ли верно | P16: Скорее верно | Q16: Едва ли верно | R16: Скорее верно | S16: Достаточно часто, но иногда упускаю и забываю | T16: Регулярно, системно и вообще я доволен тем, как часто это удается | U16: Регулярно, системно и вообще я доволен тем, как часто это удается | V16: Регулярно, системно и вообще я доволен тем, как часто это удается | W16: Крайне редко | X16: Регулярно, системно и вообще я доволен тем, как часто это удается | Y16: Регулярно, системно и вообще я доволен тем, как часто это удается | Z16: Достаточно часто, но иногда упускаю и забываю | AA16: Достаточно часто, но иногда упускаю и забываю | AB16: Иногда | AC16: Иногда | AD16: Достаточно часто, но иногда упускаю и забываю | AE16: Достаточно часто, но иногда упускаю и забываю | AF16: Регулярно, системно и вообще я доволен тем, как часто это удается | AG16: Да | AH16: Нуу... почти... | AI16: Да | AJ16: Да | AK16: Да | AL16: Нуу... почти... | AM16: Нет | AN16: Да | AO16: Да | AP16: Да | AQ16: Регулярно | AR16: Не редко, но хотелось бы чаще | AS16: Регулярно | AT16: Иногда | AU16: Крайне редко | AV16: Не редко, но хотелось бы чаще | AW16: 5 | AX16: У меня есть дело за пределами работы, от которого меня искренне прет | AY16: Нет и никогда не курил | AZ16: Редко и мало (2-3 раза в год) | BA16: Женат / замужем впервые | BB16: 2 | BC16: Читал, изучал, проникся, но не использую | BD16: Читал, изучал, проникся, использую | BE16: Слышал, но не вдавался в детали | BF16: ...и еще горячо насаживаю всем окружающим | BG16: Слышал, но не вдавался в детали | BH16: Не слышал | BI16: Когда как, но не часто | BJ16: Когда как, но не часто | BK16: Редко | BL16: Редко | BM16: Очень мало | BN16: Много | BO16: Очень мало | BP16: Средненько так | BQ16: Много | BR16: Очень мало | BS16: Много | BT16: Очень мало | BU16: 1 | BV16: ни разу | BW16: И все-таки рисование и посмотр сериалов. Я безнадежна?😊
A17: 24.09.2018 20:59:55 | B17: М | C17: 32 | E17: Интернет-маркетинг | F17: Руководитель отдела предпродажной аналитики | G17: Я время от времени могу делать заделы на будущее, но меньше, чем хочется | H17: Я еле-еле справляюсь с текучкой, но никак не могу приступить к чему-то долгосрочному | I17: Скорее верно | J17: Скорее верно | K17: Едва ли верно | L17: Едва ли верно | M17: Едва ли верно | N17: Абсолютно верно | O17: Скорее верно | P17: Едва ли верно | Q17: Скорее верно | R17: Скорее верно | S17: Достаточно часто, но иногда упускаю и забываю | T17: Иногда | U17: Достаточно часто, но иногда упускаю и забываю | V17: Достаточно часто, но иногда упускаю и забываю | W17: Никогда | X17: Никогда | Y17: Иногда | Z17: Достаточно часто, но иногда упускаю и забываю | AA17: Иногда | AB17: Крайне редко | AC17: Иногда | AD17: Достаточно часто, но иногда упускаю и забываю | AE17: Достаточно часто, но иногда упускаю и забываю | AF17: Регулярно, системно и вообще я доволен тем, как часто это удается | AG17: Нуу... почти... | AH17: Да | AI17: Нуу... почти... | AJ17: Да | AK17: Да | AL17: Нет | AM17: Нет | AN17: Нет | AO17: Нет | AP17: Нет | AQ17: Регулярно | AR17: Регулярно | AS17: Иногда | AT17: Никогда | AU17: Иногда | AV17: Иногда | AW17: 5 | AY17: Курил, но бросил | AZ17: Регулярно, но в пределах разумного | BA17: Не женат / не замужем | BB17: 0 | BC17: Слышал, но не вдавался в детали | BD17: Читал, изучал, проникся, но не использую | BE17: Не слышал | BF17: ...и еще горячо насаживаю всем окружающим | BG17: Слышал, но не вдавался в детали | BH17: Не слышал | BI17: Редко | BJ17: Когда как, но не часто | BK17: Редко | BL17: Никогда или очень редко | BM17: Очень мало | BN17: Очень мало | BO17: Средненько так | BP17: Средненько так | BQ17: Очень мало | BR17: Средненько так | BS17: Средненько так | BT17: Ничего | BU17: 1 | BV17: ни разу | BW17: О, опрос кончился, только ж начали...
A18: 24.09.2018 20:59:59 | B18: М | C18: 28 | E18: продуктовая веб-разработка | F18: руководитель отдела тестирования | G18: Я вполне успешно продвигаюсь по своим долгосрочным планам. Если завалы и случаются, то не часто. | H18: Все происходит легко и естественно, кажется, что даже не приходится напрягаться, чтобы достигать того, к чему я стремлюсь | I18: Абсолютно верно | J18: Абсолютно верно | K18: Едва ли верно | L18: Абсолютно НЕ верно | M18: Скорее верно | N18: Абсолютно верно | O18: Скорее верно | P18: Абсолютно верно | Q18: Скорее верно | R18: Скорее верно | S18: Иногда | T18: Крайне редко | U18: Достаточно часто, но иногда упускаю и забываю | V18: Регулярно, системно и вообще я доволен тем, как часто это удается | W18: Достаточно часто, но иногда упускаю и забываю | X18: Иногда | Y18: Регулярно, системно и вообще я доволен тем, как часто это удается | Z18: Регулярно, системно и вообще я доволен тем, как часто это удается | AA18: Достаточно часто, но иногда упускаю и забываю | AB18: Регулярно, системно и вообще я доволен тем, как часто это удается | AC18: Достаточно часто, но иногда упускаю и забываю | AD18: Никогда | AE18: Регулярно, системно и вообще я доволен тем, как часто это удается | AF18: Иногда | AG18: Да | AH18: Да | AI18: Да | AJ18: Да | AK18: Да | AL18: Нет | AM18: Нет | AN18: Нет | AO18: Нет | AP18: Да | AQ18: Регулярно | AR18: Регулярно | AS18: Не редко, но хотелось бы чаще | AT18: Никогда | AU18: Иногда | AV18: Не редко, но хотелось бы чаще | AW18: 4 | AY18: Нет и никогда не курил | AZ18: Время от времени | BA18: Женат / замужем впервые | BB18: 0 | BC18: Читал, изучал, проникся, использую | BD18: ...и еще горячо насаживаю всем окружающим | BE18: Читал, изучал, проникся, использую | BF18: ...и еще горячо насаживаю всем окружающим | BG18: Не слышал | BH18: Не слышал | BI18: Редко | BJ18: Редко | BK18: Когда как, но не часто | BL18: Никогда или очень редко | BM18: Ничего | BN18: ДОФИГИЩА! | BO18: ДОФИГИЩА! | BP18: ДОФИГИЩА! | BQ18: Много | BR18: Много | BS18: Средненько так | BT18: Ничего | BU18: 1 | BV18: ни разу | BW18: Дорофеев, меня не обманешь)))
A19: 24.09.2018 21:03:32 | B19: Ж | C19: 25 | E19: Консалтинг | F19: Консультант | G19: Я вполне успешно продвигаюсь по своим долгосрочным планам. Если завалы и случаются, то не часто. | H19: Я время от времени могу делать заделы на будущее, но меньше, чем хочется | I19: Абсолютно верно | J19: Скорее верно | K19: Скорее верно | L19: Скорее верно | M19: Абсолютно верно | N19: Абсолютно верно | O19: Абсолютно верно | P19: Абсолютно верно | Q19: Абсолютно верно | R19: Едва ли верно | S19: Достаточно часто, но иногда упускаю и забываю | T19: Иногда | U19: Никогда | V19: Достаточно часто, но иногда упускаю и забываю | W19: Никогда | X19: Крайне редко | Y19: Крайне редко | Z19: Регулярно, системно и вообще я доволен тем, как часто это удается | AA19: Достаточно часто, но иногда упускаю и забываю | AB19: Регулярно, системно и вообще я доволен тем, как часто это удается | AC19: Регулярно, системно и вообще я доволен тем, как часто это удается | AD19: Достаточно часто, но иногда упускаю и забываю | AE19: Иногда | AF19: Регулярно, системно и вообще я доволен тем, как часто это удается | AG19: Нет | AH19: Нет | AI19: Нуу... почти... | AJ19: Нет | AK19: Нет | AL19: Да | AM19: Нет | AN19: Нет | AO19: Нуу... почти... | AP19: Да | AQ19: Не редко, но хотелось бы чаще | AR19: Регулярно | AS19: Иногда | AT19: Иногда | AU19: Не редко, но хотелось бы чаще | AV19: Не редко, но хотелось бы чаще | AW19: 7 | AY19: Нет и никогда не курил | AZ19: Вообще не пью | BA19: Не женат / не замужем | BB19: 0 | BC19: Слышал, но не вдавался в детали | BD19: Читал, изучал, проникся, но не использую | BE19: Не слышал | BF19: ...и еще горячо насаживаю всем окружающим | BG19: Не слышал | BH19: Слышал, но не вдавался в детали | BI19: Да, постоянно | BJ19: Часто, но не всегда | BK19: Редко | BL19: Часто, но не всегда | BM19: Очень мало | BN19: Много | BO19: Много | BP19: Много | BQ19: ДОФИГИЩА! | BR19: ДОФИГИЩА! | BS19: ДОФИГИЩА! | BT19: Очень мало | BU19: 2 | BV19: ни разу | BW19: Максим, успехов с новой книгой! Уже жду :) | BX19: Рекомендую книги А.В. Курпатова: "Красная таблетка", "Чертоги разума" и "Троица". В них он описал механизм мышления с опорой на нейропсихологию + предложил упражнение для управления своим мышлением. Вдруг пригодится. Успехов Вам!
A20: 24.09.2018 21:07:39 | B20: Ж | C20: 35 | E20: право | F20: юрист | G20: Я время от времени могу делать заделы на будущее, но меньше, чем хочется | H20: Я время от времени могу делать заделы на будущее, но меньше, чем хочется | I20: Едва ли верно | J20: Едва ли верно | K20: Едва ли верно | L20: Едва ли верно | M20: Едва ли верно | N20: Едва ли верно | O20: Едва ли верно | P20: Едва ли верно | Q20: Едва ли верно | R20: Едва ли верно | S20: Иногда | T20: Иногда | U20: Регулярно, системно и вообще я доволен тем, как часто это удается | V20: Регулярно, системно и вообще я доволен тем, как часто это удается | W20: Крайне редко | X20: Никогда | Y20: Иногда | Z20: Иногда | AA20: Регулярно, системно и вообще я доволен тем, как часто это удается | AB20: Регулярно, системно и вообще я доволен тем, как часто это удается | AC20: Крайне редко | AD20: Крайне редко | AE20: Иногда | AF20: Крайне редко | AG20: Да | AH20: Да | AI20: Да | AJ20: Нет | AK20: Нет | AL20: Нет | AM20: Нет | AN20: Нет | AO20: Да | AP20: Да | AQ20: Иногда | AR20: Никогда | AS20: Крайне редко | AT20: Иногда | AU20: Не редко, но хотелось бы чаще | AV20: Иногда | AW20: 1 | AX20: У меня есть дело за пределами работы, от которого меня искренне прет | AY20: Нет и никогда не курил | AZ20: Время от времени | BA20: Не женат / не замужем | BB20: 0 | BC20: Читал, изучал, но не проникся | BD20: Читал, изучал, но не проникся | BE20: Читал, изучал, но не проникся | BF20: Читал, изучал, проникся, использую | BG20: Читал, изучал, но не проникся | BH20: Слышал, но не вдавался в детали | BI20: Когда как, но не часто | BJ20: Никогда или очень редко | BK20: Часто, но не всегда | BL20: Часто, но не всегда | BM20: Ничего | BN20: Средненько так | BO20: Очень мало | BP20: Много | BQ20: ДОФИГИЩА! | BR20: Много | BS20: Ничего | BT20: Много | BU20: 1 | BV20: ни разу | BW20: Самообразование
A21: 24.09.2018 21:08:13 | B21: Ж | C21: 37 | E21: Красота | F21: Мастер | G21: Я время от времени могу делать заделы на будущее, но меньше, чем хочется | H21: Я время от времени могу делать заделы на будущее, но меньше, чем хочется | I21: Скорее верно | J21: Скорее верно | K21: Скорее верно | L21: Скорее верно | M21: Скорее верно | N21: Скорее верно | O21: Едва ли верно | P21: Скорее верно | Q21: Скорее верно | R21: Скорее верно | S21: Достаточно часто, но иногда упускаю и забываю | T21: Иногда | U21: Иногда | V21: Иногда | W21: Иногда | X21: Крайне редко | Y21: Достаточно часто, но иногда упускаю и забываю | Z21: Регулярно, системно и вообще я доволен тем, как часто это удается | AA21: Иногда | AB21: Регулярно, системно и вообще я доволен тем, как часто это удается | AC21: Регулярно, системно и вообще я доволен тем, как часто это удается | AD21: Достаточно часто, но иногда упускаю и забываю | AE21: Иногда | AF21: Достаточно часто, но иногда упускаю и забываю | AG21: Да | AH21: Нет | AI21: Нуу... почти... | AJ21: Нет | AK21: Нуу... почти... | AL21: Да | AM21: Нет | AN21: Нет | AO21: Нет | AP21: Да | AQ21: Иногда | AR21: Регулярно | AS21: Регулярно | AT21: Иногда | AU21: Регулярно | AV21: Иногда | AW21: 5 | AY21: Нет и никогда не курил | AZ21: Вообще не пью | BA21: Не женат / не замужем | BB21: 0 | BC21: Читал, изучал, проникся, но не использую | BD21: Читал, изучал, проникся, использую | BE21: Читал, изучал, проникся, но не использую | BF21: Читал, изучал, проникся, использую | BG21: Не слышал | BH21: Не слышал | BI21: Никогда или очень редко | BJ21: Редко | BK21: Часто, но не всегда | BL21: Да, постоянно | BM21: Много | BN21: Ничего | BO21: Очень мало | BP21: Очень мало | BQ21: Очень мало | BR21: Очень мало | BS21: Средненько так | BT21: Ничего | BU21: 4 | BV21: 1-2 раза | BW21: Чтение книг, Просмотр сериалов, Самообразование, Путешествия | BX21: Психология и время? Не люблю убираться из за детских воспоминаний. Нанимаю уборщицу для дома
A22: 24.09.2018 21:09:23 | B22: М | C22: 28 | E22: IT | F22: Дизайнер | G22: Я еле-еле справляюсь с текучкой, но никак не могу приступить к чему-то долгосрочному | H22: Я вполне успешно продвигаюсь по своим долгосрочным планам. Если завалы и случаются, то не часто. | I22: Скорее верно | J22: Скорее верно | K22: Едва ли верно | L22: Едва ли верно | M22: Абсолютно НЕ верно | N22: Скорее верно | O22: Едва ли верно | P22: Едва ли верно | Q22: Едва ли верно | R22: Скорее верно | S22: Крайне редко | T22: Иногда | U22: Регулярно, системно и вообще я доволен тем, как часто это удается | V22: Регулярно, системно и вообще я доволен тем, как часто это удается | W22: Крайне редко | X22: Крайне редко | Y22: Достаточно часто, но иногда упускаю и забываю | Z22: Никогда | AA22: Иногда | AB22: Иногда | AC22: Регулярно, системно и вообще я доволен тем, как часто это удается | AD22: Достаточно часто, но иногда упускаю и забываю | AE22: Крайне редко | AF22: Крайне редко | AG22: Нет | AH22: Нет | AI22: Да | AJ22: Нет | AK22: Нет | AL22: Да | AM22: Нет | AN22: Нет | AO22: Нет | AP22: Нет | AQ22: Иногда | AR22: Крайне редко | AS22: Никогда | AT22: Никогда | AU22: Никогда | AV22: Крайне редко | AW22: 5 | AX22: У меня есть дело за пределами работы, от которого меня искренне прет | AY22: Нет и никогда не курил | AZ22: Время от времени | BA22: Женат / замужем впервые | BB22: 0 | BC22: Читал, изучал, но не проникся | BD22: Читал, изучал, но не проникся | BE22: Слышал, но не вдавался в детали | BF22: Не слышал | BG22: Не слышал | BH22: Не слышал | BI22: Редко | BJ22: Редко | BK22: Когда как, но не часто | BL22: Да, постоянно | BM22: Средненько так | BN22: Очень мало | BO22: Очень мало | BP22: Много | BQ22: Много | BR22: Средненько так | BS22: Ничего | BT22: Очень мало | BU22: 1 | BV22: ни разу | BW22: Дорофеев, меня не обманешь. Моё хобби чтение книг! | BX22: Мне бы хотелось с вами поделиться опечаткой в этом вопросе. Что → Чем
A23: 24.09.2018 21:09:30 | B23: М | C23: 39 | E23: It в ретейле | F23: Ит бизнес-партнёр | G23: Я время от времени могу делать заделы на будущее, но меньше, чем хочется | H23: Я время от времени могу делать заделы на будущее, но меньше, чем хочется | I23: Скорее верно | J23: Скорее верно | K23: Скорее верно | L23: Едва ли верно | M23: Скорее верно | N23: Скорее верно | O23: Едва ли верно | P23: Абсолютно верно | Q23: Скорее верно | R23: Едва ли верно | S23: Иногда | T23: Достаточно часто, но иногда упускаю и забываю | U23: Достаточно часто, но иногда упускаю и забываю | V23: Достаточно часто, но иногда упускаю и забываю | W23: Никогда | X23: Крайне редко | Y23: Достаточно часто, но иногда упускаю и забываю | Z23: Регулярно, системно и вообще я доволен тем, как часто это удается | AA23: Достаточно часто, но иногда упускаю и забываю | AB23: Достаточно часто, но иногда упускаю и забываю | AC23: Достаточно часто, но иногда упускаю и забываю | AD23: Достаточно часто, но иногда упускаю и забываю | AE23: Иногда | AF23: Достаточно часто, но иногда упускаю и забываю | AG23: Да | AH23: Нуу... почти... | AI23: Да | AJ23: Нет | AK23: Да | AL23: Да | AM23: Да | AN23: Нет | AO23: Да | AP23: Нет | AQ23: Не редко, но хотелось бы чаще | AR23: Не редко, но хотелось бы чаще | AS23: Не редко, но хотелось бы чаще | AT23: Регулярно | AU23: Иногда | AV23: Иногда | AW23: 5 | AX23: У меня есть дело за пределами работы, от которого меня искренне прет | AY23: Курю, но стараюсь бросить | AZ23: Регулярно, но в пределах разумного | BA23: Женат / замужем не впервые | BB23: 0 | BC23: Читал, изучал, но не проникся | BD23: Не слышал | BE23: Слышал, но не вдавался в детали | BF23: Читал, изучал, проникся, использую | BG23: Не слышал | BH23: Не слышал | BI23: Часто, но не всегда | BJ23: Часто, но не всегда | BK23: Часто, но не всегда | BL23: Редко | BM23: Средненько так | BN23: ДОФИГИЩА! | BO23: Много | BP23: ДОФИГИЩА! | BQ23: Средненько так | BR23: Очень мало | BS23: Средненько так | BT23: Очень мало | BU23: 1 | BV23: ни разу | BW23: Дорофеев, меня не обманешь. | BX23: А можно будет выводы по опросу посмотреть? ;)
A24: 24.09.2018 21:10:38 | B24: М | C24: 26 | E24: it | F24: CTO | G24: Я вполне успешно продвигаюсь по своим долгосрочным планам. Если завалы и случаются, то не часто. | H24: Я еле-еле справляюсь с текучкой, но никак не могу приступить к чему-то долгосрочному | I24: Абсолютно верно | J24: Скорее верно | K24: Скорее верно | L24: Абсолютно верно | M24: Скорее верно | N24: Абсолютно верно | O24: Скорее верно | P24: Абсолютно верно | Q24: Скорее верно | R24: Абсолютно верно | S24: Иногда | T24: Достаточно часто, но иногда упускаю и забываю | U24: Достаточно часто, но иногда упускаю и забываю | V24: Никогда | W24: Никогда | X24: Иногда | Y24: Достаточно часто, но иногда упускаю и забываю | Z24: Иногда | AA24: Крайне редко | AB24: Достаточно часто, но иногда упускаю и забываю | AC24: Иногда | AD24: Иногда | AE24: Достаточно часто, но иногда упускаю и забываю | AF24: Регулярно, системно и вообще я доволен тем, как часто это удается | AG24: Да | AH24: Да | AI24: Да | AJ24: Нет | AK24: Да | AL24: Нет | AM24: Нет | AN24: Нет | AO24: Да | AP24: Нет | AQ24: Иногда | AR24: Крайне редко | AS24: Крайне редко | AT24: Никогда | AU24: Иногда | AV24: Не редко, но хотелось бы чаще | AW24: 5 | AY24: Курю, но стараюсь бросить | AZ24: Время от времени | BA24: Не женат / не замужем | BB24: 0 | BC24: Не слышал | BD24: Не слышал | BF24: Читал, изучал, но не проникся | BG24: Не слышал | BH24: Не слышал | BI24: Когда как, но не часто | BJ24: Часто, но не всегда | BK24: Когда как, но не часто | BL24: Редко | BM24: ДОФИГИЩА! | BN24: ДОФИГИЩА! | BO24: ДОФИГИЩА! | BP24: Средненько так | BQ24: Много | BR24: Много | BS24: Ничего | BT24: Ничего | BU24: 2 | BV24: ни разу | BW24: Чтение книг, Музыка, залипаю на образовательные видосики
A25: 24.09.2018 21:11:34 | B25: Ж | C25: 37 | E25: Образование | F25: Преподаватель | G25: Я время от времени могу делать заделы на будущее, но меньше, чем хочется | H25: Я время от времени могу делать заделы на будущее, но меньше, чем хочется | I25: Скорее верно | J25: Скорее верно | K25: Скорее верно | L25: Едва ли верно | M25: Скорее верно | N25: Скорее верно | O25: Скорее верно | P25: Скорее верно | Q25: Скорее верно | R25: Едва ли верно | S25: Иногда | T25: Крайне редко | U25: Достаточно часто, но иногда упускаю и забываю | V25: Достаточно часто, но иногда упускаю и забываю | W25: Крайне редко | X25: Крайне редко | Y25: Иногда | Z25: Достаточно часто, но иногда упускаю и забываю | AA25: Достаточно часто, но иногда упускаю и забываю | AB25: Достаточно часто, но иногда упускаю и забываю | AC25: Крайне редко | AD25: Иногда | AE25: Иногда | AF25: Иногда | AG25: Да | AH25: Да | AI25: Нуу... почти... | AJ25: Нет | AK25: Нуу... почти... | AL25: Да | AM25: Да | AN25: Нет | AO25: Да | AP25: Нуу... почти... | AQ25: Регулярно | AR25: Не редко, но хотелось бы чаще | AS25: Иногда | AT25: Регулярно | AU25: Не редко, но хотелось бы чаще | AV25: Регулярно | AW25: 7 | AY25: Нет и никогда не курил | AZ25: Редко и мало (2-3 раза в год) | BA25: Женат / замужем впервые | BB25: 2 | BC25: Читал, изучал, проникся, но не использую | BD25: Читал, изучал, проникся, использую | BE25: ...и еще горячо насаживаю всем окружающим | BF25: Читал, изучал, проникся, но не использую | BG25: Слышал, но не вдавался в детали | BH25: Не слышал | BI25: Часто, но не всегда | BJ25: Когда как, но не часто | BK25: Когда как, но не часто | BL25: Когда как, но не часто | BM25: Очень мало | BN25: Много | BO25: Очень мало | BP25: Много | BQ25: Средненько так | BR25: Средненько так | BS25: Средненько так | BT25: Очень мало | BU25: 1 | BV25: ни разу | BW25: Чтение книг, Кофе | BX25: Я часто работаю из дома, и с удовольствием и интересом смотрела бы Ваши видео, но цензура не пропускает. Предупреждайте, пожалуйста, коротким текстом перед роликами.
A26: 24.09.2018 21:11:38 | B26: М | C26: 22 | E26: Стартапы | F26: Трекер, Бизнес-девелопер | G26: Я время от времени могу делать заделы на будущее, но меньше, чем хочется | H26: Я время от времени могу делать заделы на будущее, но меньше, чем хочется | I26: Абсолютно верно | J26: Абсолютно верно | K26: Скорее верно | L26: Едва ли верно | M26: Абсолютно верно | N26: Абсолютно верно | O26: Абсолютно верно | P26: Скорее верно | Q26: Абсолютно верно | R26: Скорее верно | S26: Никогда | T26: Достаточно часто, но иногда упускаю и забываю | U26: Достаточно часто, но иногда упускаю и забываю | V26: Достаточно часто, но иногда упускаю и забываю | W26: Иногда | X26: Иногда | Y26: Регулярно, системно и вообще я доволен тем, как часто это удается | Z26: Никогда | AA26: Иногда | AB26: Иногда | AC26: Достаточно часто, но иногда упускаю и забываю | AD26: Крайне редко | AE26: Иногда | AF26: Регулярно, системно и вообще я доволен тем, как часто это удается | AG26: Да | AH26: Да | AI26: Да | AJ26: Нет | AK26: Нуу... почти... | AL26: Да | AM26: Да | AN26: Нет | AO26: Да | AP26: Да | AQ26: Иногда | AR26: Никогда | AS26: Регулярно | AT26: Регулярно | AU26: Регулярно | AV26: Иногда | AW26: 6 | AY26: Курю не системно (могу неделями не курить, но иногда за компанию...) | AZ26: Время от времени | BA26: Не женат / не замужем | BB26: 0 | BC26: Слышал, но не вдавался в детали | BD26: Читал, изучал, проникся, но не использую | BE26: Слышал, но не вдавался в детали | BF26: Читал, изучал, проникся, использую | BG26: Не слышал | BH26: Не слышал | BI26: Да, постоянно | BJ26: Да, постоянно | BK26: Часто, но не всегда | BL26: Часто, но не всегда | BM26: ДОФИГИЩА! | BN26: Средненько так | BO26: Очень мало | BP26: Очень мало | BQ26: Средненько так | BR26: Средненько так | BS26: Средненько так | BT26: Средненько так | BU26: 5 | BV26: 1-2 раза | BW26: Осознанно заполнял опросник, хочу получить результаты, и, возможно, пообщаться о чем-то большем в рамках работы над новой книгой.
