Workbook
Name УровниКоличества: Ответы!$A$10:$B$14
Name УровниНенависти: Ответы!$A$17:$B$23
Name УровниСогласия: Ответы!$A$49:$B$53
Name УровниУспевания: Ответы!$A$2:$B$6
Name УровниУспокоения: Ответы!$A$34:$B$39
Name УровниЧастоты: Ответы!$A$26:$B$30
Name УровниЧастоты2: Ответы!$A$42:$B$46

Sheet Ответы на форму (1)
A1: Отметка времени | B1: Ваш пол | C1: Сколько вам лет? | D1: В скольких компаниях вы уже успели поработать? | E1: В общем и целом на сколько вы счастливы? | F1: Что лучше характеризует то, как вы справляетесь с делами в ЛИЧНОЙ жизни? | G1: Какой объем от ЖЕЛАЕМЫХ ЛИЧНЫХ дел вам удается выполнить? | I1: В общем и целом на сколько вы удовлетворены своей работой? | J1: Что лучше характеризует то, как вы справляетесь с делами по работе? | K1: Какой объем от ЖЕЛАЕМЫХ РАБОЧИХ дел вам удается выполнить? | L1: В современном мире важно находиться всегда на связи | M1: Быстрые ответы на запросы коллег помогают нам всем быстрее выполнять свою работу | N1: Мои коллеги ценят меня за мою способность оперативно отвечать на их вопросы | O1: Если я не отвечу быстро, то мои коллеги будут не довольны моей работой | P1: Я стараюсь отвечать быстро, чтобы не вызывать негативных эмоций у своих коллег | Q1: Использование мессенджеров в нашей работе помогает нам быстрее достигать результата | R1: Использование мессенджеров создает слишком много информационного шума из-за которого теряется важное | S1: Как вы оцениваете уровень стресса на вашем рабочем месте? | T1: На рабочем месте мне очень сложно сконцентрироваться | U1: Мне бы хотелось, чтобы мои коллеги реже отвлекали меня | V1: Когда у меня получается поработать вне офиса, то я успеваю сделать на много больше | W1: Я сам часто отвлекаю своих коллег без веских на то причин | X1: Работу, требующую сосредоточения я оставляю на вечер, когда становится спокойнее | Y1: Я стараюсь начинать свой день пусть с небольших, но стратегически-важных задач | Z1: В начале рабочего дня необходимо убедиться, что за ночь не появилось никаких новых срочных задач | AA1: Тихое и спокойное время необходимо КАЖДОМУ, для выполнения своих обязанностей | AB1: Для меня важно регулярно иметь тихое и спокойное время, когда меня никто не отвлекает | AC1: В первой половине дня я не способен выполнять никакой серьезной работы | AD1: Когда я устал, я могу поболтать немного с коллегой о том о сем, и это придаст мне новых сил | AE1: Оцените объем входящей информации в вашей работе из разных источников [Мессенджеры] | AF1: Оцените объем входящей информации в вашей работе из разных источников [Электронная почта] | AG1: Оцените объем входящей информации в вашей работе из разных источников [Социальные сети] | AH1: Оцените объем входящей информации в вашей работе из разных источников [Телефонные звонки] | AI1: Оцените объем входящей информации в вашей работе из разных источников [Личные встречи] | AJ1: Какие эмоции вызывают у вас слова и словосочетания? [Agile] | AK1: Какие эмоции вызывают у вас слова и словосочетания? [Digital-трансформация] | AL1: Какие эмоции вызывают у вас слова и словосочетания? [Реструктуризация] | AM1: Какие эмоции вызывают у вас слова и словосочетания? [Непрерывное совершенствование] | AN1: Какие эмоции вызывают у вас слова и словосочетания? [Аттестация] | AO1: Какие эмоции вызывают у вас слова и словосочетания? [Вовлеченность] | AP1: Какие эмоции вызывают у вас слова и словосочетания? [KPI] | AQ1: Какие эмоции вызывают у вас слова и словосочетания? [Корпоративная культура] | AR1: Какие для вас слова и словосочетания в корпоративном мире являются самыми МЕРЗКИМИ? | AS1: Какие для вас слова и словосочетания в корпоративном мире являются самыми ПРИЯТНЫМИ? | AT1: Как часто вы используете свой смартфон для ... [Голововые/видео звонки] | AU1: Как часто вы используете свой смартфон для ... [Общения через мессенджеры] | AV1: Как часто вы используете свой смартфон для ... [Электронной почты] | AW1: Как часто вы используете свой смартфон для ... [Социальных сетей] | AX1: Как часто вы используете свой смартфон для ... [Походов в интернет] | AY1: Как часто вы используете свой смартфон для ... [Музыки/подкастов/радио] | AZ1: Как часто вы используете свой смартфон для ... [Игр] | BA1: Как часто вы используете свой смартфон для ... [Фотографирования/съемки видео] | BB1: Как часто вы используете свой смартфон для ... [Просмотра видео/ТВ/фильмов] | BC1: Как часто вы используете свой смартфон для ... [Чтения книг/журналов] | BD1: Как часто вы используете свой смартфон для ... [Карт/навигации] | BE1: Как вы оцениваете ритм своей жизни (по отношению к обычному ритму) за предыдущие 4 недели? | BF1: Я просыпаюсь свежим и отдохнувшим | BG1: Я засыпаю быстро и без проблем | BH1: Чувствую подъем сил | BI1: Мои мысли не дают мне заснуть | BJ1: У меня отсутствует какой-либо интерес или желания делать что-либо | BK1: Чувствую упадок сил и усталость
A2: 43458.763 | B2: М | C2: 64 | D2: 0 | E2: 5 | F2: Я успеваю разобраться с необходимой текучкой, и даже изредка могу посвящать силы долгосрочным планам | G2: 2 | I2: 8 | J2: Я успеваю разобраться с необходимой текучкой, и даже изредка могу посвящать силы долгосрочным планам | K2: 3 | L2: 3 | M2: 2 | N2: 3 | O2: 2 | P2: 4 | Q2: 3 | R2: 4 | S2: 3 | T2: 4 | U2: 4 | V2: 3 | W2: 2 | X2: 4 | Y2: 4 | Z2: 2 | AA2: 3 | AB2: 4 | AC2: 2 | AD2: 1 | AE2: Очень мало | AF2: Умеренно | AG2: Очень мало | AH2: Много | AI2: Умеренно | AJ2: Нейтральное | AK2: Нейтральное | AL2: Нейтральное | AM2: Нейтральное | AN2: Нейтральное | AO2: Нейтральное | AP2: Нейтральное | AQ2: Нейтральное | AR2: как бы | AS2: получите бонус | AT2: Иногда | AU2: Часто | AV2: Очень часто | AW2: Редко | AX2: Часто | AY2: Часто | AZ2: Никогда | BA2: Иногда | BB2: Редко | BC2: Часто | BD2: Часто | BE2: Точно так же | BF2: Иногда | BG2: Очень часто или всегда | BH2: Иногда | BI2: Редко | BJ2: Иногда | BK2: Редко
A3: 43458.766 | B3: Ж | C3: 31 | D3: 5 | E3: 8 | F3: Я вполне продуктивно продвигаюсь к своим долгосрочным целям. Завалы если и случаются, то не часто | G3: 6 | I3: 7 | J3: Я вполне продуктивно продвигаюсь к своим долгосрочным целям. Завалы если и случаются, то не часто | K3: 8 | L3: 3 | M3: 2 | N3: 2 | O3: 1 | P3: 1 | Q3: 2 | R3: 3 | S3: 5 | T3: 3 | U3: 4 | V3: 2 | W3: 2 | X3: 1 | Y3: 5 | Z3: 5 | AA3: 5 | AB3: 5 | AC3: 1 | AD3: 2 | AE3: Очень мало | AF3: Очень мало | AG3: Много | AH3: Умеренно | AI3: ОЧЕНЬ МНОГО!!! | AJ3: Что-то неприятное | AK3: Стойкое отвращение | AL3: Скорее позитивное | AM3: Нейтральное | AN3: Скорее позитивное | AO3: Скорее позитивное | AP3: Скорее позитивное | AQ3: Скорее позитивное | AT3: Очень часто | AU3: Редко | AV3: Редко | AW3: Очень часто | AX3: Иногда | AY3: Никогда | AZ3: Никогда | BA3: Редко | BB3: Часто | BC3: Часто | BD3: Часто | BE3: Спокойнее | BF3: Часто | BG3: Часто | BH3: Иногда | BI3: Никогда или очень редко | BJ3: Иногда | BK3: Редко
A4: 43458.766 | B4: Ж | C4: 41 | D4: 3 | E4: 7 | F4: Я успеваю разобраться с необходимой текучкой, и даже изредка могу посвящать силы долгосрочным планам | G4: 4 | I4: 7 | J4: Я успеваю разобраться с необходимой текучкой, и даже изредка могу посвящать силы долгосрочным планам | K4: 7 | L4: 4 | M4: 2 | N4: 4 | O4: 4 | P4: 4 | Q4: 1 | R4: 5 | S4: 6 | T4: 4 | U4: 5 | V4: 5 | W4: 3 | X4: 3 | Y4: 5 | Z4: 4 | AA4: 5 | AB4: 5 | AC4: 1 | AD4: 4 | AE4: Умеренно | AF4: ОЧЕНЬ МНОГО!!! | AG4: Очень мало | AH4: ОЧЕНЬ МНОГО!!! | AI4: Много | AJ4: Стойкое отвращение | AK4: Стойкое отвращение | AL4: ЖГУЧАЯ НЕНАВИСТЬ!!! | AM4: ЖГУЧАЯ НЕНАВИСТЬ!!! | AN4: Что-то неприятное | AO4: Скорее позитивное | AP4: Скорее позитивное | AQ4: Нейтральное | AR4: Out of the box thinking, innovation, additionality, transition | AT4: Очень часто | AU4: Часто | AV4: Очень часто | AW4: Очень часто | AX4: Очень часто | AY4: Очень часто | AZ4: Никогда | BA4: Часто | BB4: Иногда | BC4: Иногда | BD4: Часто | BE4: Быстрее | BF4: Никогда или очень редко | BG4: Часто | BH4: Иногда | BI4: Редко | BJ4: Редко | BK4: Очень часто или всегда
A5: 43458.767 | B5: М | C5: 37 | D5: 7 | E5: 10 | F5: Я вполне продуктивно продвигаюсь к своим долгосрочным целям. Завалы если и случаются, то не часто | G5: 9 | I5: 9 | J5: Я вполне продуктивно продвигаюсь к своим долгосрочным целям. Завалы если и случаются, то не часто | K5: 8 | L5: 1 | M5: 2 | N5: 1 | O5: 1 | P5: 1 | Q5: 2 | R5: 1 | S5: 5 | T5: 2 | U5: 5 | V5: 5 | W5: 2 | X5: 1 | Y5: 5 | Z5: 1 | AA5: 5 | AB5: 5 | AC5: 1 | AD5: 5 | AE5: Очень мало | AF5: Много | AG5: ОЧЕНЬ МНОГО!!! | AH5: НИЧЕГО | AI5: Очень мало | AJ5: Вполне приятные | AK5: Вполне приятные | AL5: Настоящая радость | AM5: Настоящая радость | AN5: Нейтральное | AO5: Настоящая радость | AP5: Нейтральное | AQ5: ЖГУЧАЯ НЕНАВИСТЬ!!! | AR5: гнилые процессы и руководство | AS5: премия за результат | AT5: Часто | AU5: Очень часто | AV5: Очень часто | AW5: Очень часто | AX5: Иногда | AY5: Очень часто | AZ5: Иногда | BA5: Часто | BB5: Редко | BC5: Редко | BD5: Часто | BE5: Точно так же | BF5: Очень часто или всегда | BG5: Очень часто или всегда | BH5: Очень часто или всегда | BI5: Никогда или очень редко | BJ5: Редко | BK5: Никогда или очень редко
A6: 43458.767 | B6: М | C6: 30 | D6: 6 | E6: 7 | F6: Я вполне продуктивно продвигаюсь к своим долгосрочным целям. Завалы если и случаются, то не часто | G6: 6 | I6: 8 | J6: Я вполне продуктивно продвигаюсь к своим долгосрочным целям. Завалы если и случаются, то не часто | K6: 9 | L6: 1 | M6: 2 | N6: 1 | O6: 2 | P6: 2 | Q6: 2 | R6: 5 | S6: 6 | T6: 3 | U6: 4 | V6: 4 | W6: 3 | X6: 1 | Y6: 3 | Z6: 4 | AA6: 4 | AB6: 5 | AC6: 2 | AD6: 4 | AE6: Много | AF6: Умеренно | AG6: Очень мало | AH6: Очень мало | AI6: Много | AJ6: Вполне приятные | AK6: Вполне приятные | AL6: Нейтральное | AM6: Настоящая радость | AN6: Стойкое отвращение | AO6: Вполне приятные | AP6: Что-то неприятное | AQ6: Настоящая радость | AR6: Хм, дедлайн, ты должен, | AS6: День получения дохода)) | AT6: Редко | AU6: Иногда | AV6: Редко | AW6: Часто | AX6: Часто | AY6: Часто | AZ6: Редко | BA6: Редко | BB6: Редко | BC6: Иногда | BD6: Очень часто | BE6: Существенно быстрее | BF6: Иногда | BG6: Иногда | BH6: Иногда | BI6: Иногда | BJ6: Иногда | BK6: Часто
A7: 43458.768 | B7: М | C7: 39 | D7: 0 | E7: 8 | F7: Я успеваю разобраться с необходимой текучкой, и даже изредка могу посвящать силы долгосрочным планам | G7: 7 | I7: 7 | J7: Я успеваю разобраться с необходимой текучкой, и даже изредка могу посвящать силы долгосрочным планам | K7: 7 | L7: 2 | M7: 3 | N7: 1 | O7: 1 | P7: 2 | Q7: 3 | R7: 2 | S7: 5 | T7: 2 | U7: 3 | V7: 4 | W7: 2 | X7: 4 | Y7: 4 | Z7: 4 | AA7: 5 | AB7: 5 | AC7: 1 | AD7: 5 | AE7: Умеренно | AF7: Умеренно | AG7: НИЧЕГО | AH7: Очень мало | AI7: Очень мало | AJ7: Скорее позитивное | AK7: Нейтральное | AL7: Нейтральное | AM7: Нейтральное | AN7: Что-то неприятное | AO7: Нейтральное | AP7: Нейтральное | AQ7: Стойкое отвращение | AR7: корпоративные ценности, openspace | AS7: инвестиции | AT7: Часто | AU7: Часто | AV7: Часто | AW7: Часто | AX7: Часто | AY7: Часто | AZ7: Никогда | BA7: Часто | BB7: Редко | BC7: Иногда | BD7: Часто | BE7: Точно так же | BF7: Часто | BG7: Очень часто или всегда | BH7: Часто | BI7: Никогда или очень редко | BJ7: Никогда или очень редко | BK7: Редко
A8: 43458.768 | B8: М | C8: 24 | D8: 3 | E8: 7 | F8: Я вполне продуктивно продвигаюсь к своим долгосрочным целям. Завалы если и случаются, то не часто | G8: 6 | H8: Я сейчас нигде не работаю | I8: 8 | J8: Я успеваю разобраться с необходимой текучкой, и даже изредка могу посвящать силы долгосрочным планам | K8: 6 | L8: 3 | M8: 3 | N8: 2 | O8: 1 | P8: 3 | Q8: 5 | R8: 2 | S8: 1 | T8: 3 | U8: 2 | V8: 3 | W8: 2 | X8: 1 | Y8: 2 | Z8: 2 | AA8: 5 | AB8: 5 | AC8: 1 | AD8: 4 | AE8: Умеренно | AF8: Очень мало | AG8: Много | AH8: Очень мало | AI8: Очень мало | AJ8: Скорее позитивное | AK8: Нейтральное | AL8: Нейтральное | AM8: Настоящая радость | AN8: Что-то неприятное | AO8: Настоящая радость | AP8: Вполне приятные | AQ8: Скорее позитивное | AR8: Совещание | AS8: Не знаю | AT8: Иногда | AU8: Редко | AV8: Редко | AW8: Очень часто | AX8: Часто | AY8: Часто | AZ8: Иногда | BA8: Часто | BB8: Редко | BC8: Часто | BD8: Очень часто | BE8: Существенно спокойнее | BF8: Часто | BG8: Часто | BH8: Иногда | BI8: Иногда | BJ8: Иногда | BK8: Редко
A9: 43458.768 | B9: М | C9: 22 | D9: 8 | E9: 2 | F9: Я успеваю разобраться с необходимой текучкой, и даже изредка могу посвящать силы долгосрочным планам | G9: 7 | I9: 2 | J9: Я успеваю разобраться с необходимой текучкой, и даже изредка могу посвящать силы долгосрочным планам | K9: 6 | L9: 4 | M9: 2 | N9: 3 | O9: 2 | P9: 2 | Q9: 4 | R9: 4 | S9: 6 | T9: 4 | U9: 2 | V9: 2 | W9: 4 | X9: 2 | Y9: 1 | Z9: 5 | AA9: 5 | AB9: 5 | AC9: 3 | AD9: 4 | AE9: НИЧЕГО | AF9: НИЧЕГО | AG9: НИЧЕГО | AH9: НИЧЕГО | AI9: НИЧЕГО | AJ9: Скорее позитивное | AK9: Скорее позитивное | AL9: Что-то неприятное | AM9: Вполне приятные | AN9: Что-то неприятное | AO9: Вполне приятные | AP9: Вполне приятные | AQ9: Вполне приятные | AT9: Редко | AU9: Очень часто | AV9: Часто | AW9: Иногда | AX9: Иногда | AY9: Часто | AZ9: Редко | BA9: Иногда | BB9: Редко | BC9: Часто | BD9: Часто | BE9: Существенно спокойнее | BF9: Редко | BG9: Очень часто или всегда | BH9: Часто | BI9: Никогда или очень редко | BJ9: Часто | BK9: Часто
A10: 43458.769 | B10: М | C10: 43 | D10: 11 | E10: 5 | F10: Я успеваю разобраться с необходимой текучкой, и даже изредка могу посвящать силы долгосрочным планам | G10: 6 | I10: 7 | J10: Я вполне продуктивно продвигаюсь к своим долгосрочным целям. Завалы если и случаются, то не часто | K10: 9 | L10: 2 | M10: 2 | N10: 2 | O10: 3 | P10: 1 | Q10: 5 | R10: 2 | S10: 3 | T10: 2 | U10: 2 | V10: 2 | W10: 2 | X10: 2 | Y10: 3 | Z10: 1 | AA10: 5 | AB10: 4 | AC10: 1 | AD10: 3 | AE10: Много | AF10: Умеренно | AG10: НИЧЕГО | AH10: НИЧЕГО | AI10: Много | AJ10: Вполне приятные | AK10: Нейтральное | AL10: Что-то неприятное | AM10: Нейтральное | AN10: ЖГУЧАЯ НЕНАВИСТЬ!!! | AO10: Стойкое отвращение | AP10: Стойкое отвращение | AQ10: Стойкое отвращение | AT10: Иногда | AU10: Часто | AV10: Редко | AW10: Редко | AX10: Часто | AY10: Иногда | AZ10: Редко | BA10: Часто | BB10: Иногда | BC10: Очень часто | BD10: Очень часто | BE10: Точно так же | BF10: Редко | BG10: Иногда | BH10: Редко | BI10: Иногда | BJ10: Иногда | BK10: Часто
A11: 43458.77 | B11: М | C11: 40 | D11: 4 | E11: 8 | F11: Я успеваю разобраться с необходимой текучкой, и даже изредка могу посвящать силы долгосрочным планам | G11: 3 | I11: 2 | J11: Я успеваю разобраться с необходимой текучкой, и даже изредка могу посвящать силы долгосрочным планам | K11: 8 | L11: 1 | M11: 2 | N11: 2 | O11: 1 | P11: 2 | Q11: 3 | R11: 1 | S11: 9 | T11: 4 | U11: 5 | V11: 5 | W11: 1 | X11: 4 | Y11: 4 | Z11: 3 | AA11: 5 | AB11: 5 | AC11: 3 | AD11: 4 | AE11: Очень мало | AF11: Много | AG11: НИЧЕГО | AH11: Много | AI11: ОЧЕНЬ МНОГО!!! | AJ11: Нейтральное | AK11: Что-то неприятное | AL11: Стойкое отвращение | AM11: Стойкое отвращение | AN11: Стойкое отвращение | AO11: Стойкое отвращение | AP11: Стойкое отвращение | AQ11: Стойкое отвращение | AT11: Очень часто | AU11: Часто | AV11: Очень часто | AW11: Иногда | AX11: Иногда | AY11: Очень часто | AZ11: Никогда | BA11: Очень часто | BB11: Редко | BC11: Очень часто | BD11: Очень часто | BE11: Существенно быстрее | BF11: Иногда | BG11: Редко | BH11: Иногда | BI11: Иногда | BJ11: Часто | BK11: Часто
A12: 43458.77 | B12: М | C12: 32 | D12: 5 | E12: 7 | F12: Я едва-едва успеваю выполнить необходимую текучку, но на долгосрочные планы не остается сил | G12: 4 | I12: 7 | J12: Я вполне продуктивно продвигаюсь к своим долгосрочным целям. Завалы если и случаются, то не часто | K12: 9 | L12: 2 | M12: 2 | N12: 3 | O12: 1 | P12: 1 | Q12: 2 | R12: 5 | S12: 0 | T12: 3 | U12: 3 | V12: 2 | W12: 4 | X12: 3 | Y12: 4 | Z12: 3 | AA12: 4 | AB12: 4 | AC12: 2 | AD12: 4 | AE12: Очень мало | AF12: Очень мало | AG12: НИЧЕГО | AH12: НИЧЕГО | AI12: Много | AJ12: Скорее позитивное | AK12: Нейтральное | AL12: Что-то неприятное | AM12: Вполне приятные | AN12: Нейтральное | AO12: Вполне приятные | AP12: Нейтральное | AQ12: Вполне приятные | AR12: Релиз менеджмент | AS12: Корпоратив | AT12: Часто | AU12: Часто | AV12: Часто | AW12: Часто | AX12: Часто | AY12: Очень часто | AZ12: Иногда | BA12: Часто | BB12: Часто | BC12: Редко | BD12: Очень часто | BE12: Спокойнее | BF12: Часто | BG12: Часто | BH12: Иногда | BI12: Редко | BJ12: Никогда или очень редко | BK12: Редко
A13: 43458.771 | B13: Ж | C13: 34 | D13: 6 | E13: 6 | F13: Я едва-едва успеваю выполнить необходимую текучку, но на долгосрочные планы не остается сил | G13: 6 | I13: 8 | J13: Я успеваю разобраться с необходимой текучкой, и даже изредка могу посвящать силы долгосрочным планам | K13: 8 | L13: 4 | M13: 3 | N13: 2 | O13: 2 | P13: 2 | Q13: 4 | R13: 3 | S13: 4 | T13: 1 | U13: 2 | V13: 1 | W13: 3 | X13: 1 | Y13: 4 | Z13: 5 | AA13: 5 | AB13: 5 | AC13: 1 | AD13: 4 | AE13: Много | AF13: Умеренно | AG13: Очень мало | AH13: Очень мало | AI13: Много | AJ13: Нейтральное | AK13: Нейтральное | AL13: Нейтральное | AM13: Что-то неприятное | AN13: Что-то неприятное | AO13: Что-то неприятное | AP13: Стойкое отвращение | AQ13: Скорее позитивное | AR13: Инициативность | AS13: Адекватная обратная связь | AT13: Часто | AU13: Очень часто | AV13: Часто | AW13: Очень часто | AX13: Очень часто | AY13: Часто | AZ13: Очень часто | BA13: Часто | BB13: Часто | BC13: Очень часто | BD13: Часто | BE13: Быстрее | BF13: Редко | BG13: Редко | BH13: Иногда | BI13: Очень часто или всегда | BJ13: Часто | BK13: Часто
A14: 43458.773 | B14: М | C14: 32 | D14: 2 | E14: 8 | F14: Я вполне продуктивно продвигаюсь к своим долгосрочным целям. Завалы если и случаются, то не часто | G14: 7 | I14: 7 | J14: Я вполне продуктивно продвигаюсь к своим долгосрочным целям. Завалы если и случаются, то не часто | K14: 7 | L14: 3 | M14: 3 | N14: 4 | O14: 2 | P14: 2 | Q14: 3 | R14: 3 | S14: 7 | T14: 4 | U14: 4 | V14: 4 | W14: 3 | X14: 2 | Y14: 4 | Z14: 3 | AA14: 5 | AB14: 5 | AC14: 2 | AD14: 5 | AE14: Умеренно | AF14: Много | AG14: Очень мало | AH14: Умеренно | AI14: НИЧЕГО | AJ14: Нейтральное | AK14: Нейтральное | AL14: Что-то неприятное | AM14: Нейтральное | AN14: Нейтральное | AO14: Нейтральное | AP14: Нейтральное | AQ14: Нейтральное | AR14: 😮 | AS14: 😲 | AT14: Часто | AU14: Очень часто | AV14: Часто | AW14: Очень часто | AX14: Очень часто | AY14: Очень часто | AZ14: Редко | BA14: Иногда | BB14: Часто | BC14: Иногда | BD14: Очень часто | BE14: Спокойнее | BF14: Иногда | BG14: Очень часто или всегда | BH14: Иногда | BI14: Никогда или очень редко | BJ14: Иногда | BK14: Иногда
A15: 43458.774 | B15: М | C15: 22 | D15: 4 | E15: 7 | F15: Я успеваю разобраться с необходимой текучкой, и даже изредка могу посвящать силы долгосрочным планам | G15: 6 | I15: 6 | J15: Я едва-едва успеваю выполнить необходимую текучку, но на долгосрочные планы не остается сил | K15: 6 | L15: 5 | M15: 5 | N15: 1 | O15: 1 | P15: 1 | Q15: 1 | R15: 5 | S15: 3 | T15: 3 | U15: 1 | V15: 3 | W15: 5 | X15: 1 | Y15: 3 | Z15: 5 | AA15: 5 | AB15: 5 | AC15: 3 | AD15: 2 | AE15: ОЧЕНЬ МНОГО!!! | AF15: Много | AG15: Умеренно | AH15: Очень мало | AI15: Умеренно | AJ15: Вполне приятные | AK15: Нейтральное | AL15: Настоящая радость | AM15: Настоящая радость | AN15: Настоящая радость | AO15: Настоящая радость | AP15: Настоящая радость | AQ15: Настоящая радость | AR15: Консалтинг | AS15: Gamification | AT15: Очень часто | AU15: Очень часто | AV15: Очень часто | AW15: Очень часто | AX15: Очень часто | AY15: Очень часто | AZ15: Редко | BA15: Часто | BB15: Никогда | BC15: Часто | BD15: Очень часто | BE15: ВООБЩЕ ИСТЕРИКА!!!111 | BF15: Иногда | BG15: Очень часто или всегда | BH15: Иногда | BI15: Никогда или очень редко | BJ15: Никогда или очень редко | BK15: Иногда
A16: 43458.774 | B16: Ж | C16: 38 | D16: 4 | E16: 7 | F16: Я успеваю разобраться с необходимой текучкой, и даже изредка могу посвящать силы долгосрочным планам | G16: 5 | I16: 6 | J16: Я успеваю разобраться с необходимой текучкой, и даже изредка могу посвящать силы долгосрочным планам | K16: 6 | L16: 2 | M16: 2 | N16: 3 | O16: 4 | P16: 2 | Q16: 4 | R16: 3 | S16: 7 | T16: 4 | U16: 5 | V16: 4 | W16: 2 | X16: 3 | Y16: 3 | Z16: 4 | AA16: 5 | AB16: 5 | AC16: 3 | AD16: 3 | AE16: Очень мало | AF16: ОЧЕНЬ МНОГО!!! | AG16: Очень мало | AH16: Много | AI16: Много | AJ16: Скорее позитивное | AK16: Скорее позитивное | AL16: Что-то неприятное | AM16: Настоящая радость | AN16: Что-то неприятное | AO16: Нейтральное | AP16: Стойкое отвращение | AQ16: Нейтральное | AT16: Иногда | AU16: Очень часто | AV16: Иногда | AW16: Очень часто | AX16: Часто | AY16: Никогда | AZ16: Иногда | BA16: Иногда | BB16: Редко | BC16: Иногда | BD16: Очень часто | BE16: Существенно спокойнее | BF16: Часто | BG16: Часто | BH16: Иногда | BI16: Редко | BJ16: Часто | BK16: Иногда
A17: 43458.775 | B17: М | C17: 37 | D17: 1 | E17: 5 | F17: Я успеваю разобраться с необходимой текучкой, и даже изредка могу посвящать силы долгосрочным планам | G17: 6 | I17: 6 | J17: Я вполне продуктивно продвигаюсь к своим долгосрочным целям. Завалы если и случаются, то не часто | K17: 8 | L17: 4 | M17: 4 | N17: 4 | O17: 4 | P17: 4 | Q17: 4 | R17: 4 | S17: 8 | T17: 4 | U17: 5 | V17: 5 | W17: 4 | X17: 4 | Y17: 5 | Z17: 4 | AA17: 5 | AB17: 5 | AC17: 1 | AD17: 4 | AE17: Умеренно | AF17: Очень мало | AG17: Много | AH17: ОЧЕНЬ МНОГО!!! | AI17: Умеренно | AJ17: Нейтральное | AK17: Скорее позитивное | AL17: Что-то неприятное | AM17: Вполне приятные | AN17: Что-то неприятное | AO17: Скорее позитивное | AP17: Скорее позитивное | AQ17: Нейтральное | AR17: Мат | AS17: Комплименты | AT17: Очень часто | AU17: Очень часто | AV17: Редко | AW17: Очень часто | AX17: Очень часто | AY17: Никогда | AZ17: Никогда | BA17: Часто | BB17: Никогда | BC17: Иногда | BD17: Иногда | BE17: Точно так же | BF17: Иногда | BG17: Часто | BH17: Иногда | BI17: Иногда | BJ17: Иногда | BK17: Иногда
A18: 43458.777 | B18: М | C18: 41 | D18: 3 | E18: 8 | F18: Я успеваю разобраться с необходимой текучкой, и даже изредка могу посвящать силы долгосрочным планам | G18: 7 | I18: 9 | J18: Я успеваю разобраться с необходимой текучкой, и даже изредка могу посвящать силы долгосрочным планам | K18: 7 | L18: 2 | M18: 2 | N18: 2 | O18: 2 | P18: 2 | Q18: 4 | R18: 2 | S18: 7 | T18: 4 | U18: 4 | V18: 4 | W18: 4 | X18: 5 | Y18: 4 | Z18: 2 | AA18: 5 | AB18: 5 | AC18: 1 | AD18: 4 | AE18: Много | AF18: ОЧЕНЬ МНОГО!!! | AG18: Очень мало | AH18: Умеренно | AI18: Умеренно | AJ18: Скорее позитивное | AK18: Скорее позитивное | AL18: Нейтральное | AM18: Скорее позитивное | AN18: Нейтральное | AO18: Скорее позитивное | AP18: Нейтральное | AQ18: Нейтральное | AR18: бесконечные согласования и отчеты, бездумно внедряемые штаб-квартирой | AS18: бонус | AT18: Очень часто | AU18: Очень часто | AV18: Очень часто | AW18: Часто | AX18: Часто | AY18: Очень часто | AZ18: Редко | BA18: Очень часто | BB18: Редко | BC18: Иногда | BD18: Очень часто | BE18: Существенно быстрее | BF18: Иногда | BG18: Очень часто или всегда | BH18: Редко | BI18: Никогда или очень редко | BJ18: Иногда | BK18: Иногда
A19: 43458.777 | B19: Ж | C19: 27 | D19: 3 | E19: 5 | F19: Я едва-едва успеваю выполнить необходимую текучку, но на долгосрочные планы не остается сил | G19: 3 | I19: 1 | J19: Я успеваю разобраться с необходимой текучкой, и даже изредка могу посвящать силы долгосрочным планам | K19: 5 | L19: 2 | M19: 3 | N19: 3 | O19: 4 | P19: 4 | Q19: 4 | R19: 5 | S19: 8 | T19: 4 | U19: 4 | V19: 3 | W19: 2 | X19: 5 | Y19: 2 | Z19: 5 | AA19: 5 | AB19: 5 | AC19: 5 | AD19: 5 | AE19: ОЧЕНЬ МНОГО!!! | AF19: Умеренно | AG19: НИЧЕГО | AH19: НИЧЕГО | AI19: Очень мало | AJ19: ЖГУЧАЯ НЕНАВИСТЬ!!! | AK19: ЖГУЧАЯ НЕНАВИСТЬ!!! | AL19: ЖГУЧАЯ НЕНАВИСТЬ!!! | AM19: ЖГУЧАЯ НЕНАВИСТЬ!!! | AN19: ЖГУЧАЯ НЕНАВИСТЬ!!! | AO19: Стойкое отвращение | AP19: ЖГУЧАЯ НЕНАВИСТЬ!!! | AQ19: Стойкое отвращение | AR19: Грейды и цели, KPI | AS19: Вам карт Бланш, но ответственность тоже на вас | AT19: Редко | AU19: Очень часто | AV19: Часто | AW19: Часто | AX19: Очень часто | AY19: Иногда | AZ19: Никогда | BA19: Очень часто | BB19: Никогда | BC19: Иногда | BD19: Иногда | BE19: ВООБЩЕ ИСТЕРИКА!!!111 | BF19: Редко | BG19: Иногда | BH19: Никогда или очень редко | BI19: Редко | BJ19: Часто | BK19: Очень часто или всегда
A20: 43458.778 | B20: Ж | C20: 49 | D20: 7 | E20: 6 | F20: Я успеваю разобраться с необходимой текучкой, и даже изредка могу посвящать силы долгосрочным планам | G20: 6 | I20: 6 | J20: Я вполне продуктивно продвигаюсь к своим долгосрочным целям. Завалы если и случаются, то не часто | K20: 7 | L20: 3 | M20: 2 | N20: 2 | O20: 2 | P20: 4 | Q20: 2 | R20: 3 | S20: 6 | T20: 3 | U20: 3 | V20: 4 | W20: 2 | X20: 3 | Y20: 3 | Z20: 4 | AA20: 5 | AB20: 5 | AC20: 1 | AD20: 4 | AE20: Очень мало | AF20: Много | AG20: Умеренно | AH20: Много | AI20: Много | AJ20: Скорее позитивное | AK20: Скорее позитивное | AL20: Нейтральное | AM20: Нейтральное | AN20: Нейтральное | AO20: Нейтральное | AP20: Нейтральное | AQ20: Нейтральное | AR20: Дедлайн | AS20: Бонус | AT20: Иногда | AU20: Часто | AV20: Часто | AW20: Часто | AX20: Иногда | AY20: Редко | AZ20: Редко | BA20: Часто | BB20: Никогда | BC20: Редко | BD20: Иногда | BE20: Точно так же | BF20: Иногда | BG20: Часто | BH20: Иногда | BI20: Редко | BJ20: Редко | BK20: Иногда
A21: 43458.779 | B21: М | C21: 47 | D21: 7 | E21: 7 | F21: Я едва-едва успеваю выполнить необходимую текучку, но на долгосрочные планы не остается сил | G21: 2 | I21: 7 | J21: Я успеваю разобраться с необходимой текучкой, и даже изредка могу посвящать силы долгосрочным планам | K21: 3 | L21: 2 | M21: 2 | N21: 3 | O21: 2 | P21: 2 | Q21: 2 | R21: 4 | S21: 2 | T21: 2 | U21: 3 | V21: 3 | W21: 3 | X21: 4 | Y21: 4 | Z21: 4 | AA21: 5 | AB21: 5 | AC21: 2 | AD21: 1 | AE21: Умеренно | AF21: Много | AG21: НИЧЕГО | AH21: Очень мало | AI21: Умеренно | AJ21: Что-то неприятное | AK21: Нейтральное | AL21: Что-то неприятное | AM21: Нейтральное | AN21: Что-то неприятное | AO21: Скорее позитивное | AP21: Стойкое отвращение | AQ21: Что-то неприятное | AR21: ASAP | AS21: Совещание закончилось | AT21: Редко | AU21: Часто | AV21: Часто | AW21: Никогда | AX21: Очень часто | AY21: Иногда | AZ21: Редко | BA21: Часто | BB21: Редко | BC21: Редко | BD21: Очень часто | BE21: Спокойнее | BF21: Иногда | BG21: Иногда | BH21: Редко | BI21: Редко | BJ21: Никогда или очень редко | BK21: Никогда или очень редко
A22: 43458.779 | B22: М | C22: 32 | D22: 5 | E22: 5 | F22: Я едва-едва успеваю выполнить необходимую текучку, но на долгосрочные планы не остается сил | G22: 2 | I22: 5 | J22: Я успеваю разобраться с необходимой текучкой, и даже изредка могу посвящать силы долгосрочным планам | K22: 4 | L22: 3 | M22: 3 | N22: 4 | O22: 1 | P22: 1 | Q22: 2 | R22: 5 | S22: 10 | T22: 5 | U22: 5 | V22: 5 | W22: 4 | X22: 1 | Y22: 5 | Z22: 1 | AA22: 5 | AB22: 5 | AC22: 1 | AD22: 5 | AE22: Много | AF22: Много | AG22: НИЧЕГО | AH22: НИЧЕГО | AI22: Много | AJ22: Вполне приятные | AK22: ЖГУЧАЯ НЕНАВИСТЬ!!! | AL22: ЖГУЧАЯ НЕНАВИСТЬ!!! | AM22: Вполне приятные | AN22: ЖГУЧАЯ НЕНАВИСТЬ!!! | AO22: ЖГУЧАЯ НЕНАВИСТЬ!!! | AP22: ЖГУЧАЯ НЕНАВИСТЬ!!! | AQ22: ЖГУЧАЯ НЕНАВИСТЬ!!! | AR22: Вижн, майндсет, стартап | AS22: Цель, мотивация, развитие | AT22: Никогда | AU22: Редко | AV22: Иногда | AW22: Часто | AX22: Часто | AY22: Никогда | AZ22: Никогда | BA22: Никогда | BB22: Никогда | BC22: Очень часто | BD22: Очень часто | BE22: Существенно быстрее | BF22: Никогда или очень редко | BG22: Никогда или очень редко | BH22: Никогда или очень редко | BI22: Часто | BJ22: Часто | BK22: Часто
A23: 43458.782 | B23: М | C23: 47 | D23: 2 | E23: 8 | F23: Я успеваю разобраться с необходимой текучкой, и даже изредка могу посвящать силы долгосрочным планам | G23: 7 | I23: 8 | J23: Я вполне продуктивно продвигаюсь к своим долгосрочным целям. Завалы если и случаются, то не часто | K23: 6 | L23: 2 | M23: 3 | N23: 2 | O23: 2 | P23: 2 | Q23: 2 | R23: 4 | S23: 7 | T23: 5 | U23: 4 | V23: 2 | W23: 3 | X23: 4 | Y23: 4 | Z23: 4 | AA23: 5 | AB23: 5 | AC23: 3 | AD23: 3 | AE23: Умеренно | AF23: Умеренно | AG23: Очень мало | AH23: Очень мало | AI23: Много | AJ23: Скорее позитивное | AK23: Что-то неприятное | AL23: Стойкое отвращение | AM23: Скорее позитивное | AN23: Стойкое отвращение | AO23: Нейтральное | AP23: Что-то неприятное | AQ23: Нейтральное | AR23: Срочно нужно доделать что-то в релиз, Эта бага очень приоритетная. | AS23: премия, отпуск, релиз принят, сертификат на продукт получен. | AT23: Никогда | AU23: Часто | AV23: Часто | AW23: Часто | AX23: Иногда | AY23: Иногда | AZ23: Иногда | BA23: Иногда | BB23: Редко | BC23: Никогда | BD23: Часто | BE23: Точно так же | BF23: Часто | BG23: Очень часто или всегда | BH23: Иногда | BI23: Иногда | BJ23: Редко | BK23: Редко
A24: 43458.782 | B24: М | C24: 33 | D24: 2 | E24: 7 | F24: Я успеваю разобраться с необходимой текучкой, и даже изредка могу посвящать силы долгосрочным планам | G24: 7 | I24: 9 | J24: Я вполне продуктивно продвигаюсь к своим долгосрочным целям. Завалы если и случаются, то не часто | K24: 9 | L24: 3 | M24: 4 | N24: 4 | O24: 2 | P24: 2 | Q24: 2 | R24: 2 | S24: 4 | T24: 3 | U24: 3 | V24: 2 | W24: 2 | X24: 1 | Y24: 4 | Z24: 4 | AA24: 4 | AB24: 4 | AC24: 1 | AD24: 4 | AE24: Очень мало | AF24: Много | AG24: НИЧЕГО | AH24: Очень мало | AI24: НИЧЕГО | AJ24: Нейтральное | AK24: Нейтральное | AL24: Нейтральное | AM24: Нейтральное | AN24: Нейтральное | AO24: Нейтральное | AP24: Нейтральное | AQ24: Нейтральное | AT24: Иногда | AU24: Очень часто | AV24: Иногда | AW24: Очень часто | AX24: Очень часто | AY24: Очень часто | AZ24: Никогда | BA24: Иногда | BB24: Никогда | BC24: Никогда | BD24: Очень часто | BE24: Точно так же | BF24: Иногда | BG24: Очень часто или всегда | BH24: Иногда | BI24: Никогда или очень редко | BJ24: Редко | BK24: Иногда
A25: 43458.783 | B25: М | C25: 33 | D25: 3 | E25: 8 | F25: Я успеваю разобраться с необходимой текучкой, и даже изредка могу посвящать силы долгосрочным планам | G25: 5 | I25: 9 | J25: Все происходит естественно и спонтанно, очень часто то, что на первый взгляд казалось текучкой прекрасно вписывается в мои долгосрочные интересы | K25: 9 | L25: 1 | M25: 2 | N25: 2 | O25: 1 | P25: 1 | Q25: 4 | R25: 2 | S25: 3 | T25: 2 | U25: 1 | V25: 3 | W25: 3 | X25: 1 | Y25: 1 | Z25: 3 | AA25: 4 | AB25: 5 | AC25: 1 | AD25: 2 | AE25: Много | AF25: Много | AG25: НИЧЕГО | AH25: НИЧЕГО | AI25: Умеренно | AJ25: Скорее позитивное | AK25: Что-то неприятное | AL25: Нейтральное | AM25: Что-то неприятное | AN25: Что-то неприятное | AO25: Скорее позитивное | AP25: Стойкое отвращение | AQ25: Вполне приятные | AR25: "цели на год", "ответственность" | AS25: доверие, самостоятельность, обучение | AT25: Часто | AU25: Иногда | AV25: Часто | AW25: Часто | AX25: Очень часто | AY25: Редко | AZ25: Никогда | BA25: Иногда | BB25: Редко | BC25: Очень часто | BD25: Часто | BE25: Существенно быстрее | BF25: Иногда | BG25: Очень часто или всегда | BH25: Часто | BI25: Редко | BJ25: Никогда или очень редко | BK25: Часто
A26: 43458.786 | B26: М | C26: 22 | D26: 6 | E26: 8 | F26: Я успеваю разобраться с необходимой текучкой, и даже изредка могу посвящать силы долгосрочным планам | G26: 1 | I26: 8 | J26: Я успеваю разобраться с необходимой текучкой, и даже изредка могу посвящать силы долгосрочным планам | K26: 10 | L26: 1 | M26: 1 | N26: 1 | O26: 1 | P26: 3 | Q26: 1 | R26: 4 | S26: 5 | T26: 4 | U26: 4 | V26: 5 | W26: 1 | X26: 2 | Y26: 3 | Z26: 3 | AA26: 4 | AB26: 5 | AC26: 3 | AD26: 3 | AE26: Умеренно | AF26: Умеренно | AG26: НИЧЕГО | AH26: НИЧЕГО | AI26: Умеренно | AJ26: Стойкое отвращение | AK26: Стойкое отвращение | AL26: Стойкое отвращение | AM26: Стойкое отвращение | AN26: Нейтральное | AO26: Стойкое отвращение | AP26: Стойкое отвращение | AQ26: ЖГУЧАЯ НЕНАВИСТЬ!!! | AR26: маркетинг | AS26: зарплата | AT26: Редко | AU26: Часто | AV26: Никогда | AW26: Редко | AX26: Редко | AY26: Часто | AZ26: Редко | BA26: Редко | BB26: Никогда | BC26: Редко | BD26: Никогда | BE26: Точно так же | BF26: Никогда или очень редко | BG26: Никогда или очень редко | BH26: Редко | BI26: Очень часто или всегда | BJ26: Иногда | BK26: Часто
A27: 43458.786 | B27: Ж | C27: 32 | D27: 5 | E27: 10 | F27: Я успеваю разобраться с необходимой текучкой, и даже изредка могу посвящать силы долгосрочным планам | G27: 5 | I27: 7 | J27: Я успеваю разобраться с необходимой текучкой, и даже изредка могу посвящать силы долгосрочным планам | K27: 7 | L27: 3 | M27: 3 | N27: 4 | O27: 2 | P27: 2 | Q27: 3 | R27: 5 | S27: 8 | T27: 3 | U27: 5 | V27: 5 | W27: 1 | X27: 4 | Y27: 1 | Z27: 5 | AA27: 5 | AB27: 5 | AC27: 1 | AD27: 4 | AE27: ОЧЕНЬ МНОГО!!! | AF27: ОЧЕНЬ МНОГО!!! | AG27: Умеренно | AH27: ОЧЕНЬ МНОГО!!! | AI27: НИЧЕГО | AJ27: Нейтральное | AK27: Нейтральное | AL27: Скорее позитивное | AM27: Нейтральное | AN27: Что-то неприятное | AO27: Скорее позитивное | AP27: Скорее позитивное | AQ27: Скорее позитивное | AT27: Очень часто | AU27: Очень часто | AV27: Очень часто | AW27: Часто | AX27: Иногда | AY27: Очень часто | AZ27: Никогда | BA27: Очень часто | BB27: Иногда | BC27: Редко | BD27: Очень часто | BE27: Спокойнее | BF27: Иногда | BG27: Редко | BH27: Часто | BI27: Часто | BJ27: Редко | BK27: Иногда
A28: 43458.79 | B28: М | C28: 30 | D28: 5 | E28: 3 | F28: Я успеваю разобраться с необходимой текучкой, и даже изредка могу посвящать силы долгосрочным планам | G28: 3 | I28: 8 | J28: Я успеваю разобраться с необходимой текучкой, и даже изредка могу посвящать силы долгосрочным планам | K28: 7 | L28: 1 | M28: 2 | N28: 2 | O28: 1 | P28: 1 | Q28: 2 | R28: 4 | S28: 2 | T28: 3 | U28: 4 | V28: 2 | W28: 2 | X28: 2 | Y28: 3 | Z28: 3 | AA28: 5 | AB28: 5 | AC28: 1 | AD28: 4 | AE28: Много | AF28: Умеренно | AG28: Очень мало | AH28: Очень мало | AI28: Очень мало | AJ28: Нейтральное | AK28: Нейтральное | AL28: Что-то неприятное | AM28: Что-то неприятное | AN28: Нейтральное | AO28: Нейтральное | AP28: Нейтральное | AQ28: Нейтральное | AR28: asap | AS28: Слова похвалы - спасибо, молодец, отличная работа | AT28: Редко | AU28: Часто | AV28: Часто | AW28: Часто | AX28: Иногда | AY28: Часто | AZ28: Никогда | BA28: Редко | BB28: Редко | BC28: Иногда | BD28: Часто | BE28: Быстрее | BF28: Редко | BG28: Часто | BH28: Часто | BI28: Редко | BJ28: Никогда или очень редко | BK28: Иногда
A29: 43458.792 | B29: М | C29: 27 | D29: 2 | F29: Я едва-едва успеваю выполнить необходимую текучку, но на долгосрочные планы не остается сил | G29: 3 | I29: 8 | J29: Я успеваю разобраться с необходимой текучкой, и даже изредка могу посвящать силы долгосрочным планам | K29: 8 | L29: 5 | M29: 4 | N29: 5 | O29: 5 | P29: 3 | Q29: 5 | R29: 4 | S29: 7 | T29: 4 | U29: 5 | V29: 1 | W29: 1 | X29: 5 | Y29: 3 | Z29: 5 | AA29: 5 | AB29: 5 | AC29: 2 | AD29: 4 | AE29: ОЧЕНЬ МНОГО!!! | AF29: Много | AG29: НИЧЕГО | AH29: Умеренно | AI29: Много | AJ29: Нейтральное | AK29: Нейтральное | AL29: Нейтральное | AM29: Нейтральное | AN29: Нейтральное | AO29: Нейтральное | AP29: Нейтральное | AQ29: Что-то неприятное | AR29: Отчет о проделанной работе, ПМИ | AT29: Часто | AU29: Часто | AV29: Никогда | AW29: Никогда | AX29: Никогда | AY29: Никогда | AZ29: Иногда | BA29: Никогда | BB29: Никогда | BC29: Никогда | BD29: Часто | BE29: Существенно быстрее | BF29: Редко | BG29: Никогда или очень редко | BH29: Редко | BI29: Очень часто или всегда | BJ29: Часто | BK29: Часто
A30: 43458.793 | B30: М | C30: 30 | D30: 2 | E30: 7 | F30: Я успеваю разобраться с необходимой текучкой, и даже изредка могу посвящать силы долгосрочным планам | G30: 7 | I30: 5 | J30: Я вполне продуктивно продвигаюсь к своим долгосрочным целям. Завалы если и случаются, то не часто | K30: 8 | L30: 3 | M30: 2 | N30: 5 | O30: 1 | P30: 1 | Q30: 3 | R30: 1 | S30: 5 | T30: 3 | U30: 5 | V30: 3 | W30: 2 | X30: 3 | Y30: 5 | Z30: 3 | AA30: 5 | AB30: 5 | AC30: 1 | AD30: 5 | AE30: Очень мало | AF30: Умеренно | AG30: Очень мало | AH30: Умеренно | AI30: Много | AJ30: Настоящая радость | AK30: Настоящая радость | AL30: Скорее позитивное | AM30: Настоящая радость | AN30: Нейтральное | AO30: Вполне приятные | AP30: Нейтральное | AQ30: Скорее позитивное | AR30: Это не наше, а кого-то другого | AS30: Отлично сработали | AT30: Редко | AU30: Часто | AV30: Часто | AW30: Иногда | AX30: Очень часто | AY30: Очень часто | AZ30: Редко | BA30: Иногда | BB30: Очень часто | BC30: Очень часто | BD30: Очень часто | BE30: Спокойнее | BF30: Иногда | BG30: Часто | BH30: Часто | BI30: Иногда | BJ30: Иногда | BK30: Часто
A31: 43458.794 | B31: Ж | C31: 29 | D31: 3 | E31: 8 | F31: Я едва-едва успеваю выполнить необходимую текучку, но на долгосрочные планы не остается сил | G31: 5 | I31: 8 | J31: Я вполне продуктивно продвигаюсь к своим долгосрочным целям. Завалы если и случаются, то не часто | K31: 8 | L31: 5 | M31: 3 | N31: 2 | O31: 1 | P31: 1 | Q31: 1 | R31: 5 | S31: 0 | T31: 1 | U31: 1 | V31: 1 | W31: 3 | X31: 1 | Y31: 3 | Z31: 5 | AA31: 5 | AB31: 5 | AC31: 1 | AD31: 5 | AE31: ОЧЕНЬ МНОГО!!! | AF31: Умеренно | AG31: Очень мало | AH31: Умеренно | AI31: Умеренно | AJ31: Нейтральное | AK31: Нейтральное | AL31: Нейтральное | AM31: Скорее позитивное | AN31: Что-то неприятное | AO31: Настоящая радость | AP31: Вполне приятные | AQ31: Настоящая радость | AR31: Я вас услышал | AS31: Консьюмеры хеппи | AT31: Редко | AU31: Очень часто | AV31: Часто | AW31: Редко | AX31: Редко | AY31: Никогда | AZ31: Никогда | BA31: Часто | BB31: Никогда | BC31: Часто | BD31: Очень часто | BE31: Быстрее | BF31: Редко | BG31: Очень часто или всегда | BH31: Редко | BI31: Иногда | BJ31: Иногда | BK31: Очень часто или всегда
A32: 43458.794 | B32: М | C32: 25 | D32: 2 | E32: 6 | F32: Я не успеваю выполнять даже необходимый минимум | G32: 3 | I32: 9 | J32: Я вполне продуктивно продвигаюсь к своим долгосрочным целям. Завалы если и случаются, то не часто | K32: 9 | L32: 4 | M32: 4 | N32: 4 | O32: 3 | P32: 2 | Q32: 2 | R32: 4 | S32: 3 | T32: 4 | U32: 4 | V32: 4 | W32: 3 | X32: 2 | Y32: 3 | Z32: 5 | AA32: 5 | AB32: 4 | AC32: 3 | AD32: 5 | AE32: Очень мало | AF32: ОЧЕНЬ МНОГО!!! | AG32: НИЧЕГО | AH32: Очень мало | AI32: Умеренно | AJ32: Скорее позитивное | AK32: Скорее позитивное | AL32: ЖГУЧАЯ НЕНАВИСТЬ!!! | AM32: ЖГУЧАЯ НЕНАВИСТЬ!!! | AN32: Нейтральное | AO32: ЖГУЧАЯ НЕНАВИСТЬ!!! | AP32: Стойкое отвращение | AQ32: ЖГУЧАЯ НЕНАВИСТЬ!!! | AR32: HR | AS32: Бонус | AT32: Редко | AU32: Редко | AV32: Иногда | AW32: Никогда | AX32: Редко | AY32: Очень часто | AZ32: Никогда | BA32: Редко | BB32: Никогда | BC32: Никогда | BD32: Иногда | BE32: Существенно быстрее | BF32: Иногда | BG32: Иногда | BH32: Часто | BI32: Иногда | BJ32: Иногда | BK32: Часто
A33: 43458.795 | B33: Ж | C33: 39 | D33: 5 | E33: 8 | F33: Я вполне продуктивно продвигаюсь к своим долгосрочным целям. Завалы если и случаются, то не часто | G33: 10 | I33: 8 | J33: Все происходит естественно и спонтанно, очень часто то, что на первый взгляд казалось текучкой прекрасно вписывается в мои долгосрочные интересы | K33: 9 | L33: 5 | M33: 5 | N33: 5 | O33: 2 | P33: 2 | Q33: 5 | R33: 1 | S33: 2 | T33: 2 | U33: 2 | V33: 2 | W33: 2 | X33: 2 | Y33: 5 | Z33: 2 | AA33: 4 | AB33: 3 | AC33: 1 | AD33: 2 | AE33: Много | AF33: Очень мало | AG33: Очень мало | AH33: Очень мало | AI33: Много | AJ33: Вполне приятные | AK33: Вполне приятные | AL33: Вполне приятные | AM33: Настоящая радость | AN33: Настоящая радость | AO33: Настоящая радость | AP33: Настоящая радость | AQ33: Настоящая радость | AR33: Нет таких | AS33: Вовлеченность. Ценности | AT33: Редко | AU33: Часто | AV33: Редко | AW33: Редко | AX33: Редко | AY33: Редко | AZ33: Никогда | BA33: Редко | BB33: Редко | BC33: Иногда | BD33: Иногда | BE33: Точно так же | BF33: Часто | BG33: Часто | BH33: Часто | BI33: Никогда или очень редко | BJ33: Редко | BK33: Редко
A34: 43458.796 | B34: М | C34: 34 | D34: 4 | E34: 7 | F34: Я едва-едва успеваю выполнить необходимую текучку, но на долгосрочные планы не остается сил | G34: 4 | I34: 8 | J34: Я успеваю разобраться с необходимой текучкой, и даже изредка могу посвящать силы долгосрочным планам | K34: 6 | L34: 3 | M34: 3 | N34: 3 | O34: 3 | P34: 4 | Q34: 3 | R34: 4 | S34: 3 | T34: 3 | U34: 2 | V34: 3 | W34: 3 | X34: 4 | Y34: 2 | Z34: 3 | AA34: 5 | AB34: 5 | AC34: 4 | AD34: 2 | AE34: Умеренно | AF34: Очень мало | AG34: НИЧЕГО | AH34: НИЧЕГО | AI34: Очень мало | AJ34: Нейтральное | AK34: Нейтральное | AL34: Что-то неприятное | AM34: Нейтральное | AN34: Что-то неприятное | AO34: Нейтральное | AP34: Стойкое отвращение | AQ34: Стойкое отвращение | AR34: Метрики | AT34: Редко | AU34: Часто | AV34: Иногда | AW34: Часто | AX34: Очень часто | AY34: Очень часто | AZ34: Никогда | BA34: Часто | BB34: Редко | BC34: Редко | BD34: Часто | BE34: Спокойнее | BF34: Редко | BG34: Очень часто или всегда | BH34: Иногда | BI34: Никогда или очень редко | BJ34: Часто | BK34: Часто
A35: 43458.797 | B35: Ж | C35: 36 | D35: 5 | E35: 9 | F35: Я успеваю разобраться с необходимой текучкой, и даже изредка могу посвящать силы долгосрочным планам | G35: 5 | I35: 9 | J35: Все происходит естественно и спонтанно, очень часто то, что на первый взгляд казалось текучкой прекрасно вписывается в мои долгосрочные интересы | K35: 8 | L35: 5 | M35: 5 | N35: 4 | O35: 3 | P35: 3 | Q35: 4 | R35: 4 | S35: 8 | T35: 2 | U35: 2 | V35: 5 | W35: 2 | X35: 2 | Y35: 3 | Z35: 5 | AA35: 5 | AB35: 5 | AC35: 1 | AD35: 4 | AE35: Много | AF35: ОЧЕНЬ МНОГО!!! | AG35: ОЧЕНЬ МНОГО!!! | AH35: Очень мало | AI35: ОЧЕНЬ МНОГО!!! | AJ35: Скорее позитивное | AK35: Нейтральное | AL35: Нейтральное | AM35: Нейтральное | AN35: Нейтральное | AO35: Нейтральное | AP35: Нейтральное | AQ35: Нейтральное | AS35: годовые бонусы))) | AT35: Часто | AU35: Очень часто | AV35: Часто | AW35: Очень часто | AX35: Очень часто | AY35: Иногда | AZ35: Редко | BA35: Очень часто | BB35: Редко | BC35: Иногда | BD35: Часто | BE35: Быстрее | BF35: Редко | BG35: Редко | BH35: Часто | BI35: Часто | BJ35: Иногда | BK35: Иногда
A36: 43458.798 | B36: Ж | C36: 35 | D36: 5 | E36: 8 | F36: Я вполне продуктивно продвигаюсь к своим долгосрочным целям. Завалы если и случаются, то не часто | G36: 10 | I36: 4 | J36: Я успеваю разобраться с необходимой текучкой, и даже изредка могу посвящать силы долгосрочным планам | K36: 3 | L36: 4 | M36: 4 | N36: 2 | O36: 4 | P36: 1 | Q36: 5 | R36: 1 | S36: 3 | T36: 5 | U36: 2 | V36: 3 | W36: 3 | X36: 4 | Y36: 5 | Z36: 2 | AA36: 3 | AB36: 5 | AC36: 2 | AD36: 4 | AE36: Очень мало | AF36: Умеренно | AG36: Умеренно | AH36: Очень мало | AI36: Много | AJ36: Нейтральное | AK36: Что-то неприятное | AL36: Скорее позитивное | AM36: Вполне приятные | AN36: Стойкое отвращение | AO36: Что-то неприятное | AP36: Что-то неприятное | AQ36: Стойкое отвращение | AR36: непрозрачно, когда ноют | AS36: синхронизируемся, вам нужно сделать/ваша задача, | AT36: Иногда | AU36: Иногда | AV36: Редко | AW36: Часто | AX36: Часто | AY36: Очень часто | AZ36: Редко | BA36: Иногда | BB36: Никогда | BC36: Редко | BD36: Часто | BE36: Спокойнее | BF36: Иногда | BG36: Редко | BH36: Редко | BI36: Иногда | BJ36: Иногда | BK36: Часто
A37: 43458.798 | B37: М | C37: 34 | D37: 4 | E37: 9 | F37: Я успеваю разобраться с необходимой текучкой, и даже изредка могу посвящать силы долгосрочным планам | G37: 4 | I37: 9 | J37: Я успеваю разобраться с необходимой текучкой, и даже изредка могу посвящать силы долгосрочным планам | K37: 7 | L37: 4 | M37: 3 | N37: 2 | O37: 1 | P37: 2 | Q37: 4 | R37: 5 | S37: 7 | T37: 1 | U37: 1 | V37: 1 | W37: 4 | X37: 2 | Y37: 4 | Z37: 2 | AA37: 4 | AB37: 4 | AC37: 3 | AD37: 4 | AE37: Много | AF37: Много | AG37: Умеренно | AH37: Очень мало | AI37: Умеренно | AJ37: Нейтральное | AK37: Нейтральное | AL37: Нейтральное | AM37: Скорее позитивное | AN37: Нейтральное | AO37: Вполне приятные | AP37: Нейтральное | AQ37: Вполне приятные | AR37: англицизмы - goals, commit | AS37: команда, коллеги, цель, польза | AT37: Иногда | AU37: Часто | AV37: Часто | AW37: Часто | AX37: Часто | AY37: Часто | AZ37: Редко | BA37: Часто | BB37: Редко | BC37: Часто | BD37: Часто | BE37: Спокойнее | BF37: Редко | BG37: Редко | BH37: Иногда | BI37: Иногда | BJ37: Иногда | BK37: Иногда
A38: 43458.799 | B38: М | C38: 38 | D38: 6 | E38: 6 | F38: Я вполне продуктивно продвигаюсь к своим долгосрочным целям. Завалы если и случаются, то не часто | G38: 8 | I38: 4 | J38: Я вполне продуктивно продвигаюсь к своим долгосрочным целям. Завалы если и случаются, то не часто | K38: 9 | L38: 2 | M38: 2 | N38: 2 | O38: 2 | P38: 2 | Q38: 4 | R38: 5 | S38: 7 | T38: 4 | U38: 4 | V38: 5 | W38: 4 | X38: 2 | Y38: 4 | Z38: 2 | AA38: 5 | AB38: 5 | AC38: 3 | AD38: 3 | AE38: Много | AF38: ОЧЕНЬ МНОГО!!! | AG38: Очень мало | AH38: Много | AI38: Много | AJ38: Скорее позитивное | AK38: Нейтральное | AL38: Нейтральное | AM38: Что-то неприятное | AN38: Стойкое отвращение | AO38: Что-то неприятное | AP38: Скорее позитивное | AQ38: Нейтральное | AR38: Клиентоориентированность | AS38: Зарплата | AT38: Очень часто | AU38: Часто | AV38: Часто | AW38: Часто | AX38: Часто | AY38: Никогда | AZ38: Иногда | BA38: Очень часто | BB38: Никогда | BC38: Очень часто | BD38: Часто | BE38: Быстрее | BF38: Часто | BG38: Часто | BH38: Часто | BI38: Иногда | BJ38: Иногда | BK38: Иногда
A39: 43458.803 | B39: Ж | C39: 36 | D39: 6 | E39: 8 | F39: Я успеваю разобраться с необходимой текучкой, и даже изредка могу посвящать силы долгосрочным планам | G39: 5 | I39: 6 | J39: Я не успеваю выполнять даже необходимый минимум | K39: 3 | L39: 3 | M39: 5 | N39: 3 | O39: 4 | P39: 2 | Q39: 5 | R39: 2 | S39: 6 | T39: 3 | U39: 5 | V39: 3 | W39: 1 | X39: 1 | Y39: 4 | Z39: 5 | AA39: 5 | AB39: 5 | AC39: 2 | AD39: 4 | AE39: Много | AF39: Умеренно | AG39: Умеренно | AH39: НИЧЕГО | AI39: Много | AJ39: Вполне приятные | AK39: Нейтральное | AL39: Скорее позитивное | AM39: Настоящая радость | AN39: Что-то неприятное | AO39: Настоящая радость | AP39: Что-то неприятное | AQ39: Вполне приятные | AR39: Deadline, | AS39: Обучение | AT39: Очень часто | AU39: Очень часто | AV39: Очень часто | AW39: Очень часто | AX39: Редко | AY39: Иногда | AZ39: Никогда | BA39: Очень часто | BB39: Иногда | BC39: Никогда | BD39: Часто | BE39: Быстрее | BF39: Никогда или очень редко | BG39: Редко | BH39: Редко | BI39: Часто | BJ39: Часто | BK39: Часто
A40: 43458.803 | B40: М | C40: 38 | D40: 7 | E40: 3 | F40: Я успеваю разобраться с необходимой текучкой, и даже изредка могу посвящать силы долгосрочным планам | G40: 5 | I40: 7 | J40: Я вполне продуктивно продвигаюсь к своим долгосрочным целям. Завалы если и случаются, то не часто | K40: 8 | L40: 4 | M40: 5 | N40: 3 | O40: 2 | P40: 3 | Q40: 5 | R40: 3 | S40: 7 | T40: 4 | U40: 3 | V40: 2 | W40: 2 | X40: 2 | Y40: 4 | Z40: 4 | AA40: 5 | AB40: 5 | AC40: 1 | AD40: 5 | AE40: Умеренно | AF40: Очень мало | AG40: НИЧЕГО | AH40: НИЧЕГО | AI40: Очень мало | AJ40: Нейтральное | AK40: Нейтральное | AL40: Что-то неприятное | AM40: Что-то неприятное | AN40: Что-то неприятное | AO40: Что-то неприятное | AP40: Нейтральное | AQ40: Стойкое отвращение | AT40: Часто | AU40: Часто | AV40: Иногда | AW40: Часто | AX40: Часто | AY40: Часто | AZ40: Редко | BA40: Редко | BB40: Часто | BC40: Редко | BD40: Иногда | BE40: Быстрее | BF40: Редко | BG40: Часто | BH40: Иногда | BI40: Редко | BJ40: Редко | BK40: Иногда
...

Sheet Рабочий стол
A1: Ваш пол | B1: Сколько вам лет? | C1: В скольких компаниях вы уже успели поработать? | D1: В общем и целом на сколько вы счастливы? | E1: Что лучше характеризует то, как вы справляетесь с делами в ЛИЧНОЙ жизни? | F1: Какой объем от ЖЕЛАЕМЫХ ЛИЧНЫХ дел вам удается выполнить? | G1: Не работаю | H1: В общем и целом на сколько вы удовлетворены своей работой? | I1: Что лучше характеризует то, как вы справляетесь с делами по работе? | J1: Какой объем от ЖЕЛАЕМЫХ РАБОЧИХ дел вам удается выполнить? | K1: В современном мире важно находиться всегда на связи | L1: Быстрые ответы на запросы коллег помогают нам всем быстрее выполнять свою работу | M1: Мои коллеги ценят меня за мою способность оперативно отвечать на их вопросы | N1: Если я не отвечу быстро, то мои коллеги будут не довольны моей работой | O1: Я стараюсь отвечать быстро, чтобы не вызывать негативных эмоций у своих коллег | P1: Использование мессенджеров в нашей работе помогает нам быстрее достигать результата | Q1: Использование мессенджеров создает слишком много информационного шума из-за которого теряется важное | R1: Как вы оцениваете уровень стресса на вашем рабочем месте? | S1: На рабочем месте мне очень сложно сконцентрироваться | T1: Мне бы хотелось, чтобы мои коллеги реже отвлекали меня | U1: Когда у меня получается поработать вне офиса, то я успеваю сделать на много больше | V1: Я сам часто отвлекаю своих коллег без веских на то причин | W1: Работу, требующую сосредоточения я оставляю на вечер, когда становится спокойнее | X1: Я стараюсь начинать свой день пусть с небольших, но стратегически-важных задач | Y1: В начале рабочего дня необходимо убедиться, что за ночь не появилось никаких новых срочных задач | Z1: Тихое и спокойное время необходимо КАЖДОМУ, для выполнения своих обязанностей | AA1: Для меня важно регулярно иметь тихое и спокойное время, когда меня никто не отвлекает | AB1: В первой половине дня я не способен выполнять никакой серьезной работы | AC1: Когда я устал, я могу поболтать немного с коллегой о том о сем, и это придаст мне новых сил | AD1: Оцените объем входящей информации в вашей работе из разных источников [Мессенджеры] | AE1: Оцените объем входящей информации в вашей работе из разных источников [Электронная почта] | AF1: Оцените объем входящей информации в вашей работе из разных источников [Социальные сети] | AG1: Оцените объем входящей информации в вашей работе из разных источников [Телефонные звонки] | AH1: Оцените объем входящей информации в вашей работе из разных источников [Личные встречи] | AI1: Какие эмоции вызывают у вас слова и словосочетания? [Agile] | AJ1: Какие эмоции вызывают у вас слова и словосочетания? [Digital-трансформация] | AK1: Какие эмоции вызывают у вас слова и словосочетания? [Реструктуризация] | AL1: Какие эмоции вызывают у вас слова и словосочетания? [Непрерывное совершенствование] | AM1: Какие эмоции вызывают у вас слова и словосочетания? [Аттестация] | AN1: Какие эмоции вызывают у вас слова и словосочетания? [Вовлеченность] | AO1: Какие эмоции вызывают у вас слова и словосочетания? [KPI] | AP1: Какие эмоции вызывают у вас слова и словосочетания? [Корпоративная культура] | AQ1: Как часто вы используете свой смартфон для ... [Голововые/видео звонки] | AR1: Как часто вы используете свой смартфон для ... [Общения через мессенджеры] | AS1: Как часто вы используете свой смартфон для ... [Электронной почты] | AT1: Как часто вы используете свой смартфон для ... [Социальных сетей] | AU1: Как часто вы используете свой смартфон для ... [Походов в интернет] | AV1: Как часто вы используете свой смартфон для ... [Музыки/подкастов/радио] | AW1: Как часто вы используете свой смартфон для ... [Игр] | AX1: Как часто вы используете свой смартфон для ... [Фотографирования/съемки видео] | AY1: Как часто вы используете свой смартфон для ... [Просмотра видео/ТВ/фильмов] | AZ1: Как часто вы используете свой смартфон для ... [Чтения книг/журналов] | BA1: Как часто вы используете свой смартфон для ... [Карт/навигации] | BB1: Как вы оцениваете ритм своей жизни (по отношению к обычному ритму) за предыдущие 4 недели? | BC1: Я просыпаюсь свежим и отдохнувшим | BD1: Я засыпаю быстро и без проблем | BE1: Чувствую подъем сил | BF1: Мои мысли не дают мне заснуть | BG1: У меня отсутствует какой-либо интерес или желания делать что-либо | BH1: Чувствую упадок сил и усталость | BI1: Поколение | BJ1: Уровень счастья | BK1: Уровень стресса
A2: =IF('Ответы на форму (1)'!B2="М",1,0) -> 1 | B2: ='Ответы на форму (1)'!C2 -> 64 | C2: ='Ответы на форму (1)'!D2 -> 0 | D2: ='Ответы на форму (1)'!E2 -> 5 | E2: =VLOOKUP('Ответы на форму (1)'!F2,УровниУспевания,2,FALSE) -> средне | F2: ='Ответы на форму (1)'!G2 -> 2 | G2: =IF('Ответы на форму (1)'!H2="",0,1) -> 0 | H2: ='Ответы на форму (1)'!I2 -> 8 | I2: =VLOOKUP('Ответы на форму (1)'!J2,УровниУспевания,2,FALSE) -> средне | J2: ='Ответы на форму (1)'!K2 -> 3 | K2: =VLOOKUP('Ответы на форму (1)'!L2,УровниСогласия,2,FALSE) -> 2 | L2: =VLOOKUP('Ответы на форму (1)'!M2,УровниСогласия,2,FALSE) -> 1 | M2: =VLOOKUP('Ответы на форму (1)'!N2,УровниСогласия,2,FALSE) -> 2 | N2: =VLOOKUP('Ответы на форму (1)'!O2,УровниСогласия,2,FALSE) -> 1 | O2: =VLOOKUP('Ответы на форму (1)'!P2,УровниСогласия,2,FALSE) -> 3 | P2: =VLOOKUP('Ответы на форму (1)'!Q2,УровниСогласия,2,FALSE) -> 2 | Q2: =VLOOKUP('Ответы на форму (1)'!R2,УровниСогласия,2,FALSE) -> 3 | R2: ='Ответы на форму (1)'!S2 -> 3 | S2: =VLOOKUP('Ответы на форму (1)'!T2,УровниСогласия,2,FALSE) -> 3 | T2: =VLOOKUP('Ответы на форму (1)'!U2,УровниСогласия,2,FALSE) -> 3 | U2: =VLOOKUP('Ответы на форму (1)'!V2,УровниСогласия,2,FALSE) -> 2 | V2: =VLOOKUP('Ответы на форму (1)'!W2,УровниСогласия,2,FALSE) -> 1 | W2: =VLOOKUP('Ответы на форму (1)'!X2,УровниСогласия,2,FALSE) -> 3 | X2: =VLOOKUP('Ответы на форму (1)'!Y2,УровниСогласия,2,FALSE) -> 3 | Y2: =VLOOKUP('Ответы на форму (1)'!Z2,УровниСогласия,2,FALSE) -> 1 | Z2: =VLOOKUP('Ответы на форму (1)'!AA2,УровниСогласия,2,FALSE) -> 2 | ... AC2: =VLOOKUP('Ответы на форму (1)'!AD2,УровниСогласия,2,FALSE) -> 1 | AD2: =VLOOKUP('Ответы на форму (1)'!AE2,УровниКоличества,2,FALSE) -> 1 | AE2: =VLOOKUP('Ответы на форму (1)'!AF2,УровниКоличества,2,FALSE) -> 2 | AF2: =VLOOKUP('Ответы на форму (1)'!AG2,УровниКоличества,2,FALSE) -> 1 | AG2: =VLOOKUP('Ответы на форму (1)'!AH2,УровниКоличества,2,FALSE) -> 3 | AH2: =VLOOKUP('Ответы на форму (1)'!AI2,УровниКоличества,2,FALSE) -> 2 | AI2: =VLOOKUP('Ответы на форму (1)'!AJ2,УровниНенависти,2,FALSE) -> 0 | AJ2: =VLOOKUP('Ответы на форму (1)'!AK2,УровниНенависти,2,FALSE) -> 0 | AK2: =VLOOKUP('Ответы на форму (1)'!AL2,УровниНенависти,2,FALSE) -> 0 | AL2: =VLOOKUP('Ответы на форму (1)'!AM2,УровниНенависти,2,FALSE) -> 0 | AM2: =VLOOKUP('Ответы на форму (1)'!AN2,УровниНенависти,2,FALSE) -> 0 | AN2: =VLOOKUP('Ответы на форму (1)'!AO2,УровниНенависти,2,FALSE) -> 0 | AO2: =VLOOKUP('Ответы на форму (1)'!AP2,УровниНенависти,2,FALSE) -> 0 | AP2: =VLOOKUP('Ответы на форму (1)'!AQ2,УровниНенависти,2,FALSE) -> 0 | AQ2: =VLOOKUP('Ответы на форму (1)'!AT2,УровниЧастоты,2,FALSE) -> 2 | AR2: =VLOOKUP('Ответы на форму (1)'!AU2,УровниЧастоты,2,FALSE) -> 3 | AS2: =VLOOKUP('Ответы на форму (1)'!AV2,УровниЧастоты,2,FALSE) -> 4 | AT2: =VLOOKUP('Ответы на форму (1)'!AW2,УровниЧастоты,2,FALSE) -> 1 | AU2: =VLOOKUP('Ответы на форму (1)'!AX2,УровниЧастоты,2,FALSE) -> 3 | AV2: =VLOOKUP('Ответы на форму (1)'!AY2,УровниЧастоты,2,FALSE) -> 3 | AW2: =VLOOKUP('Ответы на форму (1)'!AZ2,УровниЧастоты,2,FALSE) -> 0 | AX2: =VLOOKUP('Ответы на форму (1)'!BA2,УровниЧастоты,2,FALSE) -> 2 | ... BA2: =VLOOKUP('Ответы на форму (1)'!BD2,УровниЧастоты,2,FALSE) -> 3 | BB2: =VLOOKUP('Ответы на форму (1)'!BE2,УровниУспокоения,2,FALSE) -> 3 | BC2: =VLOOKUP('Ответы на форму (1)'!BF2,УровниЧастоты2,2,FALSE) -> 1 | BD2: =VLOOKUP('Ответы на форму (1)'!BG2,УровниЧастоты2,2,FALSE) -> 2 | BE2: =VLOOKUP('Ответы на форму (1)'!BH2,УровниЧастоты2,2,FALSE) -> 1 | BF2: =VLOOKUP('Ответы на форму (1)'!BI2,УровниЧастоты2,2,FALSE) -> 0 | BG2: =VLOOKUP('Ответы на форму (1)'!BJ2,УровниЧастоты2,2,FALSE) -> 1 | BH2: =VLOOKUP('Ответы на форму (1)'!BK2,УровниЧастоты2,2,FALSE) -> 0 | BI2: =IF(B2>34,"X",IF(B2>18,"Y","Z")) -> X | BJ2: =IF(D2>=8,":-)",IF(D2<=5,":-(",":-)")) -> :-( | BK2: =IF(R2>=8,"%-[",IF(R2<=4,":-)",":-\")) -> :-)
A3: =IF('Ответы на форму (1)'!B3="М",1,0) -> 0 | B3: ='Ответы на форму (1)'!C3 -> 31 | C3: ='Ответы на форму (1)'!D3 -> 5 | D3: ='Ответы на форму (1)'!E3 -> 8 | E3: =VLOOKUP('Ответы на форму (1)'!F3,УровниУспевания,2,FALSE) -> хорошо | F3: ='Ответы на форму (1)'!G3 -> 6 | G3: =IF('Ответы на форму (1)'!H3="",0,1) -> 0 | H3: ='Ответы на форму (1)'!I3 -> 7 | I3: =VLOOKUP('Ответы на форму (1)'!J3,УровниУспевания,2,FALSE) -> хорошо | J3: ='Ответы на форму (1)'!K3 -> 8 | K3: =VLOOKUP('Ответы на форму (1)'!L3,УровниСогласия,2,FALSE) -> 2 | L3: =VLOOKUP('Ответы на форму (1)'!M3,УровниСогласия,2,FALSE) -> 1 | M3: =VLOOKUP('Ответы на форму (1)'!N3,УровниСогласия,2,FALSE) -> 1 | N3: =VLOOKUP('Ответы на форму (1)'!O3,УровниСогласия,2,FALSE) -> 1 | O3: =VLOOKUP('Ответы на форму (1)'!P3,УровниСогласия,2,FALSE) -> 1 | P3: =VLOOKUP('Ответы на форму (1)'!Q3,УровниСогласия,2,FALSE) -> 1 | Q3: =VLOOKUP('Ответы на форму (1)'!R3,УровниСогласия,2,FALSE) -> 2 | R3: ='Ответы на форму (1)'!S3 -> 5 | S3: =VLOOKUP('Ответы на форму (1)'!T3,УровниСогласия,2,FALSE) -> 2 | T3: =VLOOKUP('Ответы на форму (1)'!U3,УровниСогласия,2,FALSE) -> 3 | U3: =VLOOKUP('Ответы на форму (1)'!V3,УровниСогласия,2,FALSE) -> 1 | V3: =VLOOKUP('Ответы на форму (1)'!W3,УровниСогласия,2,FALSE) -> 1 | W3: =VLOOKUP('Ответы на форму (1)'!X3,УровниСогласия,2,FALSE) -> 1 | X3: =VLOOKUP('Ответы на форму (1)'!Y3,УровниСогласия,2,FALSE) -> 3 | Y3: =VLOOKUP('Ответы на форму (1)'!Z3,УровниСогласия,2,FALSE) -> 3 | Z3: =VLOOKUP('Ответы на форму (1)'!AA3,УровниСогласия,2,FALSE) -> 3 | ... AC3: =VLOOKUP('Ответы на форму (1)'!AD3,УровниСогласия,2,FALSE) -> 1 | AD3: =VLOOKUP('Ответы на форму (1)'!AE3,УровниКоличества,2,FALSE) -> 1 | AE3: =VLOOKUP('Ответы на форму (1)'!AF3,УровниКоличества,2,FALSE) -> 1 | AF3: =VLOOKUP('Ответы на форму (1)'!AG3,УровниКоличества,2,FALSE) -> 3 | AG3: =VLOOKUP('Ответы на форму (1)'!AH3,УровниКоличества,2,FALSE) -> 2 | AH3: =VLOOKUP('Ответы на форму (1)'!AI3,УровниКоличества,2,FALSE) -> 3 | AI3: =VLOOKUP('Ответы на форму (1)'!AJ3,УровниНенависти,2,FALSE) -> 0 | AJ3: =VLOOKUP('Ответы на форму (1)'!AK3,УровниНенависти,2,FALSE) -> -1 | AK3: =VLOOKUP('Ответы на форму (1)'!AL3,УровниНенависти,2,FALSE) -> 0 | AL3: =VLOOKUP('Ответы на форму (1)'!AM3,УровниНенависти,2,FALSE) -> 0 | AM3: =VLOOKUP('Ответы на форму (1)'!AN3,УровниНенависти,2,FALSE) -> 0 | AN3: =VLOOKUP('Ответы на форму (1)'!AO3,УровниНенависти,2,FALSE) -> 0 | AO3: =VLOOKUP('Ответы на форму (1)'!AP3,УровниНенависти,2,FALSE) -> 0 | AP3: =VLOOKUP('Ответы на форму (1)'!AQ3,УровниНенависти,2,FALSE) -> 0 | AQ3: =VLOOKUP('Ответы на форму (1)'!AT3,УровниЧастоты,2,FALSE) -> 4 | AR3: =VLOOKUP('Ответы на форму (1)'!AU3,УровниЧастоты,2,FALSE) -> 1 | AS3: =VLOOKUP('Ответы на форму (1)'!AV3,УровниЧастоты,2,FALSE) -> 1 | AT3: =VLOOKUP('Ответы на форму (1)'!AW3,УровниЧастоты,2,FALSE) -> 4 | AU3: =VLOOKUP('Ответы на форму (1)'!AX3,УровниЧастоты,2,FALSE) -> 2 | AV3: =VLOOKUP('Ответы на форму (1)'!AY3,УровниЧастоты,2,FALSE) -> 0 | AW3: =VLOOKUP('Ответы на форму (1)'!AZ3,УровниЧастоты,2,FALSE) -> 0 | AX3: =VLOOKUP('Ответы на форму (1)'!BA3,УровниЧастоты,2,FALSE) -> 1 | ... BA3: =VLOOKUP('Ответы на форму (1)'!BD3,УровниЧастоты,2,FALSE) -> 3 | BB3: =VLOOKUP('Ответы на форму (1)'!BE3,УровниУспокоения,2,FALSE) -> 2 | BC3: =VLOOKUP('Ответы на форму (1)'!BF3,УровниЧастоты2,2,FALSE) -> 2 | BD3: =VLOOKUP('Ответы на форму (1)'!BG3,УровниЧастоты2,2,FALSE) -> 2 | BE3: =VLOOKUP('Ответы на форму (1)'!BH3,УровниЧастоты2,2,FALSE) -> 1 | BF3: =VLOOKUP('Ответы на форму (1)'!BI3,УровниЧастоты2,2,FALSE) -> 0 | BG3: =VLOOKUP('Ответы на форму (1)'!BJ3,УровниЧастоты2,2,FALSE) -> 1 | BH3: =VLOOKUP('Ответы на форму (1)'!BK3,УровниЧастоты2,2,FALSE) -> 0 | BI3: =IF(B3>34,"X",IF(B3>18,"Y","Z")) -> Y | BJ3: =IF(D3>=8,":-)",IF(D3<=5,":-(",":-)")) -> :-) | BK3: =IF(R3>=8,"%-[",IF(R3<=4,":-)",":-\")) -> :-\
