Workbook
Name FAS_Scale: Ключи!$A$1:$B$5
Name СтепеньПроснутости: Ключи!$A$21:$E$27
Name УровниУспевания: Ключи!$A$15:$D$19

Sheet Ответы на форму (1)
A1: Отметка времени | B1: В какой степени утверждения ниже характеризуют ваше обычное состояние? [Меня беспокоит усталость] | C1: В какой степени утверждения ниже характеризуют ваше обычное состояние? [Я очень быстро устаю] | D1: В какой степени утверждения ниже характеризуют ваше обычное состояние? [Я успеваю сделать мало дел в течение дня] | E1: В какой степени утверждения ниже характеризуют ваше обычное состояние? [У меня достаточно энергии для повседневной жизни] | F1: В какой степени утверждения ниже характеризуют ваше обычное состояние? [Я чувствую физическое истощение] | G1: В какой степени утверждения ниже характеризуют ваше обычное состояние? [Мне трудно начать что-нибудь делать] | H1: В какой степени утверждения ниже характеризуют ваше обычное состояние? [Мне трудно думать четко и ясно] | I1: В какой степени утверждения ниже характеризуют ваше обычное состояние? [У меня нет никакого желания что-нибудь делать] | J1: В какой степени утверждения ниже характеризуют ваше обычное состояние? [Я чувствую умственное истощение] | K1: В какой степени утверждения ниже характеризуют ваше обычное состояние? [Когда я делаю что-нибудь, я могу довольно хорошо сконцентрироваться] | L1: Что лучше характеризует то, как вы справляетесь с делами в ЛИЧНОЙ жизни? | M1: Что лучше характеризует то, как вы справляетесь с делами по работе? | N1: На сколько свежим и отдохнувшим вы сегодня проснулись? | O1: Среднее время в PVT | P1: Среднее отклонение времени в PVT | R1: Число тычков | S1: Число ложных тычков | T1: User Agent | U1: Больше среднего на одно среднее отклонение | V1: Больше среднего на два средних отклонения | W1: Больше среднего на три средних отклонения | X1: Больше среднего на 4 средних отклонения | Y1: Больше среднего на 6 средних отклонения | Z1: Строка времен в PVT
A2: 43717.851 | B2: Часто | C2: Иногда | D2: Иногда | E2: Практичеки всегда | F2: Иногда | G2: Редко | H2: Иногда | I2: Иногда | J2: Часто | K2: Часто | L2: Я вполне продуктивно продвигаюсь к своим долгосрочным целям. Завалы если и случаются, то не часто | M2: Я вполне продуктивно продвигаюсь к своим долгосрочным целям. Завалы если и случаются, то не часто | N2: 3 | O2: 587 | P2: 79 | R2: 24 | S2: 0 | T2: Mozilla/5.0 (Macintosh; Intel Mac OS X 10_14_6) AppleWebKit/605.1.15 (KHTML, like Gecko) Version/12.1.2 Safari/605.1.15 | U2: =COUNTIF(Z2:BT2,">"&(O2+P2)) -> 4 | V2: =COUNTIF(Z2:BT2,">"&(O2+2*P2)) -> 1 | W2: =COUNTIF(Z2:BT2,">"&(O2+3*P2)) -> 1 | X2: =COUNTIF(Z2:BT2,">"&(O2+4*P2)) -> 0 | Y2: =COUNTIF(Z2:BT2,">"&(O2+6*P2)) -> 0 | Z2: 687 | AA2: 420 | AB2: 512 | AC2: 657 | AD2: 481 | AE2: 659 | AF2: 481 | AG2: 580 | AH2: 614 | AI2: 509 | AJ2: 496 | AK2: 515 | AL2: 686 | AM2: 615 | AN2: 884 | AO2: 561 | AP2: 527 | AQ2: 510 | AR2: 551 | AS2: 713 | AT2: 558 | AU2: 658 | AV2: 564 | AW2: 650
A3: 43717.851 | B3: Иногда | C3: Редко | D3: Редко | E3: Иногда | F3: Иногда | G3: Редко | H3: Редко | I3: Практически никогда | J3: Иногда | K3: Иногда | L3: Я успеваю разобраться с необходимой текучкой, и даже изредка могу посвящать силы долгосрочным планам | M3: Я успеваю разобраться с необходимой текучкой, и даже изредка могу посвящать силы долгосрочным планам | N3: 5 | O3: 407 | P3: 75 | R3: 25 | S3: 5 | T3: Mozilla/5.0 (Linux; Android 7.0; SM-G920F) AppleWebKit/537.36 (KHTML, like Gecko) Chrome/75.0.3770.143 Mobile Safari/537.36 | U3: =COUNTIF(Z3:BT3,">"&(O3+P3)) -> 4 | V3: =COUNTIF(Z3:BT3,">"&(O3+2*P3)) -> 1 | W3: =COUNTIF(Z3:BT3,">"&(O3+3*P3)) -> 1 | X3: =COUNTIF(Z3:BT3,">"&(O3+4*P3)) -> 1 | Y3: =COUNTIF(Z3:BT3,">"&(O3+6*P3)) -> 1 | Z3: 916 | AA3: 555 | AB3: 498 | AC3: 418 | AD3: 393 | AE3: 420 | AF3: 397 | AG3: 338 | AH3: 337 | AI3: 413 | AJ3: 329 | AK3: 524 | AL3: 305 | AM3: 381 | AN3: 324 | AO3: 452 | AP3: 343 | AQ3: 382 | AR3: 384 | AS3: 366 | AT3: 365 | AU3: 334 | AV3: 332 | AW3: 336 | AX3: 334
A4: 43717.851 | B4: Часто | C4: Иногда | D4: Иногда | E4: Часто | F4: Редко | G4: Редко | H4: Иногда | I4: Иногда | J4: Редко | K4: Часто | L4: Я успеваю разобраться с необходимой текучкой, и даже изредка могу посвящать силы долгосрочным планам | M4: Я успеваю разобраться с необходимой текучкой, и даже изредка могу посвящать силы долгосрочным планам | N4: 5 | O4: 343 | P4: 63 | R4: 23 | S4: 1 | T4: Mozilla/5.0 (Windows NT 10.0; Win64; x64) AppleWebKit/537.36 (KHTML, like Gecko) Chrome/70.0.3538.102 Safari/537.36 Edge/18.18362 | U4: =COUNTIF(Z4:BT4,">"&(O4+P4)) -> 4 | V4: =COUNTIF(Z4:BT4,">"&(O4+2*P4)) -> 3 | W4: =COUNTIF(Z4:BT4,">"&(O4+3*P4)) -> 2 | X4: =COUNTIF(Z4:BT4,">"&(O4+4*P4)) -> 0 | Y4: =COUNTIF(Z4:BT4,">"&(O4+6*P4)) -> 0 | Z4: 571 | AA4: 331 | AB4: 299 | AC4: 326 | AD4: 312 | AE4: 310 | AF4: 329 | AG4: 283 | AH4: 295 | AI4: 297 | AJ4: 488 | AK4: 412 | AL4: 373 | AM4: 560 | AN4: 356 | AO4: 305 | AP4: 292 | AQ4: 373 | AR4: 298 | AS4: 283 | AT4: 289 | AU4: 270 | AV4: 259
A5: 43717.851 | B5: Редко | C5: Редко | D5: Часто | E5: Часто | F5: Редко | G5: Часто | H5: Иногда | I5: Иногда | J5: Редко | K5: Часто | L5: Я успеваю разобраться с необходимой текучкой, и даже изредка могу посвящать силы долгосрочным планам | M5: Я успеваю разобраться с необходимой текучкой, и даже изредка могу посвящать силы долгосрочным планам | N5: 6 | O5: 291 | P5: 24 | R5: 25 | S5: 3 | T5: Mozilla/5.0 (iPhone; CPU iPhone OS 12_4 like Mac OS X) AppleWebKit/605.1.15 (KHTML, like Gecko) Mobile/15E148 [FBAN/FBIOS;FBDV/iPhone8,4;FBMD/iPhone;FBSN/iOS;FBSV/12.4;FBSS/2;FBID/phone;FBLC/ru_RU;FBOP/5;FBCR/Carrier] | U5: =COUNTIF(Z5:BT5,">"&(O5+P5)) -> 5 | V5: =COUNTIF(Z5:BT5,">"&(O5+2*P5)) -> 1 | W5: =COUNTIF(Z5:BT5,">"&(O5+3*P5)) -> 0 | X5: =COUNTIF(Z5:BT5,">"&(O5+4*P5)) -> 0 | Y5: =COUNTIF(Z5:BT5,">"&(O5+6*P5)) -> 0 | Z5: 308 | AA5: 297 | AB5: 232 | AC5: 252 | AD5: 316 | AE5: 297 | AF5: 281 | AG5: 266 | AH5: 348 | AI5: 298 | AJ5: 315 | AK5: 265 | AL5: 260 | AM5: 269 | AN5: 265 | AO5: 333 | AP5: 297 | AQ5: 248 | AR5: 282 | AS5: 315 | AT5: 281 | AU5: 332 | AV5: 299 | AW5: 329 | AX5: 300
A6: 43717.851 | B6: Часто | C6: Иногда | D6: Часто | E6: Часто | F6: Иногда | G6: Часто | H6: Редко | I6: Иногда | J6: Иногда | K6: Иногда | L6: Я успеваю разобраться с необходимой текучкой, и даже изредка могу посвящать силы долгосрочным планам | M6: Я успеваю разобраться с необходимой текучкой, и даже изредка могу посвящать силы долгосрочным планам | N6: 4 | O6: 259 | P6: 35 | R6: 28 | S6: 2 | T6: Mozilla/5.0 (Macintosh; Intel Mac OS X 10_13_4) AppleWebKit/537.36 (KHTML, like Gecko) Chrome/76.0.3809.132 Safari/537.36 | U6: =COUNTIF(Z6:BT6,">"&(O6+P6)) -> 6 | V6: =COUNTIF(Z6:BT6,">"&(O6+2*P6)) -> 3 | W6: =COUNTIF(Z6:BT6,">"&(O6+3*P6)) -> 2 | X6: =COUNTIF(Z6:BT6,">"&(O6+4*P6)) -> 1 | Y6: =COUNTIF(Z6:BT6,">"&(O6+6*P6)) -> 0 | Z6: 336 | AA6: 379 | AB6: 244 | AC6: 204 | AD6: 240 | AE6: 253 | AF6: 295 | AG6: 238 | AH6: 308 | AI6: 224 | AJ6: 240 | AK6: 223 | AL6: 232 | AM6: 249 | AN6: 246 | AO6: 230 | AP6: 226 | AQ6: 271 | AR6: 255 | AS6: 233 | AT6: 239 | AU6: 246 | AV6: 238 | AW6: 229 | AX6: 219 | AY6: 412 | AZ6: 309 | BA6: 243
A7: 43717.852 | B7: Практичеки всегда | C7: Часто | D7: Часто | E7: Иногда | F7: Часто | G7: Часто | H7: Иногда | I7: Часто | J7: Часто | K7: Часто | L7: Я едва-едва успеваю выполнить необходимую текучку, но на долгосрочные планы не остается сил | M7: Я едва-едва успеваю выполнить необходимую текучку, но на долгосрочные планы не остается сил | N7: 4 | O7: 371 | P7: 108 | R7: 24 | S7: 4 | T7: Mozilla/5.0 (iPhone; CPU iPhone OS 12_1_4 like Mac OS X) AppleWebKit/605.1.15 (KHTML, like Gecko) Mobile/16D57 [FBAN/FBIOS;FBDV/iPhone9,3;FBMD/iPhone;FBSN/iOS;FBSV/12.1.4;FBSS/2;FBID/phone;FBLC/en_US;FBOP/5;FBCR/T-Mobile] | U7: =COUNTIF(Z7:BT7,">"&(O7+P7)) -> 3 | V7: =COUNTIF(Z7:BT7,">"&(O7+2*P7)) -> 2 | W7: =COUNTIF(Z7:BT7,">"&(O7+3*P7)) -> 2 | X7: =COUNTIF(Z7:BT7,">"&(O7+4*P7)) -> 0 | Y7: =COUNTIF(Z7:BT7,">"&(O7+6*P7)) -> 0 | Z7: 772 | AA7: 479 | AB7: 417 | AC7: 249 | AD7: 340 | AE7: 252 | AF7: 431 | AG7: 298 | AH7: 486 | AI7: 247 | AJ7: 298 | AK7: 326 | AL7: 251 | AM7: 247 | AN7: 279 | AO7: 467 | AP7: 298 | AQ7: 349 | AR7: 749 | AS7: 427 | AT7: 303 | AU7: 272 | AV7: 410 | AW7: 261
A8: 43717.852 | B8: Часто | C8: Редко | D8: Иногда | E8: Практичеки всегда | F8: Практически никогда | G8: Иногда | H8: Практически никогда | I8: Редко | J8: Редко | K8: Часто | L8: Я успеваю разобраться с необходимой текучкой, и даже изредка могу посвящать силы долгосрочным планам | M8: Я успеваю разобраться с необходимой текучкой, и даже изредка могу посвящать силы долгосрочным планам | N8: 3 | O8: 446 | P8: 31 | R8: 29 | S8: 0 | T8: Mozilla/5.0 (Linux; Android 9; SM-G950F Build/PPR1.180610.011; wv) AppleWebKit/537.36 (KHTML, like Gecko) Version/4.0 Chrome/76.0.3809.132 Mobile Safari/537.36 [FB_IAB/FB4A;FBAV/237.0.0.44.120;] | U8: =COUNTIF(Z8:BT8,">"&(O8+P8)) -> 5 | V8: =COUNTIF(Z8:BT8,">"&(O8+2*P8)) -> 2 | W8: =COUNTIF(Z8:BT8,">"&(O8+3*P8)) -> 2 | X8: =COUNTIF(Z8:BT8,">"&(O8+4*P8)) -> 0 | Y8: =COUNTIF(Z8:BT8,">"&(O8+6*P8)) -> 0 | Z8: 547 | AA8: 497 | AB8: 366 | AC8: 460 | AD8: 448 | AE8: 418 | AF8: 397 | AG8: 468 | AH8: 432 | AI8: 471 | AJ8: 434 | AK8: 552 | AL8: 422 | AM8: 449 | AN8: 489 | AO8: 457 | AP8: 472 | AQ8: 412 | AR8: 434 | AS8: 419 | AT8: 442 | AU8: 429 | AV8: 455 | AW8: 364 | AX8: 454 | AY8: 494 | AZ8: 439 | BA8: 414 | BB8: 427
A9: 43717.852 | B9: Иногда | C9: Редко | D9: Редко | E9: Часто | F9: Редко | G9: Редко | H9: Практически никогда | I9: Иногда | J9: Редко | K9: Практичеки всегда | L9: Я успеваю разобраться с необходимой текучкой, и даже изредка могу посвящать силы долгосрочным планам | M9: Я успеваю разобраться с необходимой текучкой, и даже изредка могу посвящать силы долгосрочным планам | N9: 4 | O9: 301 | P9: 33 | R9: 22 | S9: 0 | T9: Mozilla/5.0 (Macintosh; Intel Mac OS X 10_14_4) AppleWebKit/537.36 (KHTML, like Gecko) Chrome/76.0.3809.132 Safari/537.36 | U9: =COUNTIF(Z9:BT9,">"&(O9+P9)) -> 3 | V9: =COUNTIF(Z9:BT9,">"&(O9+2*P9)) -> 2 | W9: =COUNTIF(Z9:BT9,">"&(O9+3*P9)) -> 2 | X9: =COUNTIF(Z9:BT9,">"&(O9+4*P9)) -> 1 | Y9: =COUNTIF(Z9:BT9,">"&(O9+6*P9)) -> 0 | Z9: 314 | AA9: 452 | AB9: 415 | AC9: 273 | AD9: 301 | AE9: 273 | AF9: 355 | AG9: 258 | AH9: 254 | AI9: 279 | AJ9: 293 | AK9: 271 | AL9: 258 | AM9: 283 | AN9: 268 | AO9: 303 | AP9: 312 | AQ9: 300 | AR9: 277 | AS9: 303 | AT9: 265 | AU9: 327
A10: 43717.853 | B10: Часто | C10: Редко | D10: Редко | E10: Практичеки всегда | F10: Иногда | G10: Редко | H10: Практически никогда | I10: Практически никогда | J10: Практически никогда | K10: Практичеки всегда | L10: Я вполне продуктивно продвигаюсь к своим долгосрочным целям. Завалы если и случаются, то не часто | M10: Я вполне продуктивно продвигаюсь к своим долгосрочным целям. Завалы если и случаются, то не часто | N10: 1 | O10: 371 | P10: 77 | R10: 25 | S10: 0 | T10: Mozilla/5.0 (iPhone; CPU iPhone OS 12_4 like Mac OS X) AppleWebKit/605.1.15 (KHTML, like Gecko) Version/12.1.2 Mobile/15E148 Safari/604.1 | U10: =COUNTIF(Z10:BT10,">"&(O10+P10)) -> 4 | V10: =COUNTIF(Z10:BT10,">"&(O10+2*P10)) -> 2 | W10: =COUNTIF(Z10:BT10,">"&(O10+3*P10)) -> 1 | X10: =COUNTIF(Z10:BT10,">"&(O10+4*P10)) -> 1 | Y10: =COUNTIF(Z10:BT10,">"&(O10+6*P10)) -> 1 | Z10: 901 | AA10: 534 | AB10: 321 | AC10: 447 | AD10: 307 | AE10: 364 | AF10: 377 | AG10: 364 | AH10: 264 | AI10: 297 | AJ10: 307 | AK10: 338 | AL10: 256 | AM10: 347 | AN10: 264 | AO10: 308 | AP10: 396 | AQ10: 332 | AR10: 307 | AS10: 312 | AT10: 348 | AU10: 330 | AV10: 456 | AW10: 348 | AX10: 463
A11: 43717.853 | B11: Часто | C11: Часто | D11: Часто | E11: Иногда | F11: Иногда | G11: Часто | H11: Часто | I11: Часто | J11: Часто | K11: Часто | L11: Я едва-едва успеваю выполнить необходимую текучку, но на долгосрочные планы не остается сил | M11: Я едва-едва успеваю выполнить необходимую текучку, но на долгосрочные планы не остается сил | N11: 5 | O11: 417 | P11: 83 | R11: 24 | S11: 0 | T11: Mozilla/5.0 (iPhone; CPU iPhone OS 12_4_1 like Mac OS X) AppleWebKit/605.1.15 (KHTML, like Gecko) Version/12.1.2 Mobile/15E148 Safari/604.1 | U11: =COUNTIF(Z11:BT11,">"&(O11+P11)) -> 4 | V11: =COUNTIF(Z11:BT11,">"&(O11+2*P11)) -> 3 | W11: =COUNTIF(Z11:BT11,">"&(O11+3*P11)) -> 1 | X11: =COUNTIF(Z11:BT11,">"&(O11+4*P11)) -> 1 | Y11: =COUNTIF(Z11:BT11,">"&(O11+6*P11)) -> 0 | Z11: 762 | AA11: 428 | AB11: 616 | AC11: 415 | AD11: 381 | AE11: 468 | AF11: 413 | AG11: 399 | AH11: 329 | AI11: 382 | AJ11: 316 | AK11: 332 | AL11: 381 | AM11: 496 | AN11: 416 | AO11: 315 | AP11: 365 | AQ11: 365 | AR11: 331 | AS11: 265 | AT11: 349 | AU11: 631 | AV11: 518 | AW11: 347
A12: 43717.854 | B12: Редко | C12: Редко | D12: Часто | E12: Практичеки всегда | F12: Практически никогда | G12: Редко | H12: Редко | I12: Иногда | J12: Иногда | K12: Часто | L12: Я успеваю разобраться с необходимой текучкой, и даже изредка могу посвящать силы долгосрочным планам | M12: Я едва-едва успеваю выполнить необходимую текучку, но на долгосрочные планы не остается сил | N12: 3 | O12: 389 | P12: 43 | R12: 25 | S12: 0 | T12: Mozilla/5.0 (Linux; Android 9; HTC U12 Build/PQ2A.190205.003; wv) AppleWebKit/537.36 (KHTML, like Gecko) Version/4.0 Chrome/76.0.3809.132 Mobile Safari/537.36 [FB_IAB/FB4A;FBAV/237.0.0.44.120;] | U12: =COUNTIF(Z12:BT12,">"&(O12+P12)) -> 3 | V12: =COUNTIF(Z12:BT12,">"&(O12+2*P12)) -> 2 | W12: =COUNTIF(Z12:BT12,">"&(O12+3*P12)) -> 2 | X12: =COUNTIF(Z12:BT12,">"&(O12+4*P12)) -> 1 | Y12: =COUNTIF(Z12:BT12,">"&(O12+6*P12)) -> 1 | Z12: 679 | AA12: 548 | AB12: 435 | AC12: 419 | AD12: 382 | AE12: 404 | AF12: 394 | AG12: 376 | AH12: 380 | AI12: 378 | AJ12: 374 | AK12: 350 | AL12: 371 | AM12: 373 | AN12: 367 | AO12: 392 | AP12: 323 | AQ12: 357 | AR12: 337 | AS12: 361 | AT12: 371 | AU12: 357 | AV12: 329 | AW12: 361 | AX12: 331
A13: 43717.854 | B13: Иногда | C13: Редко | D13: Редко | E13: Часто | F13: Иногда | G13: Редко | H13: Редко | I13: Редко | J13: Практически никогда | K13: Иногда | L13: Я успеваю разобраться с необходимой текучкой, и даже изредка могу посвящать силы долгосрочным планам | M13: Я вполне продуктивно продвигаюсь к своим долгосрочным целям. Завалы если и случаются, то не часто | N13: 5 | O13: 389 | P13: 90 | R13: 23 | S13: 0 | T13: Mozilla/5.0 (iPhone; CPU iPhone OS 12_4 like Mac OS X) AppleWebKit/605.1.15 (KHTML, like Gecko) Mobile/15E148 [FBAN/FBIOS;FBDV/iPhone11,8;FBMD/iPhone;FBSN/iOS;FBSV/12.4;FBSS/2;FBID/phone;FBLC/en_US;FBOP/5;FBCR/Kyivstar] | U13: =COUNTIF(Z13:BT13,">"&(O13+P13)) -> 3 | V13: =COUNTIF(Z13:BT13,">"&(O13+2*P13)) -> 1 | W13: =COUNTIF(Z13:BT13,">"&(O13+3*P13)) -> 1 | X13: =COUNTIF(Z13:BT13,">"&(O13+4*P13)) -> 1 | Y13: =COUNTIF(Z13:BT13,">"&(O13+6*P13)) -> 0 | Z13: 870 | AA13: 512 | AB13: 347 | AC13: 422 | AD13: 424 | AE13: 439 | AF13: 354 | AG13: 471 | AH13: 291 | AI13: 315 | AJ13: 312 | AK13: 556 | AL13: 331 | AM13: 300 | AN13: 443 | AO13: 294 | AP13: 305 | AQ13: 312 | AR13: 310 | AS13: 330 | AT13: 405 | AU13: 333 | AV13: 272
A14: 43717.854 | B14: Практичеки всегда | C14: Часто | D14: Часто | E14: Иногда | F14: Часто | G14: Часто | H14: Иногда | I14: Часто | J14: Часто | K14: Иногда | L14: Я успеваю разобраться с необходимой текучкой, и даже изредка могу посвящать силы долгосрочным планам | M14: Я успеваю разобраться с необходимой текучкой, и даже изредка могу посвящать силы долгосрочным планам | N14: 6 | O14: 520 | P14: 205 | R14: 44 | S14: 2 | T14: Mozilla/5.0 (Linux; Android 9; SM-G955F) AppleWebKit/537.36 (KHTML, like Gecko) Chrome/76.0.3809.132 Mobile Safari/537.36 | U14: =COUNTIF(Z14:BT14,">"&(O14+P14)) -> 4 | V14: =COUNTIF(Z14:BT14,">"&(O14+2*P14)) -> 3 | W14: =COUNTIF(Z14:BT14,">"&(O14+3*P14)) -> 3 | X14: =COUNTIF(Z14:BT14,">"&(O14+4*P14)) -> 2 | Y14: =COUNTIF(Z14:BT14,">"&(O14+6*P14)) -> 1 | Z14: 2182 | AA14: 1326 | AB14: 1502 | AC14: 750 | AD14: 596 | AE14: 563 | AF14: 718 | AG14: 390 | AH14: 475 | AI14: 719 | AJ14: 367 | AK14: 376 | AL14: 427 | AM14: 452 | AN14: 682 | AO14: 423 | AP14: 152 | AQ14: 342 | AR14: 408 | AS14: 519 | AT14: 550 | AU14: 455 | AV14: 375 | AW14: 430 | AX14: 426 | AY14: 423 | AZ14: 318 | BA14: 388 | BB14: 308 | BC14: 454 | BD14: 489 | BE14: 318 | BF14: 323 | BG14: 420 | BH14: 440 | BI14: 341 | BJ14: 451 | BK14: 418 | BL14: 321 | BM14: 309 | BN14: 320 | BO14: 142 | BP14: 653 | BQ14: 475
A15: 43717.855 | B15: Иногда | C15: Иногда | D15: Часто | E15: Иногда | F15: Иногда | G15: Часто | H15: Иногда | I15: Часто | J15: Иногда | K15: Часто | L15: Я успеваю разобраться с необходимой текучкой, и даже изредка могу посвящать силы долгосрочным планам | M15: Я успеваю разобраться с необходимой текучкой, и даже изредка могу посвящать силы долгосрочным планам | N15: 4 | O15: 344 | P15: 53 | R15: 27 | S15: 1 | T15: Mozilla/5.0 (Macintosh; Intel Mac OS X 10_13_6) AppleWebKit/537.36 (KHTML, like Gecko) Chrome/76.0.3809.132 Safari/537.36 | U15: =COUNTIF(Z15:BT15,">"&(O15+P15)) -> 6 | V15: =COUNTIF(Z15:BT15,">"&(O15+2*P15)) -> 3 | W15: =COUNTIF(Z15:BT15,">"&(O15+3*P15)) -> 1 | X15: =COUNTIF(Z15:BT15,">"&(O15+4*P15)) -> 0 | Y15: =COUNTIF(Z15:BT15,">"&(O15+6*P15)) -> 0 | Z15: 399 | AA15: 396 | AB15: 316 | AC15: 356 | AD15: 344 | AE15: 521 | AF15: 332 | AG15: 342 | AH15: 300 | AI15: 434 | AJ15: 347 | AK15: 362 | AL15: 298 | AM15: 292 | AN15: 324 | AO15: 464 | AP15: 291 | AQ15: 304 | AR15: 275 | AS15: 290 | AT15: 261 | AU15: 451 | AV15: 321 | AW15: 290 | AX15: 213 | AY15: 415 | AZ15: 359
A16: 43717.855 | B16: Часто | C16: Часто | D16: Часто | E16: Редко | F16: Часто | G16: Иногда | H16: Редко | I16: Часто | J16: Часто | K16: Иногда | L16: Я едва-едва успеваю выполнить необходимую текучку, но на долгосрочные планы не остается сил | M16: Я успеваю разобраться с необходимой текучкой, и даже изредка могу посвящать силы долгосрочным планам | N16: 4 | O16: 339 | P16: 25 | R16: 24 | S16: 2 | T16: Mozilla/5.0 (Linux; Android 7.0; Redmi Note 4 Build/NRD90M; wv) AppleWebKit/537.36 (KHTML, like Gecko) Version/4.0 Chrome/76.0.3809.132 Mobile Safari/537.36 [FB_IAB/FB4A;FBAV/237.0.0.44.120;] | U16: =COUNTIF(Z16:BT16,">"&(O16+P16)) -> 4 | V16: =COUNTIF(Z16:BT16,">"&(O16+2*P16)) -> 3 | W16: =COUNTIF(Z16:BT16,">"&(O16+3*P16)) -> 1 | X16: =COUNTIF(Z16:BT16,">"&(O16+4*P16)) -> 0 | Y16: =COUNTIF(Z16:BT16,">"&(O16+6*P16)) -> 0 | Z16: 347 | AA16: 411 | AB16: 424 | AC16: 327 | AD16: 314 | AE16: 324 | AF16: 356 | AG16: 374 | AH16: 337 | AI16: 289 | AJ16: 338 | AK16: 327 | AL16: 316 | AM16: 292 | AN16: 328 | AO16: 340 | AP16: 318 | AQ16: 361 | AR16: 403 | AS16: 335 | AT16: 325 | AU16: 296 | AV16: 314 | AW16: 340
A17: 43717.856 | B17: Иногда | C17: Редко | D17: Иногда | E17: Часто | F17: Практически никогда | G17: Иногда | H17: Практически никогда | I17: Иногда | J17: Редко | K17: Часто | L17: Я вполне продуктивно продвигаюсь к своим долгосрочным целям. Завалы если и случаются, то не часто | M17: Я вполне продуктивно продвигаюсь к своим долгосрочным целям. Завалы если и случаются, то не часто | N17: 4 | O17: 324 | P17: 35 | R17: 24 | S17: 0 | T17: Mozilla/5.0 (iPhone; CPU iPhone OS 13_1 like Mac OS X) AppleWebKit/605.1.15 (KHTML, like Gecko) Mobile/15E148 [FBAN/FBIOS;FBDV/iPhone10,6;FBMD/iPhone;FBSN/iOS;FBSV/13.1;FBSS/3;FBID/phone;FBLC/en_US;FBOP/5;FBCR/Beeline] | U17: =COUNTIF(Z17:BT17,">"&(O17+P17)) -> 2 | V17: =COUNTIF(Z17:BT17,">"&(O17+2*P17)) -> 1 | W17: =COUNTIF(Z17:BT17,">"&(O17+3*P17)) -> 1 | X17: =COUNTIF(Z17:BT17,">"&(O17+4*P17)) -> 1 | Y17: =COUNTIF(Z17:BT17,">"&(O17+6*P17)) -> 1 | Z17: 682 | AA17: 308 | AB17: 324 | AC17: 294 | AD17: 343 | AE17: 288 | AF17: 318 | AG17: 298 | AH17: 300 | AI17: 258 | AJ17: 302 | AK17: 303 | AL17: 362 | AM17: 301 | AN17: 286 | AO17: 319 | AP17: 308 | AQ17: 284 | AR17: 341 | AS17: 311 | AT17: 315 | AU17: 305 | AV17: 319 | AW17: 309
A18: 43717.856 | B18: Практически никогда | C18: Практически никогда | D18: Иногда | E18: Практичеки всегда | F18: Практически никогда | G18: Иногда | H18: Редко | I18: Редко | J18: Редко | K18: Практичеки всегда | L18: Я вполне продуктивно продвигаюсь к своим долгосрочным целям. Завалы если и случаются, то не часто | M18: Я вполне продуктивно продвигаюсь к своим долгосрочным целям. Завалы если и случаются, то не часто | N18: 6 | O18: 372 | P18: 93 | R18: 27 | S18: 0 | T18: Mozilla/5.0 (Windows NT 10.0; Win64; x64) AppleWebKit/537.36 (KHTML, like Gecko) Chrome/76.0.3809.132 Safari/537.36 | U18: =COUNTIF(Z18:BT18,">"&(O18+P18)) -> 5 | V18: =COUNTIF(Z18:BT18,">"&(O18+2*P18)) -> 2 | W18: =COUNTIF(Z18:BT18,">"&(O18+3*P18)) -> 1 | X18: =COUNTIF(Z18:BT18,">"&(O18+4*P18)) -> 1 | Y18: =COUNTIF(Z18:BT18,">"&(O18+6*P18)) -> 0 | Z18: 833 | AA18: 549 | AB18: 390 | AC18: 315 | AD18: 355 | AE18: 276 | AF18: 414 | AG18: 278 | AH18: 395 | AI18: 253 | AJ18: 269 | AK18: 248 | AL18: 427 | AM18: 264 | AN18: 574 | AO18: 263 | AP18: 403 | AQ18: 250 | AR18: 310 | AS18: 249 | AT18: 374 | AU18: 384 | AV18: 481 | AW18: 371 | AX18: 471 | AY18: 405 | AZ18: 248
A19: 43717.856 | B19: Иногда | C19: Часто | D19: Редко | E19: Редко | F19: Часто | G19: Редко | H19: Практически никогда | I19: Иногда | J19: Редко | K19: Практичеки всегда | L19: Я вполне продуктивно продвигаюсь к своим долгосрочным целям. Завалы если и случаются, то не часто | M19: Я вполне продуктивно продвигаюсь к своим долгосрочным целям. Завалы если и случаются, то не часто | N19: 6 | O19: 466 | P19: 106 | R19: 25 | S19: 1 | T19: Mozilla/5.0 (Windows NT 10.0; Win64; x64) AppleWebKit/537.36 (KHTML, like Gecko) Chrome/76.0.3809.132 Safari/537.36 | U19: =COUNTIF(Z19:BT19,">"&(O19+P19)) -> 3 | V19: =COUNTIF(Z19:BT19,">"&(O19+2*P19)) -> 3 | W19: =COUNTIF(Z19:BT19,">"&(O19+3*P19)) -> 2 | X19: =COUNTIF(Z19:BT19,">"&(O19+4*P19)) -> 1 | Y19: =COUNTIF(Z19:BT19,">"&(O19+6*P19)) -> 1 | Z19: 1117 | AA19: 412 | AB19: 403 | AC19: 381 | AD19: 473 | AE19: 368 | AF19: 391 | AG19: 387 | AH19: 406 | AI19: 413 | AJ19: 827 | AK19: 404 | AL19: 381 | AM19: 419 | AN19: 405 | AO19: 385 | AP19: 398 | AQ19: 726 | AR19: 404 | AS19: 518 | AT19: 415 | AU19: 459 | AV19: 389 | AW19: 376 | AX19: 411
A20: 43717.856 | B20: Редко | C20: Иногда | D20: Часто | E20: Часто | F20: Редко | G20: Часто | H20: Редко | I20: Иногда | J20: Иногда | K20: Иногда | L20: Я успеваю разобраться с необходимой текучкой, и даже изредка могу посвящать силы долгосрочным планам | M20: Я вполне продуктивно продвигаюсь к своим долгосрочным целям. Завалы если и случаются, то не часто | N20: 3 | O20: 331 | P20: 50 | R20: 24 | S20: 0 | T20: Mozilla/5.0 (iPhone; CPU iPhone OS 12_4_1 like Mac OS X) AppleWebKit/605.1.15 (KHTML, like Gecko) Version/12.1.2 Mobile/15E148 Safari/604.1 | U20: =COUNTIF(Z20:BT20,">"&(O20+P20)) -> 3 | V20: =COUNTIF(Z20:BT20,">"&(O20+2*P20)) -> 1 | W20: =COUNTIF(Z20:BT20,">"&(O20+3*P20)) -> 1 | X20: =COUNTIF(Z20:BT20,">"&(O20+4*P20)) -> 1 | Y20: =COUNTIF(Z20:BT20,">"&(O20+6*P20)) -> 1 | Z20: 708 | AA20: 409 | AB20: 375 | AC20: 360 | AD20: 275 | AE20: 332 | AF20: 337 | AG20: 285 | AH20: 399 | AI20: 293 | AJ20: 296 | AK20: 314 | AL20: 319 | AM20: 275 | AN20: 330 | AO20: 308 | AP20: 313 | AQ20: 311 | AR20: 300 | AS20: 299 | AT20: 265 | AU20: 312 | AV20: 280 | AW20: 250
A21: 43717.857 | B21: Часто | C21: Иногда | D21: Иногда | E21: Часто | F21: Иногда | G21: Редко | H21: Редко | I21: Редко | J21: Редко | K21: Часто | L21: Я успеваю разобраться с необходимой текучкой, и даже изредка могу посвящать силы долгосрочным планам | M21: Я успеваю разобраться с необходимой текучкой, и даже изредка могу посвящать силы долгосрочным планам | N21: 2 | O21: 365 | P21: 38 | R21: 26 | S21: 3 | T21: Mozilla/5.0 (Linux; Android 9; MI 6 Build/PKQ1.190118.001; wv) AppleWebKit/537.36 (KHTML, like Gecko) Version/4.0 Chrome/76.0.3809.132 Mobile Safari/537.36 [FB_IAB/FB4A;FBAV/237.0.0.44.120;] | U21: =COUNTIF(Z21:BT21,">"&(O21+P21)) -> 3 | V21: =COUNTIF(Z21:BT21,">"&(O21+2*P21)) -> 2 | W21: =COUNTIF(Z21:BT21,">"&(O21+3*P21)) -> 2 | X21: =COUNTIF(Z21:BT21,">"&(O21+4*P21)) -> 2 | Y21: =COUNTIF(Z21:BT21,">"&(O21+6*P21)) -> 0 | Z21: 526 | AA21: 574 | AB21: 371 | AC21: 340 | AD21: 319 | AE21: 376 | AF21: 361 | AG21: 319 | AH21: 313 | AI21: 361 | AJ21: 388 | AK21: 325 | AL21: 395 | AM21: 356 | AN21: 352 | AO21: 370 | AP21: 348 | AQ21: 336 | AR21: 337 | AS21: 349 | AT21: 319 | AU21: 370 | AV21: 339 | AW21: 424 | AX21: 323 | AY21: 311
A22: 43717.857 | B22: Иногда | C22: Иногда | D22: Редко | E22: Часто | F22: Практически никогда | G22: Практически никогда | H22: Практически никогда | I22: Практически никогда | J22: Редко | K22: Часто | L22: Я успеваю разобраться с необходимой текучкой, и даже изредка могу посвящать силы долгосрочным планам | M22: Я вполне продуктивно продвигаюсь к своим долгосрочным целям. Завалы если и случаются, то не часто | N22: 5 | O22: 349 | P22: 52 | R22: 24 | S22: 2 | T22: Mozilla/5.0 (iPhone; CPU iPhone OS 12_3_1 like Mac OS X) AppleWebKit/605.1.15 (KHTML, like Gecko) Version/12.1.1 Mobile/15E148 Safari/604.1 | U22: =COUNTIF(Z22:BT22,">"&(O22+P22)) -> 3 | V22: =COUNTIF(Z22:BT22,">"&(O22+2*P22)) -> 2 | W22: =COUNTIF(Z22:BT22,">"&(O22+3*P22)) -> 2 | X22: =COUNTIF(Z22:BT22,">"&(O22+4*P22)) -> 2 | Y22: =COUNTIF(Z22:BT22,">"&(O22+6*P22)) -> 0 | Z22: 585 | AA22: 345 | AB22: 298 | AC22: 616 | AD22: 363 | AE22: 314 | AF22: 325 | AG22: 332 | AH22: 332 | AI22: 331 | AJ22: 296 | AK22: 283 | AL22: 298 | AM22: 281 | AN22: 320 | AO22: 326 | AP22: 347 | AQ22: 299 | AR22: 346 | AS22: 321 | AT22: 445 | AU22: 316 | AV22: 364 | AW22: 300
A23: 43717.858 | B23: Редко | C23: Редко | D23: Часто | E23: Практичеки всегда | F23: Иногда | G23: Часто | H23: Иногда | I23: Часто | J23: Иногда | K23: Часто | L23: Я успеваю разобраться с необходимой текучкой, и даже изредка могу посвящать силы долгосрочным планам | M23: Я успеваю разобраться с необходимой текучкой, и даже изредка могу посвящать силы долгосрочным планам | N23: 3 | O23: 190 | P23: 109 | R23: 19 | S23: 471 | T23: Mozilla/5.0 (Linux; Android 9; MI 6 Build/PKQ1.190118.001; wv) AppleWebKit/537.36 (KHTML, like Gecko) Version/4.0 Chrome/76.0.3809.132 Mobile Safari/537.36 [FB_IAB/FB4A;FBAV/237.0.0.44.120;] | U23: =COUNTIF(Z23:BT23,">"&(O23+P23)) -> 6 | V23: =COUNTIF(Z23:BT23,">"&(O23+2*P23)) -> 1 | W23: =COUNTIF(Z23:BT23,">"&(O23+3*P23)) -> 0 | X23: =COUNTIF(Z23:BT23,">"&(O23+4*P23)) -> 0 | Y23: =COUNTIF(Z23:BT23,">"&(O23+6*P23)) -> 0 | Z23: 441 | AA23: 373 | AB23: 327 | AC23: 336 | AD23: 339 | AE23: 346 | AF23: 87 | AG23: 84 | AH23: 92 | AI23: 112 | AJ23: 84 | AK23: 161 | AL23: 86 | AM23: 218 | AN23: 80 | AO23: 118 | AP23: 115 | AQ23: 126 | AR23: 100
A24: 43717.859 | B24: Часто | C24: Часто | D24: Иногда | E24: Практически никогда | F24: Часто | G24: Часто | H24: Иногда | I24: Часто | J24: Часто | K24: Иногда | L24: Я успеваю разобраться с необходимой текучкой, и даже изредка могу посвящать силы долгосрочным планам | M24: Я успеваю разобраться с необходимой текучкой, и даже изредка могу посвящать силы долгосрочным планам | N24: 2 | O24: 382 | P24: 54 | R24: 22 | S24: 0 | T24: Mozilla/5.0 (Linux; Android 9; Mi A2 Lite Build/PKQ1.180917.001; wv) AppleWebKit/537.36 (KHTML, like Gecko) Version/4.0 Chrome/76.0.3809.89 Mobile Safari/537.36 [FB_IAB/FB4A;FBAV/233.0.0.36.117;] | U24: =COUNTIF(Z24:BT24,">"&(O24+P24)) -> 4 | V24: =COUNTIF(Z24:BT24,">"&(O24+2*P24)) -> 2 | W24: =COUNTIF(Z24:BT24,">"&(O24+3*P24)) -> 1 | X24: =COUNTIF(Z24:BT24,">"&(O24+4*P24)) -> 1 | Y24: =COUNTIF(Z24:BT24,">"&(O24+6*P24)) -> 0 | Z24: 666 | AA24: 461 | AB24: 301 | AC24: 345 | AD24: 374 | AE24: 338 | AF24: 327 | AG24: 352 | AH24: 356 | AI24: 345 | AJ24: 508 | AK24: 346 | AL24: 369 | AM24: 333 | AN24: 388 | AO24: 441 | AP24: 326 | AQ24: 431 | AR24: 348 | AS24: 368 | AT24: 378 | AU24: 323
A25: 43717.859 | B25: Практичеки всегда | C25: Практичеки всегда | D25: Практичеки всегда | E25: Иногда | F25: Часто | G25: Практичеки всегда | H25: Часто | I25: Часто | J25: Практичеки всегда | K25: Редко | L25: Я едва-едва успеваю выполнить необходимую текучку, но на долгосрочные планы не остается сил | M25: Я не успеваю выполнять даже необходимый минимум | N25: 3 | O25: 426 | P25: 85 | R25: 24 | S25: 0 | T25: Mozilla/5.0 (iPhone; CPU iPhone OS 12_4_1 like Mac OS X) AppleWebKit/605.1.15 (KHTML, like Gecko) Mobile/15E148 [FBAN/FBIOS;FBDV/iPhone9,1;FBMD/iPhone;FBSN/iOS;FBSV/12.4.1;FBSS/2;FBID/phone;FBLC/ru_RU;FBOP/5;FBCR/Vodafone UA] | U25: =COUNTIF(Z25:BT25,">"&(O25+P25)) -> 5 | V25: =COUNTIF(Z25:BT25,">"&(O25+2*P25)) -> 3 | W25: =COUNTIF(Z25:BT25,">"&(O25+3*P25)) -> 1 | X25: =COUNTIF(Z25:BT25,">"&(O25+4*P25)) -> 1 | Y25: =COUNTIF(Z25:BT25,">"&(O25+6*P25)) -> 0 | Z25: 860 | AA25: 610 | AB25: 532 | AC25: 554 | AD25: 394 | AE25: 428 | AF25: 429 | AG25: 367 | AH25: 364 | AI25: 419 | AJ25: 377 | AK25: 419 | AL25: 379 | AM25: 365 | AN25: 327 | AO25: 318 | AP25: 598 | AQ25: 368 | AR25: 367 | AS25: 361 | AT25: 318 | AU25: 316 | AV25: 377 | AW25: 380
A26: 43717.86 | B26: Практически никогда | C26: Практически никогда | D26: Практически никогда | E26: Практически никогда | F26: Практически никогда | G26: Практически никогда | H26: Практически никогда | I26: Практически никогда | J26: Практически никогда | K26: Практически никогда | L26: Я едва-едва успеваю выполнить необходимую текучку, но на долгосрочные планы не остается сил | M26: Я едва-едва успеваю выполнить необходимую текучку, но на долгосрочные планы не остается сил | N26: 1 | O26: 442 | P26: 63 | R26: 25 | S26: 1 | T26: Mozilla/5.0 (iPhone; CPU iPhone OS 12_4_1 like Mac OS X) AppleWebKit/605.1.15 (KHTML, like Gecko) Mobile/15E148 [FBAN/FBIOS;FBDV/iPhone6,2;FBMD/iPhone;FBSN/iOS;FBSV/12.4.1;FBSS/2;FBID/phone;FBLC/ru_RU;FBOP/5;FBCR/Mobile TeleSystems] | U26: =COUNTIF(Z26:BT26,">"&(O26+P26)) -> 4 | V26: =COUNTIF(Z26:BT26,">"&(O26+2*P26)) -> 3 | W26: =COUNTIF(Z26:BT26,">"&(O26+3*P26)) -> 1 | X26: =COUNTIF(Z26:BT26,">"&(O26+4*P26)) -> 1 | Y26: =COUNTIF(Z26:BT26,">"&(O26+6*P26)) -> 0 | Z26: 783 | AA26: 571 | AB26: 472 | AC26: 421 | AD26: 442 | AE26: 436 | AF26: 370 | AG26: 352 | AH26: 435 | AI26: 377 | AJ26: 421 | AK26: 394 | AL26: 420 | AM26: 414 | AN26: 443 | AO26: 480 | AP26: 314 | AQ26: 600 | AR26: 421 | AS26: 544 | AT26: 420 | AU26: 376 | AV26: 421 | AW26: 376 | AX26: 364
A27: 43717.86 | B27: Часто | C27: Иногда | D27: Иногда | E27: Иногда | F27: Часто | G27: Практичеки всегда | H27: Часто | I27: Часто | J27: Часто | K27: Часто | L27: Я успеваю разобраться с необходимой текучкой, и даже изредка могу посвящать силы долгосрочным планам | M27: Я успеваю разобраться с необходимой текучкой, и даже изредка могу посвящать силы долгосрочным планам | N27: 2 | O27: 342 | P27: 59 | R27: 23 | S27: 2 | T27: Mozilla/5.0 (iPhone; CPU iPhone OS 12_4_1 like Mac OS X) AppleWebKit/605.1.15 (KHTML, like Gecko) Mobile/15E148 [FBAN/FBIOS;FBDV/iPhone9,4;FBMD/iPhone;FBSN/iOS;FBSV/12.4.1;FBSS/3;FBID/phone;FBLC/ru_RU;FBOP/5;FBCR/Mobile TeleSystems] | U27: =COUNTIF(Z27:BT27,">"&(O27+P27)) -> 2 | V27: =COUNTIF(Z27:BT27,">"&(O27+2*P27)) -> 2 | W27: =COUNTIF(Z27:BT27,">"&(O27+3*P27)) -> 1 | X27: =COUNTIF(Z27:BT27,">"&(O27+4*P27)) -> 1 | Y27: =COUNTIF(Z27:BT27,">"&(O27+6*P27)) -> 1 | Z27: 781 | AA27: 467 | AB27: 305 | AC27: 329 | AD27: 300 | AE27: 330 | AF27: 336 | AG27: 282 | AH27: 242 | AI27: 291 | AJ27: 367 | AK27: 316 | AL27: 323 | AM27: 383 | AN27: 280 | AO27: 321 | AP27: 298 | AQ27: 280 | AR27: 328 | AS27: 301 | AT27: 320 | AU27: 395 | AV27: 301
A28: 43717.861 | B28: Часто | C28: Иногда | D28: Часто | E28: Редко | F28: Редко | G28: Часто | H28: Иногда | I28: Часто | J28: Часто | K28: Иногда | L28: Я едва-едва успеваю выполнить необходимую текучку, но на долгосрочные планы не остается сил | M28: Я едва-едва успеваю выполнить необходимую текучку, но на долгосрочные планы не остается сил | N28: 3 | O28: 427 | P28: 97 | R28: 25 | S28: 0 | T28: Mozilla/5.0 (Windows NT 6.1; Win64; x64) AppleWebKit/537.36 (KHTML, like Gecko) Chrome/76.0.3809.132 Safari/537.36 | U28: =COUNTIF(Z28:BT28,">"&(O28+P28)) -> 5 | V28: =COUNTIF(Z28:BT28,">"&(O28+2*P28)) -> 1 | W28: =COUNTIF(Z28:BT28,">"&(O28+3*P28)) -> 1 | X28: =COUNTIF(Z28:BT28,">"&(O28+4*P28)) -> 1 | Y28: =COUNTIF(Z28:BT28,">"&(O28+6*P28)) -> 0 | Z28: 909 | AA28: 581 | AB28: 470 | AC28: 398 | AD28: 326 | AE28: 343 | AF28: 550 | AG28: 352 | AH28: 412 | AI28: 445 | AJ28: 328 | AK28: 423 | AL28: 362 | AM28: 326 | AN28: 437 | AO28: 517 | AP28: 567 | AQ28: 309 | AR28: 392 | AS28: 383 | AT28: 589 | AU28: 278 | AV28: 296 | AW28: 398 | AX28: 295
A29: 43717.861 | B29: Часто | C29: Редко | D29: Иногда | E29: Иногда | F29: Иногда | G29: Иногда | H29: Иногда | I29: Редко | J29: Редко | K29: Часто | L29: Я успеваю разобраться с необходимой текучкой, и даже изредка могу посвящать силы долгосрочным планам | M29: Я успеваю разобраться с необходимой текучкой, и даже изредка могу посвящать силы долгосрочным планам | N29: 5 | O29: 312 | P29: 120 | R29: 21 | S29: 267 | T29: Mozilla/5.0 (iPhone; CPU iPhone OS 12_2 like Mac OS X) AppleWebKit/605.1.15 (KHTML, like Gecko) Mobile/15E148 [FBAN/FBIOS;FBDV/iPhone10,1;FBMD/iPhone;FBSN/iOS;FBSV/12.2;FBSS/2;FBCR/MegaFon;FBID/phone;FBLC/ru_RU;FBOP/5] | U29: =COUNTIF(Z29:BT29,">"&(O29+P29)) -> 2 | V29: =COUNTIF(Z29:BT29,">"&(O29+2*P29)) -> 2 | W29: =COUNTIF(Z29:BT29,">"&(O29+3*P29)) -> 0 | X29: =COUNTIF(Z29:BT29,">"&(O29+4*P29)) -> 0 | Y29: =COUNTIF(Z29:BT29,">"&(O29+6*P29)) -> 0 | Z29: 660 | AA29: 612 | AB29: 416 | AC29: 314 | AD29: 431 | AE29: 315 | AF29: 365 | AG29: 382 | AH29: 349 | AI29: 394 | AJ29: 349 | AK29: 350 | AL29: 315 | AM29: 383 | AN29: 130 | AO29: 181 | AP29: 130 | AQ29: 132 | AR29: 148 | AS29: 115 | AT29: 83
A30: 43717.861 | B30: Иногда | C30: Редко | D30: Иногда | E30: Часто | F30: Редко | G30: Иногда | H30: Практически никогда | I30: Редко | J30: Редко | K30: Практичеки всегда | L30: Я вполне продуктивно продвигаюсь к своим долгосрочным целям. Завалы если и случаются, то не часто | M30: Я вполне продуктивно продвигаюсь к своим долгосрочным целям. Завалы если и случаются, то не часто | N30: 7 | O30: 345 | P30: 65 | R30: 25 | S30: 0 | T30: Mozilla/5.0 (Windows NT 10.0; Win64; x64) AppleWebKit/537.36 (KHTML, like Gecko) Chrome/76.0.3809.132 Safari/537.36 | U30: =COUNTIF(Z30:BT30,">"&(O30+P30)) -> 4 | V30: =COUNTIF(Z30:BT30,">"&(O30+2*P30)) -> 2 | W30: =COUNTIF(Z30:BT30,">"&(O30+3*P30)) -> 2 | X30: =COUNTIF(Z30:BT30,">"&(O30+4*P30)) -> 1 | Y30: =COUNTIF(Z30:BT30,">"&(O30+6*P30)) -> 0 | Z30: 638 | AA30: 380 | AB30: 361 | AC30: 344 | AD30: 558 | AE30: 273 | AF30: 321 | AG30: 274 | AH30: 265 | AI30: 278 | AJ30: 235 | AK30: 323 | AL30: 296 | AM30: 394 | AN30: 305 | AO30: 341 | AP30: 323 | AQ30: 443 | AR30: 258 | AS30: 339 | AT30: 279 | AU30: 282 | AV30: 328 | AW30: 351 | AX30: 456
A31: 43717.862 | B31: Практичеки всегда | C31: Редко | D31: Практичеки всегда | E31: Иногда | F31: Практичеки всегда | G31: Практичеки всегда | H31: Часто | I31: Практичеки всегда | J31: Практичеки всегда | K31: Практичеки всегда | L31: Я едва-едва успеваю выполнить необходимую текучку, но на долгосрочные планы не остается сил | M31: Я едва-едва успеваю выполнить необходимую текучку, но на долгосрочные планы не остается сил | N31: 1 | O31: 402 | P31: 100 | R31: 25 | S31: 1 | T31: Mozilla/5.0 (iPhone; CPU iPhone OS 12_4 like Mac OS X) AppleWebKit/605.1.15 (KHTML, like Gecko) Mobile/15E148 [FBAN/FBIOS;FBDV/iPhone7,2;FBMD/iPhone;FBSN/iOS;FBSV/12.4;FBSS/2;FBCR/Tele2;FBID/phone;FBLC/ru_RU;FBOP/5] | U31: =COUNTIF(Z31:BT31,">"&(O31+P31)) -> 2 | V31: =COUNTIF(Z31:BT31,">"&(O31+2*P31)) -> 2 | W31: =COUNTIF(Z31:BT31,">"&(O31+3*P31)) -> 2 | X31: =COUNTIF(Z31:BT31,">"&(O31+4*P31)) -> 1 | Y31: =COUNTIF(Z31:BT31,">"&(O31+6*P31)) -> 1 | Z31: 1095 | AA31: 750 | AB31: 465 | AC31: 300 | AD31: 404 | AE31: 433 | AF31: 376 | AG31: 383 | AH31: 416 | AI31: 465 | AJ31: 385 | AK31: 451 | AL31: 300 | AM31: 317 | AN31: 336 | AO31: 379 | AP31: 317 | AQ31: 347 | AR31: 255 | AS31: 317 | AT31: 301 | AU31: 333 | AV31: 297 | AW31: 316 | AX31: 336
A32: 43717.862 | B32: Часто | C32: Иногда | D32: Редко | E32: Часто | F32: Иногда | G32: Иногда | H32: Иногда | I32: Редко | J32: Часто | K32: Часто | L32: Я вполне продуктивно продвигаюсь к своим долгосрочным целям. Завалы если и случаются, то не часто | M32: Я успеваю разобраться с необходимой текучкой, и даже изредка могу посвящать силы долгосрочным планам | N32: 4 | O32: 478 | P32: 162 | R32: 26 | S32: 1 | T32: Mozilla/5.0 (Linux; Android 8.1.0; Redmi 6 Build/O11019; wv) AppleWebKit/537.36 (KHTML, like Gecko) Version/4.0 Chrome/76.0.3809.132 Mobile Safari/537.36 [FB_IAB/FB4A;FBAV/237.0.0.44.120;] | U32: =COUNTIF(Z32:BT32,">"&(O32+P32)) -> 2 | V32: =COUNTIF(Z32:BT32,">"&(O32+2*P32)) -> 2 | W32: =COUNTIF(Z32:BT32,">"&(O32+3*P32)) -> 2 | X32: =COUNTIF(Z32:BT32,">"&(O32+4*P32)) -> 2 | Y32: =COUNTIF(Z32:BT32,">"&(O32+6*P32)) -> 1 | Z32: 1626 | AA32: 355 | AB32: 398 | AC32: 380 | AD32: 331 | AE32: 396 | AF32: 463 | AG32: 400 | AH32: 514 | AI32: 314 | AJ32: 419 | AK32: 391 | AL32: 1361 | AM32: 410 | AN32: 366 | AO32: 514 | AP32: 491 | AQ32: 386 | AR32: 367 | AS32: 376 | AT32: 364 | AU32: 330 | AV32: 364 | AW32: 386 | AX32: 368 | AY32: 365
A33: 43717.862 | B33: Редко | C33: Иногда | D33: Часто | E33: Иногда | F33: Редко | G33: Практичеки всегда | H33: Иногда | I33: Редко | J33: Редко | K33: Практичеки всегда | L33: Я едва-едва успеваю выполнить необходимую текучку, но на долгосрочные планы не остается сил | M33: Я успеваю разобраться с необходимой текучкой, и даже изредка могу посвящать силы долгосрочным планам | N33: 4 | O33: 471 | P33: 188 | R33: 30 | S33: 4 | T33: Mozilla/5.0 (iPhone; CPU iPhone OS 12_4 like Mac OS X) AppleWebKit/605.1.15 (KHTML, like Gecko) Mobile/15E148 [FBAN/FBIOS;FBDV/iPhone9,3;FBMD/iPhone;FBSN/iOS;FBSV/12.4;FBSS/2;FBID/phone;FBLC/en_GB;FBOP/5;FBCR/MegaFon] | U33: =COUNTIF(Z33:BT33,">"&(O33+P33)) -> 5 | V33: =COUNTIF(Z33:BT33,">"&(O33+2*P33)) -> 2 | W33: =COUNTIF(Z33:BT33,">"&(O33+3*P33)) -> 1 | X33: =COUNTIF(Z33:BT33,">"&(O33+4*P33)) -> 1 | Y33: =COUNTIF(Z33:BT33,">"&(O33+6*P33)) -> 1 | Z33: 692 | AA33: 394 | AB33: 546 | AC33: 330 | AD33: 385 | AE33: 329 | AF33: 322 | AG33: 355 | AH33: 294 | AI33: 300 | AJ33: 301 | AK33: 415 | AL33: 304 | AM33: 310 | AN33: 959 | AO33: 430 | AP33: 725 | AQ33: 417 | AR33: 357 | AS33: 348 | AT33: 762 | AU33: 1973 | AV33: 324 | AW33: 402 | AX33: 349 | AY33: 348 | AZ33: 479 | BA33: 332 | BB33: 322 | BC33: 350
A34: 43717.864 | B34: Иногда | C34: Редко | D34: Редко | E34: Часто | F34: Иногда | G34: Редко | H34: Редко | I34: Редко | J34: Редко | K34: Часто | L34: Я вполне продуктивно продвигаюсь к своим долгосрочным целям. Завалы если и случаются, то не часто | M34: Я успеваю разобраться с необходимой текучкой, и даже изредка могу посвящать силы долгосрочным планам | N34: 5 | O34: 343 | P34: 47 | R34: 28 | S34: 0 | T34: Mozilla/5.0 (iPhone; CPU iPhone OS 12_2 like Mac OS X) AppleWebKit/605.1.15 (KHTML, like Gecko) Mobile/15E148 [FBAN/FBIOS;FBDV/iPhone10,1;FBMD/iPhone;FBSN/iOS;FBSV/12.2;FBSS/2;FBCR/MegaFon;FBID/phone;FBLC/ru_RU;FBOP/5] | U34: =COUNTIF(Z34:BT34,">"&(O34+P34)) -> 3 | V34: =COUNTIF(Z34:BT34,">"&(O34+2*P34)) -> 2 | W34: =COUNTIF(Z34:BT34,">"&(O34+3*P34)) -> 2 | X34: =COUNTIF(Z34:BT34,">"&(O34+4*P34)) -> 2 | Y34: =COUNTIF(Z34:BT34,">"&(O34+6*P34)) -> 0 | Z34: 306 | AA34: 314 | AB34: 297 | AC34: 299 | AD34: 282 | AE34: 301 | AF34: 314 | AG34: 363 | AH34: 351 | AI34: 329 | AJ34: 333 | AK34: 330 | AL34: 350 | AM34: 596 | AN34: 335 | AO34: 431 | AP34: 346 | AQ34: 301 | AR34: 296 | AS34: 381 | AT34: 366 | AU34: 299 | AV34: 312 | AW34: 381 | AX34: 532 | AY34: 315 | AZ34: 301 | BA34: 263
A35: 43717.865 | B35: Иногда | C35: Иногда | D35: Иногда | E35: Иногда | F35: Иногда | G35: Часто | H35: Иногда | I35: Иногда | J35: Иногда | K35: Иногда | L35: Я успеваю разобраться с необходимой текучкой, и даже изредка могу посвящать силы долгосрочным планам | M35: Я успеваю разобраться с необходимой текучкой, и даже изредка могу посвящать силы долгосрочным планам | N35: 6 | O35: 460 | P35: 147 | R35: 22 | S35: 0 | T35: Mozilla/5.0 (Windows NT 6.1; Win64; x64) AppleWebKit/537.36 (KHTML, like Gecko) Chrome/76.0.3809.132 Safari/537.36 | U35: =COUNTIF(Z35:BT35,">"&(O35+P35)) -> 2 | V35: =COUNTIF(Z35:BT35,">"&(O35+2*P35)) -> 2 | W35: =COUNTIF(Z35:BT35,">"&(O35+3*P35)) -> 2 | X35: =COUNTIF(Z35:BT35,">"&(O35+4*P35)) -> 2 | Y35: =COUNTIF(Z35:BT35,">"&(O35+6*P35)) -> 0 | Z35: 594 | AA35: 520 | AB35: 432 | AC35: 451 | AD35: 469 | AE35: 1191 | AF35: 488 | AG35: 1119 | AH35: 332 | AI35: 354 | AJ35: 335 | AK35: 325 | AL35: 303 | AM35: 323 | AN35: 367 | AO35: 309 | AP35: 374 | AQ35: 333 | AR35: 347 | AS35: 402 | AT35: 450 | AU35: 308
A36: 43717.865 | B36: Часто | C36: Иногда | D36: Часто | E36: Часто | F36: Редко | G36: Часто | H36: Редко | I36: Иногда | J36: Редко | K36: Иногда | L36: Я успеваю разобраться с необходимой текучкой, и даже изредка могу посвящать силы долгосрочным планам | M36: Я успеваю разобраться с необходимой текучкой, и даже изредка могу посвящать силы долгосрочным планам | N36: 3 | O36: 486 | P36: 116 | R36: 23 | S36: 1 | T36: Mozilla/5.0 (Linux; Android 6.0.1; Redmi 4 Build/MMB29M; wv) AppleWebKit/537.36 (KHTML, like Gecko) Version/4.0 Chrome/76.0.3809.132 Mobile Safari/537.36 [FB_IAB/FB4A;FBAV/237.0.0.44.120;] | U36: =COUNTIF(Z36:BT36,">"&(O36+P36)) -> 3 | V36: =COUNTIF(Z36:BT36,">"&(O36+2*P36)) -> 1 | W36: =COUNTIF(Z36:BT36,">"&(O36+3*P36)) -> 1 | X36: =COUNTIF(Z36:BT36,">"&(O36+4*P36)) -> 1 | Y36: =COUNTIF(Z36:BT36,">"&(O36+6*P36)) -> 1 | Z36: 656 | AA36: 698 | AB36: 361 | AC36: 436 | AD36: 453 | AE36: 430 | AF36: 435 | AG36: 420 | AH36: 1236 | AI36: 377 | AJ36: 466 | AK36: 358 | AL36: 559 | AM36: 561 | AN36: 399 | AO36: 386 | AP36: 543 | AQ36: 436 | AR36: 352 | AS36: 416 | AT36: 446 | AU36: 370 | AV36: 387
A37: 43717.866 | B37: Практичеки всегда | C37: Часто | D37: Часто | E37: Иногда | F37: Иногда | G37: Иногда | H37: Иногда | I37: Часто | J37: Часто | K37: Редко | L37: Я успеваю разобраться с необходимой текучкой, и даже изредка могу посвящать силы долгосрочным планам | M37: Я вполне продуктивно продвигаюсь к своим долгосрочным целям. Завалы если и случаются, то не часто | N37: 1 | O37: 402 | P37: 169 | R37: 24 | S37: 1 | T37: Mozilla/5.0 (iPhone; CPU iPhone OS 12_4 like Mac OS X) AppleWebKit/605.1.15 (KHTML, like Gecko) Mobile/15E148 [FBAN/FBIOS;FBDV/iPhone9,3;FBMD/iPhone;FBSN/iOS;FBSV/12.4;FBSS/2;FBID/phone;FBLC/en_US;FBOP/5;FBCR/lifecell] | U37: =COUNTIF(Z37:BT37,">"&(O37+P37)) -> 3 | V37: =COUNTIF(Z37:BT37,">"&(O37+2*P37)) -> 1 | W37: =COUNTIF(Z37:BT37,">"&(O37+3*P37)) -> 1 | X37: =COUNTIF(Z37:BT37,">"&(O37+4*P37)) -> 1 | Y37: =COUNTIF(Z37:BT37,">"&(O37+6*P37)) -> 1 | Z37: 1918 | AA37: 663 | AB37: 329 | AC37: 299 | AD37: 285 | AE37: 274 | AF37: 289 | AG37: 447 | AH37: 265 | AI37: 267 | AJ37: 347 | AK37: 267 | AL37: 396 | AM37: 329 | AN37: 616 | AO37: 313 | AP37: 274 | AQ37: 321 | AR37: 333 | AS37: 281 | AT37: 297 | AU37: 299 | AV37: 299 | AW37: 259
A38: 43717.866 | B38: Иногда | C38: Редко | D38: Иногда | E38: Часто | F38: Иногда | G38: Часто | H38: Иногда | I38: Редко | J38: Редко | K38: Часто | L38: Я успеваю разобраться с необходимой текучкой, и даже изредка могу посвящать силы долгосрочным планам | M38: Я едва-едва успеваю выполнить необходимую текучку, но на долгосрочные планы не остается сил | N38: 3 | O38: 429 | P38: 89 | R38: 24 | S38: 5 | T38: Mozilla/5.0 (Linux; Android 6.0.1; MI 5s Build/MXB48T; wv) AppleWebKit/537.36 (KHTML, like Gecko) Version/4.0 Chrome/76.0.3809.132 Mobile Safari/537.36 [FB_IAB/FB4A;FBAV/237.0.0.44.120;] | U38: =COUNTIF(Z38:BT38,">"&(O38+P38)) -> 3 | V38: =COUNTIF(Z38:BT38,">"&(O38+2*P38)) -> 1 | W38: =COUNTIF(Z38:BT38,">"&(O38+3*P38)) -> 1 | X38: =COUNTIF(Z38:BT38,">"&(O38+4*P38)) -> 1 | Y38: =COUNTIF(Z38:BT38,">"&(O38+6*P38)) -> 1 | Z38: 1278 | AA38: 368 | AB38: 392 | AC38: 356 | AD38: 335 | AE38: 366 | AF38: 388 | AG38: 385 | AH38: 407 | AI38: 345 | AJ38: 340 | AK38: 539 | AL38: 436 | AM38: 384 | AN38: 406 | AO38: 362 | AP38: 369 | AQ38: 415 | AR38: 382 | AS38: 368 | AT38: 428 | AU38: 536 | AV38: 369 | AW38: 361
A39: 43717.866 | B39: Часто | C39: Иногда | D39: Часто | E39: Редко | F39: Редко | G39: Практичеки всегда | H39: Часто | I39: Практичеки всегда | J39: Часто | K39: Иногда | L39: Я едва-едва успеваю выполнить необходимую текучку, но на долгосрочные планы не остается сил | M39: Я успеваю разобраться с необходимой текучкой, и даже изредка могу посвящать силы долгосрочным планам | N39: 4 | O39: 403 | P39: 82 | R39: 25 | S39: 2 | T39: Mozilla/5.0 (iPhone; CPU iPhone OS 12_3_2 like Mac OS X) AppleWebKit/605.1.15 (KHTML, like Gecko) Version/12.1.1 Mobile/15E148 Safari/604.1 | U39: =COUNTIF(Z39:BT39,">"&(O39+P39)) -> 5 | V39: =COUNTIF(Z39:BT39,">"&(O39+2*P39)) -> 2 | W39: =COUNTIF(Z39:BT39,">"&(O39+3*P39)) -> 0 | X39: =COUNTIF(Z39:BT39,">"&(O39+4*P39)) -> 0 | Y39: =COUNTIF(Z39:BT39,">"&(O39+6*P39)) -> 0 | Z39: 343 | AA39: 364 | AB39: 332 | AC39: 365 | AD39: 315 | AE39: 332 | AF39: 386 | AG39: 345 | AH39: 382 | AI39: 519 | AJ39: 330 | AK39: 349 | AL39: 366 | AM39: 365 | AN39: 480 | AO39: 566 | AP39: 448 | AQ39: 283 | AR39: 647 | AS39: 298 | AT39: 616 | AU39: 567 | AV39: 316 | AW39: 413 | AX39: 348
A40: 43717.867 | B40: Часто | C40: Иногда | D40: Редко | E40: Часто | F40: Иногда | G40: Редко | H40: Иногда | I40: Редко | J40: Иногда | K40: Часто | L40: Я успеваю разобраться с необходимой текучкой, и даже изредка могу посвящать силы долгосрочным планам | M40: Я вполне продуктивно продвигаюсь к своим долгосрочным целям. Завалы если и случаются, то не часто | N40: 4 | O40: 322 | P40: 72 | R40: 26 | S40: 6 | T40: Mozilla/5.0 (iPhone; CPU iPhone OS 12_4 like Mac OS X) AppleWebKit/605.1.15 (KHTML, like Gecko) Mobile/15E148 [FBAN/FBIOS;FBDV/iPhone9,3;FBMD/iPhone;FBSN/iOS;FBSV/12.4;FBSS/2;FBID/phone;FBLC/ru_RU;FBOP/5;FBCR/MegaFon] | U40: =COUNTIF(Z40:BT40,">"&(O40+P40)) -> 2 | V40: =COUNTIF(Z40:BT40,">"&(O40+2*P40)) -> 1 | W40: =COUNTIF(Z40:BT40,">"&(O40+3*P40)) -> 1 | X40: =COUNTIF(Z40:BT40,">"&(O40+4*P40)) -> 1 | Y40: =COUNTIF(Z40:BT40,">"&(O40+6*P40)) -> 1 | Z40: 1032 | AA40: 327 | AB40: 257 | AC40: 261 | AD40: 336 | AE40: 297 | AF40: 419 | AG40: 269 | AH40: 273 | AI40: 350 | AJ40: 277 | AK40: 259 | AL40: 301 | AM40: 250 | AN40: 250 | AO40: 377 | AP40: 264 | AQ40: 365 | AR40: 263 | AS40: 271 | AT40: 278 | AU40: 287 | AV40: 312 | AW40: 285 | AX40: 258 | AY40: 267
A41: 43717.867 | B41: Часто | C41: Часто | D41: Часто | E41: Практически никогда | F41: Часто | G41: Часто | H41: Часто | I41: Часто | J41: Часто | K41: Редко | L41: Я не успеваю выполнять даже необходимый минимум | M41: Я не успеваю выполнять даже необходимый минимум | N41: 3 | O41: 422 | P41: 61 | R41: 23 | S41: 2 | T41: Mozilla/5.0 (Windows NT 10.0; Win64; x64) AppleWebKit/537.36 (KHTML, like Gecko) Chrome/76.0.3809.132 Safari/537.36 | U41: =COUNTIF(Z41:BT41,">"&(O41+P41)) -> 4 | V41: =COUNTIF(Z41:BT41,">"&(O41+2*P41)) -> 2 | W41: =COUNTIF(Z41:BT41,">"&(O41+3*P41)) -> 1 | X41: =COUNTIF(Z41:BT41,">"&(O41+4*P41)) -> 1 | Y41: =COUNTIF(Z41:BT41,">"&(O41+6*P41)) -> 0 | Z41: 698 | AA41: 477 | AB41: 411 | AC41: 411 | AD41: 592 | AE41: 354 | AF41: 420 | AG41: 531 | AH41: 373 | AI41: 396 | AJ41: 369 | AK41: 377 | AL41: 356 | AM41: 410 | AN41: 364 | AO41: 376 | AP41: 351 | AQ41: 505 | AR41: 370 | AS41: 355 | AT41: 391 | AU41: 395 | AV41: 435
A42: 43717.867 | B42: Часто | C42: Часто | D42: Часто | E42: Иногда | F42: Часто | G42: Иногда | H42: Редко | I42: Часто | J42: Иногда | K42: Иногда | L42: Я успеваю разобраться с необходимой текучкой, и даже изредка могу посвящать силы долгосрочным планам | M42: Я вполне продуктивно продвигаюсь к своим долгосрочным целям. Завалы если и случаются, то не часто | N42: 3 | O42: 282 | P42: 27 | R42: 23 | S42: 0 | T42: Mozilla/5.0 (Macintosh; Intel Mac OS X 10_14_5) AppleWebKit/537.36 (KHTML, like Gecko) Chrome/76.0.3809.132 Safari/537.36 | U42: =COUNTIF(Z42:BT42,">"&(O42+P42)) -> 3 | V42: =COUNTIF(Z42:BT42,">"&(O42+2*P42)) -> 1 | W42: =COUNTIF(Z42:BT42,">"&(O42+3*P42)) -> 1 | X42: =COUNTIF(Z42:BT42,">"&(O42+4*P42)) -> 1 | Y42: =COUNTIF(Z42:BT42,">"&(O42+6*P42)) -> 1 | Z42: 331 | AA42: 281 | AB42: 244 | AC42: 255 | AD42: 271 | AE42: 449 | AF42: 258 | AG42: 291 | AH42: 292 | AI42: 303 | AJ42: 315 | AK42: 242 | AL42: 227 | AM42: 261 | AN42: 305 | AO42: 281 | AP42: 244 | AQ42: 273 | AR42: 273 | AS42: 249 | AT42: 287 | AU42: 292 | AV42: 278
A43: 43717.868 | B43: Иногда | C43: Иногда | D43: Редко | E43: Практичеки всегда | F43: Иногда | G43: Редко | H43: Практически никогда | I43: Редко | J43: Редко | K43: Практичеки всегда | L43: Я вполне продуктивно продвигаюсь к своим долгосрочным целям. Завалы если и случаются, то не часто | M43: Я вполне продуктивно продвигаюсь к своим долгосрочным целям. Завалы если и случаются, то не часто | N43: 5 | O43: 401 | P43: 62 | R43: 27 | S43: 0 | T43: Mozilla/5.0 (Macintosh; Intel Mac OS X 10_14_6) AppleWebKit/537.36 (KHTML, like Gecko) Chrome/76.0.3809.132 Safari/537.36 | U43: =COUNTIF(Z43:BT43,">"&(O43+P43)) -> 4 | V43: =COUNTIF(Z43:BT43,">"&(O43+2*P43)) -> 1 | W43: =COUNTIF(Z43:BT43,">"&(O43+3*P43)) -> 1 | X43: =COUNTIF(Z43:BT43,">"&(O43+4*P43)) -> 1 | Y43: =COUNTIF(Z43:BT43,">"&(O43+6*P43)) -> 1 | Z43: 988 | AA43: 422 | AB43: 466 | AC43: 402 | AD43: 416 | AE43: 390 | AF43: 399 | AG43: 385 | AH43: 471 | AI43: 398 | AJ43: 320 | AK43: 330 | AL43: 317 | AM43: 367 | AN43: 328 | AO43: 335 | AP43: 307 | AQ43: 351 | AR43: 380 | AS43: 371 | AT43: 377 | AU43: 355 | AV43: 467 | AW43: 350 | AX43: 365 | AY43: 426 | AZ43: 360
A44: 43717.869 | B44: Практичеки всегда | C44: Практичеки всегда | D44: Практичеки всегда | E44: Практически никогда | F44: Практичеки всегда | G44: Практичеки всегда | H44: Практичеки всегда | I44: Редко | J44: Практичеки всегда | K44: Практически никогда | L44: Я едва-едва успеваю выполнить необходимую текучку, но на долгосрочные планы не остается сил | M44: Я едва-едва успеваю выполнить необходимую текучку, но на долгосрочные планы не остается сил | N44: 2 | O44: 283 | P44: 54 | R44: 29 | S44: 0 | T44: Mozilla/5.0 (Windows NT 6.1; Win64; x64) AppleWebKit/537.36 (KHTML, like Gecko) Chrome/76.0.3809.100 Safari/537.36 OPR/63.0.3368.53 | U44: =COUNTIF(Z44:BT44,">"&(O44+P44)) -> 3 | V44: =COUNTIF(Z44:BT44,">"&(O44+2*P44)) -> 2 | W44: =COUNTIF(Z44:BT44,">"&(O44+3*P44)) -> 2 | X44: =COUNTIF(Z44:BT44,">"&(O44+4*P44)) -> 2 | Y44: =COUNTIF(Z44:BT44,">"&(O44+6*P44)) -> 1 | Z44: 623 | AA44: 281 | AB44: 553 | AC44: 368 | AD44: 246 | AE44: 235 | AF44: 306 | AG44: 223 | AH44: 250 | AI44: 247 | AJ44: 231 | AK44: 279 | AL44: 241 | AM44: 257 | AN44: 237 | AO44: 238 | AP44: 275 | AQ44: 239 | AR44: 244 | AS44: 282 | AT44: 294 | AU44: 238 | AV44: 313 | AW44: 239 | AX44: 223 | AY44: 247 | AZ44: 246 | BA44: 314 | BB44: 262
A45: 43717.869 | B45: Часто | C45: Часто | D45: Практичеки всегда | E45: Иногда | F45: Часто | G45: Практичеки всегда | H45: Практичеки всегда | I45: Практичеки всегда | J45: Практичеки всегда | K45: Редко | L45: Я не успеваю выполнять даже необходимый минимум | M45: Я едва-едва успеваю выполнить необходимую текучку, но на долгосрочные планы не остается сил | N45: 2 | O45: 552 | P45: 103 | R45: 26 | S45: 0 | T45: Mozilla/5.0 (Windows NT 10.0; Win64; x64) AppleWebKit/537.36 (KHTML, like Gecko) Chrome/76.0.3809.132 Safari/537.36 | U45: =COUNTIF(Z45:BT45,">"&(O45+P45)) -> 1 | V45: =COUNTIF(Z45:BT45,">"&(O45+2*P45)) -> 1 | W45: =COUNTIF(Z45:BT45,">"&(O45+3*P45)) -> 1 | X45: =COUNTIF(Z45:BT45,">"&(O45+4*P45)) -> 1 | Y45: =COUNTIF(Z45:BT45,">"&(O45+6*P45)) -> 1 | Z45: 1707 | AA45: 582 | AB45: 509 | AC45: 487 | AD45: 600 | AE45: 487 | AF45: 576 | AG45: 591 | AH45: 445 | AI45: 477 | AJ45: 512 | AK45: 423 | AL45: 575 | AM45: 576 | AN45: 518 | AO45: 462 | AP45: 455 | AQ45: 494 | AR45: 480 | AS45: 502 | AT45: 430 | AU45: 470 | AV45: 471 | AW45: 471 | AX45: 559 | AY45: 494
A46: 43717.871 | B46: Иногда | C46: Редко | D46: Часто | E46: Часто | F46: Редко | G46: Иногда | H46: Редко | I46: Иногда | J46: Редко | K46: Часто | L46: Я успеваю разобраться с необходимой текучкой, и даже изредка могу посвящать силы долгосрочным планам | M46: Я успеваю разобраться с необходимой текучкой, и даже изредка могу посвящать силы долгосрочным планам | N46: 5 | O46: 432 | P46: 85 | R46: 24 | S46: 0 | T46: Mozilla/5.0 (Linux; Android 9; SM-A505FM Build/PPR1.180610.011; wv) AppleWebKit/537.36 (KHTML, like Gecko) Version/4.0 Chrome/76.0.3809.132 Mobile Safari/537.36 [FB_IAB/FB4A;FBAV/237.0.0.44.120;] | U46: =COUNTIF(Z46:BT46,">"&(O46+P46)) -> 2 | V46: =COUNTIF(Z46:BT46,">"&(O46+2*P46)) -> 1 | W46: =COUNTIF(Z46:BT46,">"&(O46+3*P46)) -> 1 | X46: =COUNTIF(Z46:BT46,">"&(O46+4*P46)) -> 1 | Y46: =COUNTIF(Z46:BT46,">"&(O46+6*P46)) -> 1 | Z46: 1166 | AA46: 567 | AB46: 503 | AC46: 445 | AD46: 424 | AE46: 372 | AF46: 392 | AG46: 417 | AH46: 406 | AI46: 396 | AJ46: 392 | AK46: 360 | AL46: 361 | AM46: 388 | AN46: 355 | AO46: 379 | AP46: 391 | AQ46: 335 | AR46: 373 | AS46: 352 | AT46: 367 | AU46: 381 | AV46: 503 | AW46: 354
A47: 43717.871 | B47: Редко | C47: Редко | D47: Иногда | E47: Практичеки всегда | F47: Редко | G47: Часто | H47: Иногда | I47: Редко | J47: Редко | K47: Иногда | L47: Я едва-едва успеваю выполнить необходимую текучку, но на долгосрочные планы не остается сил | M47: Я успеваю разобраться с необходимой текучкой, и даже изредка могу посвящать силы долгосрочным планам | N47: 5 | O47: 342 | P47: 31 | R47: 27 | S47: 3 | T47: Mozilla/5.0 (iPhone; CPU iPhone OS 13_1 like Mac OS X) AppleWebKit/605.1.15 (KHTML, like Gecko) Mobile/15E148 [FBAN/FBIOS;FBDV/iPhone10,6;FBMD/iPhone;FBSN/iOS;FBSV/13.1;FBSS/3;FBID/phone;FBLC/en_US;FBOP/5;FBCR/Beeline] | U47: =COUNTIF(Z47:BT47,">"&(O47+P47)) -> 4 | V47: =COUNTIF(Z47:BT47,">"&(O47+2*P47)) -> 2 | W47: =COUNTIF(Z47:BT47,">"&(O47+3*P47)) -> 1 | X47: =COUNTIF(Z47:BT47,">"&(O47+4*P47)) -> 1 | Y47: =COUNTIF(Z47:BT47,">"&(O47+6*P47)) -> 1 | Z47: 597 | AA47: 386 | AB47: 377 | AC47: 339 | AD47: 412 | AE47: 331 | AF47: 341 | AG47: 343 | AH47: 352 | AI47: 336 | AJ47: 300 | AK47: 335 | AL47: 348 | AM47: 341 | AN47: 336 | AO47: 309 | AP47: 296 | AQ47: 303 | AR47: 333 | AS47: 326 | AT47: 317 | AU47: 335 | AV47: 316 | AW47: 291 | AX47: 300 | AY47: 300 | AZ47: 350
A48: 43717.872 | B48: Редко | C48: Редко | D48: Редко | E48: Часто | F48: Редко | G48: Редко | H48: Редко | I48: Редко | J48: Иногда | K48: Иногда | L48: Я успеваю разобраться с необходимой текучкой, и даже изредка могу посвящать силы долгосрочным планам | M48: Я успеваю разобраться с необходимой текучкой, и даже изредка могу посвящать силы долгосрочным планам | N48: 3 | O48: 339 | P48: 36 | R48: 28 | S48: 4 | T48: Mozilla/5.0 (Linux; Android 9; SM-G9730) AppleWebKit/537.36 (KHTML, like Gecko) Chrome/76.0.3809.132 Mobile Safari/537.36 | U48: =COUNTIF(Z48:BT48,">"&(O48+P48)) -> 7 | V48: =COUNTIF(Z48:BT48,">"&(O48+2*P48)) -> 2 | W48: =COUNTIF(Z48:BT48,">"&(O48+3*P48)) -> 0 | X48: =COUNTIF(Z48:BT48,">"&(O48+4*P48)) -> 0 | Y48: =COUNTIF(Z48:BT48,">"&(O48+6*P48)) -> 0 | Z48: 400 | AA48: 344 | AB48: 426 | AC48: 314 | AD48: 317 | AE48: 336 | AF48: 308 | AG48: 295 | AH48: 271 | AI48: 324 | AJ48: 412 | AK48: 265 | AL48: 290 | AM48: 303 | AN48: 315 | AO48: 392 | AP48: 308 | AQ48: 287 | AR48: 398 | AS48: 342 | AT48: 384 | AU48: 347 | AV48: 410 | AW48: 329 | AX48: 338 | AY48: 322 | AZ48: 362 | BA48: 363
A49: 43717.872 | B49: Часто | C49: Практичеки всегда | D49: Часто | E49: Часто | F49: Часто | G49: Практичеки всегда | H49: Редко | I49: Иногда | J49: Редко | K49: Часто | L49: Я не успеваю выполнять даже необходимый минимум | M49: Я успеваю разобраться с необходимой текучкой, и даже изредка могу посвящать силы долгосрочным планам | N49: 3 | O49: 353 | P49: 33 | R49: 25 | S49: 5 | T49: Mozilla/5.0 (Linux; Android 9; Nokia 6.1 Plus Build/PPR1.180610.011; wv) AppleWebKit/537.36 (KHTML, like Gecko) Version/4.0 Chrome/76.0.3809.132 Mobile Safari/537.36 [FB_IAB/FB4A;FBAV/237.0.0.44.120;] | U49: =COUNTIF(Z49:BT49,">"&(O49+P49)) -> 5 | V49: =COUNTIF(Z49:BT49,">"&(O49+2*P49)) -> 1 | W49: =COUNTIF(Z49:BT49,">"&(O49+3*P49)) -> 0 | X49: =COUNTIF(Z49:BT49,">"&(O49+4*P49)) -> 0 | Y49: =COUNTIF(Z49:BT49,">"&(O49+6*P49)) -> 0 | Z49: 439 | AA49: 408 | AB49: 362 | AC49: 364 | AD49: 336 | AE49: 376 | AF49: 315 | AG49: 341 | AH49: 333 | AI49: 360 | AJ49: 363 | AK49: 402 | AL49: 369 | AM49: 384 | AN49: 305 | AO49: 392 | AP49: 350 | AQ49: 391 | AR49: 378 | AS49: 212 | AT49: 345 | AU49: 367 | AV49: 303 | AW49: 373 | AX49: 271
A50: 43717.872 | B50: Часто | C50: Иногда | D50: Иногда | E50: Практичеки всегда | F50: Редко | G50: Иногда | H50: Иногда | I50: Редко | J50: Редко | K50: Часто | L50: Я успеваю разобраться с необходимой текучкой, и даже изредка могу посвящать силы долгосрочным планам | M50: Я успеваю разобраться с необходимой текучкой, и даже изредка могу посвящать силы долгосрочным планам | N50: 3 | O50: 355 | P50: 39 | R50: 28 | S50: 0 | T50: Mozilla/5.0 (iPhone; CPU iPhone OS 12_4_1 like Mac OS X) AppleWebKit/605.1.15 (KHTML, like Gecko) Version/12.1.2 Mobile/15E148 Safari/604.1 | U50: =COUNTIF(Z50:BT50,">"&(O50+P50)) -> 4 | V50: =COUNTIF(Z50:BT50,">"&(O50+2*P50)) -> 2 | W50: =COUNTIF(Z50:BT50,">"&(O50+3*P50)) -> 1 | X50: =COUNTIF(Z50:BT50,">"&(O50+4*P50)) -> 1 | Y50: =COUNTIF(Z50:BT50,">"&(O50+6*P50)) -> 0 | Z50: 570 | AA50: 377 | AB50: 324 | AC50: 322 | AD50: 327 | AE50: 462 | AF50: 319 | AG50: 400 | AH50: 349 | AI50: 312 | AJ50: 334 | AK50: 365 | AL50: 347 | AM50: 315 | AN50: 312 | AO50: 315 | AP50: 335 | AQ50: 381 | AR50: 314 | AS50: 328 | AT50: 367 | AU50: 328 | AV50: 419 | AW50: 309 | AX50: 320 | AY50: 384 | AZ50: 380 | BA50: 348
A51: 43717.872 | B51: Часто | C51: Часто | D51: Практичеки всегда | E51: Иногда | F51: Иногда | G51: Часто | H51: Часто | I51: Иногда | J51: Часто | K51: Редко | L51: Я едва-едва успеваю выполнить необходимую текучку, но на долгосрочные планы не остается сил | M51: Я едва-едва успеваю выполнить необходимую текучку, но на долгосрочные планы не остается сил | N51: 4 | O51: 403 | P51: 74 | R51: 25 | S51: 1 | T51: Mozilla/5.0 (iPhone; CPU iPhone OS 13_0 like Mac OS X) AppleWebKit/605.1.15 (KHTML, like Gecko) Version/13.0 Mobile/15E148 Safari/604.1 | U51: =COUNTIF(Z51:BT51,">"&(O51+P51)) -> 3 | V51: =COUNTIF(Z51:BT51,">"&(O51+2*P51)) -> 3 | W51: =COUNTIF(Z51:BT51,">"&(O51+3*P51)) -> 2 | X51: =COUNTIF(Z51:BT51,">"&(O51+4*P51)) -> 1 | Y51: =COUNTIF(Z51:BT51,">"&(O51+6*P51)) -> 0 | Z51: 843 | AA51: 569 | AB51: 379 | AC51: 413 | AD51: 365 | AE51: 367 | AF51: 313 | AG51: 364 | AH51: 349 | AI51: 413 | AJ51: 316 | AK51: 357 | AL51: 284 | AM51: 354 | AN51: 336 | AO51: 433 | AP51: 396 | AQ51: 404 | AR51: 397 | AS51: 638 | AT51: 344 | AU51: 327 | AV51: 385 | AW51: 291 | AX51: 451
A52: 43717.872 | B52: Иногда | C52: Иногда | D52: Иногда | E52: Часто | F52: Иногда | G52: Иногда | H52: Иногда | I52: Иногда | J52: Иногда | K52: Иногда | L52: Я успеваю разобраться с необходимой текучкой, и даже изредка могу посвящать силы долгосрочным планам | M52: Я успеваю разобраться с необходимой текучкой, и даже изредка могу посвящать силы долгосрочным планам | N52: 5 | O52: 415 | P52: 114 | R52: 22 | S52: 5 | T52: Mozilla/5.0 (Macintosh; Intel Mac OS X 10_14_6) AppleWebKit/537.36 (KHTML, like Gecko) Chrome/75.0.3770.142 Safari/537.36 OPR/62.0.3331.119 | U52: =COUNTIF(Z52:BT52,">"&(O52+P52)) -> 2 | V52: =COUNTIF(Z52:BT52,">"&(O52+2*P52)) -> 2 | W52: =COUNTIF(Z52:BT52,">"&(O52+3*P52)) -> 2 | X52: =COUNTIF(Z52:BT52,">"&(O52+4*P52)) -> 2 | Y52: =COUNTIF(Z52:BT52,">"&(O52+6*P52)) -> 0 | Z52: 960 | AA52: 955 | AB52: 506 | AC52: 427 | AD52: 375 | AE52: 379 | AF52: 433 | AG52: 373 | AH52: 383 | AI52: 332 | AJ52: 376 | AK52: 334 | AL52: 341 | AM52: 397 | AN52: 318 | AO52: 339 | AP52: 290 | AQ52: 372 | AR52: 408 | AS52: 464 | AT52: 76 | AU52: 295
A53: 43717.872 | B53: Иногда | C53: Иногда | D53: Редко | E53: Практически никогда | F53: Редко | G53: Редко | H53: Редко | I53: Иногда | J53: Практичеки всегда | K53: Практически никогда | L53: Я успеваю разобраться с необходимой текучкой, и даже изредка могу посвящать силы долгосрочным планам | M53: Я вполне продуктивно продвигаюсь к своим долгосрочным целям. Завалы если и случаются, то не часто | N53: 5 | O53: 479 | P53: 122 | R53: 28 | S53: 1 | T53: Mozilla/5.0 (iPhone; CPU iPhone OS 12_4_1 like Mac OS X) AppleWebKit/605.1.15 (KHTML, like Gecko) Version/12.1.2 Mobile/15E148 Safari/604.1 | U53: =COUNTIF(Z53:BT53,">"&(O53+P53)) -> 3 | V53: =COUNTIF(Z53:BT53,">"&(O53+2*P53)) -> 2 | W53: =COUNTIF(Z53:BT53,">"&(O53+3*P53)) -> 1 | X53: =COUNTIF(Z53:BT53,">"&(O53+4*P53)) -> 1 | Y53: =COUNTIF(Z53:BT53,">"&(O53+6*P53)) -> 1 | Z53: 771 | AA53: 716 | AB53: 478 | AC53: 449 | AD53: 499 | AE53: 464 | AF53: 345 | AG53: 386 | AH53: 464 | AI53: 344 | AJ53: 420 | AK53: 417 | AL53: 363 | AM53: 346 | AN53: 335 | AO53: 396 | AP53: 1382 | AQ53: 449 | AR53: 597 | AS53: 382 | AT53: 365 | AU53: 593 | AV53: 355 | AW53: 364 | AX53: 519 | AY53: 428 | AZ53: 398 | BA53: 414
A54: 43717.872 | B54: Иногда | C54: Редко | D54: Иногда | E54: Часто | F54: Редко | G54: Редко | H54: Редко | I54: Практически никогда | J54: Редко | K54: Иногда | L54: Я вполне продуктивно продвигаюсь к своим долгосрочным целям. Завалы если и случаются, то не часто | M54: Я вполне продуктивно продвигаюсь к своим долгосрочным целям. Завалы если и случаются, то не часто | N54: 6 | O54: 322 | P54: 21 | R54: 27 | S54: 4 | T54: Mozilla/5.0 (Macintosh; Intel Mac OS X 10_14_6) AppleWebKit/537.36 (KHTML, like Gecko) Chrome/75.0.3770.100 YaBrowser/19.7.0.2015 Yowser/2.5 Safari/537.36 | U54: =COUNTIF(Z54:BT54,">"&(O54+P54)) -> 7 | V54: =COUNTIF(Z54:BT54,">"&(O54+2*P54)) -> 2 | W54: =COUNTIF(Z54:BT54,">"&(O54+3*P54)) -> 0 | X54: =COUNTIF(Z54:BT54,">"&(O54+4*P54)) -> 0 | Y54: =COUNTIF(Z54:BT54,">"&(O54+6*P54)) -> 0 | Z54: 369 | AA54: 354 | AB54: 327 | AC54: 300 | AD54: 361 | AE54: 310 | AF54: 289 | AG54: 350 | AH54: 317 | AI54: 277 | AJ54: 360 | AK54: 292 | AL54: 324 | AM54: 293 | AN54: 295 | AO54: 318 | AP54: 372 | AQ54: 307 | AR54: 357 | AS54: 327 | AT54: 330 | AU54: 301 | AV54: 306 | AW54: 301 | AX54: 327 | AY54: 319 | AZ54: 318
A55: 43717.873 | B55: Часто | C55: Иногда | D55: Часто | E55: Часто | F55: Иногда | G55: Иногда | H55: Иногда | I55: Иногда | J55: Иногда | K55: Часто | L55: Я успеваю разобраться с необходимой текучкой, и даже изредка могу посвящать силы долгосрочным планам | M55: Я вполне продуктивно продвигаюсь к своим долгосрочным целям. Завалы если и случаются, то не часто | O55: 408 | P55: 149 | R55: 23 | S55: 3 | T55: Mozilla/5.0 (Macintosh; Intel Mac OS X 10.14; rv:68.0) Gecko/20100101 Firefox/68.0 | U55: =COUNTIF(Z55:BT55,">"&(O55+P55)) -> 4 | V55: =COUNTIF(Z55:BT55,">"&(O55+2*P55)) -> 3 | W55: =COUNTIF(Z55:BT55,">"&(O55+3*P55)) -> 1 | X55: =COUNTIF(Z55:BT55,">"&(O55+4*P55)) -> 0 | Y55: =COUNTIF(Z55:BT55,">"&(O55+6*P55)) -> 0 | Z55: 981 | AA55: 663 | AB55: 739 | AC55: 537 | AD55: 305 | AE55: 340 | AF55: 380 | AG55: 459 | AH55: 293 | AI55: 228 | AJ55: 271 | AK55: 279 | AL55: 253 | AM55: 246 | AN55: 302 | AO55: 287 | AP55: 792 | AQ55: 339 | AR55: 356 | AS55: 395 | AT55: 335 | AU55: 308 | AV55: 300
A56: 43717.873 | B56: Часто | C56: Иногда | D56: Редко | E56: Практичеки всегда | F56: Иногда | G56: Часто | H56: Редко | I56: Часто | J56: Часто | K56: Практичеки всегда | L56: Я успеваю разобраться с необходимой текучкой, и даже изредка могу посвящать силы долгосрочным планам | M56: Я успеваю разобраться с необходимой текучкой, и даже изредка могу посвящать силы долгосрочным планам | N56: 5 | O56: 471 | P56: 53 | R56: 27 | S56: 4 | T56: Mozilla/5.0 (Linux; Android 9; STF-L09 Build/HUAWEISTF-L09; wv) AppleWebKit/537.36 (KHTML, like Gecko) Version/4.0 Chrome/76.0.3809.132 Mobile Safari/537.36 [FB_IAB/FB4A;FBAV/237.0.0.44.120;] | U56: =COUNTIF(Z56:BT56,">"&(O56+P56)) -> 2 | V56: =COUNTIF(Z56:BT56,">"&(O56+2*P56)) -> 2 | W56: =COUNTIF(Z56:BT56,">"&(O56+3*P56)) -> 2 | X56: =COUNTIF(Z56:BT56,">"&(O56+4*P56)) -> 2 | Y56: =COUNTIF(Z56:BT56,">"&(O56+6*P56)) -> 0 | Z56: 701 | AA56: 509 | AB56: 521 | AC56: 483 | AD56: 475 | AE56: 424 | AF56: 475 | AG56: 393 | AH56: 387 | AI56: 466 | AJ56: 431 | AK56: 421 | AL56: 396 | AM56: 467 | AN56: 399 | AO56: 418 | AP56: 384 | AQ56: 428 | AR56: 417 | AS56: 457 | AT56: 747 | AU56: 480 | AV56: 491 | AW56: 520 | AX56: 504 | AY56: 473 | AZ56: 462
A57: 43717.875 | B57: Часто | C57: Иногда | D57: Иногда | E57: Часто | F57: Редко | G57: Редко | H57: Редко | I57: Иногда | J57: Иногда | K57: Часто | L57: Я успеваю разобраться с необходимой текучкой, и даже изредка могу посвящать силы долгосрочным планам | M57: Я успеваю разобраться с необходимой текучкой, и даже изредка могу посвящать силы долгосрочным планам | N57: 3 | O57: 660 | P57: 253 | R57: 23 | S57: 2 | T57: Mozilla/5.0 (Linux; Android 9; MI 8 Build/PKQ1.180729.001; wv) AppleWebKit/537.36 (KHTML, like Gecko) Version/4.0 Chrome/76.0.3809.132 Mobile Safari/537.36 [FB_IAB/FB4A;FBAV/237.0.0.44.120;] | U57: =COUNTIF(Z57:BT57,">"&(O57+P57)) -> 5 | V57: =COUNTIF(Z57:BT57,">"&(O57+2*P57)) -> 2 | W57: =COUNTIF(Z57:BT57,">"&(O57+3*P57)) -> 1 | X57: =COUNTIF(Z57:BT57,">"&(O57+4*P57)) -> 0 | Y57: =COUNTIF(Z57:BT57,">"&(O57+6*P57)) -> 0 | Z57: 1589 | AA57: 483 | AB57: 582 | AC57: 415 | AD57: 418 | AE57: 490 | AF57: 665 | AG57: 537 | AH57: 398 | AI57: 844 | AJ57: 625 | AK57: 333 | AL57: 1082 | AM57: 938 | AN57: 1223 | AO57: 340 | AP57: 503 | AQ57: 654 | AR57: 410 | AS57: 435 | AT57: 1116 | AU57: 367 | AV57: 740
A58: 43717.875 | B58: Часто | C58: Иногда | D58: Часто | E58: Иногда | F58: Редко | G58: Иногда | H58: Иногда | I58: Практически никогда | J58: Практически никогда | K58: Редко | L58: Я едва-едва успеваю выполнить необходимую текучку, но на долгосрочные планы не остается сил | M58: Я едва-едва успеваю выполнить необходимую текучку, но на долгосрочные планы не остается сил | N58: 5 | O58: 436 | P58: 52 | R58: 25 | S58: 2 | T58: Mozilla/5.0 (Linux; Android 9; SM-G960F Build/PPR1.180610.011; wv) AppleWebKit/537.36 (KHTML, like Gecko) Version/4.0 Chrome/76.0.3809.132 Mobile Safari/537.36 [FB_IAB/FB4A;FBAV/237.0.0.44.120;] | U58: =COUNTIF(Z58:BT58,">"&(O58+P58)) -> 3 | V58: =COUNTIF(Z58:BT58,">"&(O58+2*P58)) -> 2 | W58: =COUNTIF(Z58:BT58,">"&(O58+3*P58)) -> 1 | X58: =COUNTIF(Z58:BT58,">"&(O58+4*P58)) -> 1 | Y58: =COUNTIF(Z58:BT58,">"&(O58+6*P58)) -> 1 | Z58: 559 | AA58: 833 | AB58: 464 | AC58: 427 | AD58: 413 | AE58: 412 | AF58: 444 | AG58: 399 | AH58: 439 | AI58: 396 | AJ58: 380 | AK58: 403 | AL58: 368 | AM58: 461 | AN58: 374 | AO58: 449 | AP58: 387 | AQ58: 392 | AR58: 412 | AS58: 362 | AT58: 433 | AU58: 505 | AV58: 379 | AW58: 436 | AX58: 391
A59: 43717.875 | B59: Редко | C59: Редко | D59: Редко | E59: Часто | F59: Редко | G59: Редко | H59: Практически никогда | I59: Практически никогда | J59: Редко | K59: Часто | L59: Я вполне продуктивно продвигаюсь к своим долгосрочным целям. Завалы если и случаются, то не часто | M59: Я вполне продуктивно продвигаюсь к своим долгосрочным целям. Завалы если и случаются, то не часто | N59: 7 | O59: 310 | P59: 15 | R59: 27 | S59: 2 | T59: Mozilla/5.0 (Macintosh; Intel Mac OS X 10_14_6) AppleWebKit/537.36 (KHTML, like Gecko) Chrome/75.0.3770.100 YaBrowser/19.7.0.2015 Yowser/2.5 Safari/537.36 | U59: =COUNTIF(Z59:BT59,">"&(O59+P59)) -> 4 | V59: =COUNTIF(Z59:BT59,">"&(O59+2*P59)) -> 2 | W59: =COUNTIF(Z59:BT59,">"&(O59+3*P59)) -> 1 | X59: =COUNTIF(Z59:BT59,">"&(O59+4*P59)) -> 0 | Y59: =COUNTIF(Z59:BT59,">"&(O59+6*P59)) -> 0 | Z59: 302 | AA59: 314 | AB59: 319 | AC59: 291 | AD59: 304 | AE59: 302 | AF59: 293 | AG59: 315 | AH59: 274 | AI59: 334 | AJ59: 295 | AK59: 324 | AL59: 316 | AM59: 319 | AN59: 270 | AO59: 306 | AP59: 305 | AQ59: 319 | AR59: 320 | AS59: 319 | AT59: 311 | AU59: 293 | AV59: 344 | AW59: 295 | AX59: 299 | AY59: 365 | AZ59: 327
A60: 43717.875 | B60: Часто | C60: Часто | D60: Часто | E60: Иногда | F60: Редко | G60: Иногда | H60: Иногда | I60: Иногда | J60: Иногда | K60: Иногда | L60: Я успеваю разобраться с необходимой текучкой, и даже изредка могу посвящать силы долгосрочным планам | M60: Я успеваю разобраться с необходимой текучкой, и даже изредка могу посвящать силы долгосрочным планам | N60: 5 | O60: 305 | P60: 73 | R60: 27 | S60: 2 | T60: Mozilla/5.0 (Windows NT 6.3; Win64; x64) AppleWebKit/537.36 (KHTML, like Gecko) Chrome/76.0.3809.132 Safari/537.36 | U60: =COUNTIF(Z60:BT60,">"&(O60+P60)) -> 3 | V60: =COUNTIF(Z60:BT60,">"&(O60+2*P60)) -> 3 | W60: =COUNTIF(Z60:BT60,">"&(O60+3*P60)) -> 2 | X60: =COUNTIF(Z60:BT60,">"&(O60+4*P60)) -> 1 | Y60: =COUNTIF(Z60:BT60,">"&(O60+6*P60)) -> 1 | Z60: 816 | AA60: 336 | AB60: 503 | AC60: 544 | AD60: 272 | AE60: 272 | AF60: 246 | AG60: 272 | AH60: 319 | AI60: 281 | AJ60: 270 | AK60: 247 | AL60: 232 | AM60: 240 | AN60: 263 | AO60: 265 | AP60: 256 | AQ60: 254 | AR60: 265 | AS60: 286 | AT60: 240 | AU60: 256 | AV60: 226 | AW60: 245 | AX60: 264 | AY60: 296 | AZ60: 287
A61: 43717.875 | B61: Часто | C61: Часто | D61: Часто | E61: Иногда | F61: Часто | G61: Практически никогда | H61: Практически никогда | I61: Редко | J61: Редко | K61: Часто | L61: Я успеваю разобраться с необходимой текучкой, и даже изредка могу посвящать силы долгосрочным планам | M61: Я вполне продуктивно продвигаюсь к своим долгосрочным целям. Завалы если и случаются, то не часто | N61: 5 | O61: 408 | P61: 52 | R61: 25 | S61: 1 | T61: Mozilla/5.0 (Linux; Android 8.0.0; SM-A750FN Build/R16NW; wv) AppleWebKit/537.36 (KHTML, like Gecko) Version/4.0 Chrome/75.0.3770.143 Mobile Safari/537.36 [FB_IAB/FB4A;FBAV/236.0.0.40.117;] | U61: =COUNTIF(Z61:BT61,">"&(O61+P61)) -> 4 | V61: =COUNTIF(Z61:BT61,">"&(O61+2*P61)) -> 3 | W61: =COUNTIF(Z61:BT61,">"&(O61+3*P61)) -> 2 | X61: =COUNTIF(Z61:BT61,">"&(O61+4*P61)) -> 0 | Y61: =COUNTIF(Z61:BT61,">"&(O61+6*P61)) -> 0 | Z61: 559 | AA61: 602 | AB61: 405 | AC61: 476 | AD61: 408 | AE61: 432 | AF61: 395 | AG61: 405 | AH61: 371 | AI61: 359 | AJ61: 402 | AK61: 392 | AL61: 353 | AM61: 394 | AN61: 364 | AO61: 337 | AP61: 344 | AQ61: 364 | AR61: 375 | AS61: 343 | AT61: 357 | AU61: 342 | AV61: 585 | AW61: 455 | AX61: 386
A62: 43717.876 | B62: Иногда | C62: Редко | D62: Иногда | E62: Иногда | F62: Редко | G62: Практичеки всегда | H62: Иногда | I62: Практически никогда | J62: Редко | K62: Иногда | L62: Я успеваю разобраться с необходимой текучкой, и даже изредка могу посвящать силы долгосрочным планам | M62: Я успеваю разобраться с необходимой текучкой, и даже изредка могу посвящать силы долгосрочным планам | N62: 4 | O62: 419 | P62: 88 | R62: 23 | S62: 4 | T62: Mozilla/5.0 (Linux; Android 7.0; Redmi Note 4) AppleWebKit/537.36 (KHTML, like Gecko) Chrome/76.0.3809.132 Mobile Safari/537.36 | U62: =COUNTIF(Z62:BT62,">"&(O62+P62)) -> 2 | V62: =COUNTIF(Z62:BT62,">"&(O62+2*P62)) -> 1 | W62: =COUNTIF(Z62:BT62,">"&(O62+3*P62)) -> 1 | X62: =COUNTIF(Z62:BT62,">"&(O62+4*P62)) -> 1 | Y62: =COUNTIF(Z62:BT62,">"&(O62+6*P62)) -> 1 | Z62: 1150 | AA62: 581 | AB62: 504 | AC62: 380 | AD62: 372 | AE62: 340 | AF62: 370 | AG62: 372 | AH62: 385 | AI62: 348 | AJ62: 352 | AK62: 334 | AL62: 333 | AM62: 347 | AN62: 370 | AO62: 340 | AP62: 352 | AQ62: 401 | AR62: 421 | AS62: 457 | AT62: 394 | AU62: 363 | AV62: 375
A63: 43717.876 | B63: Иногда | C63: Редко | D63: Часто | E63: Часто | F63: Практически никогда | G63: Иногда | H63: Иногда | I63: Иногда | J63: Иногда | K63: Часто | L63: Я едва-едва успеваю выполнить необходимую текучку, но на долгосрочные планы не остается сил | M63: Я едва-едва успеваю выполнить необходимую текучку, но на долгосрочные планы не остается сил | N63: 3 | O63: 397 | P63: 69 | R63: 25 | S63: 2 | T63: Mozilla/5.0 (Linux; Android 9; VOG-L29) AppleWebKit/537.36 (KHTML, like Gecko) Chrome/76.0.3809.132 Mobile Safari/537.36 | U63: =COUNTIF(Z63:BT63,">"&(O63+P63)) -> 4 | V63: =COUNTIF(Z63:BT63,">"&(O63+2*P63)) -> 2 | W63: =COUNTIF(Z63:BT63,">"&(O63+3*P63)) -> 2 | X63: =COUNTIF(Z63:BT63,">"&(O63+4*P63)) -> 1 | Y63: =COUNTIF(Z63:BT63,">"&(O63+6*P63)) -> 0 | Z63: 678 | AA63: 660 | AB63: 381 | AC63: 501 | AD63: 322 | AE63: 340 | AF63: 384 | AG63: 334 | AH63: 525 | AI63: 323 | AJ63: 444 | AK63: 410 | AL63: 301 | AM63: 352 | AN63: 293 | AO63: 423 | AP63: 333 | AQ63: 371 | AR63: 377 | AS63: 338 | AT63: 336 | AU63: 396 | AV63: 362 | AW63: 411 | AX63: 345
A64: 43717.876 | B64: Иногда | C64: Иногда | D64: Иногда | E64: Часто | F64: Редко | G64: Иногда | H64: Иногда | I64: Иногда | J64: Иногда | K64: Часто | L64: Я вполне продуктивно продвигаюсь к своим долгосрочным целям. Завалы если и случаются, то не часто | M64: Я вполне продуктивно продвигаюсь к своим долгосрочным целям. Завалы если и случаются, то не часто | N64: 5 | O64: 384 | P64: 87 | R64: 27 | S64: 3 | T64: Mozilla/5.0 (Macintosh; Intel Mac OS X 10_14_6) AppleWebKit/605.1.15 (KHTML, like Gecko) Version/12.1.2 Safari/605.1.15 | U64: =COUNTIF(Z64:BT64,">"&(O64+P64)) -> 4 | V64: =COUNTIF(Z64:BT64,">"&(O64+2*P64)) -> 2 | W64: =COUNTIF(Z64:BT64,">"&(O64+3*P64)) -> 2 | X64: =COUNTIF(Z64:BT64,">"&(O64+4*P64)) -> 2 | Y64: =COUNTIF(Z64:BT64,">"&(O64+6*P64)) -> 0 | Z64: 537 | AA64: 336 | AB64: 528 | AC64: 320 | AD64: 335 | AE64: 877 | AF64: 299 | AG64: 382 | AH64: 317 | AI64: 358 | AJ64: 352 | AK64: 319 | AL64: 341 | AM64: 317 | AN64: 759 | AO64: 286 | AP64: 398 | AQ64: 349 | AR64: 324 | AS64: 384 | AT64: 291 | AU64: 327 | AV64: 335 | AW64: 328 | AX64: 317 | AY64: 348 | AZ64: 309
A65: 43717.877 | B65: Часто | C65: Практичеки всегда | D65: Практичеки всегда | E65: Иногда | F65: Практически никогда | G65: Практичеки всегда | H65: Иногда | I65: Иногда | J65: Практически никогда | K65: Редко | L65: Я вполне продуктивно продвигаюсь к своим долгосрочным целям. Завалы если и случаются, то не часто | M65: Я успеваю разобраться с необходимой текучкой, и даже изредка могу посвящать силы долгосрочным планам | N65: 5 | O65: 430 | P65: 94 | R65: 26 | S65: 0 | T65: Mozilla/5.0 (Macintosh; Intel Mac OS X 10.14; rv:69.0) Gecko/20100101 Firefox/69.0 | U65: =COUNTIF(Z65:BT65,">"&(O65+P65)) -> 3 | V65: =COUNTIF(Z65:BT65,">"&(O65+2*P65)) -> 2 | W65: =COUNTIF(Z65:BT65,">"&(O65+3*P65)) -> 2 | X65: =COUNTIF(Z65:BT65,">"&(O65+4*P65)) -> 1 | Y65: =COUNTIF(Z65:BT65,">"&(O65+6*P65)) -> 0 | Z65: 756 | AA65: 441 | AB65: 959 | AC65: 491 | AD65: 384 | AE65: 405 | AF65: 412 | AG65: 403 | AH65: 457 | AI65: 338 | AJ65: 495 | AK65: 341 | AL65: 362 | AM65: 445 | AN65: 378 | AO65: 435 | AP65: 302 | AQ65: 462 | AR65: 350 | AS65: 314 | AT65: 593 | AU65: 359 | AV65: 315 | AW65: 372 | AX65: 333 | AY65: 297
A66: 43717.878 | B66: Часто | C66: Иногда | D66: Часто | E66: Часто | F66: Иногда | G66: Иногда | H66: Иногда | I66: Редко | J66: Часто | K66: Часто | L66: Я успеваю разобраться с необходимой текучкой, и даже изредка могу посвящать силы долгосрочным планам | M66: Я успеваю разобраться с необходимой текучкой, и даже изредка могу посвящать силы долгосрочным планам | N66: 5 | O66: 397 | P66: 51 | R66: 23 | S66: 0 | T66: Mozilla/5.0 (iPhone; CPU iPhone OS 12_4_1 like Mac OS X) AppleWebKit/605.1.15 (KHTML, like Gecko) Version/12.1.2 Mobile/15E148 Safari/604.1 | U66: =COUNTIF(Z66:BT66,">"&(O66+P66)) -> 5 | V66: =COUNTIF(Z66:BT66,">"&(O66+2*P66)) -> 1 | W66: =COUNTIF(Z66:BT66,">"&(O66+3*P66)) -> 1 | X66: =COUNTIF(Z66:BT66,">"&(O66+4*P66)) -> 1 | Y66: =COUNTIF(Z66:BT66,">"&(O66+6*P66)) -> 0 | Z66: 632 | AA66: 479 | AB66: 449 | AC66: 465 | AD66: 400 | AE66: 351 | AF66: 398 | AG66: 298 | AH66: 418 | AI66: 344 | AJ66: 335 | AK66: 346 | AL66: 364 | AM66: 384 | AN66: 332 | AO66: 448 | AP66: 452 | AQ66: 362 | AR66: 381 | AS66: 367 | AT66: 381 | AU66: 432 | AV66: 332
A67: 43717.879 | B67: Часто | C67: Часто | D67: Иногда | E67: Иногда | F67: Часто | G67: Часто | H67: Иногда | I67: Часто | J67: Иногда | K67: Часто | L67: Я успеваю разобраться с необходимой текучкой, и даже изредка могу посвящать силы долгосрочным планам | M67: Я успеваю разобраться с необходимой текучкой, и даже изредка могу посвящать силы долгосрочным планам | N67: 3 | O67: 466 | P67: 92 | R67: 24 | S67: 3 | T67: Mozilla/5.0 (Linux; Android 9; COL-L29) AppleWebKit/537.36 (KHTML, like Gecko) Chrome/76.0.3809.89 Mobile Safari/537.36 | U67: =COUNTIF(Z67:BT67,">"&(O67+P67)) -> 6 | V67: =COUNTIF(Z67:BT67,">"&(O67+2*P67)) -> 2 | W67: =COUNTIF(Z67:BT67,">"&(O67+3*P67)) -> 1 | X67: =COUNTIF(Z67:BT67,">"&(O67+4*P67)) -> 0 | Y67: =COUNTIF(Z67:BT67,">"&(O67+6*P67)) -> 0 | Z67: 627 | AA67: 566 | AB67: 408 | AC67: 432 | AD67: 397 | AE67: 327 | AF67: 787 | AG67: 374 | AH67: 393 | AI67: 398 | AJ67: 359 | AK67: 396 | AL67: 545 | AM67: 403 | AN67: 403 | AO67: 392 | AP67: 576 | AQ67: 459 | AR67: 482 | AS67: 576 | AT67: 363 | AU67: 374 | AV67: 682 | AW67: 466
A68: 43717.879 | B68: Иногда | C68: Иногда | D68: Часто | E68: Часто | F68: Редко | G68: Иногда | H68: Часто | I68: Часто | J68: Иногда | K68: Часто | L68: Я едва-едва успеваю выполнить необходимую текучку, но на долгосрочные планы не остается сил | M68: Я едва-едва успеваю выполнить необходимую текучку, но на долгосрочные планы не остается сил | N68: 4 | O68: 552 | P68: 59 | R68: 23 | S68: 21 | T68: Mozilla/5.0 (Windows NT 10.0; Win64; x64) AppleWebKit/537.36 (KHTML, like Gecko) Chrome/76.0.3809.132 Safari/537.36 | U68: =COUNTIF(Z68:BT68,">"&(O68+P68)) -> 4 | V68: =COUNTIF(Z68:BT68,">"&(O68+2*P68)) -> 1 | W68: =COUNTIF(Z68:BT68,">"&(O68+3*P68)) -> 1 | X68: =COUNTIF(Z68:BT68,">"&(O68+4*P68)) -> 1 | Y68: =COUNTIF(Z68:BT68,">"&(O68+6*P68)) -> 0 | Z68: 566 | AA68: 588 | AB68: 491 | AC68: 504 | AD68: 571 | AE68: 509 | AF68: 596 | AG68: 458 | AH68: 577 | AI68: 799 | AJ68: 578 | AK68: 465 | AL68: 648 | AM68: 637 | AN68: 484 | AO68: 516 | AP68: 648 | AQ68: 495 | AR68: 518 | AS68: 517 | AT68: 517 | AU68: 496 | AV68: 523
A69: 43717.879 | B69: Иногда | C69: Иногда | D69: Иногда | E69: Часто | F69: Часто | G69: Иногда | H69: Иногда | I69: Редко | J69: Редко | K69: Редко | L69: Я вполне продуктивно продвигаюсь к своим долгосрочным целям. Завалы если и случаются, то не часто | M69: Я успеваю разобраться с необходимой текучкой, и даже изредка могу посвящать силы долгосрочным планам | N69: 5 | O69: 363 | P69: 74 | R69: 28 | S69: 8 | T69: Mozilla/5.0 (iPhone; CPU iPhone OS 12_4 like Mac OS X) AppleWebKit/605.1.15 (KHTML, like Gecko) Version/12.1.2 Mobile/15E148 Safari/604.1 | U69: =COUNTIF(Z69:BT69,">"&(O69+P69)) -> 5 | V69: =COUNTIF(Z69:BT69,">"&(O69+2*P69)) -> 3 | W69: =COUNTIF(Z69:BT69,">"&(O69+3*P69)) -> 2 | X69: =COUNTIF(Z69:BT69,">"&(O69+4*P69)) -> 1 | Y69: =COUNTIF(Z69:BT69,">"&(O69+6*P69)) -> 0 | Z69: 681 | AA69: 611 | AB69: 339 | AC69: 346 | AD69: 350 | AE69: 303 | AF69: 294 | AG69: 284 | AH69: 276 | AI69: 447 | AJ69: 337 | AK69: 267 | AL69: 285 | AM69: 376 | AN69: 285 | AO69: 391 | AP69: 330 | AQ69: 430 | AR69: 543 | AS69: 295 | AT69: 315 | AU69: 321 | AV69: 316 | AW69: 467 | AX69: 368 | AY69: 356 | AZ69: 274 | BA69: 303
A70: 43717.879 | B70: Иногда | C70: Редко | D70: Редко | E70: Часто | F70: Практически никогда | G70: Иногда | H70: Практически никогда | I70: Практически никогда | J70: Практически никогда | K70: Практичеки всегда | L70: Я успеваю разобраться с необходимой текучкой, и даже изредка могу посвящать силы долгосрочным планам | M70: Я успеваю разобраться с необходимой текучкой, и даже изредка могу посвящать силы долгосрочным планам | N70: 1 | O70: 309 | P70: 42 | R70: 23 | S70: 5 | T70: Mozilla/5.0 (Macintosh; Intel Mac OS X 10_14_6) AppleWebKit/605.1.15 (KHTML, like Gecko) Version/12.1.2 Safari/605.1.15 | U70: =COUNTIF(Z70:BT70,">"&(O70+P70)) -> 3 | V70: =COUNTIF(Z70:BT70,">"&(O70+2*P70)) -> 1 | W70: =COUNTIF(Z70:BT70,">"&(O70+3*P70)) -> 1 | X70: =COUNTIF(Z70:BT70,">"&(O70+4*P70)) -> 1 | Y70: =COUNTIF(Z70:BT70,">"&(O70+6*P70)) -> 1 | Z70: 574 | AA70: 389 | AB70: 288 | AC70: 277 | AD70: 338 | AE70: 328 | AF70: 357 | AG70: 325 | AH70: 265 | AI70: 206 | AJ70: 296 | AK70: 306 | AL70: 271 | AM70: 290 | AN70: 323 | AO70: 308 | AP70: 337 | AQ70: 290 | AR70: 271 | AS70: 281 | AT70: 249 | AU70: 265 | AV70: 288
A71: 43717.881 | B71: Часто | C71: Редко | D71: Редко | E71: Иногда | F71: Часто | G71: Редко | H71: Редко | I71: Часто | J71: Часто | K71: Часто | L71: Я едва-едва успеваю выполнить необходимую текучку, но на долгосрочные планы не остается сил | M71: Я успеваю разобраться с необходимой текучкой, и даже изредка могу посвящать силы долгосрочным планам | N71: 1 | O71: 341 | P71: 69 | R71: 28 | S71: 1 | T71: Mozilla/5.0 (Macintosh; Intel Mac OS X 10_14_6) AppleWebKit/605.1.15 (KHTML, like Gecko) Version/12.1.2 Safari/605.1.15 | U71: =COUNTIF(Z71:BT71,">"&(O71+P71)) -> 6 | V71: =COUNTIF(Z71:BT71,">"&(O71+2*P71)) -> 2 | W71: =COUNTIF(Z71:BT71,">"&(O71+3*P71)) -> 1 | X71: =COUNTIF(Z71:BT71,">"&(O71+4*P71)) -> 0 | Y71: =COUNTIF(Z71:BT71,">"&(O71+6*P71)) -> 0 | Z71: 477 | AA71: 534 | AB71: 377 | AC71: 339 | AD71: 436 | AE71: 479 | AF71: 465 | AG71: 304 | AH71: 330 | AI71: 299 | AJ71: 293 | AK71: 308 | AL71: 349 | AM71: 276 | AN71: 258 | AO71: 280 | AP71: 280 | AQ71: 258 | AR71: 277 | AS71: 550 | AT71: 301 | AU71: 378 | AV71: 262 | AW71: 271 | AX71: 284 | AY71: 325 | AZ71: 268 | BA71: 292
A72: 43717.881 | B72: Иногда | C72: Редко | D72: Иногда | E72: Часто | F72: Практически никогда | G72: Редко | H72: Практически никогда | I72: Практически никогда | J72: Практически никогда | K72: Часто | L72: Я вполне продуктивно продвигаюсь к своим долгосрочным целям. Завалы если и случаются, то не часто | M72: Я успеваю разобраться с необходимой текучкой, и даже изредка могу посвящать силы долгосрочным планам | N72: 5 | O72: 385 | P72: 56 | R72: 24 | S72: 0 | T72: Mozilla/5.0 (iPad; CPU OS 12_4 like Mac OS X) AppleWebKit/605.1.15 (KHTML, like Gecko) Version/12.1.2 Mobile/15E148 Safari/604.1 | U72: =COUNTIF(Z72:BT72,">"&(O72+P72)) -> 3 | V72: =COUNTIF(Z72:BT72,">"&(O72+2*P72)) -> 1 | W72: =COUNTIF(Z72:BT72,">"&(O72+3*P72)) -> 1 | X72: =COUNTIF(Z72:BT72,">"&(O72+4*P72)) -> 1 | Y72: =COUNTIF(Z72:BT72,">"&(O72+6*P72)) -> 1 | Z72: 847 | AA72: 391 | AB72: 373 | AC72: 349 | AD72: 327 | AE72: 353 | AF72: 295 | AG72: 463 | AH72: 334 | AI72: 370 | AJ72: 414 | AK72: 373 | AL72: 398 | AM72: 464 | AN72: 325 | AO72: 371 | AP72: 335 | AQ72: 353 | AR72: 398 | AS72: 332 | AT72: 339 | AU72: 340 | AV72: 381 | AW72: 323
A73: 43717.882 | B73: Часто | C73: Часто | D73: Иногда | E73: Редко | F73: Часто | G73: Часто | H73: Часто | I73: Часто | J73: Часто | K73: Редко | L73: Я едва-едва успеваю выполнить необходимую текучку, но на долгосрочные планы не остается сил | M73: Я успеваю разобраться с необходимой текучкой, и даже изредка могу посвящать силы долгосрочным планам | N73: 4 | O73: 456 | P73: 93 | R73: 26 | S73: 0 | T73: Mozilla/5.0 (iPhone; CPU iPhone OS 12_4_1 like Mac OS X) AppleWebKit/605.1.15 (KHTML, like Gecko) Version/12.1.2 Mobile/15E148 Safari/604.1 | U73: =COUNTIF(Z73:BT73,">"&(O73+P73)) -> 5 | V73: =COUNTIF(Z73:BT73,">"&(O73+2*P73)) -> 1 | W73: =COUNTIF(Z73:BT73,">"&(O73+3*P73)) -> 1 | X73: =COUNTIF(Z73:BT73,">"&(O73+4*P73)) -> 0 | Y73: =COUNTIF(Z73:BT73,">"&(O73+6*P73)) -> 0 | Z73: 748 | AA73: 578 | AB73: 380 | AC73: 429 | AD73: 414 | AE73: 518 | AF73: 615 | AG73: 495 | AH73: 415 | AI73: 515 | AJ73: 547 | AK73: 379 | AL73: 381 | AM73: 318 | AN73: 347 | AO73: 348 | AP73: 361 | AQ73: 518 | AR73: 499 | AS73: 348 | AT73: 415 | AU73: 365 | AV73: 582 | AW73: 615 | AX73: 367 | AY73: 364
A74: 43717.882 | B74: Часто | C74: Часто | D74: Практичеки всегда | E74: Иногда | F74: Часто | G74: Часто | H74: Практичеки всегда | I74: Практичеки всегда | J74: Часто | K74: Иногда | L74: Я успеваю разобраться с необходимой текучкой, и даже изредка могу посвящать силы долгосрочным планам | M74: Я вполне продуктивно продвигаюсь к своим долгосрочным целям. Завалы если и случаются, то не часто | N74: 5 | O74: 393 | P74: 45 | R74: 27 | S74: 1 | T74: Mozilla/5.0 (Linux; Android 9; JSN-L21 Build/HONORJSN-L21; wv) AppleWebKit/537.36 (KHTML, like Gecko) Version/4.0 Chrome/76.0.3809.132 Mobile Safari/537.36 [FB_IAB/FB4A;FBAV/237.0.0.44.120;] | U74: =COUNTIF(Z74:BT74,">"&(O74+P74)) -> 7 | V74: =COUNTIF(Z74:BT74,">"&(O74+2*P74)) -> 1 | W74: =COUNTIF(Z74:BT74,">"&(O74+3*P74)) -> 1 | X74: =COUNTIF(Z74:BT74,">"&(O74+4*P74)) -> 1 | Y74: =COUNTIF(Z74:BT74,">"&(O74+6*P74)) -> 0 | Z74: 575 | AA74: 460 | AB74: 452 | AC74: 447 | AD74: 393 | AE74: 421 | AF74: 483 | AG74: 365 | AH74: 380 | AI74: 331 | AJ74: 439 | AK74: 472 | AL74: 361 | AM74: 357 | AN74: 409 | AO74: 354 | AP74: 365 | AQ74: 332 | AR74: 379 | AS74: 350 | AT74: 333 | AU74: 364 | AV74: 339 | AW74: 360 | AX74: 383 | AY74: 355 | AZ74: 364
A75: 43717.882 | B75: Часто | C75: Иногда | D75: Редко | E75: Часто | F75: Редко | G75: Редко | H75: Редко | I75: Редко | J75: Редко | K75: Часто | L75: Я успеваю разобраться с необходимой текучкой, и даже изредка могу посвящать силы долгосрочным планам | M75: Я успеваю разобраться с необходимой текучкой, и даже изредка могу посвящать силы долгосрочным планам | N75: 2 | O75: 383 | P75: 68 | R75: 24 | S75: 0 | T75: Mozilla/5.0 (Windows NT 10.0; Win64; x64; rv:60.0) Gecko/20100101 Firefox/60.0 | U75: =COUNTIF(Z75:BT75,">"&(O75+P75)) -> 5 | V75: =COUNTIF(Z75:BT75,">"&(O75+2*P75)) -> 1 | W75: =COUNTIF(Z75:BT75,">"&(O75+3*P75)) -> 1 | X75: =COUNTIF(Z75:BT75,">"&(O75+4*P75)) -> 1 | Y75: =COUNTIF(Z75:BT75,">"&(O75+6*P75)) -> 0 | Z75: 694 | AA75: 383 | AB75: 397 | AC75: 320 | AD75: 503 | AE75: 319 | AF75: 311 | AG75: 344 | AH75: 376 | AI75: 396 | AJ75: 302 | AK75: 344 | AL75: 317 | AM75: 304 | AN75: 321 | AO75: 304 | AP75: 397 | AQ75: 311 | AR75: 480 | AS75: 447 | AT75: 472 | AU75: 461 | AV75: 295 | AW75: 409
A76: 43717.883 | B76: Часто | C76: Практичеки всегда | D76: Часто | E76: Иногда | F76: Иногда | G76: Часто | H76: Практичеки всегда | I76: Практичеки всегда | J76: Практичеки всегда | K76: Практичеки всегда | L76: Я успеваю разобраться с необходимой текучкой, и даже изредка могу посвящать силы долгосрочным планам | M76: Я едва-едва успеваю выполнить необходимую текучку, но на долгосрочные планы не остается сил | N76: 3 | O76: 337 | P76: 62 | R76: 25 | S76: 7 | T76: Mozilla/5.0 (iPhone; CPU iPhone OS 12_2 like Mac OS X) AppleWebKit/605.1.15 (KHTML, like Gecko) Version/12.1 Mobile/15E148 Safari/604.1 | U76: =COUNTIF(Z76:BT76,">"&(O76+P76)) -> 5 | V76: =COUNTIF(Z76:BT76,">"&(O76+2*P76)) -> 3 | W76: =COUNTIF(Z76:BT76,">"&(O76+3*P76)) -> 0 | X76: =COUNTIF(Z76:BT76,">"&(O76+4*P76)) -> 0 | Y76: =COUNTIF(Z76:BT76,">"&(O76+6*P76)) -> 0 | Z76: 523 | AA76: 476 | AB76: 489 | AC76: 397 | AD76: 339 | AE76: 348 | AF76: 328 | AG76: 447 | AH76: 297 | AI76: 298 | AJ76: 263 | AK76: 422 | AL76: 296 | AM76: 241 | AN76: 238 | AO76: 273 | AP76: 247 | AQ76: 364 | AR76: 322 | AS76: 308 | AT76: 271 | AU76: 348 | AV76: 323 | AW76: 305 | AX76: 264
A77: 43717.883 | B77: Часто | C77: Иногда | D77: Иногда | E77: Иногда | F77: Иногда | G77: Часто | H77: Часто | I77: Иногда | J77: Иногда | K77: Иногда | L77: Я успеваю разобраться с необходимой текучкой, и даже изредка могу посвящать силы долгосрочным планам | M77: Я успеваю разобраться с необходимой текучкой, и даже изредка могу посвящать силы долгосрочным планам | N77: 3 | O77: 364 | P77: 22 | R77: 27 | S77: 0 | T77: Mozilla/5.0 (Linux; Android 8.1.0; MI 8 SE Build/OPM1.171019.019; wv) AppleWebKit/537.36 (KHTML, like Gecko) Version/4.0 Chrome/76.0.3809.132 Mobile Safari/537.36 [FB_IAB/FB4A;FBAV/237.0.0.44.120;] | U77: =COUNTIF(Z77:BT77,">"&(O77+P77)) -> 5 | V77: =COUNTIF(Z77:BT77,">"&(O77+2*P77)) -> 2 | W77: =COUNTIF(Z77:BT77,">"&(O77+3*P77)) -> 1 | X77: =COUNTIF(Z77:BT77,">"&(O77+4*P77)) -> 1 | Y77: =COUNTIF(Z77:BT77,">"&(O77+6*P77)) -> 0 | Z77: 382 | AA77: 401 | AB77: 461 | AC77: 369 | AD77: 377 | AE77: 367 | AF77: 366 | AG77: 369 | AH77: 348 | AI77: 367 | AJ77: 342 | AK77: 340 | AL77: 357 | AM77: 372 | AN77: 375 | AO77: 352 | AP77: 411 | AQ77: 396 | AR77: 340 | AS77: 390 | AT77: 355 | AU77: 333 | AV77: 355 | AW77: 346 | AX77: 339 | AY77: 306 | AZ77: 319
A78: 43717.884 | B78: Редко | C78: Редко | D78: Редко | E78: Часто | F78: Иногда | G78: Часто | H78: Редко | I78: Иногда | J78: Иногда | K78: Практичеки всегда | L78: Я успеваю разобраться с необходимой текучкой, и даже изредка могу посвящать силы долгосрочным планам | M78: Я успеваю разобраться с необходимой текучкой, и даже изредка могу посвящать силы долгосрочным планам | N78: 1 | O78: 349 | P78: 46 | R78: 25 | S78: 0 | T78: Mozilla/5.0 (iPhone; CPU iPhone OS 12_3 like Mac OS X) AppleWebKit/605.1.15 (KHTML, like Gecko) Mobile/15E148 [FBAN/FBIOS;FBDV/iPhone10,6;FBMD/iPhone;FBSN/iOS;FBSV/12.3;FBSS/3;FBID/phone;FBLC/en_GB;FBOP/5;FBCR/Beeline] | U78: =COUNTIF(Z78:BT78,">"&(O78+P78)) -> 4 | V78: =COUNTIF(Z78:BT78,">"&(O78+2*P78)) -> 2 | W78: =COUNTIF(Z78:BT78,">"&(O78+3*P78)) -> 1 | X78: =COUNTIF(Z78:BT78,">"&(O78+4*P78)) -> 1 | Y78: =COUNTIF(Z78:BT78,">"&(O78+6*P78)) -> 1 | Z78: 627 | AA78: 348 | AB78: 319 | AC78: 358 | AD78: 323 | AE78: 315 | AF78: 358 | AG78: 351 | AH78: 301 | AI78: 299 | AJ78: 333 | AK78: 282 | AL78: 329 | AM78: 283 | AN78: 293 | AO78: 399 | AP78: 310 | AQ78: 340 | AR78: 329 | AS78: 364 | AT78: 416 | AU78: 384 | AV78: 474 | AW78: 300 | AX78: 299
A79: 43717.884 | B79: Часто | C79: Иногда | D79: Иногда | E79: Иногда | F79: Иногда | G79: Иногда | H79: Иногда | I79: Редко | J79: Часто | K79: Часто | L79: Я успеваю разобраться с необходимой текучкой, и даже изредка могу посвящать силы долгосрочным планам | M79: Я успеваю разобраться с необходимой текучкой, и даже изредка могу посвящать силы долгосрочным планам | N79: 5 | O79: 415 | P79: 161 | R79: 24 | S79: 18 | T79: Mozilla/5.0 (Macintosh; Intel Mac OS X 10_14_3) AppleWebKit/537.36 (KHTML, like Gecko) Chrome/76.0.3809.132 Safari/537.36 | U79: =COUNTIF(Z79:BT79,">"&(O79+P79)) -> 4 | V79: =COUNTIF(Z79:BT79,">"&(O79+2*P79)) -> 2 | W79: =COUNTIF(Z79:BT79,">"&(O79+3*P79)) -> 1 | X79: =COUNTIF(Z79:BT79,">"&(O79+4*P79)) -> 1 | Y79: =COUNTIF(Z79:BT79,">"&(O79+6*P79)) -> 0 | Z79: 703 | AA79: 659 | AB79: 333 | AC79: 338 | AD79: 795 | AE79: 1342 | AF79: 357 | AG79: 380 | AH79: 362 | AI79: 344 | AJ79: 517 | AK79: 383 | AL79: 340 | AM79: 272 | AN79: 268 | AO79: 269 | AP79: 327 | AQ79: 318 | AR79: 263 | AS79: 259 | AT79: 277 | AU79: 297 | AV79: 289 | AW79: 271
A80: 43717.885 | B80: Иногда | C80: Часто | D80: Иногда | E80: Часто | F80: Редко | G80: Редко | H80: Иногда | I80: Редко | J80: Часто | K80: Редко | L80: Я вполне продуктивно продвигаюсь к своим долгосрочным целям. Завалы если и случаются, то не часто | M80: Я вполне продуктивно продвигаюсь к своим долгосрочным целям. Завалы если и случаются, то не часто | N80: 3 | O80: 626 | P80: 348 | R80: 31 | S80: 17 | T80: Mozilla/5.0 (Windows NT 10.0; WOW64) AppleWebKit/537.36 (KHTML, like Gecko) Chrome/76.0.3809.132 Safari/537.36 OPR/63.0.3368.71 | U80: =COUNTIF(Z80:BT80,">"&(O80+P80)) -> 2 | V80: =COUNTIF(Z80:BT80,">"&(O80+2*P80)) -> 2 | W80: =COUNTIF(Z80:BT80,">"&(O80+3*P80)) -> 1 | X80: =COUNTIF(Z80:BT80,">"&(O80+4*P80)) -> 1 | Y80: =COUNTIF(Z80:BT80,">"&(O80+6*P80)) -> 1 | Z80: 5293 | AA80: 1339 | AB80: 337 | AC80: 413 | AD80: 372 | AE80: 509 | AF80: 458 | AG80: 649 | AH80: 549 | AI80: 398 | AJ80: 454 | AK80: 472 | AL80: 381 | AM80: 394 | AN80: 585 | AO80: 373 | AP80: 359 | AQ80: 469 | AR80: 424 | AS80: 508 | AT80: 480 | AU80: 488 | AV80: 570 | AW80: 389 | AX80: 435 | AY80: 402 | AZ80: 366 | BA80: 404 | BB80: 346 | BC80: 330 | BD80: 465
A81: 43717.886 | B81: Иногда | C81: Иногда | D81: Иногда | E81: Редко | F81: Редко | G81: Редко | H81: Редко | I81: Иногда | J81: Иногда | K81: Редко | L81: Я успеваю разобраться с необходимой текучкой, и даже изредка могу посвящать силы долгосрочным планам | M81: Я успеваю разобраться с необходимой текучкой, и даже изредка могу посвящать силы долгосрочным планам | N81: 3 | O81: 335 | P81: 53 | R81: 28 | S81: 3 | T81: Mozilla/5.0 (Macintosh; Intel Mac OS X 10_14_6) AppleWebKit/605.1.15 (KHTML, like Gecko) Version/12.1.2 Safari/605.1.15 | U81: =COUNTIF(Z81:BT81,">"&(O81+P81)) -> 5 | V81: =COUNTIF(Z81:BT81,">"&(O81+2*P81)) -> 3 | W81: =COUNTIF(Z81:BT81,">"&(O81+3*P81)) -> 1 | X81: =COUNTIF(Z81:BT81,">"&(O81+4*P81)) -> 0 | Y81: =COUNTIF(Z81:BT81,">"&(O81+6*P81)) -> 0 | Z81: 339 | AA81: 365 | AB81: 364 | AC81: 331 | AD81: 339 | AE81: 77 | AF81: 450 | AG81: 300 | AH81: 466 | AI81: 350 | AJ81: 256 | AK81: 343 | AL81: 429 | AM81: 320 | AN81: 354 | AO81: 254 | AP81: 343 | AQ81: 312 | AR81: 325 | AS81: 261 | AT81: 288 | AU81: 342 | AV81: 316 | AW81: 365 | AX81: 439 | AY81: 270 | AZ81: 309 | BA81: 500
A82: 43717.887 | B82: Иногда | C82: Иногда | D82: Редко | E82: Часто | F82: Редко | G82: Редко | H82: Редко | I82: Практически никогда | J82: Практически никогда | K82: Часто | L82: Я успеваю разобраться с необходимой текучкой, и даже изредка могу посвящать силы долгосрочным планам | M82: Я успеваю разобраться с необходимой текучкой, и даже изредка могу посвящать силы долгосрочным планам | N82: 3 | O82: 513 | P82: 161 | R82: 25 | S82: 1 | T82: Mozilla/5.0 (Windows NT 10.0; Win64; x64) AppleWebKit/537.36 (KHTML, like Gecko) Chrome/76.0.3809.132 Safari/537.36 | U82: =COUNTIF(Z82:BT82,">"&(O82+P82)) -> 3 | V82: =COUNTIF(Z82:BT82,">"&(O82+2*P82)) -> 2 | W82: =COUNTIF(Z82:BT82,">"&(O82+3*P82)) -> 1 | X82: =COUNTIF(Z82:BT82,">"&(O82+4*P82)) -> 1 | Y82: =COUNTIF(Z82:BT82,">"&(O82+6*P82)) -> 1 | Z82: 1727 | AA82: 594 | AB82: 534 | AC82: 698 | AD82: 951 | AE82: 506 | AF82: 420 | AG82: 570 | AH82: 398 | AI82: 313 | AJ82: 399 | AK82: 333 | AL82: 353 | AM82: 390 | AN82: 374 | AO82: 423 | AP82: 360 | AQ82: 475 | AR82: 470 | AS82: 330 | AT82: 538 | AU82: 460 | AV82: 377 | AW82: 491 | AX82: 365
A83: 43717.887 | B83: Часто | C83: Иногда | D83: Иногда | E83: Редко | F83: Иногда | G83: Иногда | H83: Иногда | I83: Иногда | J83: Иногда | K83: Иногда | L83: Я успеваю разобраться с необходимой текучкой, и даже изредка могу посвящать силы долгосрочным планам | M83: Я успеваю разобраться с необходимой текучкой, и даже изредка могу посвящать силы долгосрочным планам | N83: 3 | O83: 442 | P83: 46 | R83: 24 | S83: 0 | T83: Mozilla/5.0 (Macintosh; Intel Mac OS X 10_14_3) AppleWebKit/537.36 (KHTML, like Gecko) Chrome/76.0.3809.132 Safari/537.36 | U83: =COUNTIF(Z83:BT83,">"&(O83+P83)) -> 7 | V83: =COUNTIF(Z83:BT83,">"&(O83+2*P83)) -> 1 | W83: =COUNTIF(Z83:BT83,">"&(O83+3*P83)) -> 0 | X83: =COUNTIF(Z83:BT83,">"&(O83+4*P83)) -> 0 | Y83: =COUNTIF(Z83:BT83,">"&(O83+6*P83)) -> 0 | Z83: 496 | AA83: 504 | AB83: 461 | AC83: 495 | AD83: 422 | AE83: 407 | AF83: 529 | AG83: 440 | AH83: 516 | AI83: 483 | AJ83: 386 | AK83: 452 | AL83: 539 | AM83: 496 | AN83: 404 | AO83: 423 | AP83: 368 | AQ83: 433 | AR83: 393 | AS83: 457 | AT83: 343 | AU83: 429 | AV83: 383 | AW83: 367
A84: 43717.887 | B84: Практичеки всегда | C84: Часто | D84: Иногда | E84: Иногда | F84: Часто | G84: Практичеки всегда | H84: Иногда | I84: Иногда | J84: Часто | K84: Практичеки всегда | L84: Я успеваю разобраться с необходимой текучкой, и даже изредка могу посвящать силы долгосрочным планам | M84: Я вполне продуктивно продвигаюсь к своим долгосрочным целям. Завалы если и случаются, то не часто | N84: 2 | O84: 440 | P84: 52 | R84: 24 | S84: 0 | T84: Mozilla/5.0 (Linux; Android 9; SM-A305F Build/PPR1.180610.011; wv) AppleWebKit/537.36 (KHTML, like Gecko) Version/4.0 Chrome/76.0.3809.111 Mobile Safari/537.36 [FB_IAB/FB4A;FBAV/236.0.0.40.117;] | U84: =COUNTIF(Z84:BT84,">"&(O84+P84)) -> 4 | V84: =COUNTIF(Z84:BT84,">"&(O84+2*P84)) -> 2 | W84: =COUNTIF(Z84:BT84,">"&(O84+3*P84)) -> 1 | X84: =COUNTIF(Z84:BT84,">"&(O84+4*P84)) -> 1 | Y84: =COUNTIF(Z84:BT84,">"&(O84+6*P84)) -> 0 | Z84: 740 | AA84: 435 | AB84: 503 | AC84: 579 | AD84: 458 | AE84: 462 | AF84: 385 | AG84: 433 | AH84: 410 | AI84: 416 | AJ84: 507 | AK84: 391 | AL84: 400 | AM84: 359 | AN84: 428 | AO84: 464 | AP84: 437 | AQ84: 370 | AR84: 429 | AS84: 362 | AT84: 374 | AU84: 419 | AV84: 432 | AW84: 385
A85: 43717.888 | B85: Часто | C85: Практичеки всегда | D85: Часто | E85: Иногда | F85: Иногда | G85: Часто | H85: Иногда | I85: Иногда | J85: Часто | K85: Иногда | L85: Я едва-едва успеваю выполнить необходимую текучку, но на долгосрочные планы не остается сил | M85: Я не успеваю выполнять даже необходимый минимум | N85: 4 | O85: 410 | P85: 56 | R85: 26 | S85: 3 | T85: Mozilla/5.0 (Linux; Android 6.0; Lenovo S1a40 Build/MRA58K; wv) AppleWebKit/537.36 (KHTML, like Gecko) Version/4.0 Chrome/74.0.3729.157 Mobile Safari/537.36 [FB_IAB/FB4A;FBAV/224.0.0.33.114;] | U85: =COUNTIF(Z85:BT85,">"&(O85+P85)) -> 3 | V85: =COUNTIF(Z85:BT85,">"&(O85+2*P85)) -> 1 | W85: =COUNTIF(Z85:BT85,">"&(O85+3*P85)) -> 1 | X85: =COUNTIF(Z85:BT85,">"&(O85+4*P85)) -> 1 | Y85: =COUNTIF(Z85:BT85,">"&(O85+6*P85)) -> 1 | Z85: 896 | AA85: 470 | AB85: 450 | AC85: 410 | AD85: 365 | AE85: 351 | AF85: 400 | AG85: 427 | AH85: 351 | AI85: 223 | AJ85: 415 | AK85: 372 | AL85: 350 | AM85: 374 | AN85: 424 | AO85: 385 | AP85: 396 | AQ85: 388 | AR85: 390 | AS85: 422 | AT85: 394 | AU85: 394 | AV85: 437 | AW85: 365 | AX85: 337 | AY85: 485
A86: 43717.888 | B86: Иногда | C86: Редко | D86: Практически никогда | E86: Часто | F86: Практически никогда | G86: Редко | H86: Практически никогда | I86: Практически никогда | J86: Практически никогда | K86: Часто | L86: Я вполне продуктивно продвигаюсь к своим долгосрочным целям. Завалы если и случаются, то не часто | M86: Я вполне продуктивно продвигаюсь к своим долгосрочным целям. Завалы если и случаются, то не часто | N86: 5 | O86: 330 | P86: 55 | R86: 23 | S86: 0 | T86: Mozilla/5.0 (Windows NT 6.3; Win64; x64) AppleWebKit/537.36 (KHTML, like Gecko) Chrome/76.0.3809.132 Safari/537.36 | U86: =COUNTIF(Z86:BT86,">"&(O86+P86)) -> 5 | V86: =COUNTIF(Z86:BT86,">"&(O86+2*P86)) -> 1 | W86: =COUNTIF(Z86:BT86,">"&(O86+3*P86)) -> 1 | X86: =COUNTIF(Z86:BT86,">"&(O86+4*P86)) -> 0 | Y86: =COUNTIF(Z86:BT86,">"&(O86+6*P86)) -> 0 | Z86: 317 | AA86: 272 | AB86: 303 | AC86: 307 | AD86: 276 | AE86: 391 | AF86: 283 | AG86: 284 | AH86: 385 | AI86: 289 | AJ86: 280 | AK86: 378 | AL86: 268 | AM86: 378 | AN86: 398 | AO86: 261 | AP86: 404 | AQ86: 282 | AR86: 289 | AS86: 312 | AT86: 418 | AU86: 528 | AV86: 304
A87: 43717.888 | B87: Часто | C87: Часто | D87: Часто | E87: Иногда | F87: Часто | G87: Часто | H87: Практичеки всегда | I87: Часто | J87: Часто | K87: Редко | L87: Я едва-едва успеваю выполнить необходимую текучку, но на долгосрочные планы не остается сил | M87: Я едва-едва успеваю выполнить необходимую текучку, но на долгосрочные планы не остается сил | N87: 5 | O87: 478 | P87: 88 | R87: 24 | S87: 3 | T87: Mozilla/5.0 (Macintosh; Intel Mac OS X 10_14_4) AppleWebKit/537.36 (KHTML, like Gecko) Chrome/76.0.3809.132 Safari/537.36 | U87: =COUNTIF(Z87:BT87,">"&(O87+P87)) -> 3 | V87: =COUNTIF(Z87:BT87,">"&(O87+2*P87)) -> 2 | W87: =COUNTIF(Z87:BT87,">"&(O87+3*P87)) -> 2 | X87: =COUNTIF(Z87:BT87,">"&(O87+4*P87)) -> 2 | Y87: =COUNTIF(Z87:BT87,">"&(O87+6*P87)) -> 0 | Z87: 863 | AA87: 596 | AB87: 414 | AC87: 503 | AD87: 460 | AE87: 451 | AF87: 432 | AG87: 547 | AH87: 432 | AI87: 432 | AJ87: 408 | AK87: 391 | AL87: 407 | AM87: 512 | AN87: 916 | AO87: 360 | AP87: 431 | AQ87: 426 | AR87: 397 | AS87: 404 | AT87: 479 | AU87: 433 | AV87: 367 | AW87: 421
A88: 43717.889 | B88: Часто | C88: Иногда | D88: Практичеки всегда | E88: Редко | F88: Редко | G88: Часто | H88: Иногда | I88: Практичеки всегда | J88: Редко | K88: Практичеки всегда | L88: Я едва-едва успеваю выполнить необходимую текучку, но на долгосрочные планы не остается сил | M88: Я едва-едва успеваю выполнить необходимую текучку, но на долгосрочные планы не остается сил | N88: 4 | O88: 461 | P88: 70 | R88: 28 | S88: 2 | T88: Mozilla/5.0 (Linux; Android 8.0.0; LG-H870DS) AppleWebKit/537.36 (KHTML, like Gecko) Chrome/76.0.3809.132 Mobile Safari/537.36 | U88: =COUNTIF(Z88:BT88,">"&(O88+P88)) -> 5 | V88: =COUNTIF(Z88:BT88,">"&(O88+2*P88)) -> 3 | W88: =COUNTIF(Z88:BT88,">"&(O88+3*P88)) -> 1 | X88: =COUNTIF(Z88:BT88,">"&(O88+4*P88)) -> 1 | Y88: =COUNTIF(Z88:BT88,">"&(O88+6*P88)) -> 0 | Z88: 784 | AA88: 554 | AB88: 427 | AC88: 499 | AD88: 532 | AE88: 387 | AF88: 484 | AG88: 419 | AH88: 406 | AI88: 488 | AJ88: 427 | AK88: 655 | AL88: 410 | AM88: 613 | AN88: 410 | AO88: 401 | AP88: 383 | AQ88: 389 | AR88: 381 | AS88: 380 | AT88: 383 | AU88: 411 | AV88: 448 | AW88: 422 | AX88: 391 | AY88: 530 | AZ88: 446 | BA88: 468
A89: 43717.89 | B89: Часто | C89: Практичеки всегда | D89: Часто | E89: Иногда | F89: Часто | G89: Практичеки всегда | H89: Часто | I89: Практичеки всегда | J89: Часто | K89: Редко | L89: Я успеваю разобраться с необходимой текучкой, и даже изредка могу посвящать силы долгосрочным планам | M89: Я успеваю разобраться с необходимой текучкой, и даже изредка могу посвящать силы долгосрочным планам | N89: 5 | O89: 320 | P89: 85 | R89: 22 | S89: 110 | T89: Mozilla/5.0 (Linux; Android 9; ONEPLUS A3010) AppleWebKit/537.36 (KHTML, like Gecko) Chrome/76.0.3809.132 Mobile Safari/537.36 | U89: =COUNTIF(Z89:BT89,">"&(O89+P89)) -> 3 | V89: =COUNTIF(Z89:BT89,">"&(O89+2*P89)) -> 2 | W89: =COUNTIF(Z89:BT89,">"&(O89+3*P89)) -> 1 | X89: =COUNTIF(Z89:BT89,">"&(O89+4*P89)) -> 0 | Y89: =COUNTIF(Z89:BT89,">"&(O89+6*P89)) -> 0 | Z89: 542 | AA89: 346 | AB89: 331 | AC89: 280 | AD89: 376 | AE89: 411 | AF89: 324 | AG89: 352 | AH89: 87 | AI89: 88 | AJ89: 170 | AK89: 385 | AL89: 96 | AM89: 399 | AN89: 314 | AO89: 306 | AP89: 300 | AQ89: 336 | AR89: 318 | AS89: 657 | AT89: 316 | AU89: 313
A90: 43717.891 | B90: Часто | C90: Иногда | D90: Часто | E90: Редко | F90: Редко | G90: Часто | H90: Иногда | I90: Иногда | J90: Иногда | K90: Часто | L90: Я едва-едва успеваю выполнить необходимую текучку, но на долгосрочные планы не остается сил | M90: Я успеваю разобраться с необходимой текучкой, и даже изредка могу посвящать силы долгосрочным планам | N90: 3 | O90: 368 | P90: 29 | R90: 23 | S90: 4 | T90: Mozilla/5.0 (Linux; Android 9; SM-A305F Build/PPR1.180610.011; wv) AppleWebKit/537.36 (KHTML, like Gecko) Version/4.0 Chrome/76.0.3809.111 Mobile Safari/537.36 [FB_IAB/FB4A;FBAV/236.0.0.40.117;] | U90: =COUNTIF(Z90:BT90,">"&(O90+P90)) -> 3 | V90: =COUNTIF(Z90:BT90,">"&(O90+2*P90)) -> 3 | W90: =COUNTIF(Z90:BT90,">"&(O90+3*P90)) -> 1 | X90: =COUNTIF(Z90:BT90,">"&(O90+4*P90)) -> 1 | Y90: =COUNTIF(Z90:BT90,">"&(O90+6*P90)) -> 0 | Z90: 508 | AA90: 446 | AB90: 366 | AC90: 447 | AD90: 346 | AE90: 380 | AF90: 357 | AG90: 347 | AH90: 351 | AI90: 395 | AJ90: 370 | AK90: 356 | AL90: 355 | AM90: 354 | AN90: 344 | AO90: 336 | AP90: 324 | AQ90: 355 | AR90: 368 | AS90: 323 | AT90: 347 | AU90: 336 | AV90: 354
A91: 43717.891 | B91: Часто | C91: Иногда | D91: Иногда | E91: Практичеки всегда | F91: Иногда | G91: Иногда | H91: Редко | I91: Иногда | J91: Редко | K91: Практичеки всегда | L91: Я успеваю разобраться с необходимой текучкой, и даже изредка могу посвящать силы долгосрочным планам | M91: Я вполне продуктивно продвигаюсь к своим долгосрочным целям. Завалы если и случаются, то не часто | N91: 2 | O91: 387 | P91: 74 | R91: 26 | S91: 0 | T91: Mozilla/5.0 (Android 9; Mobile; rv:68.0) Gecko/68.0 Firefox/68.0 | U91: =COUNTIF(Z91:BT91,">"&(O91+P91)) -> 3 | V91: =COUNTIF(Z91:BT91,">"&(O91+2*P91)) -> 2 | W91: =COUNTIF(Z91:BT91,">"&(O91+3*P91)) -> 2 | X91: =COUNTIF(Z91:BT91,">"&(O91+4*P91)) -> 1 | Y91: =COUNTIF(Z91:BT91,">"&(O91+6*P91)) -> 0 | Z91: 657 | AA91: 723 | AB91: 449 | AC91: 457 | AD91: 407 | AE91: 467 | AF91: 428 | AG91: 295 | AH91: 336 | AI91: 389 | AJ91: 318 | AK91: 413 | AL91: 394 | AM91: 309 | AN91: 309 | AO91: 276 | AP91: 355 | AQ91: 312 | AR91: 348 | AS91: 371 | AT91: 298 | AU91: 290 | AV91: 323 | AW91: 351 | AX91: 457 | AY91: 355
A92: 43717.891 | B92: Практичеки всегда | C92: Часто | D92: Часто | E92: Иногда | F92: Практичеки всегда | G92: Практичеки всегда | H92: Практичеки всегда | I92: Часто | J92: Часто | K92: Редко | L92: Я успеваю разобраться с необходимой текучкой, и даже изредка могу посвящать силы долгосрочным планам | M92: Я успеваю разобраться с необходимой текучкой, и даже изредка могу посвящать силы долгосрочным планам | N92: 3 | O92: 388 | P92: 84 | R92: 25 | S92: 1 | T92: Mozilla/5.0 (iPhone; CPU iPhone OS 12_2 like Mac OS X) AppleWebKit/605.1.15 (KHTML, like Gecko) Mobile/15E148 [FBAN/FBIOS;FBDV/iPhone8,1;FBMD/iPhone;FBSN/iOS;FBSV/12.2;FBSS/2;FBCR/Beeline;FBID/phone;FBLC/ru_RU;FBOP/5] | U92: =COUNTIF(Z92:BT92,">"&(O92+P92)) -> 4 | V92: =COUNTIF(Z92:BT92,">"&(O92+2*P92)) -> 2 | W92: =COUNTIF(Z92:BT92,">"&(O92+3*P92)) -> 2 | X92: =COUNTIF(Z92:BT92,">"&(O92+4*P92)) -> 1 | Y92: =COUNTIF(Z92:BT92,">"&(O92+6*P92)) -> 0 | Z92: 698 | AA92: 888 | AB92: 362 | AC92: 381 | AD92: 348 | AE92: 348 | AF92: 295 | AG92: 315 | AH92: 297 | AI92: 331 | AJ92: 349 | AK92: 295 | AL92: 322 | AM92: 379 | AN92: 417 | AO92: 326 | AP92: 301 | AQ92: 331 | AR92: 282 | AS92: 382 | AT92: 517 | AU92: 366 | AV92: 478 | AW92: 344 | AX92: 371
A93: 43717.892 | B93: Иногда | C93: Иногда | D93: Иногда | E93: Часто | F93: Редко | G93: Иногда | H93: Часто | I93: Иногда | J93: Редко | K93: Редко | L93: Я едва-едва успеваю выполнить необходимую текучку, но на долгосрочные планы не остается сил | M93: Я успеваю разобраться с необходимой текучкой, и даже изредка могу посвящать силы долгосрочным планам | N93: 4 | O93: 342 | P93: 47 | R93: 27 | S93: 0 | T93: Mozilla/5.0 (Windows NT 10.0; Win64; x64) AppleWebKit/537.36 (KHTML, like Gecko) Chrome/76.0.3809.132 Safari/537.36 | U93: =COUNTIF(Z93:BT93,">"&(O93+P93)) -> 4 | V93: =COUNTIF(Z93:BT93,">"&(O93+2*P93)) -> 2 | W93: =COUNTIF(Z93:BT93,">"&(O93+3*P93)) -> 1 | X93: =COUNTIF(Z93:BT93,">"&(O93+4*P93)) -> 1 | Y93: =COUNTIF(Z93:BT93,">"&(O93+6*P93)) -> 1 | Z93: 686 | AA93: 294 | AB93: 334 | AC93: 342 | AD93: 311 | AE93: 396 | AF93: 319 | AG93: 335 | AH93: 287 | AI93: 341 | AJ93: 312 | AK93: 342 | AL93: 279 | AM93: 286 | AN93: 391 | AO93: 374 | AP93: 311 | AQ93: 319 | AR93: 302 | AS93: 285 | AT93: 367 | AU93: 303 | AV93: 477 | AW93: 343 | AX93: 309 | AY93: 294 | AZ93: 310
A94: 43717.892 | B94: Часто | C94: Иногда | D94: Часто | E94: Иногда | F94: Иногда | G94: Практичеки всегда | H94: Иногда | I94: Практичеки всегда | J94: Часто | K94: Практичеки всегда | L94: Я едва-едва успеваю выполнить необходимую текучку, но на долгосрочные планы не остается сил | M94: Я успеваю разобраться с необходимой текучкой, и даже изредка могу посвящать силы долгосрочным планам | N94: 2 | O94: 409 | P94: 42 | R94: 25 | S94: 0 | T94: Mozilla/5.0 (Linux; Android 9; CLT-L29) AppleWebKit/537.36 (KHTML, like Gecko) Chrome/76.0.3809.132 Mobile Safari/537.36 | U94: =COUNTIF(Z94:BT94,">"&(O94+P94)) -> 4 | V94: =COUNTIF(Z94:BT94,">"&(O94+2*P94)) -> 2 | W94: =COUNTIF(Z94:BT94,">"&(O94+3*P94)) -> 1 | X94: =COUNTIF(Z94:BT94,">"&(O94+4*P94)) -> 1 | Y94: =COUNTIF(Z94:BT94,">"&(O94+6*P94)) -> 0 | Z94: 618 | AA94: 472 | AB94: 508 | AC94: 467 | AD94: 404 | AE94: 384 | AF94: 416 | AG94: 436 | AH94: 413 | AI94: 379 | AJ94: 371 | AK94: 358 | AL94: 412 | AM94: 374 | AN94: 396 | AO94: 450 | AP94: 423 | AQ94: 360 | AR94: 369 | AS94: 329 | AT94: 382 | AU94: 376 | AV94: 414 | AW94: 340 | AX94: 375
A95: 43717.892 | B95: Часто | C95: Иногда | D95: Часто | E95: Редко | F95: Иногда | G95: Иногда | H95: Редко | I95: Иногда | J95: Иногда | K95: Часто | L95: Я едва-едва успеваю выполнить необходимую текучку, но на долгосрочные планы не остается сил | M95: Я едва-едва успеваю выполнить необходимую текучку, но на долгосрочные планы не остается сил | N95: 2 | O95: 354 | P95: 48 | R95: 25 | S95: 0 | T95: Mozilla/5.0 (iPhone; CPU iPhone OS 12_3_1 like Mac OS X) AppleWebKit/605.1.15 (KHTML, like Gecko) Mobile/15E148 [FBAN/FBIOS;FBDV/iPhone8,1;FBMD/iPhone;FBSN/iOS;FBSV/12.3.1;FBSS/2;FBID/phone;FBLC/ru_RU;FBOP/5;FBCR/Beeline] | U95: =COUNTIF(Z95:BT95,">"&(O95+P95)) -> 4 | V95: =COUNTIF(Z95:BT95,">"&(O95+2*P95)) -> 2 | W95: =COUNTIF(Z95:BT95,">"&(O95+3*P95)) -> 2 | X95: =COUNTIF(Z95:BT95,">"&(O95+4*P95)) -> 1 | Y95: =COUNTIF(Z95:BT95,">"&(O95+6*P95)) -> 0 | Z95: 533 | AA95: 294 | AB95: 417 | AC95: 330 | AD95: 347 | AE95: 298 | AF95: 343 | AG95: 384 | AH95: 333 | AI95: 317 | AJ95: 298 | AK95: 316 | AL95: 379 | AM95: 316 | AN95: 398 | AO95: 548 | AP95: 346 | AQ95: 317 | AR95: 349 | AS95: 298 | AT95: 365 | AU95: 417 | AV95: 358 | AW95: 271 | AX95: 299
A96: 43717.893 | B96: Часто | C96: Иногда | D96: Часто | E96: Редко | F96: Иногда | G96: Иногда | H96: Редко | I96: Иногда | J96: Иногда | K96: Часто | L96: Я едва-едва успеваю выполнить необходимую текучку, но на долгосрочные планы не остается сил | M96: Я едва-едва успеваю выполнить необходимую текучку, но на долгосрочные планы не остается сил | N96: 2 | O96: 354 | P96: 48 | R96: 25 | S96: 0 | T96: Mozilla/5.0 (iPhone; CPU iPhone OS 12_3_1 like Mac OS X) AppleWebKit/605.1.15 (KHTML, like Gecko) Mobile/15E148 [FBAN/FBIOS;FBDV/iPhone8,1;FBMD/iPhone;FBSN/iOS;FBSV/12.3.1;FBSS/2;FBID/phone;FBLC/ru_RU;FBOP/5;FBCR/Beeline] | U96: =COUNTIF(Z96:BT96,">"&(O96+P96)) -> 4 | V96: =COUNTIF(Z96:BT96,">"&(O96+2*P96)) -> 2 | W96: =COUNTIF(Z96:BT96,">"&(O96+3*P96)) -> 2 | X96: =COUNTIF(Z96:BT96,">"&(O96+4*P96)) -> 1 | Y96: =COUNTIF(Z96:BT96,">"&(O96+6*P96)) -> 0 | Z96: 533 | AA96: 294 | AB96: 417 | AC96: 330 | AD96: 347 | AE96: 298 | AF96: 343 | AG96: 384 | AH96: 333 | AI96: 317 | AJ96: 298 | AK96: 316 | AL96: 379 | AM96: 316 | AN96: 398 | AO96: 548 | AP96: 346 | AQ96: 317 | AR96: 349 | AS96: 298 | AT96: 365 | AU96: 417 | AV96: 358 | AW96: 271 | AX96: 299
A97: 43717.893 | B97: Иногда | C97: Иногда | D97: Часто | E97: Иногда | F97: Редко | G97: Часто | H97: Иногда | I97: Часто | J97: Часто | K97: Часто | L97: Я едва-едва успеваю выполнить необходимую текучку, но на долгосрочные планы не остается сил | M97: Я едва-едва успеваю выполнить необходимую текучку, но на долгосрочные планы не остается сил | N97: 2 | O97: 322 | P97: 59 | R97: 24 | S97: 2 | T97: Mozilla/5.0 (Windows NT 10.0; WOW64) AppleWebKit/537.36 (KHTML, like Gecko) Chrome/76.0.3809.132 Safari/537.36 OPR/63.0.3368.71 | U97: =COUNTIF(Z97:BT97,">"&(O97+P97)) -> 2 | V97: =COUNTIF(Z97:BT97,">"&(O97+2*P97)) -> 2 | W97: =COUNTIF(Z97:BT97,">"&(O97+3*P97)) -> 1 | X97: =COUNTIF(Z97:BT97,">"&(O97+4*P97)) -> 1 | Y97: =COUNTIF(Z97:BT97,">"&(O97+6*P97)) -> 1 | Z97: 773 | AA97: 462 | AB97: 377 | AC97: 329 | AD97: 276 | AE97: 347 | AF97: 302 | AG97: 297 | AH97: 348 | AI97: 266 | AJ97: 267 | AK97: 329 | AL97: 251 | AM97: 330 | AN97: 284 | AO97: 250 | AP97: 261 | AQ97: 289 | AR97: 280 | AS97: 301 | AT97: 225 | AU97: 271 | AV97: 325 | AW97: 305
A98: 43717.894 | B98: Практичеки всегда | C98: Практичеки всегда | D98: Практичеки всегда | E98: Редко | F98: Практичеки всегда | G98: Практичеки всегда | H98: Часто | I98: Практичеки всегда | J98: Часто | K98: Редко | L98: Я едва-едва успеваю выполнить необходимую текучку, но на долгосрочные планы не остается сил | M98: Я успеваю разобраться с необходимой текучкой, и даже изредка могу посвящать силы долгосрочным планам | N98: 2 | O98: 465 | P98: 101 | R98: 26 | S98: 0 | T98: Mozilla/5.0 (Linux; Android 8.1.0; Redmi 6 Build/O11019; wv) AppleWebKit/537.36 (KHTML, like Gecko) Version/4.0 Chrome/76.0.3809.132 Mobile Safari/537.36 [FB_IAB/FB4A;FBAV/236.0.0.40.117;] | U98: =COUNTIF(Z98:BT98,">"&(O98+P98)) -> 3 | V98: =COUNTIF(Z98:BT98,">"&(O98+2*P98)) -> 3 | W98: =COUNTIF(Z98:BT98,">"&(O98+3*P98)) -> 1 | X98: =COUNTIF(Z98:BT98,">"&(O98+4*P98)) -> 1 | Y98: =COUNTIF(Z98:BT98,">"&(O98+6*P98)) -> 0 | Z98: 113 | AA98: 684 | AB98: 737 | AC98: 143 | AD98: 252 | AE98: 548 | AF98: 490 | AG98: 494 | AH98: 450 | AI98: 402 | AJ98: 527 | AK98: 461 | AL98: 554 | AM98: 933 | AN98: 463 | AO98: 415 | AP98: 484 | AQ98: 475 | AR98: 459 | AS98: 445 | AT98: 426 | AU98: 504 | AV98: 424 | AW98: 385 | AX98: 433 | AY98: 389
A99: 43717.894 | B99: Часто | C99: Часто | D99: Часто | E99: Иногда | F99: Редко | G99: Практичеки всегда | H99: Иногда | I99: Часто | J99: Иногда | K99: Иногда | L99: Я успеваю разобраться с необходимой текучкой, и даже изредка могу посвящать силы долгосрочным планам | M99: Я вполне продуктивно продвигаюсь к своим долгосрочным целям. Завалы если и случаются, то не часто | N99: 3 | O99: 362 | P99: 48 | R99: 29 | S99: 1 | T99: Mozilla/5.0 (Linux; Android 9; SM-N975F Build/PPR1.180610.011; wv) AppleWebKit/537.36 (KHTML, like Gecko) Version/4.0 Chrome/76.0.3809.132 Mobile Safari/537.36 [FB_IAB/FB4A;FBAV/237.0.0.44.120;] | U99: =COUNTIF(Z99:BT99,">"&(O99+P99)) -> 4 | V99: =COUNTIF(Z99:BT99,">"&(O99+2*P99)) -> 2 | W99: =COUNTIF(Z99:BT99,">"&(O99+3*P99)) -> 2 | X99: =COUNTIF(Z99:BT99,">"&(O99+4*P99)) -> 1 | Y99: =COUNTIF(Z99:BT99,">"&(O99+6*P99)) -> 1 | Z99: 370 | AA99: 394 | AB99: 534 | AC99: 358 | AD99: 675 | AE99: 349 | AF99: 335 | AG99: 316 | AH99: 323 | AI99: 375 | AJ99: 357 | AK99: 319 | AL99: 338 | AM99: 325 | AN99: 312 | AO99: 309 | AP99: 273 | AQ99: 349 | AR99: 354 | AS99: 346 | AT99: 443 | AU99: 370 | AV99: 312 | AW99: 319 | AX99: 299 | AY99: 342 | AZ99: 444 | BA99: 340 | BB99: 327
A100: 43717.894 | B100: Часто | C100: Иногда | D100: Иногда | E100: Часто | F100: Редко | G100: Редко | H100: Редко | I100: Практически никогда | J100: Редко | K100: Часто | L100: Я вполне продуктивно продвигаюсь к своим долгосрочным целям. Завалы если и случаются, то не часто | M100: Я вполне продуктивно продвигаюсь к своим долгосрочным целям. Завалы если и случаются, то не часто | N100: 4 | O100: 291 | P100: 30 | R100: 23 | S100: 5 | T100: Mozilla/5.0 (Macintosh; Intel Mac OS X 10_11_6) AppleWebKit/537.36 (KHTML, like Gecko) Chrome/70.0.3538.102 YaBrowser/18.11.1.716 Yowser/2.5 Safari/537.36 | U100: =COUNTIF(Z100:BT100,">"&(O100+P100)) -> 3 | V100: =COUNTIF(Z100:BT100,">"&(O100+2*P100)) -> 2 | W100: =COUNTIF(Z100:BT100,">"&(O100+3*P100)) -> 1 | X100: =COUNTIF(Z100:BT100,">"&(O100+4*P100)) -> 1 | Y100: =COUNTIF(Z100:BT100,">"&(O100+6*P100)) -> 0 | Z100: 449 | AA100: 373 | AB100: 294 | AC100: 315 | AD100: 260 | AE100: 261 | AF100: 294 | AG100: 279 | AH100: 341 | AI100: 267 | AJ100: 264 | AK100: 264 | AL100: 298 | AM100: 283 | AN100: 285 | AO100: 267 | AP100: 294 | AQ100: 265 | AR100: 273 | AS100: 235 | AT100: 261 | AU100: 269 | AV100: 316
...

Sheet Ключи
A1: Практически никогда | B1: 1
A2: Редко | B2: 2
A3: Иногда | B3: 3
A4: Часто | B4: 4
A5: Практичеки всегда | B5: 5
A8: Никогда | B8: 1
A9: Редко | B9: 2
A10: Иногда | B10: 3
A11: Часто | B11: 4
A12: Очень часто | B12: 5
A15: Я не успеваю выполнять даже необходимый минимум | B15: плохо | G15: 1
A16: Я едва-едва успеваю выполнить необходимую текучку, но на долгосрочные планы не остается сил | B16: плохо | G16: 2
A17: Я успеваю разобраться с необходимой текучкой, и даже изредка могу посвящать силы долгосрочным планам | B17: средне | G17: 3
A18: Я вполне продуктивно продвигаюсь к своим долгосрочным целям. Завалы если и случаются, то не часто | B18: хорошо | G18: 4
A19: Все происходит легко и естественно и временами мне кажется, что редко бывает лучше | B19: хорошо | G19: 5
A21: 1 | B21: 1. зомбак
A22: 2 | B22: 1. зомбак
A23: 3 | B23: 1. зомбак
A24: 4 | B24: 2. средняк
A25: 5 | B25: 2. средняк
A26: 6 | B26: 3. бодряк
A27: 7 | B27: 3. бодряк

Sheet Анализ
A1: Уровень усталости
A2: 1. Свеж | B2: =COUNTIF('Рабочий стол'!L:L,Анализ!A2) -> 115
A3: 2. Устал | B3: =COUNTIF('Рабочий стол'!L:L,Анализ!A3) -> 258
A4: 3. Вилы | B4: =COUNTIF('Рабочий стол'!L:L,Анализ!A4) -> 168

Sheet Рабочий стол
A1: В какой степени утверждения ниже характеризуют ваше обычное состояние? [Меня беспокоит усталость] | B1: В какой степени утверждения ниже характеризуют ваше обычное состояние? [Я очень быстро устаю] | C1: В какой степени утверждения ниже характеризуют ваше обычное состояние? [Я успеваю сделать мало дел в течение дня] | D1: В какой степени утверждения ниже характеризуют ваше обычное состояние? [У меня достаточно энергии для повседневной жизни] | E1: В какой степени утверждения ниже характеризуют ваше обычное состояние? [Я чувствую физическое истощение] | F1: В какой степени утверждения ниже характеризуют ваше обычное состояние? [Мне трудно начать что-нибудь делать] | G1: В какой степени утверждения ниже характеризуют ваше обычное состояние? [Мне трудно думать четко и ясно] | H1: В какой степени утверждения ниже характеризуют ваше обычное состояние? [У меня нет никакого желания что-нибудь делать] | I1: В какой степени утверждения ниже характеризуют ваше обычное состояние? [Я чувствую умственное истощение] | J1: В какой степени утверждения ниже характеризуют ваше обычное состояние? [Когда я делаю что-нибудь, я могу довольно хорошо сконцентрироваться] | K1: FAS | L1: Уровень FAS | M1: Что лучше характеризует то, как вы справляетесь с делами в ЛИЧНОЙ жизни? | N1: Что лучше характеризует то, как вы справляетесь с делами по работе? | O1: На сколько свежим и отдохнувшим вы сегодня проснулись? | P1: Сетепень утренней проснутости | Q1: Среднее время в PVT | R1: PVT Диагноз | S1: Среднее отклонение времени в PVT | T1: Сходимость | U1: Степень сходимости | V1: Больше среднего на одно среднее отклонение | W1: Больше среднего на два средних отклонения | X1: Больше среднего на три средних отклонения | Y1: Больше среднего на 4 средних отклонения | Z1: Больше среднего на 6 средних отклонения
A2: =VLOOKUP('Ответы на форму (1)'!B2,FAS_Scale,2,FALSE) -> 4 | B2: =VLOOKUP('Ответы на форму (1)'!C2,FAS_Scale,2,FALSE) -> 3 | C2: =VLOOKUP('Ответы на форму (1)'!D2,FAS_Scale,2,FALSE) -> 3 | D2: =VLOOKUP('Ответы на форму (1)'!E2,FAS_Scale,2,FALSE) -> 5 | E2: =VLOOKUP('Ответы на форму (1)'!F2,FAS_Scale,2,FALSE) -> 3 | F2: =VLOOKUP('Ответы на форму (1)'!G2,FAS_Scale,2,FALSE) -> 2 | G2: =VLOOKUP('Ответы на форму (1)'!H2,FAS_Scale,2,FALSE) -> 3 | H2: =VLOOKUP('Ответы на форму (1)'!I2,FAS_Scale,2,FALSE) -> 3 | ... J2: =VLOOKUP('Ответы на форму (1)'!K2,FAS_Scale,2,FALSE) -> 4 | K2: =A2+B2+C2+(6-D2)+E2+F2+G2+H2+I2+(6-J2) -> 28 | L2: =IF(K2>=33,"3. Вилы",IF(K2>=23,"2. Устал","1. Свеж")) -> 2. Устал | M2: =VLOOKUP('Ответы на форму (1)'!L2,УровниУспевания,2,FALSE) -> хорошо | N2: =VLOOKUP('Ответы на форму (1)'!M2,УровниУспевания,2,FALSE) -> хорошо | O2: ='Ответы на форму (1)'!N2 -> 3 | P2: =VLOOKUP(O2,СтепеньПроснутости,2,FALSE) -> 1. зомбак | Q2: ='Ответы на форму (1)'!O2 -> 587 | R2: =IF(Q2>600,"2. Устал",IF(Q2>350,"2. Устал","1. Свеж")) -> 2. Устал | S2: ='Ответы на форму (1)'!P2 -> 79 | T2: =S2/Q2 -> 0.13458262 | U2: =IF(T2>0.35,"3. Ужас",IF(T2>0.1,"2. Фигово","1. Хорошо")) -> 2. Фигово | V2: ='Ответы на форму (1)'!U2 -> 4 | W2: ='Ответы на форму (1)'!V2 -> 1 | X2: ='Ответы на форму (1)'!W2 -> 1 | Y2: ='Ответы на форму (1)'!X2 -> 0 | Z2: ='Ответы на форму (1)'!Y2 -> 0
A3: =VLOOKUP('Ответы на форму (1)'!B3,FAS_Scale,2,FALSE) -> 3 | B3: =VLOOKUP('Ответы на форму (1)'!C3,FAS_Scale,2,FALSE) -> 2 | C3: =VLOOKUP('Ответы на форму (1)'!D3,FAS_Scale,2,FALSE) -> 2 | D3: =VLOOKUP('Ответы на форму (1)'!E3,FAS_Scale,2,FALSE) -> 3 | E3: =VLOOKUP('Ответы на форму (1)'!F3,FAS_Scale,2,FALSE) -> 3 | F3: =VLOOKUP('Ответы на форму (1)'!G3,FAS_Scale,2,FALSE) -> 2 | G3: =VLOOKUP('Ответы на форму (1)'!H3,FAS_Scale,2,FALSE) -> 2 | H3: =VLOOKUP('Ответы на форму (1)'!I3,FAS_Scale,2,FALSE) -> 1 | ... J3: =VLOOKUP('Ответы на форму (1)'!K3,FAS_Scale,2,FALSE) -> 3 | K3: =A3+B3+C3+(6-D3)+E3+F3+G3+H3+I3+(6-J3) -> 24 | L3: =IF(K3>=33,"3. Вилы",IF(K3>=23,"2. Устал","1. Свеж")) -> 2. Устал | M3: =VLOOKUP('Ответы на форму (1)'!L3,УровниУспевания,2,FALSE) -> средне | N3: =VLOOKUP('Ответы на форму (1)'!M3,УровниУспевания,2,FALSE) -> средне | O3: ='Ответы на форму (1)'!N3 -> 5 | P3: =VLOOKUP(O3,СтепеньПроснутости,2,FALSE) -> 2. средняк | Q3: ='Ответы на форму (1)'!O3 -> 407 | R3: =IF(Q3>600,"2. Устал",IF(Q3>350,"2. Устал","1. Свеж")) -> 2. Устал | S3: ='Ответы на форму (1)'!P3 -> 75 | T3: =S3/Q3 -> 0.18427518 | U3: =IF(T3>0.35,"3. Ужас",IF(T3>0.1,"2. Фигово","1. Хорошо")) -> 2. Фигово | V3: ='Ответы на форму (1)'!U3 -> 4 | W3: ='Ответы на форму (1)'!V3 -> 1 | X3: ='Ответы на форму (1)'!W3 -> 1 | Y3: ='Ответы на форму (1)'!X3 -> 1 | Z3: ='Ответы на форму (1)'!Y3 -> 1
A4: =VLOOKUP('Ответы на форму (1)'!B4,FAS_Scale,2,FALSE) -> 4 | B4: =VLOOKUP('Ответы на форму (1)'!C4,FAS_Scale,2,FALSE) -> 3 | C4: =VLOOKUP('Ответы на форму (1)'!D4,FAS_Scale,2,FALSE) -> 3 | D4: =VLOOKUP('Ответы на форму (1)'!E4,FAS_Scale,2,FALSE) -> 4 | E4: =VLOOKUP('Ответы на форму (1)'!F4,FAS_Scale,2,FALSE) -> 2 | F4: =VLOOKUP('Ответы на форму (1)'!G4,FAS_Scale,2,FALSE) -> 2 | G4: =VLOOKUP('Ответы на форму (1)'!H4,FAS_Scale,2,FALSE) -> 3 | H4: =VLOOKUP('Ответы на форму (1)'!I4,FAS_Scale,2,FALSE) -> 3 | ... J4: =VLOOKUP('Ответы на форму (1)'!K4,FAS_Scale,2,FALSE) -> 4 | K4: =A4+B4+C4+(6-D4)+E4+F4+G4+H4+I4+(6-J4) -> 26 | L4: =IF(K4>=33,"3. Вилы",IF(K4>=23,"2. Устал","1. Свеж")) -> 2. Устал | M4: =VLOOKUP('Ответы на форму (1)'!L4,УровниУспевания,2,FALSE) -> средне | N4: =VLOOKUP('Ответы на форму (1)'!M4,УровниУспевания,2,FALSE) -> средне | O4: ='Ответы на форму (1)'!N4 -> 5 | P4: =VLOOKUP(O4,СтепеньПроснутости,2,FALSE) -> 2. средняк | Q4: ='Ответы на форму (1)'!O4 -> 343 | R4: =IF(Q4>600,"2. Устал",IF(Q4>350,"2. Устал","1. Свеж")) -> 1. Свеж | S4: ='Ответы на форму (1)'!P4 -> 63 | T4: =S4/Q4 -> 0.18367347 | U4: =IF(T4>0.35,"3. Ужас",IF(T4>0.1,"2. Фигово","1. Хорошо")) -> 2. Фигово | V4: ='Ответы на форму (1)'!U4 -> 4 | W4: ='Ответы на форму (1)'!V4 -> 3 | X4: ='Ответы на форму (1)'!W4 -> 2 | Y4: ='Ответы на форму (1)'!X4 -> 0 | Z4: ='Ответы на форму (1)'!Y4 -> 0
A5: =VLOOKUP('Ответы на форму (1)'!B5,FAS_Scale,2,FALSE) -> 2 | B5: =VLOOKUP('Ответы на форму (1)'!C5,FAS_Scale,2,FALSE) -> 2 | C5: =VLOOKUP('Ответы на форму (1)'!D5,FAS_Scale,2,FALSE) -> 4 | D5: =VLOOKUP('Ответы на форму (1)'!E5,FAS_Scale,2,FALSE) -> 4 | E5: =VLOOKUP('Ответы на форму (1)'!F5,FAS_Scale,2,FALSE) -> 2 | F5: =VLOOKUP('Ответы на форму (1)'!G5,FAS_Scale,2,FALSE) -> 4 | G5: =VLOOKUP('Ответы на форму (1)'!H5,FAS_Scale,2,FALSE) -> 3 | H5: =VLOOKUP('Ответы на форму (1)'!I5,FAS_Scale,2,FALSE) -> 3 | ... J5: =VLOOKUP('Ответы на форму (1)'!K5,FAS_Scale,2,FALSE) -> 4 | K5: =A5+B5+C5+(6-D5)+E5+F5+G5+H5+I5+(6-J5) -> 26 | L5: =IF(K5>=33,"3. Вилы",IF(K5>=23,"2. Устал","1. Свеж")) -> 2. Устал | M5: =VLOOKUP('Ответы на форму (1)'!L5,УровниУспевания,2,FALSE) -> средне | N5: =VLOOKUP('Ответы на форму (1)'!M5,УровниУспевания,2,FALSE) -> средне | O5: ='Ответы на форму (1)'!N5 -> 6 | P5: =VLOOKUP(O5,СтепеньПроснутости,2,FALSE) -> 3. бодряк | Q5: ='Ответы на форму (1)'!O5 -> 291 | R5: =IF(Q5>600,"2. Устал",IF(Q5>350,"2. Устал","1. Свеж")) -> 1. Свеж | S5: ='Ответы на форму (1)'!P5 -> 24 | T5: =S5/Q5 -> 0.082474227 | U5: =IF(T5>0.35,"3. Ужас",IF(T5>0.1,"2. Фигово","1. Хорошо")) -> 1. Хорошо | V5: ='Ответы на форму (1)'!U5 -> 5 | W5: ='Ответы на форму (1)'!V5 -> 1 | X5: ='Ответы на форму (1)'!W5 -> 0 | Y5: ='Ответы на форму (1)'!X5 -> 0 | Z5: ='Ответы на форму (1)'!Y5 -> 0
A6: =VLOOKUP('Ответы на форму (1)'!B6,FAS_Scale,2,FALSE) -> 4 | B6: =VLOOKUP('Ответы на форму (1)'!C6,FAS_Scale,2,FALSE) -> 3 | C6: =VLOOKUP('Ответы на форму (1)'!D6,FAS_Scale,2,FALSE) -> 4 | D6: =VLOOKUP('Ответы на форму (1)'!E6,FAS_Scale,2,FALSE) -> 4 | E6: =VLOOKUP('Ответы на форму (1)'!F6,FAS_Scale,2,FALSE) -> 3 | F6: =VLOOKUP('Ответы на форму (1)'!G6,FAS_Scale,2,FALSE) -> 4 | G6: =VLOOKUP('Ответы на форму (1)'!H6,FAS_Scale,2,FALSE) -> 2 | H6: =VLOOKUP('Ответы на форму (1)'!I6,FAS_Scale,2,FALSE) -> 3 | ... J6: =VLOOKUP('Ответы на форму (1)'!K6,FAS_Scale,2,FALSE) -> 3 | K6: =A6+B6+C6+(6-D6)+E6+F6+G6+H6+I6+(6-J6) -> 31 | L6: =IF(K6>=33,"3. Вилы",IF(K6>=23,"2. Устал","1. Свеж")) -> 2. Устал | M6: =VLOOKUP('Ответы на форму (1)'!L6,УровниУспевания,2,FALSE) -> средне | N6: =VLOOKUP('Ответы на форму (1)'!M6,УровниУспевания,2,FALSE) -> средне | O6: ='Ответы на форму (1)'!N6 -> 4 | P6: =VLOOKUP(O6,СтепеньПроснутости,2,FALSE) -> 2. средняк | Q6: ='Ответы на форму (1)'!O6 -> 259 | R6: =IF(Q6>600,"2. Устал",IF(Q6>350,"2. Устал","1. Свеж")) -> 1. Свеж | S6: ='Ответы на форму (1)'!P6 -> 35 | T6: =S6/Q6 -> 0.13513514 | U6: =IF(T6>0.35,"3. Ужас",IF(T6>0.1,"2. Фигово","1. Хорошо")) -> 2. Фигово | V6: ='Ответы на форму (1)'!U6 -> 6 | W6: ='Ответы на форму (1)'!V6 -> 3 | X6: ='Ответы на форму (1)'!W6 -> 2 | Y6: ='Ответы на форму (1)'!X6 -> 1 | Z6: ='Ответы на форму (1)'!Y6 -> 0
A7: =VLOOKUP('Ответы на форму (1)'!B7,FAS_Scale,2,FALSE) -> 5 | B7: =VLOOKUP('Ответы на форму (1)'!C7,FAS_Scale,2,FALSE) -> 4 | C7: =VLOOKUP('Ответы на форму (1)'!D7,FAS_Scale,2,FALSE) -> 4 | D7: =VLOOKUP('Ответы на форму (1)'!E7,FAS_Scale,2,FALSE) -> 3 | E7: =VLOOKUP('Ответы на форму (1)'!F7,FAS_Scale,2,FALSE) -> 4 | F7: =VLOOKUP('Ответы на форму (1)'!G7,FAS_Scale,2,FALSE) -> 4 | G7: =VLOOKUP('Ответы на форму (1)'!H7,FAS_Scale,2,FALSE) -> 3 | H7: =VLOOKUP('Ответы на форму (1)'!I7,FAS_Scale,2,FALSE) -> 4 | ... J7: =VLOOKUP('Ответы на форму (1)'!K7,FAS_Scale,2,FALSE) -> 4 | K7: =A7+B7+C7+(6-D7)+E7+F7+G7+H7+I7+(6-J7) -> 37 | L7: =IF(K7>=33,"3. Вилы",IF(K7>=23,"2. Устал","1. Свеж")) -> 3. Вилы | M7: =VLOOKUP('Ответы на форму (1)'!L7,УровниУспевания,2,FALSE) -> плохо | N7: =VLOOKUP('Ответы на форму (1)'!M7,УровниУспевания,2,FALSE) -> плохо | O7: ='Ответы на форму (1)'!N7 -> 4 | P7: =VLOOKUP(O7,СтепеньПроснутости,2,FALSE) -> 2. средняк | Q7: ='Ответы на форму (1)'!O7 -> 371 | R7: =IF(Q7>600,"2. Устал",IF(Q7>350,"2. Устал","1. Свеж")) -> 2. Устал | S7: ='Ответы на форму (1)'!P7 -> 108 | T7: =S7/Q7 -> 0.29110512 | U7: =IF(T7>0.35,"3. Ужас",IF(T7>0.1,"2. Фигово","1. Хорошо")) -> 2. Фигово | V7: ='Ответы на форму (1)'!U7 -> 3 | W7: ='Ответы на форму (1)'!V7 -> 2 | X7: ='Ответы на форму (1)'!W7 -> 2 | Y7: ='Ответы на форму (1)'!X7 -> 0 | Z7: ='Ответы на форму (1)'!Y7 -> 0
A8: =VLOOKUP('Ответы на форму (1)'!B8,FAS_Scale,2,FALSE) -> 4 | B8: =VLOOKUP('Ответы на форму (1)'!C8,FAS_Scale,2,FALSE) -> 2 | C8: =VLOOKUP('Ответы на форму (1)'!D8,FAS_Scale,2,FALSE) -> 3 | D8: =VLOOKUP('Ответы на форму (1)'!E8,FAS_Scale,2,FALSE) -> 5 | E8: =VLOOKUP('Ответы на форму (1)'!F8,FAS_Scale,2,FALSE) -> 1 | F8: =VLOOKUP('Ответы на форму (1)'!G8,FAS_Scale,2,FALSE) -> 3 | G8: =VLOOKUP('Ответы на форму (1)'!H8,FAS_Scale,2,FALSE) -> 1 | H8: =VLOOKUP('Ответы на форму (1)'!I8,FAS_Scale,2,FALSE) -> 2 | ... J8: =VLOOKUP('Ответы на форму (1)'!K8,FAS_Scale,2,FALSE) -> 4 | K8: =A8+B8+C8+(6-D8)+E8+F8+G8+H8+I8+(6-J8) -> 21 | L8: =IF(K8>=33,"3. Вилы",IF(K8>=23,"2. Устал","1. Свеж")) -> 1. Свеж | M8: =VLOOKUP('Ответы на форму (1)'!L8,УровниУспевания,2,FALSE) -> средне | N8: =VLOOKUP('Ответы на форму (1)'!M8,УровниУспевания,2,FALSE) -> средне | O8: ='Ответы на форму (1)'!N8 -> 3 | P8: =VLOOKUP(O8,СтепеньПроснутости,2,FALSE) -> 1. зомбак | Q8: ='Ответы на форму (1)'!O8 -> 446 | R8: =IF(Q8>600,"2. Устал",IF(Q8>350,"2. Устал","1. Свеж")) -> 2. Устал | S8: ='Ответы на форму (1)'!P8 -> 31 | T8: =S8/Q8 -> 0.069506726 | U8: =IF(T8>0.35,"3. Ужас",IF(T8>0.1,"2. Фигово","1. Хорошо")) -> 1. Хорошо | V8: ='Ответы на форму (1)'!U8 -> 5 | W8: ='Ответы на форму (1)'!V8 -> 2 | X8: ='Ответы на форму (1)'!W8 -> 2 | Y8: ='Ответы на форму (1)'!X8 -> 0 | Z8: ='Ответы на форму (1)'!Y8 -> 0
A9: =VLOOKUP('Ответы на форму (1)'!B9,FAS_Scale,2,FALSE) -> 3 | B9: =VLOOKUP('Ответы на форму (1)'!C9,FAS_Scale,2,FALSE) -> 2 | C9: =VLOOKUP('Ответы на форму (1)'!D9,FAS_Scale,2,FALSE) -> 2 | D9: =VLOOKUP('Ответы на форму (1)'!E9,FAS_Scale,2,FALSE) -> 4 | E9: =VLOOKUP('Ответы на форму (1)'!F9,FAS_Scale,2,FALSE) -> 2 | F9: =VLOOKUP('Ответы на форму (1)'!G9,FAS_Scale,2,FALSE) -> 2 | G9: =VLOOKUP('Ответы на форму (1)'!H9,FAS_Scale,2,FALSE) -> 1 | H9: =VLOOKUP('Ответы на форму (1)'!I9,FAS_Scale,2,FALSE) -> 3 | ... J9: =VLOOKUP('Ответы на форму (1)'!K9,FAS_Scale,2,FALSE) -> 5 | K9: =A9+B9+C9+(6-D9)+E9+F9+G9+H9+I9+(6-J9) -> 20 | L9: =IF(K9>=33,"3. Вилы",IF(K9>=23,"2. Устал","1. Свеж")) -> 1. Свеж | M9: =VLOOKUP('Ответы на форму (1)'!L9,УровниУспевания,2,FALSE) -> средне | N9: =VLOOKUP('Ответы на форму (1)'!M9,УровниУспевания,2,FALSE) -> средне | O9: ='Ответы на форму (1)'!N9 -> 4 | P9: =VLOOKUP(O9,СтепеньПроснутости,2,FALSE) -> 2. средняк | Q9: ='Ответы на форму (1)'!O9 -> 301 | R9: =IF(Q9>600,"2. Устал",IF(Q9>350,"2. Устал","1. Свеж")) -> 1. Свеж | S9: ='Ответы на форму (1)'!P9 -> 33 | T9: =S9/Q9 -> 0.10963455 | U9: =IF(T9>0.35,"3. Ужас",IF(T9>0.1,"2. Фигово","1. Хорошо")) -> 2. Фигово | V9: ='Ответы на форму (1)'!U9 -> 3 | W9: ='Ответы на форму (1)'!V9 -> 2 | X9: ='Ответы на форму (1)'!W9 -> 2 | Y9: ='Ответы на форму (1)'!X9 -> 1 | Z9: ='Ответы на форму (1)'!Y9 -> 0
A10: =VLOOKUP('Ответы на форму (1)'!B10,FAS_Scale,2,FALSE) -> 4 | B10: =VLOOKUP('Ответы на форму (1)'!C10,FAS_Scale,2,FALSE) -> 2 | C10: =VLOOKUP('Ответы на форму (1)'!D10,FAS_Scale,2,FALSE) -> 2 | D10: =VLOOKUP('Ответы на форму (1)'!E10,FAS_Scale,2,FALSE) -> 5 | E10: =VLOOKUP('Ответы на форму (1)'!F10,FAS_Scale,2,FALSE) -> 3 | F10: =VLOOKUP('Ответы на форму (1)'!G10,FAS_Scale,2,FALSE) -> 2 | G10: =VLOOKUP('Ответы на форму (1)'!H10,FAS_Scale,2,FALSE) -> 1 | H10: =VLOOKUP('Ответы на форму (1)'!I10,FAS_Scale,2,FALSE) -> 1 | ... J10: =VLOOKUP('Ответы на форму (1)'!K10,FAS_Scale,2,FALSE) -> 5 | K10: =A10+B10+C10+(6-D10)+E10+F10+G10+H10+I10+(6-J10) -> 18 | L10: =IF(K10>=33,"3. Вилы",IF(K10>=23,"2. Устал","1. Свеж")) -> 1. Свеж | M10: =VLOOKUP('Ответы на форму (1)'!L10,УровниУспевания,2,FALSE) -> хорошо | N10: =VLOOKUP('Ответы на форму (1)'!M10,УровниУспевания,2,FALSE) -> хорошо | O10: ='Ответы на форму (1)'!N10 -> 1 | P10: =VLOOKUP(O10,СтепеньПроснутости,2,FALSE) -> 1. зомбак | Q10: ='Ответы на форму (1)'!O10 -> 371 | R10: =IF(Q10>600,"2. Устал",IF(Q10>350,"2. Устал","1. Свеж")) -> 2. Устал | S10: ='Ответы на форму (1)'!P10 -> 77 | T10: =S10/Q10 -> 0.20754717 | U10: =IF(T10>0.35,"3. Ужас",IF(T10>0.1,"2. Фигово","1. Хорошо")) -> 2. Фигово | V10: ='Ответы на форму (1)'!U10 -> 4 | W10: ='Ответы на форму (1)'!V10 -> 2 | X10: ='Ответы на форму (1)'!W10 -> 1 | Y10: ='Ответы на форму (1)'!X10 -> 1 | Z10: ='Ответы на форму (1)'!Y10 -> 1
A11: =VLOOKUP('Ответы на форму (1)'!B11,FAS_Scale,2,FALSE) -> 4 | B11: =VLOOKUP('Ответы на форму (1)'!C11,FAS_Scale,2,FALSE) -> 4 | C11: =VLOOKUP('Ответы на форму (1)'!D11,FAS_Scale,2,FALSE) -> 4 | D11: =VLOOKUP('Ответы на форму (1)'!E11,FAS_Scale,2,FALSE) -> 3 | E11: =VLOOKUP('Ответы на форму (1)'!F11,FAS_Scale,2,FALSE) -> 3 | F11: =VLOOKUP('Ответы на форму (1)'!G11,FAS_Scale,2,FALSE) -> 4 | G11: =VLOOKUP('Ответы на форму (1)'!H11,FAS_Scale,2,FALSE) -> 4 | H11: =VLOOKUP('Ответы на форму (1)'!I11,FAS_Scale,2,FALSE) -> 4 | ... J11: =VLOOKUP('Ответы на форму (1)'!K11,FAS_Scale,2,FALSE) -> 4 | K11: =A11+B11+C11+(6-D11)+E11+F11+G11+H11+I11+(6-J11) -> 36 | L11: =IF(K11>=33,"3. Вилы",IF(K11>=23,"2. Устал","1. Свеж")) -> 3. Вилы | M11: =VLOOKUP('Ответы на форму (1)'!L11,УровниУспевания,2,FALSE) -> плохо | N11: =VLOOKUP('Ответы на форму (1)'!M11,УровниУспевания,2,FALSE) -> плохо | O11: ='Ответы на форму (1)'!N11 -> 5 | P11: =VLOOKUP(O11,СтепеньПроснутости,2,FALSE) -> 2. средняк | Q11: ='Ответы на форму (1)'!O11 -> 417 | R11: =IF(Q11>600,"2. Устал",IF(Q11>350,"2. Устал","1. Свеж")) -> 2. Устал | S11: ='Ответы на форму (1)'!P11 -> 83 | T11: =S11/Q11 -> 0.19904077 | U11: =IF(T11>0.35,"3. Ужас",IF(T11>0.1,"2. Фигово","1. Хорошо")) -> 2. Фигово | V11: ='Ответы на форму (1)'!U11 -> 4 | W11: ='Ответы на форму (1)'!V11 -> 3 | X11: ='Ответы на форму (1)'!W11 -> 1 | Y11: ='Ответы на форму (1)'!X11 -> 1 | Z11: ='Ответы на форму (1)'!Y11 -> 0
A12: =VLOOKUP('Ответы на форму (1)'!B12,FAS_Scale,2,FALSE) -> 2 | B12: =VLOOKUP('Ответы на форму (1)'!C12,FAS_Scale,2,FALSE) -> 2 | C12: =VLOOKUP('Ответы на форму (1)'!D12,FAS_Scale,2,FALSE) -> 4 | D12: =VLOOKUP('Ответы на форму (1)'!E12,FAS_Scale,2,FALSE) -> 5 | E12: =VLOOKUP('Ответы на форму (1)'!F12,FAS_Scale,2,FALSE) -> 1 | F12: =VLOOKUP('Ответы на форму (1)'!G12,FAS_Scale,2,FALSE) -> 2 | G12: =VLOOKUP('Ответы на форму (1)'!H12,FAS_Scale,2,FALSE) -> 2 | H12: =VLOOKUP('Ответы на форму (1)'!I12,FAS_Scale,2,FALSE) -> 3 | ... J12: =VLOOKUP('Ответы на форму (1)'!K12,FAS_Scale,2,FALSE) -> 4 | K12: =A12+B12+C12+(6-D12)+E12+F12+G12+H12+I12+(6-J12) -> 22 | L12: =IF(K12>=33,"3. Вилы",IF(K12>=23,"2. Устал","1. Свеж")) -> 1. Свеж | M12: =VLOOKUP('Ответы на форму (1)'!L12,УровниУспевания,2,FALSE) -> средне | N12: =VLOOKUP('Ответы на форму (1)'!M12,УровниУспевания,2,FALSE) -> плохо | O12: ='Ответы на форму (1)'!N12 -> 3 | P12: =VLOOKUP(O12,СтепеньПроснутости,2,FALSE) -> 1. зомбак | Q12: ='Ответы на форму (1)'!O12 -> 389 | R12: =IF(Q12>600,"2. Устал",IF(Q12>350,"2. Устал","1. Свеж")) -> 2. Устал | S12: ='Ответы на форму (1)'!P12 -> 43 | T12: =S12/Q12 -> 0.11053985 | U12: =IF(T12>0.35,"3. Ужас",IF(T12>0.1,"2. Фигово","1. Хорошо")) -> 2. Фигово | V12: ='Ответы на форму (1)'!U12 -> 3 | W12: ='Ответы на форму (1)'!V12 -> 2 | X12: ='Ответы на форму (1)'!W12 -> 2 | Y12: ='Ответы на форму (1)'!X12 -> 1 | Z12: ='Ответы на форму (1)'!Y12 -> 1
A13: =VLOOKUP('Ответы на форму (1)'!B13,FAS_Scale,2,FALSE) -> 3 | B13: =VLOOKUP('Ответы на форму (1)'!C13,FAS_Scale,2,FALSE) -> 2 | C13: =VLOOKUP('Ответы на форму (1)'!D13,FAS_Scale,2,FALSE) -> 2 | D13: =VLOOKUP('Ответы на форму (1)'!E13,FAS_Scale,2,FALSE) -> 4 | E13: =VLOOKUP('Ответы на форму (1)'!F13,FAS_Scale,2,FALSE) -> 3 | F13: =VLOOKUP('Ответы на форму (1)'!G13,FAS_Scale,2,FALSE) -> 2 | G13: =VLOOKUP('Ответы на форму (1)'!H13,FAS_Scale,2,FALSE) -> 2 | H13: =VLOOKUP('Ответы на форму (1)'!I13,FAS_Scale,2,FALSE) -> 2 | ... J13: =VLOOKUP('Ответы на форму (1)'!K13,FAS_Scale,2,FALSE) -> 3 | K13: =A13+B13+C13+(6-D13)+E13+F13+G13+H13+I13+(6-J13) -> 22 | L13: =IF(K13>=33,"3. Вилы",IF(K13>=23,"2. Устал","1. Свеж")) -> 1. Свеж | M13: =VLOOKUP('Ответы на форму (1)'!L13,УровниУспевания,2,FALSE) -> средне | N13: =VLOOKUP('Ответы на форму (1)'!M13,УровниУспевания,2,FALSE) -> хорошо | O13: ='Ответы на форму (1)'!N13 -> 5 | P13: =VLOOKUP(O13,СтепеньПроснутости,2,FALSE) -> 2. средняк | Q13: ='Ответы на форму (1)'!O13 -> 389 | R13: =IF(Q13>600,"2. Устал",IF(Q13>350,"2. Устал","1. Свеж")) -> 2. Устал | S13: ='Ответы на форму (1)'!P13 -> 90 | T13: =S13/Q13 -> 0.23136247 | U13: =IF(T13>0.35,"3. Ужас",IF(T13>0.1,"2. Фигово","1. Хорошо")) -> 2. Фигово | V13: ='Ответы на форму (1)'!U13 -> 3 | W13: ='Ответы на форму (1)'!V13 -> 1 | X13: ='Ответы на форму (1)'!W13 -> 1 | Y13: ='Ответы на форму (1)'!X13 -> 1 | Z13: ='Ответы на форму (1)'!Y13 -> 0
... A149: =VLOOKUP('Ответы на форму (1)'!B149,FAS_Scale,2,FALSE) -> 4 | B149: =VLOOKUP('Ответы на форму (1)'!C149,FAS_Scale,2,FALSE) -> 2 | C149: =VLOOKUP('Ответы на форму (1)'!D149,FAS_Scale,2,FALSE) -> 4 | D149: =VLOOKUP('Ответы на форму (1)'!E149,FAS_Scale,2,FALSE) -> 4 | E149: =VLOOKUP('Ответы на форму (1)'!F149,FAS_Scale,2,FALSE) -> 4 | F149: =VLOOKUP('Ответы на форму (1)'!G149,FAS_Scale,2,FALSE) -> 3 | G149: =VLOOKUP('Ответы на форму (1)'!H149,FAS_Scale,2,FALSE) -> 3 | H149: =VLOOKUP('Ответы на форму (1)'!I149,FAS_Scale,2,FALSE) -> 2 | ... J149: =VLOOKUP('Ответы на форму (1)'!K149,FAS_Scale,2,FALSE) -> 4 | K149: =A149+B149+C149+(6-D149)+E149+F149+G149+H149+I149+(6-J149) -> 28 | L149: =IF(K149>=33,"3. Вилы",IF(K149>=23,"2. Устал","1. Свеж")) -> 2. Устал | M149: =VLOOKUP('Ответы на форму (1)'!L149,УровниУспевания,2,FALSE) -> плохо | N149: =VLOOKUP('Ответы на форму (1)'!M149,УровниУспевания,2,FALSE) -> средне | O149: ='Ответы на форму (1)'!N149 -> 3 | P149: =VLOOKUP(O149,СтепеньПроснутости,2,FALSE) -> 1. зомбак | Q149: ='Ответы на форму (1)'!O149 -> 437 | R149: =IF(Q149>600,"2. Устал",IF(Q149>350,"2. Устал","1. Свеж")) -> 2. Устал | S149: ='Ответы на форму (1)'!P149 -> 103 | T149: =S149/Q149 -> 0.23569794 | U149: =IF(T149>0.35,"3. Ужас",IF(T149>0.1,"2. Фигово","1. Хорошо")) -> 2. Фигово | V149: ='Ответы на форму (1)'!U149 -> 1 | W149: ='Ответы на форму (1)'!V149 -> 1 | X149: ='Ответы на форму (1)'!W149 -> 1 | Y149: ='Ответы на форму (1)'!X149 -> 1 | Z149: ='Ответы на форму (1)'!Y149 -> 1
A150: =VLOOKUP('Ответы на форму (1)'!B151,FAS_Scale,2,FALSE) -> 2 | B150: =VLOOKUP('Ответы на форму (1)'!C151,FAS_Scale,2,FALSE) -> 2 | C150: =VLOOKUP('Ответы на форму (1)'!D151,FAS_Scale,2,FALSE) -> 3 | D150: =VLOOKUP('Ответы на форму (1)'!E151,FAS_Scale,2,FALSE) -> 4 | E150: =VLOOKUP('Ответы на форму (1)'!F151,FAS_Scale,2,FALSE) -> 2 | F150: =VLOOKUP('Ответы на форму (1)'!G151,FAS_Scale,2,FALSE) -> 2 | G150: =VLOOKUP('Ответы на форму (1)'!H151,FAS_Scale,2,FALSE) -> 2 | H150: =VLOOKUP('Ответы на форму (1)'!I151,FAS_Scale,2,FALSE) -> 1 | ... J150: =VLOOKUP('Ответы на форму (1)'!K151,FAS_Scale,2,FALSE) -> 4 | K150: =A150+B150+C150+(6-D150)+E150+F150+G150+H150+I150+(6-J150) -> 20 | L150: =IF(K150>=33,"3. Вилы",IF(K150>=23,"2. Устал","1. Свеж")) -> 1. Свеж | M150: =VLOOKUP('Ответы на форму (1)'!L151,УровниУспевания,2,FALSE) -> средне | N150: =VLOOKUP('Ответы на форму (1)'!M151,УровниУспевания,2,FALSE) -> хорошо | O150: ='Ответы на форму (1)'!N151 -> 6 | P150: =VLOOKUP(O150,СтепеньПроснутости,2,FALSE) -> 3. бодряк | Q150: ='Ответы на форму (1)'!O151 -> 414 | R150: =IF(Q150>600,"2. Устал",IF(Q150>350,"2. Устал","1. Свеж")) -> 2. Устал | S150: ='Ответы на форму (1)'!P151 -> 58 | T150: =S150/Q150 -> 0.14009662 | U150: =IF(T150>0.35,"3. Ужас",IF(T150>0.1,"2. Фигово","1. Хорошо")) -> 2. Фигово | V150: ='Ответы на форму (1)'!U150 -> 0 | W150: ='Ответы на форму (1)'!V150 -> 0 | X150: ='Ответы на форму (1)'!W150 -> 0 | Y150: ='Ответы на форму (1)'!X150 -> 0 | Z150: ='Ответы на форму (1)'!Y150 -> 0
A151: =VLOOKUP('Ответы на форму (1)'!B152,FAS_Scale,2,FALSE) -> 4 | B151: =VLOOKUP('Ответы на форму (1)'!C152,FAS_Scale,2,FALSE) -> 3 | C151: =VLOOKUP('Ответы на форму (1)'!D152,FAS_Scale,2,FALSE) -> 4 | D151: =VLOOKUP('Ответы на форму (1)'!E152,FAS_Scale,2,FALSE) -> 2 | E151: =VLOOKUP('Ответы на форму (1)'!F152,FAS_Scale,2,FALSE) -> 4 | F151: =VLOOKUP('Ответы на форму (1)'!G152,FAS_Scale,2,FALSE) -> 3 | G151: =VLOOKUP('Ответы на форму (1)'!H152,FAS_Scale,2,FALSE) -> 2 | H151: =VLOOKUP('Ответы на форму (1)'!I152,FAS_Scale,2,FALSE) -> 1 | ... J151: =VLOOKUP('Ответы на форму (1)'!K152,FAS_Scale,2,FALSE) -> 4 | K151: =A151+B151+C151+(6-D151)+E151+F151+G151+H151+I151+(6-J151) -> 29 | L151: =IF(K151>=33,"3. Вилы",IF(K151>=23,"2. Устал","1. Свеж")) -> 2. Устал | M151: =VLOOKUP('Ответы на форму (1)'!L152,УровниУспевания,2,FALSE) -> средне | N151: =VLOOKUP('Ответы на форму (1)'!M152,УровниУспевания,2,FALSE) -> средне | O151: ='Ответы на форму (1)'!N152 -> 6 | P151: =VLOOKUP(O151,СтепеньПроснутости,2,FALSE) -> 3. бодряк | Q151: ='Ответы на форму (1)'!O152 -> 359 | R151: =IF(Q151>600,"2. Устал",IF(Q151>350,"2. Устал","1. Свеж")) -> 2. Устал | S151: ='Ответы на форму (1)'!P152 -> 53 | T151: =S151/Q151 -> 0.14763231 | U151: =IF(T151>0.35,"3. Ужас",IF(T151>0.1,"2. Фигово","1. Хорошо")) -> 2. Фигово | V151: ='Ответы на форму (1)'!U151 -> 3 | W151: ='Ответы на форму (1)'!V151 -> 3 | X151: ='Ответы на форму (1)'!W151 -> 2 | Y151: ='Ответы на форму (1)'!X151 -> 0 | Z151: ='Ответы на форму (1)'!Y151 -> 0
A152: =VLOOKUP('Ответы на форму (1)'!B153,FAS_Scale,2,FALSE) -> 3 | B152: =VLOOKUP('Ответы на форму (1)'!C153,FAS_Scale,2,FALSE) -> 2 | C152: =VLOOKUP('Ответы на форму (1)'!D153,FAS_Scale,2,FALSE) -> 2 | D152: =VLOOKUP('Ответы на форму (1)'!E153,FAS_Scale,2,FALSE) -> 5 | E152: =VLOOKUP('Ответы на форму (1)'!F153,FAS_Scale,2,FALSE) -> 3 | F152: =VLOOKUP('Ответы на форму (1)'!G153,FAS_Scale,2,FALSE) -> 3 | G152: =VLOOKUP('Ответы на форму (1)'!H153,FAS_Scale,2,FALSE) -> 1 | H152: =VLOOKUP('Ответы на форму (1)'!I153,FAS_Scale,2,FALSE) -> 1 | ... J152: =VLOOKUP('Ответы на форму (1)'!K153,FAS_Scale,2,FALSE) -> 5 | K152: =A152+B152+C152+(6-D152)+E152+F152+G152+H152+I152+(6-J152) -> 18 | L152: =IF(K152>=33,"3. Вилы",IF(K152>=23,"2. Устал","1. Свеж")) -> 1. Свеж | M152: =VLOOKUP('Ответы на форму (1)'!L153,УровниУспевания,2,FALSE) -> плохо | N152: =VLOOKUP('Ответы на форму (1)'!M153,УровниУспевания,2,FALSE) -> плохо | O152: ='Ответы на форму (1)'!N153 -> 3 | P152: =VLOOKUP(O152,СтепеньПроснутости,2,FALSE) -> 1. зомбак | Q152: ='Ответы на форму (1)'!O153 -> 326 | R152: =IF(Q152>600,"2. Устал",IF(Q152>350,"2. Устал","1. Свеж")) -> 1. Свеж | S152: ='Ответы на форму (1)'!P153 -> 54 | T152: =S152/Q152 -> 0.16564417 | U152: =IF(T152>0.35,"3. Ужас",IF(T152>0.1,"2. Фигово","1. Хорошо")) -> 2. Фигово | V152: ='Ответы на форму (1)'!U152 -> 5 | W152: ='Ответы на форму (1)'!V152 -> 2 | X152: ='Ответы на форму (1)'!W152 -> 1 | Y152: ='Ответы на форму (1)'!X152 -> 0 | Z152: ='Ответы на форму (1)'!Y152 -> 0
A153: =VLOOKUP('Ответы на форму (1)'!B154,FAS_Scale,2,FALSE) -> 2 | B153: =VLOOKUP('Ответы на форму (1)'!C154,FAS_Scale,2,FALSE) -> 2 | C153: =VLOOKUP('Ответы на форму (1)'!D154,FAS_Scale,2,FALSE) -> 2 | D153: =VLOOKUP('Ответы на форму (1)'!E154,FAS_Scale,2,FALSE) -> 4 | E153: =VLOOKUP('Ответы на форму (1)'!F154,FAS_Scale,2,FALSE) -> 1 | F153: =VLOOKUP('Ответы на форму (1)'!G154,FAS_Scale,2,FALSE) -> 2 | G153: =VLOOKUP('Ответы на форму (1)'!H154,FAS_Scale,2,FALSE) -> 2 | H153: =VLOOKUP('Ответы на форму (1)'!I154,FAS_Scale,2,FALSE) -> 2 | ... J153: =VLOOKUP('Ответы на форму (1)'!K154,FAS_Scale,2,FALSE) -> 4 | K153: =A153+B153+C153+(6-D153)+E153+F153+G153+H153+I153+(6-J153) -> 18 | L153: =IF(K153>=33,"3. Вилы",IF(K153>=23,"2. Устал","1. Свеж")) -> 1. Свеж | M153: =VLOOKUP('Ответы на форму (1)'!L154,УровниУспевания,2,FALSE) -> средне | N153: =VLOOKUP('Ответы на форму (1)'!M154,УровниУспевания,2,FALSE) -> средне | O153: ='Ответы на форму (1)'!N154 -> 4 | P153: =VLOOKUP(O153,СтепеньПроснутости,2,FALSE) -> 2. средняк | Q153: ='Ответы на форму (1)'!O154 -> 411 | R153: =IF(Q153>600,"2. Устал",IF(Q153>350,"2. Устал","1. Свеж")) -> 2. Устал | S153: ='Ответы на форму (1)'!P154 -> 70 | T153: =S153/Q153 -> 0.1703163 | U153: =IF(T153>0.35,"3. Ужас",IF(T153>0.1,"2. Фигово","1. Хорошо")) -> 2. Фигово | V153: ='Ответы на форму (1)'!U153 -> 5 | W153: ='Ответы на форму (1)'!V153 -> 2 | X153: ='Ответы на форму (1)'!W153 -> 1 | Y153: ='Ответы на форму (1)'!X153 -> 1 | Z153: ='Ответы на форму (1)'!Y153 -> 0
A154: =VLOOKUP('Ответы на форму (1)'!B155,FAS_Scale,2,FALSE) -> 2 | B154: =VLOOKUP('Ответы на форму (1)'!C155,FAS_Scale,2,FALSE) -> 2 | C154: =VLOOKUP('Ответы на форму (1)'!D155,FAS_Scale,2,FALSE) -> 4 | D154: =VLOOKUP('Ответы на форму (1)'!E155,FAS_Scale,2,FALSE) -> 4 | E154: =VLOOKUP('Ответы на форму (1)'!F155,FAS_Scale,2,FALSE) -> 1 | F154: =VLOOKUP('Ответы на форму (1)'!G155,FAS_Scale,2,FALSE) -> 2 | G154: =VLOOKUP('Ответы на форму (1)'!H155,FAS_Scale,2,FALSE) -> 1 | H154: =VLOOKUP('Ответы на форму (1)'!I155,FAS_Scale,2,FALSE) -> 1 | ... J154: =VLOOKUP('Ответы на форму (1)'!K155,FAS_Scale,2,FALSE) -> 5 | K154: =A154+B154+C154+(6-D154)+E154+F154+G154+H154+I154+(6-J154) -> 17 | L154: =IF(K154>=33,"3. Вилы",IF(K154>=23,"2. Устал","1. Свеж")) -> 1. Свеж | M154: =VLOOKUP('Ответы на форму (1)'!L155,УровниУспевания,2,FALSE) -> средне | N154: =VLOOKUP('Ответы на форму (1)'!M155,УровниУспевания,2,FALSE) -> хорошо | O154: ='Ответы на форму (1)'!N155 -> 6 | P154: =VLOOKUP(O154,СтепеньПроснутости,2,FALSE) -> 3. бодряк | Q154: ='Ответы на форму (1)'!O155 -> 348 | R154: =IF(Q154>600,"2. Устал",IF(Q154>350,"2. Устал","1. Свеж")) -> 1. Свеж | S154: ='Ответы на форму (1)'!P155 -> 31 | T154: =S154/Q154 -> 0.08908046 | U154: =IF(T154>0.35,"3. Ужас",IF(T154>0.1,"2. Фигово","1. Хорошо")) -> 1. Хорошо | V154: ='Ответы на форму (1)'!U154 -> 5 | W154: ='Ответы на форму (1)'!V154 -> 4 | X154: ='Ответы на форму (1)'!W154 -> 1 | Y154: ='Ответы на форму (1)'!X154 -> 0 | Z154: ='Ответы на форму (1)'!Y154 -> 0
A155: =VLOOKUP('Ответы на форму (1)'!B156,FAS_Scale,2,FALSE) -> 5 | B155: =VLOOKUP('Ответы на форму (1)'!C156,FAS_Scale,2,FALSE) -> 4 | C155: =VLOOKUP('Ответы на форму (1)'!D156,FAS_Scale,2,FALSE) -> 5 | D155: =VLOOKUP('Ответы на форму (1)'!E156,FAS_Scale,2,FALSE) -> 2 | E155: =VLOOKUP('Ответы на форму (1)'!F156,FAS_Scale,2,FALSE) -> 4 | F155: =VLOOKUP('Ответы на форму (1)'!G156,FAS_Scale,2,FALSE) -> 5 | G155: =VLOOKUP('Ответы на форму (1)'!H156,FAS_Scale,2,FALSE) -> 4 | H155: =VLOOKUP('Ответы на форму (1)'!I156,FAS_Scale,2,FALSE) -> 5 | ... J155: =VLOOKUP('Ответы на форму (1)'!K156,FAS_Scale,2,FALSE) -> 3 | K155: =A155+B155+C155+(6-D155)+E155+F155+G155+H155+I155+(6-J155) -> 43 | L155: =IF(K155>=33,"3. Вилы",IF(K155>=23,"2. Устал","1. Свеж")) -> 3. Вилы | M155: =VLOOKUP('Ответы на форму (1)'!L156,УровниУспевания,2,FALSE) -> плохо | N155: =VLOOKUP('Ответы на форму (1)'!M156,УровниУспевания,2,FALSE) -> плохо | O155: ='Ответы на форму (1)'!N156 -> 4 | P155: =VLOOKUP(O155,СтепеньПроснутости,2,FALSE) -> 2. средняк | Q155: ='Ответы на форму (1)'!O156 -> 490 | R155: =IF(Q155>600,"2. Устал",IF(Q155>350,"2. Устал","1. Свеж")) -> 2. Устал | S155: ='Ответы на форму (1)'!P156 -> 70 | T155: =S155/Q155 -> 0.14285714 | U155: =IF(T155>0.35,"3. Ужас",IF(T155>0.1,"2. Фигово","1. Хорошо")) -> 2. Фигово | V155: ='Ответы на форму (1)'!U155 -> 5 | W155: ='Ответы на форму (1)'!V155 -> 2 | X155: ='Ответы на форму (1)'!W155 -> 2 | Y155: ='Ответы на форму (1)'!X155 -> 1 | Z155: ='Ответы на форму (1)'!Y155 -> 0
A156: =VLOOKUP('Ответы на форму (1)'!B157,FAS_Scale,2,FALSE) -> 3 | B156: =VLOOKUP('Ответы на форму (1)'!C157,FAS_Scale,2,FALSE) -> 2 | C156: =VLOOKUP('Ответы на форму (1)'!D157,FAS_Scale,2,FALSE) -> 3 | D156: =VLOOKUP('Ответы на форму (1)'!E157,FAS_Scale,2,FALSE) -> 4 | E156: =VLOOKUP('Ответы на форму (1)'!F157,FAS_Scale,2,FALSE) -> 2 | F156: =VLOOKUP('Ответы на форму (1)'!G157,FAS_Scale,2,FALSE) -> 3 | G156: =VLOOKUP('Ответы на форму (1)'!H157,FAS_Scale,2,FALSE) -> 2 | H156: =VLOOKUP('Ответы на форму (1)'!I157,FAS_Scale,2,FALSE) -> 2 | ... J156: =VLOOKUP('Ответы на форму (1)'!K157,FAS_Scale,2,FALSE) -> 4 | K156: =A156+B156+C156+(6-D156)+E156+F156+G156+H156+I156+(6-J156) -> 24 | L156: =IF(K156>=33,"3. Вилы",IF(K156>=23,"2. Устал","1. Свеж")) -> 2. Устал | M156: =VLOOKUP('Ответы на форму (1)'!L157,УровниУспевания,2,FALSE) -> хорошо | N156: =VLOOKUP('Ответы на форму (1)'!M157,УровниУспевания,2,FALSE) -> средне | O156: ='Ответы на форму (1)'!N157 -> 4 | P156: =VLOOKUP(O156,СтепеньПроснутости,2,FALSE) -> 2. средняк | Q156: ='Ответы на форму (1)'!O157 -> 424 | R156: =IF(Q156>600,"2. Устал",IF(Q156>350,"2. Устал","1. Свеж")) -> 2. Устал | S156: ='Ответы на форму (1)'!P157 -> 56 | T156: =S156/Q156 -> 0.13207547 | U156: =IF(T156>0.35,"3. Ужас",IF(T156>0.1,"2. Фигово","1. Хорошо")) -> 2. Фигово | V156: ='Ответы на форму (1)'!U156 -> 3 | W156: ='Ответы на форму (1)'!V156 -> 2 | X156: ='Ответы на форму (1)'!W156 -> 1 | Y156: ='Ответы на форму (1)'!X156 -> 1 | Z156: ='Ответы на форму (1)'!Y156 -> 1
A157: =VLOOKUP('Ответы на форму (1)'!B158,FAS_Scale,2,FALSE) -> 4 | B157: =VLOOKUP('Ответы на форму (1)'!C158,FAS_Scale,2,FALSE) -> 3 | C157: =VLOOKUP('Ответы на форму (1)'!D158,FAS_Scale,2,FALSE) -> 1 | D157: =VLOOKUP('Ответы на форму (1)'!E158,FAS_Scale,2,FALSE) -> 3 | E157: =VLOOKUP('Ответы на форму (1)'!F158,FAS_Scale,2,FALSE) -> 4 | F157: =VLOOKUP('Ответы на форму (1)'!G158,FAS_Scale,2,FALSE) -> 2 | G157: =VLOOKUP('Ответы на форму (1)'!H158,FAS_Scale,2,FALSE) -> 2 | H157: =VLOOKUP('Ответы на форму (1)'!I158,FAS_Scale,2,FALSE) -> 2 | ... J157: =VLOOKUP('Ответы на форму (1)'!K158,FAS_Scale,2,FALSE) -> 4 | K157: =A157+B157+C157+(6-D157)+E157+F157+G157+H157+I157+(6-J157) -> 25 | L157: =IF(K157>=33,"3. Вилы",IF(K157>=23,"2. Устал","1. Свеж")) -> 2. Устал | M157: =VLOOKUP('Ответы на форму (1)'!L158,УровниУспевания,2,FALSE) -> плохо | N157: =VLOOKUP('Ответы на форму (1)'!M158,УровниУспевания,2,FALSE) -> хорошо | O157: ='Ответы на форму (1)'!N158 -> 5 | P157: =VLOOKUP(O157,СтепеньПроснутости,2,FALSE) -> 2. средняк | Q157: ='Ответы на форму (1)'!O158 -> 505 | R157: =IF(Q157>600,"2. Устал",IF(Q157>350,"2. Устал","1. Свеж")) -> 2. Устал | S157: ='Ответы на форму (1)'!P158 -> 169 | T157: =S157/Q157 -> 0.33465347 | U157: =IF(T157>0.35,"3. Ужас",IF(T157>0.1,"2. Фигово","1. Хорошо")) -> 2. Фигово | V157: ='Ответы на форму (1)'!U157 -> 4 | W157: ='Ответы на форму (1)'!V157 -> 2 | X157: ='Ответы на форму (1)'!W157 -> 1 | Y157: ='Ответы на форму (1)'!X157 -> 1 | Z157: ='Ответы на форму (1)'!Y157 -> 0
A158: =VLOOKUP('Ответы на форму (1)'!B159,FAS_Scale,2,FALSE) -> 5 | B158: =VLOOKUP('Ответы на форму (1)'!C159,FAS_Scale,2,FALSE) -> 4 | C158: =VLOOKUP('Ответы на форму (1)'!D159,FAS_Scale,2,FALSE) -> 3 | D158: =VLOOKUP('Ответы на форму (1)'!E159,FAS_Scale,2,FALSE) -> 3 | E158: =VLOOKUP('Ответы на форму (1)'!F159,FAS_Scale,2,FALSE) -> 4 | F158: =VLOOKUP('Ответы на форму (1)'!G159,FAS_Scale,2,FALSE) -> 3 | G158: =VLOOKUP('Ответы на форму (1)'!H159,FAS_Scale,2,FALSE) -> 3 | H158: =VLOOKUP('Ответы на форму (1)'!I159,FAS_Scale,2,FALSE) -> 3 | ... J158: =VLOOKUP('Ответы на форму (1)'!K159,FAS_Scale,2,FALSE) -> 4 | K158: =A158+B158+C158+(6-D158)+E158+F158+G158+H158+I158+(6-J158) -> 33 | L158: =IF(K158>=33,"3. Вилы",IF(K158>=23,"2. Устал","1. Свеж")) -> 3. Вилы | M158: =VLOOKUP('Ответы на форму (1)'!L159,УровниУспевания,2,FALSE) -> средне | N158: =VLOOKUP('Ответы на форму (1)'!M159,УровниУспевания,2,FALSE) -> средне | O158: ='Ответы на форму (1)'!N159 -> 1 | P158: =VLOOKUP(O158,СтепеньПроснутости,2,FALSE) -> 1. зомбак | Q158: ='Ответы на форму (1)'!O159 -> 497 | R158: =IF(Q158>600,"2. Устал",IF(Q158>350,"2. Устал","1. Свеж")) -> 2. Устал | S158: ='Ответы на форму (1)'!P159 -> 47 | T158: =S158/Q158 -> 0.094567404 | U158: =IF(T158>0.35,"3. Ужас",IF(T158>0.1,"2. Фигово","1. Хорошо")) -> 1. Хорошо | V158: ='Ответы на форму (1)'!U158 -> 6 | W158: ='Ответы на форму (1)'!V158 -> 3 | X158: ='Ответы на форму (1)'!W158 -> 2 | Y158: ='Ответы на форму (1)'!X158 -> 2 | Z158: ='Ответы на форму (1)'!Y158 -> 1
A159: =VLOOKUP('Ответы на форму (1)'!B160,FAS_Scale,2,FALSE) -> 4 | B159: =VLOOKUP('Ответы на форму (1)'!C160,FAS_Scale,2,FALSE) -> 4 | C159: =VLOOKUP('Ответы на форму (1)'!D160,FAS_Scale,2,FALSE) -> 4 | D159: =VLOOKUP('Ответы на форму (1)'!E160,FAS_Scale,2,FALSE) -> 3 | E159: =VLOOKUP('Ответы на форму (1)'!F160,FAS_Scale,2,FALSE) -> 4 | F159: =VLOOKUP('Ответы на форму (1)'!G160,FAS_Scale,2,FALSE) -> 4 | G159: =VLOOKUP('Ответы на форму (1)'!H160,FAS_Scale,2,FALSE) -> 2 | H159: =VLOOKUP('Ответы на форму (1)'!I160,FAS_Scale,2,FALSE) -> 3 | ... J159: =VLOOKUP('Ответы на форму (1)'!K160,FAS_Scale,2,FALSE) -> 4 | K159: =A159+B159+C159+(6-D159)+E159+F159+G159+H159+I159+(6-J159) -> 34 | L159: =IF(K159>=33,"3. Вилы",IF(K159>=23,"2. Устал","1. Свеж")) -> 3. Вилы | M159: =VLOOKUP('Ответы на форму (1)'!L160,УровниУспевания,2,FALSE) -> средне | N159: =VLOOKUP('Ответы на форму (1)'!M160,УровниУспевания,2,FALSE) -> средне | O159: ='Ответы на форму (1)'!N160 -> 4 | P159: =VLOOKUP(O159,СтепеньПроснутости,2,FALSE) -> 2. средняк | Q159: ='Ответы на форму (1)'!O160 -> 341 | R159: =IF(Q159>600,"2. Устал",IF(Q159>350,"2. Устал","1. Свеж")) -> 1. Свеж | S159: ='Ответы на форму (1)'!P160 -> 63 | T159: =S159/Q159 -> 0.18475073 | U159: =IF(T159>0.35,"3. Ужас",IF(T159>0.1,"2. Фигово","1. Хорошо")) -> 2. Фигово | V159: ='Ответы на форму (1)'!U159 -> 4 | W159: ='Ответы на форму (1)'!V159 -> 3 | X159: ='Ответы на форму (1)'!W159 -> 1 | Y159: ='Ответы на форму (1)'!X159 -> 0 | Z159: ='Ответы на форму (1)'!Y159 -> 0
A160: =VLOOKUP('Ответы на форму (1)'!B161,FAS_Scale,2,FALSE) -> 3 | B160: =VLOOKUP('Ответы на форму (1)'!C161,FAS_Scale,2,FALSE) -> 2 | C160: =VLOOKUP('Ответы на форму (1)'!D161,FAS_Scale,2,FALSE) -> 3 | D160: =VLOOKUP('Ответы на форму (1)'!E161,FAS_Scale,2,FALSE) -> 4 | E160: =VLOOKUP('Ответы на форму (1)'!F161,FAS_Scale,2,FALSE) -> 3 | F160: =VLOOKUP('Ответы на форму (1)'!G161,FAS_Scale,2,FALSE) -> 2 | G160: =VLOOKUP('Ответы на форму (1)'!H161,FAS_Scale,2,FALSE) -> 3 | H160: =VLOOKUP('Ответы на форму (1)'!I161,FAS_Scale,2,FALSE) -> 2 | ... J160: =VLOOKUP('Ответы на форму (1)'!K161,FAS_Scale,2,FALSE) -> 3 | K160: =A160+B160+C160+(6-D160)+E160+F160+G160+H160+I160+(6-J160) -> 25 | L160: =IF(K160>=33,"3. Вилы",IF(K160>=23,"2. Устал","1. Свеж")) -> 2. Устал | M160: =VLOOKUP('Ответы на форму (1)'!L161,УровниУспевания,2,FALSE) -> средне | N160: =VLOOKUP('Ответы на форму (1)'!M161,УровниУспевания,2,FALSE) -> плохо | O160: ='Ответы на форму (1)'!N161 -> 6 | P160: =VLOOKUP(O160,СтепеньПроснутости,2,FALSE) -> 3. бодряк | Q160: ='Ответы на форму (1)'!O161 -> 374 | R160: =IF(Q160>600,"2. Устал",IF(Q160>350,"2. Устал","1. Свеж")) -> 2. Устал | S160: ='Ответы на форму (1)'!P161 -> 133 | T160: =S160/Q160 -> 0.35561497 | U160: =IF(T160>0.35,"3. Ужас",IF(T160>0.1,"2. Фигово","1. Хорошо")) -> 3. Ужас | V160: ='Ответы на форму (1)'!U160 -> 3 | W160: ='Ответы на форму (1)'!V160 -> 3 | X160: ='Ответы на форму (1)'!W160 -> 1 | Y160: ='Ответы на форму (1)'!X160 -> 1 | Z160: ='Ответы на форму (1)'!Y160 -> 1
A161: =VLOOKUP('Ответы на форму (1)'!B162,FAS_Scale,2,FALSE) -> 4 | B161: =VLOOKUP('Ответы на форму (1)'!C162,FAS_Scale,2,FALSE) -> 4 | C161: =VLOOKUP('Ответы на форму (1)'!D162,FAS_Scale,2,FALSE) -> 5 | D161: =VLOOKUP('Ответы на форму (1)'!E162,FAS_Scale,2,FALSE) -> 3 | E161: =VLOOKUP('Ответы на форму (1)'!F162,FAS_Scale,2,FALSE) -> 3 | F161: =VLOOKUP('Ответы на форму (1)'!G162,FAS_Scale,2,FALSE) -> 3 | G161: =VLOOKUP('Ответы на форму (1)'!H162,FAS_Scale,2,FALSE) -> 4 | H161: =VLOOKUP('Ответы на форму (1)'!I162,FAS_Scale,2,FALSE) -> 3 | ... J161: =VLOOKUP('Ответы на форму (1)'!K162,FAS_Scale,2,FALSE) -> 4 | K161: =A161+B161+C161+(6-D161)+E161+F161+G161+H161+I161+(6-J161) -> 35 | L161: =IF(K161>=33,"3. Вилы",IF(K161>=23,"2. Устал","1. Свеж")) -> 3. Вилы | M161: =VLOOKUP('Ответы на форму (1)'!L162,УровниУспевания,2,FALSE) -> плохо | N161: =VLOOKUP('Ответы на форму (1)'!M162,УровниУспевания,2,FALSE) -> плохо | O161: ='Ответы на форму (1)'!N162 -> 2 | P161: =VLOOKUP(O161,СтепеньПроснутости,2,FALSE) -> 1. зомбак | Q161: ='Ответы на форму (1)'!O162 -> 371 | R161: =IF(Q161>600,"2. Устал",IF(Q161>350,"2. Устал","1. Свеж")) -> 2. Устал | S161: ='Ответы на форму (1)'!P162 -> 26 | T161: =S161/Q161 -> 0.070080863 | U161: =IF(T161>0.35,"3. Ужас",IF(T161>0.1,"2. Фигово","1. Хорошо")) -> 1. Хорошо | V161: ='Ответы на форму (1)'!U161 -> 3 | W161: ='Ответы на форму (1)'!V161 -> 1 | X161: ='Ответы на форму (1)'!W161 -> 1 | Y161: ='Ответы на форму (1)'!X161 -> 1 | Z161: ='Ответы на форму (1)'!Y161 -> 1
... A542: =VLOOKUP('Ответы на форму (1)'!B543,FAS_Scale,2,FALSE) -> 2 | B542: =VLOOKUP('Ответы на форму (1)'!C543,FAS_Scale,2,FALSE) -> 1 | C542: =VLOOKUP('Ответы на форму (1)'!D543,FAS_Scale,2,FALSE) -> 2 | D542: =VLOOKUP('Ответы на форму (1)'!E543,FAS_Scale,2,FALSE) -> 5 | E542: =VLOOKUP('Ответы на форму (1)'!F543,FAS_Scale,2,FALSE) -> 1 | F542: =VLOOKUP('Ответы на форму (1)'!G543,FAS_Scale,2,FALSE) -> 3 | G542: =VLOOKUP('Ответы на форму (1)'!H543,FAS_Scale,2,FALSE) -> 1 | H542: =VLOOKUP('Ответы на форму (1)'!I543,FAS_Scale,2,FALSE) -> 1 | ... J542: =VLOOKUP('Ответы на форму (1)'!K543,FAS_Scale,2,FALSE) -> 5 | K542: =A542+B542+C542+(6-D542)+E542+F542+G542+H542+I542+(6-J542) -> 14 | L542: =IF(K542>=33,"3. Вилы",IF(K542>=23,"2. Устал","1. Свеж")) -> 1. Свеж | M542: =VLOOKUP('Ответы на форму (1)'!L543,УровниУспевания,2,FALSE) -> хорошо | N542: =VLOOKUP('Ответы на форму (1)'!M543,УровниУспевания,2,FALSE) -> хорошо | O542: ='Ответы на форму (1)'!N543 -> 6 | P542: =VLOOKUP(O542,СтепеньПроснутости,2,FALSE) -> 3. бодряк | Q542: ='Ответы на форму (1)'!O543 -> 355 | R542: =IF(Q542>600,"2. Устал",IF(Q542>350,"2. Устал","1. Свеж")) -> 2. Устал | S542: ='Ответы на форму (1)'!P543 -> 107 | T542: =S542/Q542 -> 0.30140845 | U542: =IF(T542>0.35,"3. Ужас",IF(T542>0.1,"2. Фигово","1. Хорошо")) -> 2. Фигово | V542: ='Ответы на форму (1)'!U542 -> 3 | W542: ='Ответы на форму (1)'!V542 -> 1 | X542: ='Ответы на форму (1)'!W542 -> 1 | Y542: ='Ответы на форму (1)'!X542 -> 1 | Z542: ='Ответы на форму (1)'!Y542 -> 1

Sheet Association coefficients6
B1: You are using the XLSTAT trial version. Number of days remaining until the trial expires: 11
B3: XLSTAT 2019.4.2.63762 - Tests on contingency tables (Chi-square...) - Start time: 23/01/2020 at 17:23:22 / End time: 23/01/2020 at 17:23:23 / Microsoft Excel 16.012325
B4: Row variable(s): Workbook = Усталость, Успевание и PVT (Ответы).xlsx / Sheet = Рабочий стол / Range = 'Рабочий стол'!$L:$L / 541 rows and 1 column
B5: Column variable(s): Workbook = Усталость, Успевание и PVT (Ответы).xlsx / Sheet = Рабочий стол / Range = 'Рабочий стол'!$Y:$Y / 541 rows and 1 column
B6: Seed (random numbers): 123456789
B11: Results for the variables Уровень FAS and Больше среднего на 4 средних отклонения:
B13: Contingency table (Уровень FAS / Больше среднего на 4 средних отклонения):
C15: 0 | D15: 1 | E15: 2
B16: 1. Свеж | C16: 25 | D16: 84 | E16: 6
B17: 2. Устал | C17: 82 | D17: 145 | E17: 31
B18: 3. Вилы | C18: 48 | D18: 103 | E18: 17
B21: Test of independence between the rows and the columns (Уровень FAS / Больше среднего на 4 средних отклонения):
B23: Chi-square (Observed value) | C23: 10.165554
B24: Chi-square (Critical value) | C24: 9.487729
B25: DF | C25: 4
B26: p-value | C26: 0.037729397
B27: alpha | C27: 0.05
B29: Test interpretation:
B30: H0: The rows and the columns of the table are independent.
B31: Ha: There is a link between the rows and the columns of the table.
B32: As the computed p-value is lower than the significance level alpha=0,05, one should reject the null hypothesis H0, and accept the alternative hypothesis Ha.
B36: Significance by cell (Fisher's exact test) (Уровень FAS / Больше среднего на 4 средних отклонения):
C38: 0 | D38: 1 | E38: 2
B39: 1. Свеж | C39: < | D39: > | E39: <
B40: 2. Устал | C40: > | D40: < | E40: >
B41: 3. Вилы | C41: < | D41: < | E41: >
B42: Values displayed in red are significant at the level alpha=0,05
B45: Theoretical frequencies / Resampled statistics (Number of samples=100) (Уровень FAS / Больше среднего на 4 средних отклонения):
B47: Row variable | C47: Column variable | D47: Observed frequencies | E47: Theoretical frequencies | F47: Mean(Bootstrap) | G47: Standard error | H47: Lower bound (95%) | I47: Upper bound (95%) | J47: Lower bound Simple percentile interval (95%) | K47: Upper bound Simple percentile interval (95%)
B48: 1. Свеж | C48: 0 | D48: 25 | E48: 32.948244 | F48: 33.5 | G48: 5.6595321 | H48: 22.382603 | I48: 44.617397 | J48: 23 | K48: 43
B49: 1. Свеж | C49: 1 | D49: 84 | E49: 70.573013 | F49: 71.35 | G49: 7.696746 | H49: 56.230768 | I49: 86.469232 | J49: 56.475 | K49: 85.525
B50: 1. Свеж | C50: 2 | D50: 6 | E50: 11.478743 | F50: 11.57 | G50: 3.1309953 | H50: 5.4195769 | I50: 17.720423 | J50: 7 | K50: 18.05
B51: 2. Устал | C51: 0 | D51: 82 | E51: 73.918669 | F51: 74.26 | G51: 8.5889523 | H51: 57.388148 | I51: 91.131852 | J51: 57.475 | K51: 90.05
B52: 2. Устал | C52: 1 | D52: 145 | E52: 158.32902 | F52: 157.75 | G52: 10.453722 | H52: 137.21506 | I52: 178.28494 | J52: 141 | K52: 175.525
B53: 2. Устал | C53: 2 | D53: 31 | E53: 25.752311 | F53: 25.19 | G53: 4.6225075 | H53: 16.1097 | I53: 34.2703 | J53: 17 | K53: 34.05
B54: 3. Вилы | C54: 0 | D54: 48 | E54: 48.133087 | F54: 47.5 | G54: 6.549732 | H54: 34.633924 | I54: 60.366076 | J54: 34.95 | K54: 60
B55: 3. Вилы | C55: 1 | D55: 103 | E55: 103.09797 | F55: 103.28 | G55: 10.115575 | H55: 83.409301 | I55: 123.1507 | J55: 86.95 | K55: 127.05
B56: 3. Вилы | C56: 2 | D56: 17 | E56: 16.768946 | F56: 16.6 | G56: 4.0651264 | H56: 8.6146008 | I56: 24.585399 | J56: 10 | K56: 24.525
C57: Values displayed in bold are significant at the level alpha=0,05
B60: Test of independence between the rows and the columns (Chi-square):
B62: Chi-square (Observed value) | C62: 10.165554
B63: Chi-square (Critical value) | C63: 9.487729
B64: DF | C64: 4
B65: p-value | C65: 0.037729397
B66: alpha | C66: 0.05
B68: Test interpretation:
B69: H0: The rows and the columns of the table are independent.
B70: Ha: There is a link between the rows and the columns of the table.
B71: As the computed p-value is lower than the significance level alpha=0,05, one should reject the null hypothesis H0, and accept the alternative hypothesis Ha.
B75: Fisher's exact test:
B77: p-value (Two-tailed) | C77: 0.036256812
B78: alpha | C78: 0.05
B80: Test interpretation:
B81: H0: The rows and the columns of the table are independent.
B82: Ha: There is a link between the rows and the columns of the table.
B83: As the computed p-value is lower than the significance level alpha=0,05, one should reject the null hypothesis H0, and accept the alternative hypothesis Ha.
B87: Test of independence between the rows and the columns (Wilks' G²):
B89: Wilks' G² (Observed value) | C89: 10.687343
B90: Wilks' G² (Critical value) | C90: 9.487729
B91: DF | C91: 4
B92: p-value | C92: 0.030311939
B93: alpha | C93: 0.05
B95: Test interpretation:
B96: H0: The rows and the columns of the table are independent.
B97: Ha: There is a link between the rows and the columns of the table.
B98: As the computed p-value is lower than the significance level alpha=0,05, one should reject the null hypothesis H0, and accept the alternative hypothesis Ha.
B102: Test of independence between the rows and the columns (Monte Carlo method / Number of simulations = 5000):
B104: Chi-square (Observed value) | C104: 10.165554
B105: Critical value | C105: 9.5886849
B106: DF | C106: 2
B107: p-value | C107: 0.040682162
B108: alpha | C108: 0.05
B109: 99% confidence interval on the p-value:
B110: 0.033485761 | C110: 0.047878563
B112: Test interpretation:
B113: H0: The rows and the columns of the table are independent.
B114: Ha: There is a link between the rows and the columns of the table.
B115: As the computed p-value is lower than the significance level alpha=0,05, one should reject the null hypothesis H0, and accept the alternative hypothesis Ha.
B119: Association coefficients (1):
B121: Coefficient | C121: Value
B122: Pearson's Phi | C122: 0.13707773
B123: Contingency coefficient | C123: 0.13580773
B124: Cramer's V | C124: 0.096928591
B125: Tschuprow's T | C125: 0.096928591
B126: Goodman and Kruskal tau (R/C) | C126: 0.0087126784
B127: Goodman and Kruskal tau (C/R) | C127: 0.011921682
B128: Cohen's kappa | C128: -0.063210606
B131: Association coefficients (2):
B133: Coefficient | C133: Value | D133: Standard deviation | E133: Lower bound 95% | F133: Upper bound 95%
B134: Goodman and Kruskal Gamma | C134: -0.022484866 | D134: 0.063723959 | E134: -0.14738153 | F134: 0.1024118
B135: Kendall's tau | C135: -0.012887518 | D135: 0.036520364 | E135: -0.084466116 | F135: 0.05869108
B136: Stuart's tau | C136: -0.011193074 | D136: 0.031714456 | E136: -0.073352266 | F136: 0.050966118
B137: Somers' D (R/C) | C137: -0.014043571 | D137: 0.039808105 | E137: -0.092066022 | F137: 0.06397888
B138: Somers' D (C/R) | C138: -0.011826629 | D138: 0.033505485 | E138: -0.077496172 | F138: 0.053842914
B139: Theil's U (R/C) | C139: 0.0094480743 | D139: 0.0055847428 | E139: -0.0014978205 | F139: 0.020393969
B140: Theil's U (C/R) | C140: 0.011125718 | D140: 0.006570923 | E140: -0.0017530541 | F140: 0.024004491
B141: Theil's U (Symmetric) | C141: 0.010218496 | D141: 0.0060355626 | E141: -0.0016109889 | F141: 0.022047982

Sheet Association coefficients5
B1: You are currently using XLSTAT Free._x000D_ Order a license to get access to 100 or more additional functions.
B3: XLSTAT 2018.6.54644 - Tests on contingency tables (Chi-square...) - Start time: 11.09.2019 at 19:20:29 / End time: 11.09.2019 at 19:20:31 / Microsoft Excel 15.05153
B4: These results have been generated using XLSTAT Free. You can benefit from many more tools and options with a full version.
B5: Row variable(s): Workbook = Усталость, Успевание и PVT (Ответы).xlsx / Sheet = Рабочий стол / Range = 'Рабочий стол'!$P:$P / 541 rows and 1 column
B6: Column variable(s): Workbook = Усталость, Успевание и PVT (Ответы).xlsx / Sheet = Рабочий стол / Range = 'Рабочий стол'!$L:$L / 541 rows and 1 column
B11: Number of removed observations: 2
B14: Results for the variables Сетепень утренней проснутости and Уровень FAS:
B16: Contingency table (Сетепень утренней проснутости / Уровень FAS):
C18: 1. Свеж | D18: 2. Устал | E18: 3. Вилы
B19: 1. зомбак | C19: 33 | D19: 94 | E19: 98
B20: 2. средняк | C20: 49 | D20: 134 | E20: 65
B21: 3. бодряк | C21: 32 | D21: 29 | E21: 5
B24: 3D view of the contingency table
B48: Test of independence between the rows and the columns (Сетепень утренней проснутости / Уровень FAS):
B50: Chi-square (Observed value) | C50: 56.770789
B51: Chi-square (Critical value) | C51: 14.860259
B52: DF | C52: 4
B53: p-value | C53: < 0,0001
B54: alpha | C54: 0.005
B56: Test interpretation:
B57: H0: The rows and the columns of the table are independent.
B58: Ha: There is a link between the rows and the columns of the table.
B59: As the computed p-value is lower than the significance level alpha=0,005, one should reject the null hypothesis H0, and accept the alternative hypothesis Ha.
B63: Significance by cell (Fisher's exact test) (Сетепень утренней проснутости / Уровень FAS):
C65: 1. Свеж | D65: 2. Устал | E65: 3. Вилы
B66: 1. зомбак | C66: < | D66: < | E66: >
B67: 2. средняк | C67: < | D67: > | E67: <
B68: 3. бодряк | C68: > | D68: < | E68: <
B69: Values displayed in red are significant at the level alpha=0,005
B72: Observed frequencies (Сетепень утренней проснутости / Уровень FAS):
C74: 1. Свеж | D74: 2. Устал | E74: 3. Вилы | F74: Total
B75: 1. зомбак | C75: 33 | D75: 94 | E75: 98 | F75: 225
B76: 2. средняк | C76: 49 | D76: 134 | E76: 65 | F76: 248
B77: 3. бодряк | C77: 32 | D77: 29 | E77: 5 | F77: 66
B78: Total | C78: 114 | D78: 257 | E78: 168 | F78: 539
B81: Theoretical frequencies (Сетепень утренней проснутости / Уровень FAS):
C83: 1. Свеж | D83: 2. Устал | E83: 3. Вилы | F83: Total
B84: 1. зомбак | C84: 47.588126 | D84: 107.282 | E84: 70.12987 | F84: 225
B85: 2. средняк | C85: 52.45269 | D85: 118.24861 | E85: 77.298701 | F85: 248
B86: 3. бодряк | C86: 13.959184 | D86: 31.469388 | E86: 20.571429 | F86: 66
B87: Total | C87: 114 | D87: 257 | E87: 168 | F87: 539
B90: Percentages / Row (Сетепень утренней проснутости / Уровень FAS):
C92: 1. Свеж | D92: 2. Устал | E92: 3. Вилы | F92: Total
B93: 1. зомбак | C93: 14.666667 | D93: 41.777778 | E93: 43.555556 | F93: 100
B94: 2. средняк | C94: 19.758065 | D94: 54.032258 | E94: 26.209677 | F94: 100
B95: 3. бодряк | C95: 48.484848 | D95: 43.939394 | E95: 7.5757576 | F95: 100
B96: Total | C96: 21.150278 | D96: 47.680891 | E96: 31.168831 | F96: 100
B99: Percentages / Column (Сетепень утренней проснутости / Уровень FAS):
C101: 1. Свеж | D101: 2. Устал | E101: 3. Вилы | F101: Total
B102: 1. зомбак | C102: 28.947368 | D102: 36.575875 | E102: 58.333333 | F102: 41.74397
B103: 2. средняк | C103: 42.982456 | D103: 52.140078 | E103: 38.690476 | F103: 46.011132
B104: 3. бодряк | C104: 28.070175 | D104: 11.284047 | E104: 2.9761905 | F104: 12.244898
B105: Total | C105: 100 | D105: 100 | E105: 100 | F105: 100
B108: Percentages / Total (Сетепень утренней проснутости / Уровень FAS):
C110: 1. Свеж | D110: 2. Устал | E110: 3. Вилы | F110: Total
B111: 1. зомбак | C111: 6.122449 | D111: 17.439703 | E111: 18.181818 | F111: 41.74397
B112: 2. средняк | C112: 9.0909091 | D112: 24.860853 | E112: 12.059369 | F112: 46.011132
B113: 3. бодряк | C113: 5.9369202 | D113: 5.380334 | E113: 0.92764378 | F113: 12.244898
B114: Total | C114: 21.150278 | D114: 47.680891 | E114: 31.168831 | F114: 100
B117: Test of independence between the rows and the columns (Chi-square):
B119: Chi-square (Observed value) | C119: 56.770789
B120: Chi-square (Critical value) | C120: 14.860259
B121: DF | C121: 4
B122: p-value | C122: < 0,0001
B123: alpha | C123: 0.005
B125: Test interpretation:
B126: H0: The rows and the columns of the table are independent.
B127: Ha: There is a link between the rows and the columns of the table.
B128: As the computed p-value is lower than the significance level alpha=0,005, one should reject the null hypothesis H0, and accept the alternative hypothesis Ha.
B132: Association coefficients (1):
B134: Coefficient | C134: Value
B135: Pearson's Phi | C135: 0.32453989
B136: Contingency coefficient | C136: 0.30869022
B137: Cramer's V | C137: 0.22948436
B138: Tschuprow's T | C138: 0.22948436
B139: Goodman and Kruskal tau (R/C) | C139: 0.041714322
B140: Goodman and Kruskal tau (C/R) | C140: 0.045702126
B141: Cohen's kappa | C141: -0.040863576
B144: Association coefficients (2):
B146: Coefficient | C146: Value | D146: Standard deviation | E146: Lower bound 99,500% | F146: Upper bound 99,500%
B147: Goodman and Kruskal Gamma | C147: -0.41100312 | D147: 0.05640233 | E147: -0.56932637 | F147: -0.25267988
B148: Kendall's tau | C148: -0.25952972 | D148: 0.037788029 | E148: -0.36560199 | F148: -0.15345744
B149: Stuart's tau | C149: -0.23930112 | D149: 0.035555304 | E149: -0.33910606 | F149: -0.13949618
B150: Somers' D (R/C) | C150: -0.25291948 | D150: 0.037188839 | E150: -0.3573098 | F150: -0.14852915
B151: Somers' D (C/R) | C151: -0.26631272 | D151: 0.038571603 | E151: -0.37458451 | F151: -0.15804092
B152: Theil's U (R/C) | C152: 0.052208881 | D152: 0.013469594 | E152: 0.014399276 | F152: 0.090018485
B153: Theil's U (C/R) | C153: 0.048908818 | D153: 0.012751404 | E153: 0.013115195 | F153: 0.08470244
B154: Theil's U (Symmetric) | C154: 0.050504999 | D154: 0.013090322 | E154: 0.013760023 | F154: 0.087249974

Sheet Association coefficients4
B1: You are currently using XLSTAT Free._x000D_ Order a license to get access to 100 or more additional functions.
B3: XLSTAT 2018.6.54644 - Tests on contingency tables (Chi-square...) - Start time: 11.09.2019 at 19:18:03 / End time: 11.09.2019 at 19:18:05 / Microsoft Excel 15.05153
B4: These results have been generated using XLSTAT Free. You can benefit from many more tools and options with a full version.
B5: Row variable(s): Workbook = Усталость, Успевание и PVT (Ответы).xlsx / Sheet = Рабочий стол / Range = 'Рабочий стол'!$M:$M / 541 rows and 1 column
B6: Column variable(s): Workbook = Усталость, Успевание и PVT (Ответы).xlsx / Sheet = Рабочий стол / Range = 'Рабочий стол'!$N:$N / 541 rows and 1 column
B11: Results for the variables Что лучше характеризует то, как вы справляетесь с делами в ЛИЧНОЙ жизни? and Что лучше характеризует то, как вы справляетесь с делами по работе?:
B13: Contingency table (Что лучше характеризует то, как вы справляетесь с делами в ЛИЧНОЙ жизни? / Что лучше характеризует то, как вы справляетесь с делами по работе?):
C15: плохо | D15: средне | E15: хорошо
B16: плохо | C16: 92 | D16: 79 | E16: 9
B17: средне | C17: 38 | D17: 156 | E17: 82
B18: хорошо | C18: 5 | D18: 23 | E18: 57
B21: 3D view of the contingency table
B45: Test of independence between the rows and the columns (Что лучше характеризует то, как вы справляетесь с делами в ЛИЧНОЙ жизни? / Что лучше характеризует то, как вы справляетесь с делами по работе?):
B47: Chi-square (Observed value) | C47: 170.6498
B48: Chi-square (Critical value) | C48: 14.860259
B49: DF | C49: 4
B50: p-value | C50: < 0,0001
B51: alpha | C51: 0.005
B53: Test interpretation:
B54: H0: The rows and the columns of the table are independent.
B55: Ha: There is a link between the rows and the columns of the table.
B56: As the computed p-value is lower than the significance level alpha=0,005, one should reject the null hypothesis H0, and accept the alternative hypothesis Ha.
B60: Significance by cell (Fisher's exact test) (Что лучше характеризует то, как вы справляетесь с делами в ЛИЧНОЙ жизни? / Что лучше характеризует то, как вы справляетесь с делами по работе?):
C62: плохо | D62: средне | E62: хорошо
B63: плохо | C63: > | D63: < | E63: <
B64: средне | C64: < | D64: > | E64: >
B65: хорошо | C65: < | D65: < | E65: >
B66: Values displayed in red are significant at the level alpha=0,005
B69: Observed frequencies (Что лучше характеризует то, как вы справляетесь с делами в ЛИЧНОЙ жизни? / Что лучше характеризует то, как вы справляетесь с делами по работе?):
C71: плохо | D71: средне | E71: хорошо | F71: Total
B72: плохо | C72: 92 | D72: 79 | E72: 9 | F72: 180
B73: средне | C73: 38 | D73: 156 | E73: 82 | F73: 276
B74: хорошо | C74: 5 | D74: 23 | E74: 57 | F74: 85
B75: Total | C75: 135 | D75: 258 | E75: 148 | F75: 541
B78: Theoretical frequencies (Что лучше характеризует то, как вы справляетесь с делами в ЛИЧНОЙ жизни? / Что лучше характеризует то, как вы справляетесь с делами по работе?):
C80: плохо | D80: средне | E80: хорошо | F80: Total
B81: плохо | C81: 44.916821 | D81: 85.841035 | E81: 49.242144 | F81: 180
B82: средне | C82: 68.872458 | D82: 131.62292 | E82: 75.504621 | F82: 276
B83: хорошо | C83: 21.210721 | D83: 40.536044 | E83: 23.253235 | F83: 85
B84: Total | C84: 135 | D84: 258 | E84: 148 | F84: 541
B87: Percentages / Row (Что лучше характеризует то, как вы справляетесь с делами в ЛИЧНОЙ жизни? / Что лучше характеризует то, как вы справляетесь с делами по работе?):
C89: плохо | D89: средне | E89: хорошо | F89: Total
B90: плохо | C90: 51.111111 | D90: 43.888889 | E90: 5 | F90: 100
B91: средне | C91: 13.768116 | D91: 56.521739 | E91: 29.710145 | F91: 100
B92: хорошо | C92: 5.8823529 | D92: 27.058824 | E92: 67.058824 | F92: 100
B93: Total | C93: 24.953789 | D93: 47.689464 | E93: 27.356747 | F93: 100
B96: Percentages / Column (Что лучше характеризует то, как вы справляетесь с делами в ЛИЧНОЙ жизни? / Что лучше характеризует то, как вы справляетесь с делами по работе?):
C98: плохо | D98: средне | E98: хорошо | F98: Total
B99: плохо | C99: 68.148148 | D99: 30.620155 | E99: 6.0810811 | F99: 33.271719
B100: средне | C100: 28.148148 | D100: 60.465116 | E100: 55.405405 | F100: 51.016636
B101: хорошо | C101: 3.7037037 | D101: 8.9147287 | E101: 38.513514 | F101: 15.711645
B102: Total | C102: 100 | D102: 100 | E102: 100 | F102: 100
B105: Percentages / Total (Что лучше характеризует то, как вы справляетесь с делами в ЛИЧНОЙ жизни? / Что лучше характеризует то, как вы справляетесь с делами по работе?):
C107: плохо | D107: средне | E107: хорошо | F107: Total
B108: плохо | C108: 17.005545 | D108: 14.602588 | E108: 1.663586 | F108: 33.271719
B109: средне | C109: 7.0240296 | D109: 28.83549 | E109: 15.157116 | F109: 51.016636
B110: хорошо | C110: 0.92421442 | D110: 4.2513863 | E110: 10.536044 | F110: 15.711645
B111: Total | C111: 24.953789 | D111: 47.689464 | E111: 27.356747 | F111: 100
B114: Test of independence between the rows and the columns (Chi-square):
B116: Chi-square (Observed value) | C116: 170.6498
B117: Chi-square (Critical value) | C117: 14.860259
B118: DF | C118: 4
B119: p-value | C119: < 0,0001
B120: alpha | C120: 0.005
B122: Test interpretation:
B123: H0: The rows and the columns of the table are independent.
B124: Ha: There is a link between the rows and the columns of the table.
B125: As the computed p-value is lower than the significance level alpha=0,005, one should reject the null hypothesis H0, and accept the alternative hypothesis Ha.
B129: Association coefficients (1):
B131: Coefficient | C131: Value
B132: Pearson's Phi | C132: 0.56163513
B133: Contingency coefficient | C133: 0.4896883
B134: Cramer's V | C134: 0.39713601
B135: Tschuprow's T | C135: 0.39713601
B136: Goodman and Kruskal tau (R/C) | C136: 0.14689151
B137: Goodman and Kruskal tau (C/R) | C137: 0.13799101
B138: Cohen's kappa | C138: 0.3083378
B141: Association coefficients (2):
B143: Coefficient | C143: Value | D143: Standard deviation | E143: Lower bound 99,500% | F143: Upper bound 99,500%
B144: Goodman and Kruskal Gamma | C144: 0.72061346 | D144: 0.038023514 | E144: 0.61388017 | F144: 0.82734674
B145: Kendall's tau | C145: 0.48184763 | D145: 0.030844704 | E145: 0.39526551 | F145: 0.56842976
B146: Stuart's tau | C146: 0.44790745 | D146: 0.030817019 | E146: 0.36140304 | F146: 0.53441186
B147: Somers' D (R/C) | C147: 0.46990128 | D147: 0.030646279 | E147: 0.38387614 | F147: 0.55592642
B148: Somers' D (C/R) | C148: 0.49409769 | D148: 0.031882656 | E148: 0.404602 | F148: 0.58359339
B149: Theil's U (R/C) | C149: 0.15823428 | D149: 0.021562845 | E149: 0.097706648 | F149: 0.21876192
B150: Theil's U (C/R) | C150: 0.15015295 | D150: 0.020559657 | E150: 0.092441297 | F150: 0.2078646
B151: Theil's U (Symmetric) | C151: 0.15408773 | D151: 0.020995514 | E151: 0.095152613 | F151: 0.21302285

Sheet Association coefficients3
B1: You are currently using XLSTAT Free._x000D_ Order a license to get access to 100 or more additional functions.
B3: XLSTAT 2018.6.54644 - Tests on contingency tables (Chi-square...) - Start time: 11.09.2019 at 19:16:39 / End time: 11.09.2019 at 19:16:41 / Microsoft Excel 15.05153
B4: These results have been generated using XLSTAT Free. You can benefit from many more tools and options with a full version.
B5: Row variable(s): Workbook = Усталость, Успевание и PVT (Ответы).xlsx / Sheet = Рабочий стол / Range = 'Рабочий стол'!$L:$L / 541 rows and 1 column
B6: Column variable(s): Workbook = Усталость, Успевание и PVT (Ответы).xlsx / Sheet = Рабочий стол / Range = 'Рабочий стол'!$N:$N / 541 rows and 1 column
B11: Results for the variables Уровень FAS and Что лучше характеризует то, как вы справляетесь с делами по работе?:
B13: Contingency table (Уровень FAS / Что лучше характеризует то, как вы справляетесь с делами по работе?):
C15: плохо | D15: средне | E15: хорошо
B16: 1. Свеж | C16: 8 | D16: 40 | E16: 67
B17: 2. Устал | C17: 49 | D17: 138 | E17: 71
B18: 3. Вилы | C18: 78 | D18: 80 | E18: 10
B21: 3D view of the contingency table
B45: Test of independence between the rows and the columns (Уровень FAS / Что лучше характеризует то, как вы справляетесь с делами по работе?):
B47: Chi-square (Observed value) | C47: 123.77177
B48: Chi-square (Critical value) | C48: 14.860259
B49: DF | C49: 4
B50: p-value | C50: < 0,0001
B51: alpha | C51: 0.005
B53: Test interpretation:
B54: H0: The rows and the columns of the table are independent.
B55: Ha: There is a link between the rows and the columns of the table.
B56: As the computed p-value is lower than the significance level alpha=0,005, one should reject the null hypothesis H0, and accept the alternative hypothesis Ha.
B60: Significance by cell (Fisher's exact test) (Уровень FAS / Что лучше характеризует то, как вы справляетесь с делами по работе?):
C62: плохо | D62: средне | E62: хорошо
B63: 1. Свеж | C63: < | D63: < | E63: >
B64: 2. Устал | C64: < | D64: > | E64: >
B65: 3. Вилы | C65: > | D65: < | E65: <
B66: Values displayed in red are significant at the level alpha=0,005
B69: Observed frequencies (Уровень FAS / Что лучше характеризует то, как вы справляетесь с делами по работе?):
C71: плохо | D71: средне | E71: хорошо | F71: Total
B72: 1. Свеж | C72: 8 | D72: 40 | E72: 67 | F72: 115
B73: 2. Устал | C73: 49 | D73: 138 | E73: 71 | F73: 258
B74: 3. Вилы | C74: 78 | D74: 80 | E74: 10 | F74: 168
B75: Total | C75: 135 | D75: 258 | E75: 148 | F75: 541
B78: Theoretical frequencies (Уровень FAS / Что лучше характеризует то, как вы справляетесь с делами по работе?):
C80: плохо | D80: средне | E80: хорошо | F80: Total
B81: 1. Свеж | C81: 28.696858 | D81: 54.842884 | E81: 31.460259 | F81: 115
B82: 2. Устал | C82: 64.380776 | D82: 123.03882 | E82: 70.580407 | F82: 258
B83: 3. Вилы | C83: 41.922366 | D83: 80.118299 | E83: 45.959335 | F83: 168
B84: Total | C84: 135 | D84: 258 | E84: 148 | F84: 541
B87: Percentages / Row (Уровень FAS / Что лучше характеризует то, как вы справляетесь с делами по работе?):
C89: плохо | D89: средне | E89: хорошо | F89: Total
B90: 1. Свеж | C90: 6.9565217 | D90: 34.782609 | E90: 58.26087 | F90: 100
B91: 2. Устал | C91: 18.992248 | D91: 53.488372 | E91: 27.51938 | F91: 100
B92: 3. Вилы | C92: 46.428571 | D92: 47.619048 | E92: 5.952381 | F92: 100
B93: Total | C93: 24.953789 | D93: 47.689464 | E93: 27.356747 | F93: 100
B96: Percentages / Column (Уровень FAS / Что лучше характеризует то, как вы справляетесь с делами по работе?):
C98: плохо | D98: средне | E98: хорошо | F98: Total
B99: 1. Свеж | C99: 5.9259259 | D99: 15.503876 | E99: 45.27027 | F99: 21.256932
B100: 2. Устал | C100: 36.296296 | D100: 53.488372 | E100: 47.972973 | F100: 47.689464
B101: 3. Вилы | C101: 57.777778 | D101: 31.007752 | E101: 6.7567568 | F101: 31.053604
B102: Total | C102: 100 | D102: 100 | E102: 100 | F102: 100
B105: Percentages / Total (Уровень FAS / Что лучше характеризует то, как вы справляетесь с делами по работе?):
C107: плохо | D107: средне | E107: хорошо | F107: Total
B108: 1. Свеж | C108: 1.4787431 | D108: 7.3937153 | E108: 12.384473 | F108: 21.256932
B109: 2. Устал | C109: 9.0573013 | D109: 25.508318 | E109: 13.123845 | F109: 47.689464
B110: 3. Вилы | C110: 14.417745 | D110: 14.787431 | E110: 1.8484288 | F110: 31.053604
B111: Total | C111: 24.953789 | D111: 47.689464 | E111: 27.356747 | F111: 100
B114: Test of independence between the rows and the columns (Chi-square):
B116: Chi-square (Observed value) | C116: 123.77177
B117: Chi-square (Critical value) | C117: 14.860259
B118: DF | C118: 4
B119: p-value | C119: < 0,0001
B120: alpha | C120: 0.005
B122: Test interpretation:
B123: H0: The rows and the columns of the table are independent.
B124: Ha: There is a link between the rows and the columns of the table.
B125: As the computed p-value is lower than the significance level alpha=0,005, one should reject the null hypothesis H0, and accept the alternative hypothesis Ha.
B129: Association coefficients (1):
B131: Coefficient | C131: Value
B132: Pearson's Phi | C132: 0.47831299
B133: Contingency coefficient | C133: 0.43149376
B134: Cramer's V | C134: 0.33821836
B135: Tschuprow's T | C135: 0.33821836
B136: Goodman and Kruskal tau (R/C) | C136: 0.098319268
B137: Goodman and Kruskal tau (C/R) | C137: 0.098473026
B138: Cohen's kappa | C138: -0.1214518
B141: Association coefficients (2):
B143: Coefficient | C143: Value | D143: Standard deviation | E143: Lower bound 99,500% | F143: Upper bound 99,500%
B144: Goodman and Kruskal Gamma | C144: -0.62914982 | D144: 0.041798109 | E144: -0.74647853 | F144: -0.51182112
B145: Kendall's tau | C145: -0.41823411 | D145: 0.031911845 | E145: -0.50781174 | F145: -0.32865648
B146: Stuart's tau | C146: -0.39724137 | D146: 0.031815676 | E146: -0.48654904 | F146: -0.30793369
B147: Somers' D (R/C) | C147: -0.41674732 | D147: 0.032067997 | E147: -0.50676327 | F147: -0.32673137
B148: Somers' D (C/R) | C148: -0.41972621 | D148: 0.032269193 | E148: -0.51030693 | F148: -0.3291455
B149: Theil's U (R/C) | C149: 0.11271003 | D149: 0.017982882 | E149: 0.062231474 | F149: 0.16318859
B150: Theil's U (C/R) | C150: 0.11178238 | D150: 0.017852939 | E150: 0.061668574 | F150: 0.16189618
B151: Theil's U (Symmetric) | C151: 0.11224429 | D151: 0.017892676 | E151: 0.062018942 | F151: 0.16246963

Sheet Association coefficients2
B1: You are currently using XLSTAT Free._x000D_ Order a license to get access to 100 or more additional functions.
B3: XLSTAT 2018.6.54644 - Tests on contingency tables (Chi-square...) - Start time: 11.09.2019 at 19:14:08 / End time: 11.09.2019 at 19:14:10 / Microsoft Excel 15.05153
B4: These results have been generated using XLSTAT Free. You can benefit from many more tools and options with a full version.
B5: Row variable(s): Workbook = Усталость, Успевание и PVT (Ответы).xlsx / Sheet = Рабочий стол / Range = 'Рабочий стол'!$L:$L / 541 rows and 1 column
B6: Column variable(s): Workbook = Усталость, Успевание и PVT (Ответы).xlsx / Sheet = Рабочий стол / Range = 'Рабочий стол'!$M:$M / 541 rows and 1 column
B11: Results for the variables Уровень FAS and Что лучше характеризует то, как вы справляетесь с делами в ЛИЧНОЙ жизни?:
B13: Contingency table (Уровень FAS / Что лучше характеризует то, как вы справляетесь с делами в ЛИЧНОЙ жизни?):
C15: плохо | D15: средне | E15: хорошо
B16: 1. Свеж | C16: 7 | D16: 64 | E16: 44
B17: 2. Устал | C17: 71 | D17: 152 | E17: 35
B18: 3. Вилы | C18: 102 | D18: 60 | E18: 6
B21: 3D view of the contingency table
B45: Test of independence between the rows and the columns (Уровень FAS / Что лучше характеризует то, как вы справляетесь с делами в ЛИЧНОЙ жизни?):
B47: Chi-square (Observed value) | C47: 131.21763
B48: Chi-square (Critical value) | C48: 14.860259
B49: DF | C49: 4
B50: p-value | C50: < 0,0001
B51: alpha | C51: 0.005
B53: Test interpretation:
B54: H0: The rows and the columns of the table are independent.
B55: Ha: There is a link between the rows and the columns of the table.
B56: As the computed p-value is lower than the significance level alpha=0,005, one should reject the null hypothesis H0, and accept the alternative hypothesis Ha.
B60: Significance by cell (Fisher's exact test) (Уровень FAS / Что лучше характеризует то, как вы справляетесь с делами в ЛИЧНОЙ жизни?):
C62: плохо | D62: средне | E62: хорошо
B63: 1. Свеж | C63: < | D63: > | E63: >
B64: 2. Устал | C64: < | D64: > | E64: <
B65: 3. Вилы | C65: > | D65: < | E65: <
B66: Values displayed in red are significant at the level alpha=0,005
B69: Observed frequencies (Уровень FAS / Что лучше характеризует то, как вы справляетесь с делами в ЛИЧНОЙ жизни?):
C71: плохо | D71: средне | E71: хорошо | F71: Total
B72: 1. Свеж | C72: 7 | D72: 64 | E72: 44 | F72: 115
B73: 2. Устал | C73: 71 | D73: 152 | E73: 35 | F73: 258
B74: 3. Вилы | C74: 102 | D74: 60 | E74: 6 | F74: 168
B75: Total | C75: 180 | D75: 276 | E75: 85 | F75: 541
B78: Theoretical frequencies (Уровень FAS / Что лучше характеризует то, как вы справляетесь с делами в ЛИЧНОЙ жизни?):
C80: плохо | D80: средне | E80: хорошо | F80: Total
B81: 1. Свеж | C81: 38.262477 | D81: 58.669131 | E81: 18.068392 | F81: 115
B82: 2. Устал | C82: 85.841035 | D82: 131.62292 | E82: 40.536044 | F82: 258
B83: 3. Вилы | C83: 55.896488 | D83: 85.707948 | E83: 26.395564 | F83: 168
B84: Total | C84: 180 | D84: 276 | E84: 85 | F84: 541
B87: Percentages / Row (Уровень FAS / Что лучше характеризует то, как вы справляетесь с делами в ЛИЧНОЙ жизни?):
C89: плохо | D89: средне | E89: хорошо | F89: Total
B90: 1. Свеж | C90: 6.0869565 | D90: 55.652174 | E90: 38.26087 | F90: 100
B91: 2. Устал | C91: 27.51938 | D91: 58.914729 | E91: 13.565891 | F91: 100
B92: 3. Вилы | C92: 60.714286 | D92: 35.714286 | E92: 3.5714286 | F92: 100
B93: Total | C93: 33.271719 | D93: 51.016636 | E93: 15.711645 | F93: 100
B96: Percentages / Column (Уровень FAS / Что лучше характеризует то, как вы справляетесь с делами в ЛИЧНОЙ жизни?):
C98: плохо | D98: средне | E98: хорошо | F98: Total
B99: 1. Свеж | C99: 3.8888889 | D99: 23.188406 | E99: 51.764706 | F99: 21.256932
B100: 2. Устал | C100: 39.444444 | D100: 55.072464 | E100: 41.176471 | F100: 47.689464
B101: 3. Вилы | C101: 56.666667 | D101: 21.73913 | E101: 7.0588235 | F101: 31.053604
B102: Total | C102: 100 | D102: 100 | E102: 100 | F102: 100
B105: Percentages / Total (Уровень FAS / Что лучше характеризует то, как вы справляетесь с делами в ЛИЧНОЙ жизни?):
C107: плохо | D107: средне | E107: хорошо | F107: Total
B108: 1. Свеж | C108: 1.2939002 | D108: 11.829945 | E108: 8.1330869 | F108: 21.256932
B109: 2. Устал | C109: 13.123845 | D109: 28.096118 | E109: 6.4695009 | F109: 47.689464
B110: 3. Вилы | C110: 18.853974 | D110: 11.090573 | E110: 1.1090573 | F110: 31.053604
B111: Total | C111: 33.271719 | D111: 51.016636 | E111: 15.711645 | F111: 100
B114: Test of independence between the rows and the columns (Chi-square):
B116: Chi-square (Observed value) | C116: 131.21763
B117: Chi-square (Critical value) | C117: 14.860259
B118: DF | C118: 4
B119: p-value | C119: < 0,0001
B120: alpha | C120: 0.005
B122: Test interpretation:
B123: H0: The rows and the columns of the table are independent.
B124: Ha: There is a link between the rows and the columns of the table.
B125: As the computed p-value is lower than the significance level alpha=0,005, one should reject the null hypothesis H0, and accept the alternative hypothesis Ha.
B129: Association coefficients (1):
B131: Coefficient | C131: Value
B132: Pearson's Phi | C132: 0.49249006
B133: Contingency coefficient | C133: 0.44181571
B134: Cramer's V | C134: 0.34824306
B135: Tschuprow's T | C135: 0.34824306
B136: Goodman and Kruskal tau (R/C) | C136: 0.10437924
B137: Goodman and Kruskal tau (C/R) | C137: 0.1108334
B138: Cohen's kappa | C138: -0.090743352
B141: Association coefficients (2):
B143: Coefficient | C143: Value | D143: Standard deviation | E143: Lower bound 99,500% | F143: Upper bound 99,500%
B144: Goodman and Kruskal Gamma | C144: -0.66227885 | D144: 0.040369375 | E144: -0.77559705 | F144: -0.54896065
B145: Kendall's tau | C145: -0.43371387 | D145: 0.031617003 | E145: -0.52246387 | F145: -0.34496388
B146: Stuart's tau | C146: -0.40173089 | D146: 0.031135093 | E146: -0.48912815 | F146: -0.31433364
B147: Somers' D (R/C) | C147: -0.4431592 | D147: 0.032548222 | E147: -0.53452316 | F147: -0.35179525
B148: Somers' D (C/R) | C148: -0.42446986 | D148: 0.031408646 | E148: -0.51263499 | F148: -0.33630473
B149: Theil's U (R/C) | C149: 0.11875331 | D149: 0.018335251 | E149: 0.067285641 | F149: 0.17022098
B150: Theil's U (C/R) | C150: 0.1241147 | D150: 0.019121795 | E150: 0.070439172 | F150: 0.17779022
B151: Theil's U (Symmetric) | C151: 0.12137483 | D151: 0.018679694 | E151: 0.068940294 | F151: 0.17380936

Sheet Association coefficients1
B1: You are currently using XLSTAT Free._x000D_ Order a license to get access to 100 or more additional functions.
B3: XLSTAT 2018.6.54644 - Tests on contingency tables (Chi-square...) - Start time: 11.09.2019 at 19:12:21 / End time: 11.09.2019 at 19:12:23 / Microsoft Excel 15.05153
B4: These results have been generated using XLSTAT Free. You can benefit from many more tools and options with a full version.
B5: Row variable(s): Workbook = Усталость, Успевание и PVT (Ответы).xlsx / Sheet = Рабочий стол / Range = 'Рабочий стол'!$R:$R / 541 rows and 1 column
B6: Column variable(s): Workbook = Усталость, Успевание и PVT (Ответы).xlsx / Sheet = Рабочий стол / Range = 'Рабочий стол'!$P:$P / 541 rows and 1 column
B11: Number of removed observations: 2
B14: Results for the variables PVT Диагноз and Сетепень утренней проснутости:
B16: Contingency table (PVT Диагноз / Сетепень утренней проснутости):
C18: 1. зомбак | D18: 2. средняк | E18: 3. бодряк
B19: 1. Свеж | C19: 61 | D19: 67 | E19: 20
B20: 2. Устал | C20: 164 | D20: 181 | E20: 46
B23: 3D view of the contingency table
B47: Test of independence between the rows and the columns (PVT Диагноз / Сетепень утренней проснутости):
B49: Chi-square (Observed value) | C49: 0.30610117
B50: Chi-square (Critical value) | C50: 10.596635
B51: DF | C51: 2
B52: p-value | C52: 0.85808632
B53: alpha | C53: 0.005
B55: Test interpretation:
B56: H0: The rows and the columns of the table are independent.
B57: Ha: There is a link between the rows and the columns of the table.
B58: As the computed p-value is greater than the significance level alpha=0,005, one cannot reject the null hypothesis H0.
B62: Significance by cell (Fisher's exact test) (PVT Диагноз / Сетепень утренней проснутости):
C64: 1. зомбак | D64: 2. средняк | E64: 3. бодряк
B65: 1. Свеж | C65: < | D65: < | E65: >
B66: 2. Устал | C66: > | D66: > | E66: <
B67: Values displayed in red are significant at the level alpha=0,005
B70: Observed frequencies (PVT Диагноз / Сетепень утренней проснутости):
C72: 1. зомбак | D72: 2. средняк | E72: 3. бодряк | F72: Total
B73: 1. Свеж | C73: 61 | D73: 67 | E73: 20 | F73: 148
B74: 2. Устал | C74: 164 | D74: 181 | E74: 46 | F74: 391
B75: Total | C75: 225 | D75: 248 | E75: 66 | F75: 539
B78: Theoretical frequencies (PVT Диагноз / Сетепень утренней проснутости):
C80: 1. зомбак | D80: 2. средняк | E80: 3. бодряк | F80: Total
B81: 1. Свеж | C81: 61.781076 | D81: 68.096475 | E81: 18.122449 | F81: 148
B82: 2. Устал | C82: 163.21892 | D82: 179.90353 | E82: 47.877551 | F82: 391
B83: Total | C83: 225 | D83: 248 | E83: 66 | F83: 539
B86: Percentages / Row (PVT Диагноз / Сетепень утренней проснутости):
C88: 1. зомбак | D88: 2. средняк | E88: 3. бодряк | F88: Total
B89: 1. Свеж | C89: 41.216216 | D89: 45.27027 | E89: 13.513514 | F89: 100
B90: 2. Устал | C90: 41.943734 | D90: 46.29156 | E90: 11.764706 | F90: 100
B91: Total | C91: 41.74397 | D91: 46.011132 | E91: 12.244898 | F91: 100
B94: Percentages / Column (PVT Диагноз / Сетепень утренней проснутости):
C96: 1. зомбак | D96: 2. средняк | E96: 3. бодряк | F96: Total
B97: 1. Свеж | C97: 27.111111 | D97: 27.016129 | E97: 30.30303 | F97: 27.458256
B98: 2. Устал | C98: 72.888889 | D98: 72.983871 | E98: 69.69697 | F98: 72.541744
B99: Total | C99: 100 | D99: 100 | E99: 100 | F99: 100
B102: Percentages / Total (PVT Диагноз / Сетепень утренней проснутости):
C104: 1. зомбак | D104: 2. средняк | E104: 3. бодряк | F104: Total
B105: 1. Свеж | C105: 11.317254 | D105: 12.430427 | E105: 3.7105751 | F105: 27.458256
B106: 2. Устал | C106: 30.426716 | D106: 33.580705 | E106: 8.5343228 | F106: 72.541744
B107: Total | C107: 41.74397 | D107: 46.011132 | E107: 12.244898 | F107: 100
B110: Test of independence between the rows and the columns (Chi-square):
B112: Chi-square (Observed value) | C112: 0.30610117
B113: Chi-square (Critical value) | C113: 10.596635
B114: DF | C114: 2
B115: p-value | C115: 0.85808632
B116: alpha | C116: 0.005
B118: Test interpretation:
B119: H0: The rows and the columns of the table are independent.
B120: Ha: There is a link between the rows and the columns of the table.
B121: As the computed p-value is greater than the significance level alpha=0,005, one cannot reject the null hypothesis H0.
B125: Association coefficients (1):
B127: Coefficient | C127: Value
B128: Pearson's Phi | C128: 0.023830772
B129: Contingency coefficient | C129: 0.023824008
B130: Cramer's V | C130: 0.023830772
B131: Tschuprow's T | C131: 0.020039211
B132: Goodman and Kruskal tau (R/C) | C132: 0.00056790569
B133: Goodman and Kruskal tau (C/R) | C133: 0.00015397163
B136: Association coefficients (2):
B138: Coefficient | C138: Value | D138: Standard deviation | E138: Lower bound 99,500% | F138: Upper bound 99,500%
B139: Goodman and Kruskal Gamma | C139: -0.027544016 | D139: 0.084821525 | E139: -0.2656409 | F139: 0.21055287
B140: Kendall's tau | C140: -0.013514339 | D140: 0.04167643 | E140: -0.13050149 | F140: 0.10347281
B141: Stuart's tau | C141: -0.013203865 | D141: 0.04072527 | E141: -0.12752107 | F141: 0.10111334
B142: Somers' D (R/C) | C142: -0.011020708 | D142: 0.033986395 | E142: -0.10642167 | F142: 0.084380251
B143: Somers' D (C/R) | C143: -0.016572199 | D143: 0.051109287 | E143: -0.16003769 | F143: 0.1268933
B144: Theil's U (R/C) | C144: 0.00047475783 | D144: 0.0017456803 | E144: -0.0044254257 | F144: 0.0053749413
B145: Theil's U (C/R) | C145: 0.00028502806 | D145: 0.0010479843 | E145: -0.0026566993 | F145: 0.0032267554
B146: Theil's U (Symmetric) | C146: 0.00035620378 | D146: 0.0013096952 | E146: -0.0033201548 | F146: 0.0040325624

Sheet Association coefficients
B1: You are currently using XLSTAT Free._x000D_ Order a license to get access to 100 or more additional functions.
B3: XLSTAT 2018.6.54644 - Tests on contingency tables (Chi-square...) - Start time: 11.09.2019 at 19:09:39 / End time: 11.09.2019 at 19:09:40 / Microsoft Excel 15.05153
B4: These results have been generated using XLSTAT Free. You can benefit from many more tools and options with a full version.
B5: Row variable(s): Workbook = Усталость, Успевание и PVT (Ответы).xlsx / Sheet = Рабочий стол / Range = 'Рабочий стол'!$L:$L / 541 rows and 1 column
B6: Column variable(s): Workbook = Усталость, Успевание и PVT (Ответы).xlsx / Sheet = Рабочий стол / Range = 'Рабочий стол'!$R:$R / 541 rows and 1 column
B11: Results for the variables Уровень FAS and PVT Диагноз:
B13: Contingency table (Уровень FAS / PVT Диагноз):
C15: 1. Свеж | D15: 2. Устал
B16: 1. Свеж | C16: 36 | D16: 79
B17: 2. Устал | C17: 72 | D17: 186
B18: 3. Вилы | C18: 41 | D18: 127
B21: 3D view of the contingency table
B45: Test of independence between the rows and the columns (Уровень FAS / PVT Диагноз):
B47: Chi-square (Observed value) | C47: 1.6615002
B48: Chi-square (Critical value) | C48: 10.596635
B49: DF | C49: 2
B50: p-value | C50: 0.43572232
B51: alpha | C51: 0.005
B53: Test interpretation:
B54: H0: The rows and the columns of the table are independent.
B55: Ha: There is a link between the rows and the columns of the table.
B56: As the computed p-value is greater than the significance level alpha=0,005, one cannot reject the null hypothesis H0.
B60: Significance by cell (Fisher's exact test) (Уровень FAS / PVT Диагноз):
C62: 1. Свеж | D62: 2. Устал
B63: 1. Свеж | C63: > | D63: <
B64: 2. Устал | C64: > | D64: <
B65: 3. Вилы | C65: < | D65: >
B66: Values displayed in red are significant at the level alpha=0,005
B69: Observed frequencies (Уровень FAS / PVT Диагноз):
C71: 1. Свеж | D71: 2. Устал | E71: Total
B72: 1. Свеж | C72: 36 | D72: 79 | E72: 115
B73: 2. Устал | C73: 72 | D73: 186 | E73: 258
B74: 3. Вилы | C74: 41 | D74: 127 | E74: 168
B75: Total | C75: 149 | D75: 392 | E75: 541
B78: Theoretical frequencies (Уровень FAS / PVT Диагноз):
C80: 1. Свеж | D80: 2. Устал | E80: Total
B81: 1. Свеж | C81: 31.672828 | D81: 83.327172 | E81: 115
B82: 2. Устал | C82: 71.057301 | D82: 186.9427 | E82: 258
B83: 3. Вилы | C83: 46.269871 | D83: 121.73013 | E83: 168
B84: Total | C84: 149 | D84: 392 | E84: 541
B87: Percentages / Row (Уровень FAS / PVT Диагноз):
C89: 1. Свеж | D89: 2. Устал | E89: Total
B90: 1. Свеж | C90: 31.304348 | D90: 68.695652 | E90: 100
B91: 2. Устал | C91: 27.906977 | D91: 72.093023 | E91: 100
B92: 3. Вилы | C92: 24.404762 | D92: 75.595238 | E92: 100
B93: Total | C93: 27.54159 | D93: 72.45841 | E93: 100
B96: Percentages / Column (Уровень FAS / PVT Диагноз):
C98: 1. Свеж | D98: 2. Устал | E98: Total
B99: 1. Свеж | C99: 24.161074 | D99: 20.153061 | E99: 21.256932
B100: 2. Устал | C100: 48.322148 | D100: 47.44898 | E100: 47.689464
B101: 3. Вилы | C101: 27.516779 | D101: 32.397959 | E101: 31.053604
B102: Total | C102: 100 | D102: 100 | E102: 100
B105: Percentages / Total (Уровень FAS / PVT Диагноз):
C107: 1. Свеж | D107: 2. Устал | E107: Total
B108: 1. Свеж | C108: 6.6543438 | D108: 14.602588 | E108: 21.256932
B109: 2. Устал | C109: 13.308688 | D109: 34.380776 | E109: 47.689464
B110: 3. Вилы | C110: 7.5785582 | D110: 23.475046 | E110: 31.053604
B111: Total | C111: 27.54159 | D111: 72.45841 | E111: 100
B114: Test of independence between the rows and the columns (Chi-square):
B116: Chi-square (Observed value) | C116: 1.6615002
B117: Chi-square (Critical value) | C117: 10.596635
B118: DF | C118: 2
B119: p-value | C119: 0.43572232
B120: alpha | C120: 0.005
B122: Test interpretation:
B123: H0: The rows and the columns of the table are independent.
B124: Ha: There is a link between the rows and the columns of the table.
B125: As the computed p-value is greater than the significance level alpha=0,005, one cannot reject the null hypothesis H0.
B129: Association coefficients (1):
B131: Coefficient | C131: Value
B132: Pearson's Phi | C132: 0.055418092
B133: Contingency coefficient | C133: 0.055333189
B134: Cramer's V | C134: 0.055418092
B135: Tschuprow's T | C135: 0.046600875
B136: Goodman and Kruskal tau (R/C) | C136: 0.0012857842
B137: Goodman and Kruskal tau (C/R) | C137: 0.0030711649
B140: Association coefficients (2):
B142: Coefficient | C142: Value | D142: Standard deviation | E142: Lower bound 99,500% | F142: Upper bound 99,500%
B143: Goodman and Kruskal Gamma | C143: 0.10439605 | D143: 0.08043962 | E143: -0.12140068 | F143: 0.33019278
B144: Kendall's tau | C144: 0.052548193 | D144: 0.04069361 | E144: -0.061680144 | F144: 0.16677653
B145: Stuart's tau | C145: 0.052740014 | D145: 0.040901339 | E145: -0.062071426 | F145: 0.16755145
B146: Somers' D (R/C) | C146: 0.066069716 | D146: 0.051159229 | E146: -0.077535968 | F146: 0.2096754
B147: Somers' D (C/R) | C147: 0.041793922 | D147: 0.03239692 | E147: -0.049145325 | F147: 0.13273317
B148: Theil's U (R/C) | C148: 0.001468558 | D148: 0.0022766377 | E148: -0.004922041 | F148: 0.0078591569
B149: Theil's U (C/R) | C149: 0.0026085011 | D149: 0.0040431326 | E149: -0.0087407086 | F149: 0.013957711
B150: Theil's U (Symmetric) | C150: 0.0018791658 | D150: 0.0029128392 | E150: -0.0062972723 | F150: 0.010055604

Sheet Covariance   Correlation
B1: You are currently using XLSTAT Free._x000D_ Order a license to get access to 100 or more additional functions.
B3: XLSTAT 2018.6.54644 - Covariance / Correlation - Start time: 11.09.2019 at 19:07:43 / End time: 11.09.2019 at 19:07:45 / Microsoft Excel 15.05153
B4: These results have been generated using XLSTAT Free. You can benefit from many more tools and options with a full version.
B5: Observations / Quantitative variables: Workbook = Усталость, Успевание и PVT (Ответы).xlsx / Sheet = Рабочий стол / Range = 'Рабочий стол'!$K:$K,'Рабочий стол'!$O:$O,'Рабочий стол'!$Q:$Q,'Рабочий стол'!$S:$S / 541 rows and 4 columns
B6: Coefficient: Pearson
B11: Summary statistics (Quantitative data):
B13: Variable | C13: Observations | D13: Obs. with missing data | E13: Obs. without missing data | F13: Minimum | G13: Maximum | H13: Mean | I13: Std. deviation
B14: FAS | C14: 541 | D14: 0 | E14: 541 | F14: 10 | G14: 47 | H14: 28.68207 | I14: 7.2667834
B15: На сколько свежим и отдохнувшим вы сегодня проснулись? | C15: 541 | D15: 0 | E15: 541 | F15: 0 | G15: 7 | H15: 3.8336414 | I15: 1.4188074
B16: Среднее время в PVT | C16: 541 | D16: 0 | E16: 541 | F16: 106 | G16: 8563 | H16: 427.45471 | I16: 412.01846
B17: Среднее отклонение времени в PVT | C17: 541 | D17: 0 | E17: 541 | F17: 0 | G17: 734 | H17: 81.197782 | I17: 64.782769
B20: Correlation matrix (Pearson):
B22: Variables | C22: FAS | D22: На сколько свежим и отдохнувшим вы сегодня проснулись? | E22: Среднее время в PVT | F22: Среднее отклонение времени в PVT
B23: FAS | C23: 1 | D23: -0.34981901 | E23: 0.043310119 | F23: 0.042020174
B24: На сколько свежим и отдохнувшим вы сегодня проснулись? | C24: -0.34981901 | D24: 1 | E24: -0.016080303 | F24: 0.0053149441
B25: Среднее время в PVT | C25: 0.043310119 | D25: -0.016080303 | E25: 1 | F25: 0.061363677
B26: Среднее отклонение времени в PVT | C26: 0.042020174 | D26: 0.0053149441 | E26: 0.061363677 | F26: 1
B29: Confidence intervals (99%) / Lower bound:
