Workbook
Name FAS_Scale: Ключи!$A$1:$B$5
Name СтепеньПроснутости: Ключи!$A$21:$E$27
Name УровниУспевания: Ключи!$A$15:$D$19

Sheet Ответы на форму (1)
A1: Отметка времени | B1: В какой степени утверждения ниже характеризуют ваше обычное состояние? [Меня беспокоит усталость] | C1: В какой степени утверждения ниже характеризуют ваше обычное состояние? [Я очень быстро устаю] | D1: В какой степени утверждения ниже характеризуют ваше обычное состояние? [Я успеваю сделать мало дел в течение дня] | E1: В какой степени утверждения ниже характеризуют ваше обычное состояние? [У меня достаточно энергии для повседневной жизни] | F1: В какой степени утверждения ниже характеризуют ваше обычное состояние? [Я чувствую физическое истощение] | G1: В какой степени утверждения ниже характеризуют ваше обычное состояние? [Мне трудно начать что-нибудь делать] | H1: В какой степени утверждения ниже характеризуют ваше обычное состояние? [Мне трудно думать четко и ясно] | I1: В какой степени утверждения ниже характеризуют ваше обычное состояние? [У меня нет никакого желания что-нибудь делать] | J1: В какой степени утверждения ниже характеризуют ваше обычное состояние? [Я чувствую умственное истощение] | K1: В какой степени утверждения ниже характеризуют ваше обычное состояние? [Когда я делаю что-нибудь, я могу довольно хорошо сконцентрироваться] | L1: Что лучше характеризует то, как вы справляетесь с делами в ЛИЧНОЙ жизни? | M1: Что лучше характеризует то, как вы справляетесь с делами по работе? | N1: На сколько свежим и отдохнувшим вы сегодня проснулись? | O1: Среднее время в PVT | P1: Среднее отклонение времени в PVT | R1: Число тычков | S1: Число ложных тычков | T1: User Agent | U1: Больше среднего на одно среднее отклонение | V1: Больше среднего на два средних отклонения | W1: Больше среднего на три средних отклонения | X1: Больше среднего на 4 средних отклонения | Y1: Больше среднего на 6 средних отклонения | Z1: Строка времен в PVT
A2: 43717.851 | B2: Часто | C2: Иногда | D2: Иногда | E2: Практичеки всегда | F2: Иногда | G2: Редко | H2: Иногда | I2: Иногда | J2: Часто | K2: Часто | L2: Я вполне продуктивно продвигаюсь к своим долгосрочным целям. Завалы если и случаются, то не часто | M2: Я вполне продуктивно продвигаюсь к своим долгосрочным целям. Завалы если и случаются, то не часто | N2: 3 | O2: 587 | P2: 79 | R2: 24 | S2: 0 | T2: Mozilla/5.0 (Macintosh; Intel Mac OS X 10_14_6) AppleWebKit/605.1.15 (KHTML, like Gecko) Version/12.1.2 Safari/605.1.15 | U2: =COUNTIF(Z2:BT2,">"&(O2+P2)) -> 4 | V2: =COUNTIF(Z2:BT2,">"&(O2+2*P2)) -> 1 | W2: =COUNTIF(Z2:BT2,">"&(O2+3*P2)) -> 1 | X2: =COUNTIF(Z2:BT2,">"&(O2+4*P2)) -> 0 | Y2: =COUNTIF(Z2:BT2,">"&(O2+6*P2)) -> 0 | Z2: 687 | AA2: 420 | AB2: 512 | AC2: 657 | AD2: 481 | AE2: 659 | AF2: 481 | AG2: 580 | AH2: 614 | AI2: 509 | AJ2: 496 | AK2: 515 | AL2: 686 | AM2: 615 | AN2: 884 | AO2: 561 | AP2: 527 | AQ2: 510 | AR2: 551 | AS2: 713 | AT2: 558 | AU2: 658 | AV2: 564 | AW2: 650
A3: 43717.851 | B3: Иногда | C3: Редко | D3: Редко | E3: Иногда | F3: Иногда | G3: Редко | H3: Редко | I3: Практически никогда | J3: Иногда | K3: Иногда | L3: Я успеваю разобраться с необходимой текучкой, и даже изредка могу посвящать силы долгосрочным планам | M3: Я успеваю разобраться с необходимой текучкой, и даже изредка могу посвящать силы долгосрочным планам | N3: 5 | O3: 407 | P3: 75 | R3: 25 | S3: 5 | T3: Mozilla/5.0 (Linux; Android 7.0; SM-G920F) AppleWebKit/537.36 (KHTML, like Gecko) Chrome/75.0.3770.143 Mobile Safari/537.36 | U3: =COUNTIF(Z3:BT3,">"&(O3+P3)) -> 4 | V3: =COUNTIF(Z3:BT3,">"&(O3+2*P3)) -> 1 | W3: =COUNTIF(Z3:BT3,">"&(O3+3*P3)) -> 1 | X3: =COUNTIF(Z3:BT3,">"&(O3+4*P3)) -> 1 | Y3: =COUNTIF(Z3:BT3,">"&(O3+6*P3)) -> 1 | Z3: 916 | AA3: 555 | AB3: 498 | AC3: 418 | AD3: 393 | AE3: 420 | AF3: 397 | AG3: 338 | AH3: 337 | AI3: 413 | AJ3: 329 | AK3: 524 | AL3: 305 | AM3: 381 | AN3: 324 | AO3: 452 | AP3: 343 | AQ3: 382 | AR3: 384 | AS3: 366 | AT3: 365 | AU3: 334 | AV3: 332 | AW3: 336 | AX3: 334
A4: 43717.851 | B4: Часто | C4: Иногда | D4: Иногда | E4: Часто | F4: Редко | G4: Редко | H4: Иногда | I4: Иногда | J4: Редко | K4: Часто | L4: Я успеваю разобраться с необходимой текучкой, и даже изредка могу посвящать силы долгосрочным планам | M4: Я успеваю разобраться с необходимой текучкой, и даже изредка могу посвящать силы долгосрочным планам | N4: 5 | O4: 343 | P4: 63 | R4: 23 | S4: 1 | T4: Mozilla/5.0 (Windows NT 10.0; Win64; x64) AppleWebKit/537.36 (KHTML, like Gecko) Chrome/70.0.3538.102 Safari/537.36 Edge/18.18362 | U4: =COUNTIF(Z4:BT4,">"&(O4+P4)) -> 4 | V4: =COUNTIF(Z4:BT4,">"&(O4+2*P4)) -> 3 | W4: =COUNTIF(Z4:BT4,">"&(O4+3*P4)) -> 2 | X4: =COUNTIF(Z4:BT4,">"&(O4+4*P4)) -> 0 | Y4: =COUNTIF(Z4:BT4,">"&(O4+6*P4)) -> 0 | Z4: 571 | AA4: 331 | AB4: 299 | AC4: 326 | AD4: 312 | AE4: 310 | AF4: 329 | AG4: 283 | AH4: 295 | AI4: 297 | AJ4: 488 | AK4: 412 | AL4: 373 | AM4: 560 | AN4: 356 | AO4: 305 | AP4: 292 | AQ4: 373 | AR4: 298 | AS4: 283 | AT4: 289 | AU4: 270 | AV4: 259
A5: 43717.851 | B5: Редко | C5: Редко | D5: Часто | E5: Часто | F5: Редко | G5: Часто | H5: Иногда | I5: Иногда | J5: Редко | K5: Часто | L5: Я успеваю разобраться с необходимой текучкой, и даже изредка могу посвящать силы долгосрочным планам | M5: Я успеваю разобраться с необходимой текучкой, и даже изредка могу посвящать силы долгосрочным планам | N5: 6 | O5: 291 | P5: 24 | R5: 25 | S5: 3 | T5: Mozilla/5.0 (iPhone; CPU iPhone OS 12_4 like Mac OS X) AppleWebKit/605.1.15 (KHTML, like Gecko) Mobile/15E148 [FBAN/FBIOS;FBDV/iPhone8,4;FBMD/iPhone;FBSN/iOS;FBSV/12.4;FBSS/2;FBID/phone;FBLC/ru_RU;FBOP/5;FBCR/Carrier] | U5: =COUNTIF(Z5:BT5,">"&(O5+P5)) -> 5 | V5: =COUNTIF(Z5:BT5,">"&(O5+2*P5)) -> 1 | W5: =COUNTIF(Z5:BT5,">"&(O5+3*P5)) -> 0 | X5: =COUNTIF(Z5:BT5,">"&(O5+4*P5)) -> 0 | Y5: =COUNTIF(Z5:BT5,">"&(O5+6*P5)) -> 0 | Z5: 308 | AA5: 297 | AB5: 232 | AC5: 252 | AD5: 316 | AE5: 297 | AF5: 281 | AG5: 266 | AH5: 348 | AI5: 298 | AJ5: 315 | AK5: 265 | AL5: 260 | AM5: 269 | AN5: 265 | AO5: 333 | AP5: 297 | AQ5: 248 | AR5: 282 | AS5: 315 | AT5: 281 | AU5: 332 | AV5: 299 | AW5: 329 | AX5: 300
A6: 43717.851 | B6: Часто | C6: Иногда | D6: Часто | E6: Часто | F6: Иногда | G6: Часто | H6: Редко | I6: Иногда | J6: Иногда | K6: Иногда | L6: Я успеваю разобраться с необходимой текучкой, и даже изредка могу посвящать силы долгосрочным планам | M6: Я успеваю разобраться с необходимой текучкой, и даже изредка могу посвящать силы долгосрочным планам | N6: 4 | O6: 259 | P6: 35 | R6: 28 | S6: 2 | T6: Mozilla/5.0 (Macintosh; Intel Mac OS X 10_13_4) AppleWebKit/537.36 (KHTML, like Gecko) Chrome/76.0.3809.132 Safari/537.36 | U6: =COUNTIF(Z6:BT6,">"&(O6+P6)) -> 6 | V6: =COUNTIF(Z6:BT6,">"&(O6+2*P6)) -> 3 | W6: =COUNTIF(Z6:BT6,">"&(O6+3*P6)) -> 2 | X6: =COUNTIF(Z6:BT6,">"&(O6+4*P6)) -> 1 | Y6: =COUNTIF(Z6:BT6,">"&(O6+6*P6)) -> 0 | Z6: 336 | AA6: 379 | AB6: 244 | AC6: 204 | AD6: 240 | AE6: 253 | AF6: 295 | AG6: 238 | AH6: 308 | AI6: 224 | AJ6: 240 | AK6: 223 | AL6: 232 | AM6: 249 | AN6: 246 | AO6: 230 | AP6: 226 | AQ6: 271 | AR6: 255 | AS6: 233 | AT6: 239 | AU6: 246 | AV6: 238 | AW6: 229 | AX6: 219 | AY6: 412 | AZ6: 309 | BA6: 243
A7: 43717.852 | B7: Практичеки всегда | C7: Часто | D7: Часто | E7: Иногда | F7: Часто | G7: Часто | H7: Иногда | I7: Часто | J7: Часто | K7: Часто | L7: Я едва-едва успеваю выполнить необходимую текучку, но на долгосрочные планы не остается сил | M7: Я едва-едва успеваю выполнить необходимую текучку, но на долгосрочные планы не остается сил | N7: 4 | O7: 371 | P7: 108 | R7: 24 | S7: 4 | T7: Mozilla/5.0 (iPhone; CPU iPhone OS 12_1_4 like Mac OS X) AppleWebKit/605.1.15 (KHTML, like Gecko) Mobile/16D57 [FBAN/FBIOS;FBDV/iPhone9,3;FBMD/iPhone;FBSN/iOS;FBSV/12.1.4;FBSS/2;FBID/phone;FBLC/en_US;FBOP/5;FBCR/T-Mobile] | U7: =COUNTIF(Z7:BT7,">"&(O7+P7)) -> 3 | V7: =COUNTIF(Z7:BT7,">"&(O7+2*P7)) -> 2 | W7: =COUNTIF(Z7:BT7,">"&(O7+3*P7)) -> 2 | X7: =COUNTIF(Z7:BT7,">"&(O7+4*P7)) -> 0 | Y7: =COUNTIF(Z7:BT7,">"&(O7+6*P7)) -> 0 | Z7: 772 | AA7: 479 | AB7: 417 | AC7: 249 | AD7: 340 | AE7: 252 | AF7: 431 | AG7: 298 | AH7: 486 | AI7: 247 | AJ7: 298 | AK7: 326 | AL7: 251 | AM7: 247 | AN7: 279 | AO7: 467 | AP7: 298 | AQ7: 349 | AR7: 749 | AS7: 427 | AT7: 303 | AU7: 272 | AV7: 410 | AW7: 261
A8: 43717.852 | B8: Часто | C8: Редко | D8: Иногда | E8: Практичеки всегда | F8: Практически никогда | G8: Иногда | H8: Практически никогда | I8: Редко | J8: Редко | K8: Часто | L8: Я успеваю разобраться с необходимой текучкой, и даже изредка могу посвящать силы долгосрочным планам | M8: Я успеваю разобраться с необходимой текучкой, и даже изредка могу посвящать силы долгосрочным планам | N8: 3 | O8: 446 | P8: 31 | R8: 29 | S8: 0 | T8: Mozilla/5.0 (Linux; Android 9; SM-G950F Build/PPR1.180610.011; wv) AppleWebKit/537.36 (KHTML, like Gecko) Version/4.0 Chrome/76.0.3809.132 Mobile Safari/537.36 [FB_IAB/FB4A;FBAV/237.0.0.44.120;] | U8: =COUNTIF(Z8:BT8,">"&(O8+P8)) -> 5 | V8: =COUNTIF(Z8:BT8,">"&(O8+2*P8)) -> 2 | W8: =COUNTIF(Z8:BT8,">"&(O8+3*P8)) -> 2 | X8: =COUNTIF(Z8:BT8,">"&(O8+4*P8)) -> 0 | Y8: =COUNTIF(Z8:BT8,">"&(O8+6*P8)) -> 0 | Z8: 547 | AA8: 497 | AB8: 366 | AC8: 460 | AD8: 448 | AE8: 418 | AF8: 397 | AG8: 468 | AH8: 432 | AI8: 471 | AJ8: 434 | AK8: 552 | AL8: 422 | AM8: 449 | AN8: 489 | AO8: 457 | AP8: 472 | AQ8: 412 | AR8: 434 | AS8: 419 | AT8: 442 | AU8: 429 | AV8: 455 | AW8: 364 | AX8: 454 | AY8: 494 | AZ8: 439 | BA8: 414 | BB8: 427
A9: 43717.852 | B9: Иногда | C9: Редко | D9: Редко | E9: Часто | F9: Редко | G9: Редко | H9: Практически никогда | I9: Иногда | J9: Редко | K9: Практичеки всегда | L9: Я успеваю разобраться с необходимой текучкой, и даже изредка могу посвящать силы долгосрочным планам | M9: Я успеваю разобраться с необходимой текучкой, и даже изредка могу посвящать силы долгосрочным планам | N9: 4 | O9: 301 | P9: 33 | R9: 22 | S9: 0 | T9: Mozilla/5.0 (Macintosh; Intel Mac OS X 10_14_4) AppleWebKit/537.36 (KHTML, like Gecko) Chrome/76.0.3809.132 Safari/537.36 | U9: =COUNTIF(Z9:BT9,">"&(O9+P9)) -> 3 | V9: =COUNTIF(Z9:BT9,">"&(O9+2*P9)) -> 2 | W9: =COUNTIF(Z9:BT9,">"&(O9+3*P9)) -> 2 | X9: =COUNTIF(Z9:BT9,">"&(O9+4*P9)) -> 1 | Y9: =COUNTIF(Z9:BT9,">"&(O9+6*P9)) -> 0 | Z9: 314 | AA9: 452 | AB9: 415 | AC9: 273 | AD9: 301 | AE9: 273 | AF9: 355 | AG9: 258 | AH9: 254 | AI9: 279 | AJ9: 293 | AK9: 271 | AL9: 258 | AM9: 283 | AN9: 268 | AO9: 303 | AP9: 312 | AQ9: 300 | AR9: 277 | AS9: 303 | AT9: 265 | AU9: 327
A10: 43717.853 | B10: Часто | C10: Редко | D10: Редко | E10: Практичеки всегда | F10: Иногда | G10: Редко | H10: Практически никогда | I10: Практически никогда | J10: Практически никогда | K10: Практичеки всегда | L10: Я вполне продуктивно продвигаюсь к своим долгосрочным целям. Завалы если и случаются, то не часто | M10: Я вполне продуктивно продвигаюсь к своим долгосрочным целям. Завалы если и случаются, то не часто | N10: 1 | O10: 371 | P10: 77 | R10: 25 | S10: 0 | T10: Mozilla/5.0 (iPhone; CPU iPhone OS 12_4 like Mac OS X) AppleWebKit/605.1.15 (KHTML, like Gecko) Version/12.1.2 Mobile/15E148 Safari/604.1 | U10: =COUNTIF(Z10:BT10,">"&(O10+P10)) -> 4 | V10: =COUNTIF(Z10:BT10,">"&(O10+2*P10)) -> 2 | W10: =COUNTIF(Z10:BT10,">"&(O10+3*P10)) -> 1 | X10: =COUNTIF(Z10:BT10,">"&(O10+4*P10)) -> 1 | Y10: =COUNTIF(Z10:BT10,">"&(O10+6*P10)) -> 1 | Z10: 901 | AA10: 534 | AB10: 321 | AC10: 447 | AD10: 307 | AE10: 364 | AF10: 377 | AG10: 364 | AH10: 264 | AI10: 297 | AJ10: 307 | AK10: 338 | AL10: 256 | AM10: 347 | AN10: 264 | AO10: 308 | AP10: 396 | AQ10: 332 | AR10: 307 | AS10: 312 | AT10: 348 | AU10: 330 | AV10: 456 | AW10: 348 | AX10: 463
A11: 43717.853 | B11: Часто | C11: Часто | D11: Часто | E11: Иногда | F11: Иногда | G11: Часто | H11: Часто | I11: Часто | J11: Часто | K11: Часто | L11: Я едва-едва успеваю выполнить необходимую текучку, но на долгосрочные планы не остается сил | M11: Я едва-едва успеваю выполнить необходимую текучку, но на долгосрочные планы не остается сил | N11: 5 | O11: 417 | P11: 83 | R11: 24 | S11: 0 | T11: Mozilla/5.0 (iPhone; CPU iPhone OS 12_4_1 like Mac OS X) AppleWebKit/605.1.15 (KHTML, like Gecko) Version/12.1.2 Mobile/15E148 Safari/604.1 | U11: =COUNTIF(Z11:BT11,">"&(O11+P11)) -> 4 | V11: =COUNTIF(Z11:BT11,">"&(O11+2*P11)) -> 3 | W11: =COUNTIF(Z11:BT11,">"&(O11+3*P11)) -> 1 | X11: =COUNTIF(Z11:BT11,">"&(O11+4*P11)) -> 1 | Y11: =COUNTIF(Z11:BT11,">"&(O11+6*P11)) -> 0 | Z11: 762 | AA11: 428 | AB11: 616 | AC11: 415 | AD11: 381 | AE11: 468 | AF11: 413 | AG11: 399 | AH11: 329 | AI11: 382 | AJ11: 316 | AK11: 332 | AL11: 381 | AM11: 496 | AN11: 416 | AO11: 315 | AP11: 365 | AQ11: 365 | AR11: 331 | AS11: 265 | AT11: 349 | AU11: 631 | AV11: 518 | AW11: 347
A12: 43717.854 | B12: Редко | C12: Редко | D12: Часто | E12: Практичеки всегда | F12: Практически никогда | G12: Редко | H12: Редко | I12: Иногда | J12: Иногда | K12: Часто | L12: Я успеваю разобраться с необходимой текучкой, и даже изредка могу посвящать силы долгосрочным планам | M12: Я едва-едва успеваю выполнить необходимую текучку, но на долгосрочные планы не остается сил | N12: 3 | O12: 389 | P12: 43 | R12: 25 | S12: 0 | T12: Mozilla/5.0 (Linux; Android 9; HTC U12 Build/PQ2A.190205.003; wv) AppleWebKit/537.36 (KHTML, like Gecko) Version/4.0 Chrome/76.0.3809.132 Mobile Safari/537.36 [FB_IAB/FB4A;FBAV/237.0.0.44.120;] | U12: =COUNTIF(Z12:BT12,">"&(O12+P12)) -> 3 | V12: =COUNTIF(Z12:BT12,">"&(O12+2*P12)) -> 2 | W12: =COUNTIF(Z12:BT12,">"&(O12+3*P12)) -> 2 | X12: =COUNTIF(Z12:BT12,">"&(O12+4*P12)) -> 1 | Y12: =COUNTIF(Z12:BT12,">"&(O12+6*P12)) -> 1 | Z12: 679 | AA12: 548 | AB12: 435 | AC12: 419 | AD12: 382 | AE12: 404 | AF12: 394 | AG12: 376 | AH12: 380 | AI12: 378 | AJ12: 374 | AK12: 350 | AL12: 371 | AM12: 373 | AN12: 367 | AO12: 392 | AP12: 323 | AQ12: 357 | AR12: 337 | AS12: 361 | AT12: 371 | AU12: 357 | AV12: 329 | AW12: 361 | AX12: 331
A13: 43717.854 | B13: Иногда | C13: Редко | D13: Редко | E13: Часто | F13: Иногда | G13: Редко | H13: Редко | I13: Редко | J13: Практически никогда | K13: Иногда | L13: Я успеваю разобраться с необходимой текучкой, и даже изредка могу посвящать силы долгосрочным планам | M13: Я вполне продуктивно продвигаюсь к своим долгосрочным целям. Завалы если и случаются, то не часто | N13: 5 | O13: 389 | P13: 90 | R13: 23 | S13: 0 | T13: Mozilla/5.0 (iPhone; CPU iPhone OS 12_4 like Mac OS X) AppleWebKit/605.1.15 (KHTML, like Gecko) Mobile/15E148 [FBAN/FBIOS;FBDV/iPhone11,8;FBMD/iPhone;FBSN/iOS;FBSV/12.4;FBSS/2;FBID/phone;FBLC/en_US;FBOP/5;FBCR/Kyivstar] | U13: =COUNTIF(Z13:BT13,">"&(O13+P13)) -> 3 | V13: =COUNTIF(Z13:BT13,">"&(O13+2*P13)) -> 1 | W13: =COUNTIF(Z13:BT13,">"&(O13+3*P13)) -> 1 | X13: =COUNTIF(Z13:BT13,">"&(O13+4*P13)) -> 1 | Y13: =COUNTIF(Z13:BT13,">"&(O13+6*P13)) -> 0 | Z13: 870 | AA13: 512 | AB13: 347 | AC13: 422 | AD13: 424 | AE13: 439 | AF13: 354 | AG13: 471 | AH13: 291 | AI13: 315 | AJ13: 312 | AK13: 556 | AL13: 331 | AM13: 300 | AN13: 443 | AO13: 294 | AP13: 305 | AQ13: 312 | AR13: 310 | AS13: 330 | AT13: 405 | AU13: 333 | AV13: 272
A14: 43717.854 | B14: Практичеки всегда | C14: Часто | D14: Часто | E14: Иногда | F14: Часто | G14: Часто | H14: Иногда | I14: Часто | J14: Часто | K14: Иногда | L14: Я успеваю разобраться с необходимой текучкой, и даже изредка могу посвящать силы долгосрочным планам | M14: Я успеваю разобраться с необходимой текучкой, и даже изредка могу посвящать силы долгосрочным планам | N14: 6 | O14: 520 | P14: 205 | R14: 44 | S14: 2 | T14: Mozilla/5.0 (Linux; Android 9; SM-G955F) AppleWebKit/537.36 (KHTML, like Gecko) Chrome/76.0.3809.132 Mobile Safari/537.36 | U14: =COUNTIF(Z14:BT14,">"&(O14+P14)) -> 4 | V14: =COUNTIF(Z14:BT14,">"&(O14+2*P14)) -> 3 | W14: =COUNTIF(Z14:BT14,">"&(O14+3*P14)) -> 3 | X14: =COUNTIF(Z14:BT14,">"&(O14+4*P14)) -> 2 | Y14: =COUNTIF(Z14:BT14,">"&(O14+6*P14)) -> 1 | Z14: 2182 | AA14: 1326 | AB14: 1502 | AC14: 750 | AD14: 596 | AE14: 563 | AF14: 718 | AG14: 390 | AH14: 475 | AI14: 719 | AJ14: 367 | AK14: 376 | AL14: 427 | AM14: 452 | AN14: 682 | AO14: 423 | AP14: 152 | AQ14: 342 | AR14: 408 | AS14: 519 | AT14: 550 | AU14: 455 | AV14: 375 | AW14: 430 | AX14: 426 | AY14: 423 | AZ14: 318 | BA14: 388 | BB14: 308 | BC14: 454 | BD14: 489 | BE14: 318 | BF14: 323 | BG14: 420 | BH14: 440 | BI14: 341 | BJ14: 451 | BK14: 418 | BL14: 321 | BM14: 309 | BN14: 320 | BO14: 142 | BP14: 653 | BQ14: 475
A15: 43717.855 | B15: Иногда | C15: Иногда | D15: Часто | E15: Иногда | F15: Иногда | G15: Часто | H15: Иногда | I15: Часто | J15: Иногда | K15: Часто | L15: Я успеваю разобраться с необходимой текучкой, и даже изредка могу посвящать силы долгосрочным планам | M15: Я успеваю разобраться с необходимой текучкой, и даже изредка могу посвящать силы долгосрочным планам | N15: 4 | O15: 344 | P15: 53 | R15: 27 | S15: 1 | T15: Mozilla/5.0 (Macintosh; Intel Mac OS X 10_13_6) AppleWebKit/537.36 (KHTML, like Gecko) Chrome/76.0.3809.132 Safari/537.36 | U15: =COUNTIF(Z15:BT15,">"&(O15+P15)) -> 6 | V15: =COUNTIF(Z15:BT15,">"&(O15+2*P15)) -> 3 | W15: =COUNTIF(Z15:BT15,">"&(O15+3*P15)) -> 1 | X15: =COUNTIF(Z15:BT15,">"&(O15+4*P15)) -> 0 | Y15: =COUNTIF(Z15:BT15,">"&(O15+6*P15)) -> 0 | Z15: 399 | AA15: 396 | AB15: 316 | AC15: 356 | AD15: 344 | AE15: 521 | AF15: 332 | AG15: 342 | AH15: 300 | AI15: 434 | AJ15: 347 | AK15: 362 | AL15: 298 | AM15: 292 | AN15: 324 | AO15: 464 | AP15: 291 | AQ15: 304 | AR15: 275 | AS15: 290 | AT15: 261 | AU15: 451 | AV15: 321 | AW15: 290 | AX15: 213 | AY15: 415 | AZ15: 359
A16: 43717.855 | B16: Часто | C16: Часто | D16: Часто | E16: Редко | F16: Часто | G16: Иногда | H16: Редко | I16: Часто | J16: Часто | K16: Иногда | L16: Я едва-едва успеваю выполнить необходимую текучку, но на долгосрочные планы не остается сил | M16: Я успеваю разобраться с необходимой текучкой, и даже изредка могу посвящать силы долгосрочным планам | N16: 4 | O16: 339 | P16: 25 | R16: 24 | S16: 2 | T16: Mozilla/5.0 (Linux; Android 7.0; Redmi Note 4 Build/NRD90M; wv) AppleWebKit/537.36 (KHTML, like Gecko) Version/4.0 Chrome/76.0.3809.132 Mobile Safari/537.36 [FB_IAB/FB4A;FBAV/237.0.0.44.120;] | U16: =COUNTIF(Z16:BT16,">"&(O16+P16)) -> 4 | V16: =COUNTIF(Z16:BT16,">"&(O16+2*P16)) -> 3 | W16: =COUNTIF(Z16:BT16,">"&(O16+3*P16)) -> 1 | X16: =COUNTIF(Z16:BT16,">"&(O16+4*P16)) -> 0 | Y16: =COUNTIF(Z16:BT16,">"&(O16+6*P16)) -> 0 | Z16: 347 | AA16: 411 | AB16: 424 | AC16: 327 | AD16: 314 | AE16: 324 | AF16: 356 | AG16: 374 | AH16: 337 | AI16: 289 | AJ16: 338 | AK16: 327 | AL16: 316 | AM16: 292 | AN16: 328 | AO16: 340 | AP16: 318 | AQ16: 361 | AR16: 403 | AS16: 335 | AT16: 325 | AU16: 296 | AV16: 314 | AW16: 340
A17: 43717.856 | B17: Иногда | C17: Редко | D17: Иногда | E17: Часто | F17: Практически никогда | G17: Иногда | H17: Практически никогда | I17: Иногда | J17: Редко | K17: Часто | L17: Я вполне продуктивно продвигаюсь к своим долгосрочным целям. Завалы если и случаются, то не часто | M17: Я вполне продуктивно продвигаюсь к своим долгосрочным целям. Завалы если и случаются, то не часто | N17: 4 | O17: 324 | P17: 35 | R17: 24 | S17: 0 | T17: Mozilla/5.0 (iPhone; CPU iPhone OS 13_1 like Mac OS X) AppleWebKit/605.1.15 (KHTML, like Gecko) Mobile/15E148 [FBAN/FBIOS;FBDV/iPhone10,6;FBMD/iPhone;FBSN/iOS;FBSV/13.1;FBSS/3;FBID/phone;FBLC/en_US;FBOP/5;FBCR/Beeline] | U17: =COUNTIF(Z17:BT17,">"&(O17+P17)) -> 2 | V17: =COUNTIF(Z17:BT17,">"&(O17+2*P17)) -> 1 | W17: =COUNTIF(Z17:BT17,">"&(O17+3*P17)) -> 1 | X17: =COUNTIF(Z17:BT17,">"&(O17+4*P17)) -> 1 | Y17: =COUNTIF(Z17:BT17,">"&(O17+6*P17)) -> 1 | Z17: 682 | AA17: 308 | AB17: 324 | AC17: 294 | AD17: 343 | AE17: 288 | AF17: 318 | AG17: 298 | AH17: 300 | AI17: 258 | AJ17: 302 | AK17: 303 | AL17: 362 | AM17: 301 | AN17: 286 | AO17: 319 | AP17: 308 | AQ17: 284 | AR17: 341 | AS17: 311 | AT17: 315 | AU17: 305 | AV17: 319 | AW17: 309
A18: 43717.856 | B18: Практически никогда | C18: Практически никогда | D18: Иногда | E18: Практичеки всегда | F18: Практически никогда | G18: Иногда | H18: Редко | I18: Редко | J18: Редко | K18: Практичеки всегда | L18: Я вполне продуктивно продвигаюсь к своим долгосрочным целям. Завалы если и случаются, то не часто | M18: Я вполне продуктивно продвигаюсь к своим долгосрочным целям. Завалы если и случаются, то не часто | N18: 6 | O18: 372 | P18: 93 | R18: 27 | S18: 0 | T18: Mozilla/5.0 (Windows NT 10.0; Win64; x64) AppleWebKit/537.36 (KHTML, like Gecko) Chrome/76.0.3809.132 Safari/537.36 | U18: =COUNTIF(Z18:BT18,">"&(O18+P18)) -> 5 | V18: =COUNTIF(Z18:BT18,">"&(O18+2*P18)) -> 2 | W18: =COUNTIF(Z18:BT18,">"&(O18+3*P18)) -> 1 | X18: =COUNTIF(Z18:BT18,">"&(O18+4*P18)) -> 1 | Y18: =COUNTIF(Z18:BT18,">"&(O18+6*P18)) -> 0 | Z18: 833 | AA18: 549 | AB18: 390 | AC18: 315 | AD18: 355 | AE18: 276 | AF18: 414 | AG18: 278 | AH18: 395 | AI18: 253 | AJ18: 269 | AK18: 248 | AL18: 427 | AM18: 264 | AN18: 574 | AO18: 263 | AP18: 403 | AQ18: 250 | AR18: 310 | AS18: 249 | AT18: 374 | AU18: 384 | AV18: 481 | AW18: 371 | AX18: 471 | AY18: 405 | AZ18: 248
A19: 43717.856 | B19: Иногда | C19: Часто | D19: Редко | E19: Редко | F19: Часто | G19: Редко | H19: Практически никогда | I19: Иногда | J19: Редко | K19: Практичеки всегда | L19: Я вполне продуктивно продвигаюсь к своим долгосрочным целям. Завалы если и случаются, то не часто | M19: Я вполне продуктивно продвигаюсь к своим долгосрочным целям. Завалы если и случаются, то не часто | N19: 6 | O19: 466 | P19: 106 | R19: 25 | S19: 1 | T19: Mozilla/5.0 (Windows NT 10.0; Win64; x64) AppleWebKit/537.36 (KHTML, like Gecko) Chrome/76.0.3809.132 Safari/537.36 | U19: =COUNTIF(Z19:BT19,">"&(O19+P19)) -> 3 | V19: =COUNTIF(Z19:BT19,">"&(O19+2*P19)) -> 3 | W19: =COUNTIF(Z19:BT19,">"&(O19+3*P19)) -> 2 | X19: =COUNTIF(Z19:BT19,">"&(O19+4*P19)) -> 1 | Y19: =COUNTIF(Z19:BT19,">"&(O19+6*P19)) -> 1 | Z19: 1117 | AA19: 412 | AB19: 403 | AC19: 381 | AD19: 473 | AE19: 368 | AF19: 391 | AG19: 387 | AH19: 406 | AI19: 413 | AJ19: 827 | AK19: 404 | AL19: 381 | AM19: 419 | AN19: 405 | AO19: 385 | AP19: 398 | AQ19: 726 | AR19: 404 | AS19: 518 | AT19: 415 | AU19: 459 | AV19: 389 | AW19: 376 | AX19: 411
A20: 43717.856 | B20: Редко | C20: Иногда | D20: Часто | E20: Часто | F20: Редко | G20: Часто | H20: Редко | I20: Иногда | J20: Иногда | K20: Иногда | L20: Я успеваю разобраться с необходимой текучкой, и даже изредка могу посвящать силы долгосрочным планам | M20: Я вполне продуктивно продвигаюсь к своим долгосрочным целям. Завалы если и случаются, то не часто | N20: 3 | O20: 331 | P20: 50 | R20: 24 | S20: 0 | T20: Mozilla/5.0 (iPhone; CPU iPhone OS 12_4_1 like Mac OS X) AppleWebKit/605.1.15 (KHTML, like Gecko) Version/12.1.2 Mobile/15E148 Safari/604.1 | U20: =COUNTIF(Z20:BT20,">"&(O20+P20)) -> 3 | V20: =COUNTIF(Z20:BT20,">"&(O20+2*P20)) -> 1 | W20: =COUNTIF(Z20:BT20,">"&(O20+3*P20)) -> 1 | X20: =COUNTIF(Z20:BT20,">"&(O20+4*P20)) -> 1 | Y20: =COUNTIF(Z20:BT20,">"&(O20+6*P20)) -> 1 | Z20: 708 | AA20: 409 | AB20: 375 | AC20: 360 | AD20: 275 | AE20: 332 | AF20: 337 | AG20: 285 | AH20: 399 | AI20: 293 | AJ20: 296 | AK20: 314 | AL20: 319 | AM20: 275 | AN20: 330 | AO20: 308 | AP20: 313 | AQ20: 311 | AR20: 300 | AS20: 299 | AT20: 265 | AU20: 312 | AV20: 280 | AW20: 250
A21: 43717.857 | B21: Часто | C21: Иногда | D21: Иногда | E21: Часто | F21: Иногда | G21: Редко | H21: Редко | I21: Редко | J21: Редко | K21: Часто | L21: Я успеваю разобраться с необходимой текучкой, и даже изредка могу посвящать силы долгосрочным планам | M21: Я успеваю разобраться с необходимой текучкой, и даже изредка могу посвящать силы долгосрочным планам | N21: 2 | O21: 365 | P21: 38 | R21: 26 | S21: 3 | T21: Mozilla/5.0 (Linux; Android 9; MI 6 Build/PKQ1.190118.001; wv) AppleWebKit/537.36 (KHTML, like Gecko) Version/4.0 Chrome/76.0.3809.132 Mobile Safari/537.36 [FB_IAB/FB4A;FBAV/237.0.0.44.120;] | U21: =COUNTIF(Z21:BT21,">"&(O21+P21)) -> 3 | V21: =COUNTIF(Z21:BT21,">"&(O21+2*P21)) -> 2 | W21: =COUNTIF(Z21:BT21,">"&(O21+3*P21)) -> 2 | X21: =COUNTIF(Z21:BT21,">"&(O21+4*P21)) -> 2 | Y21: =COUNTIF(Z21:BT21,">"&(O21+6*P21)) -> 0 | Z21: 526 | AA21: 574 | AB21: 371 | AC21: 340 | AD21: 319 | AE21: 376 | AF21: 361 | AG21: 319 | AH21: 313 | AI21: 361 | AJ21: 388 | AK21: 325 | AL21: 395 | AM21: 356 | AN21: 352 | AO21: 370 | AP21: 348 | AQ21: 336 | AR21: 337 | AS21: 349 | AT21: 319 | AU21: 370 | AV21: 339 | AW21: 424 | AX21: 323 | AY21: 311
A22: 43717.857 | B22: Иногда | C22: Иногда | D22: Редко | E22: Часто | F22: Практически никогда | G22: Практически никогда | H22: Практически никогда | I22: Практически никогда | J22: Редко | K22: Часто | L22: Я успеваю разобраться с необходимой текучкой, и даже изредка могу посвящать силы долгосрочным планам | M22: Я вполне продуктивно продвигаюсь к своим долгосрочным целям. Завалы если и случаются, то не часто | N22: 5 | O22: 349 | P22: 52 | R22: 24 | S22: 2 | T22: Mozilla/5.0 (iPhone; CPU iPhone OS 12_3_1 like Mac OS X) AppleWebKit/605.1.15 (KHTML, like Gecko) Version/12.1.1 Mobile/15E148 Safari/604.1 | U22: =COUNTIF(Z22:BT22,">"&(O22+P22)) -> 3 | V22: =COUNTIF(Z22:BT22,">"&(O22+2*P22)) -> 2 | W22: =COUNTIF(Z22:BT22,">"&(O22+3*P22)) -> 2 | X22: =COUNTIF(Z22:BT22,">"&(O22+4*P22)) -> 2 | Y22: =COUNTIF(Z22:BT22,">"&(O22+6*P22)) -> 0 | Z22: 585 | AA22: 345 | AB22: 298 | AC22: 616 | AD22: 363 | AE22: 314 | AF22: 325 | AG22: 332 | AH22: 332 | AI22: 331 | AJ22: 296 | AK22: 283 | AL22: 298 | AM22: 281 | AN22: 320 | AO22: 326 | AP22: 347 | AQ22: 299 | AR22: 346 | AS22: 321 | AT22: 445 | AU22: 316 | AV22: 364 | AW22: 300
A23: 43717.858 | B23: Редко | C23: Редко | D23: Часто | E23: Практичеки всегда | F23: Иногда | G23: Часто | H23: Иногда | I23: Часто | J23: Иногда | K23: Часто | L23: Я успеваю разобраться с необходимой текучкой, и даже изредка могу посвящать силы долгосрочным планам | M23: Я успеваю разобраться с необходимой текучкой, и даже изредка могу посвящать силы долгосрочным планам | N23: 3 | O23: 190 | P23: 109 | R23: 19 | S23: 471 | T23: Mozilla/5.0 (Linux; Android 9; MI 6 Build/PKQ1.190118.001; wv) AppleWebKit/537.36 (KHTML, like Gecko) Version/4.0 Chrome/76.0.3809.132 Mobile Safari/537.36 [FB_IAB/FB4A;FBAV/237.0.0.44.120;] | U23: =COUNTIF(Z23:BT23,">"&(O23+P23)) -> 6 | V23: =COUNTIF(Z23:BT23,">"&(O23+2*P23)) -> 1 | W23: =COUNTIF(Z23:BT23,">"&(O23+3*P23)) -> 0 | X23: =COUNTIF(Z23:BT23,">"&(O23+4*P23)) -> 0 | Y23: =COUNTIF(Z23:BT23,">"&(O23+6*P23)) -> 0 | Z23: 441 | AA23: 373 | AB23: 327 | AC23: 336 | AD23: 339 | AE23: 346 | AF23: 87 | AG23: 84 | AH23: 92 | AI23: 112 | AJ23: 84 | AK23: 161 | AL23: 86 | AM23: 218 | AN23: 80 | AO23: 118 | AP23: 115 | AQ23: 126 | AR23: 100
A24: 43717.859 | B24: Часто | C24: Часто | D24: Иногда | E24: Практически никогда | F24: Часто | G24: Часто | H24: Иногда | I24: Часто | J24: Часто | K24: Иногда | L24: Я успеваю разобраться с необходимой текучкой, и даже изредка могу посвящать силы долгосрочным планам | M24: Я успеваю разобраться с необходимой текучкой, и даже изредка могу посвящать силы долгосрочным планам | N24: 2 | O24: 382 | P24: 54 | R24: 22 | S24: 0 | T24: Mozilla/5.0 (Linux; Android 9; Mi A2 Lite Build/PKQ1.180917.001; wv) AppleWebKit/537.36 (KHTML, like Gecko) Version/4.0 Chrome/76.0.3809.89 Mobile Safari/537.36 [FB_IAB/FB4A;FBAV/233.0.0.36.117;] | U24: =COUNTIF(Z24:BT24,">"&(O24+P24)) -> 4 | V24: =COUNTIF(Z24:BT24,">"&(O24+2*P24)) -> 2 | W24: =COUNTIF(Z24:BT24,">"&(O24+3*P24)) -> 1 | X24: =COUNTIF(Z24:BT24,">"&(O24+4*P24)) -> 1 | Y24: =COUNTIF(Z24:BT24,">"&(O24+6*P24)) -> 0 | Z24: 666 | AA24: 461 | AB24: 301 | AC24: 345 | AD24: 374 | AE24: 338 | AF24: 327 | AG24: 352 | AH24: 356 | AI24: 345 | AJ24: 508 | AK24: 346 | AL24: 369 | AM24: 333 | AN24: 388 | AO24: 441 | AP24: 326 | AQ24: 431 | AR24: 348 | AS24: 368 | AT24: 378 | AU24: 323
A25: 43717.859 | B25: Практичеки всегда | C25: Практичеки всегда | D25: Практичеки всегда | E25: Иногда | F25: Часто | G25: Практичеки всегда | H25: Часто | I25: Часто | J25: Практичеки всегда | K25: Редко | L25: Я едва-едва успеваю выполнить необходимую текучку, но на долгосрочные планы не остается сил | M25: Я не успеваю выполнять даже необходимый минимум | N25: 3 | O25: 426 | P25: 85 | R25: 24 | S25: 0 | T25: Mozilla/5.0 (iPhone; CPU iPhone OS 12_4_1 like Mac OS X) AppleWebKit/605.1.15 (KHTML, like Gecko) Mobile/15E148 [FBAN/FBIOS;FBDV/iPhone9,1;FBMD/iPhone;FBSN/iOS;FBSV/12.4.1;FBSS/2;FBID/phone;FBLC/ru_RU;FBOP/5;FBCR/Vodafone UA] | U25: =COUNTIF(Z25:BT25,">"&(O25+P25)) -> 5 | V25: =COUNTIF(Z25:BT25,">"&(O25+2*P25)) -> 3 | W25: =COUNTIF(Z25:BT25,">"&(O25+3*P25)) -> 1 | X25: =COUNTIF(Z25:BT25,">"&(O25+4*P25)) -> 1 | Y25: =COUNTIF(Z25:BT25,">"&(O25+6*P25)) -> 0 | Z25: 860 | AA25: 610 | AB25: 532 | AC25: 554 | AD25: 394 | AE25: 428 | AF25: 429 | AG25: 367 | AH25: 364 | AI25: 419 | AJ25: 377 | AK25: 419 | AL25: 379 | AM25: 365 | AN25: 327 | AO25: 318 | AP25: 598 | AQ25: 368 | AR25: 367 | AS25: 361 | AT25: 318 | AU25: 316 | AV25: 377 | AW25: 380
A26: 43717.86 | B26: Практически никогда | C26: Практически никогда | D26: Практически никогда | E26: Практически никогда | F26: Практически никогда | G26: Практически никогда | H26: Практически никогда | I26: Практически никогда | J26: Практически никогда | K26: Практически никогда | L26: Я едва-едва успеваю выполнить необходимую текучку, но на долгосрочные планы не остается сил | M26: Я едва-едва успеваю выполнить необходимую текучку, но на долгосрочные планы не остается сил | N26: 1 | O26: 442 | P26: 63 | R26: 25 | S26: 1 | T26: Mozilla/5.0 (iPhone; CPU iPhone OS 12_4_1 like Mac OS X) AppleWebKit/605.1.15 (KHTML, like Gecko) Mobile/15E148 [FBAN/FBIOS;FBDV/iPhone6,2;FBMD/iPhone;FBSN/iOS;FBSV/12.4.1;FBSS/2;FBID/phone;FBLC/ru_RU;FBOP/5;FBCR/Mobile TeleSystems] | U26: =COUNTIF(Z26:BT26,">"&(O26+P26)) -> 4 | V26: =COUNTIF(Z26:BT26,">"&(O26+2*P26)) -> 3 | W26: =COUNTIF(Z26:BT26,">"&(O26+3*P26)) -> 1 | X26: =COUNTIF(Z26:BT26,">"&(O26+4*P26)) -> 1 | Y26: =COUNTIF(Z26:BT26,">"&(O26+6*P26)) -> 0 | Z26: 783 | AA26: 571 | AB26: 472 | AC26: 421 | AD26: 442 | AE26: 436 | AF26: 370 | AG26: 352 | AH26: 435 | AI26: 377 | AJ26: 421 | AK26: 394 | AL26: 420 | AM26: 414 | AN26: 443 | AO26: 480 | AP26: 314 | AQ26: 600 | AR26: 421 | AS26: 544 | AT26: 420 | AU26: 376 | AV26: 421 | AW26: 376 | AX26: 364
A27: 43717.86 | B27: Часто | C27: Иногда | D27: Иногда | E27: Иногда | F27: Часто | G27: Практичеки всегда | H27: Часто | I27: Часто | J27: Часто | K27: Часто | L27: Я успеваю разобраться с необходимой текучкой, и даже изредка могу посвящать силы долгосрочным планам | M27: Я успеваю разобраться с необходимой текучкой, и даже изредка могу посвящать силы долгосрочным планам | N27: 2 | O27: 342 | P27: 59 | R27: 23 | S27: 2 | T27: Mozilla/5.0 (iPhone; CPU iPhone OS 12_4_1 like Mac OS X) AppleWebKit/605.1.15 (KHTML, like Gecko) Mobile/15E148 [FBAN/FBIOS;FBDV/iPhone9,4;FBMD/iPhone;FBSN/iOS;FBSV/12.4.1;FBSS/3;FBID/phone;FBLC/ru_RU;FBOP/5;FBCR/Mobile TeleSystems] | U27: =COUNTIF(Z27:BT27,">"&(O27+P27)) -> 2 | V27: =COUNTIF(Z27:BT27,">"&(O27+2*P27)) -> 2 | W27: =COUNTIF(Z27:BT27,">"&(O27+3*P27)) -> 1 | X27: =COUNTIF(Z27:BT27,">"&(O27+4*P27)) -> 1 | Y27: =COUNTIF(Z27:BT27,">"&(O27+6*P27)) -> 1 | Z27: 781 | AA27: 467 | AB27: 305 | AC27: 329 | AD27: 300 | AE27: 330 | AF27: 336 | AG27: 282 | AH27: 242 | AI27: 291 | AJ27: 367 | AK27: 316 | AL27: 323 | AM27: 383 | AN27: 280 | AO27: 321 | AP27: 298 | AQ27: 280 | AR27: 328 | AS27: 301 | AT27: 320 | AU27: 395 | AV27: 301
A28: 43717.861 | B28: Часто | C28: Иногда | D28: Часто | E28: Редко | F28: Редко | G28: Часто | H28: Иногда | I28: Часто | J28: Часто | K28: Иногда | L28: Я едва-едва успеваю выполнить необходимую текучку, но на долгосрочные планы не остается сил | M28: Я едва-едва успеваю выполнить необходимую текучку, но на долгосрочные планы не остается сил | N28: 3 | O28: 427 | P28: 97 | R28: 25 | S28: 0 | T28: Mozilla/5.0 (Windows NT 6.1; Win64; x64) AppleWebKit/537.36 (KHTML, like Gecko) Chrome/76.0.3809.132 Safari/537.36 | U28: =COUNTIF(Z28:BT28,">"&(O28+P28)) -> 5 | V28: =COUNTIF(Z28:BT28,">"&(O28+2*P28)) -> 1 | W28: =COUNTIF(Z28:BT28,">"&(O28+3*P28)) -> 1 | X28: =COUNTIF(Z28:BT28,">"&(O28+4*P28)) -> 1 | Y28: =COUNTIF(Z28:BT28,">"&(O28+6*P28)) -> 0 | Z28: 909 | AA28: 581 | AB28: 470 | AC28: 398 | AD28: 326 | AE28: 343 | AF28: 550 | AG28: 352 | AH28: 412 | AI28: 445 | AJ28: 328 | AK28: 423 | AL28: 362 | AM28: 326 | AN28: 437 | AO28: 517 | AP28: 567 | AQ28: 309 | AR28: 392 | AS28: 383 | AT28: 589 | AU28: 278 | AV28: 296 | AW28: 398 | AX28: 295
A29: 43717.861 | B29: Часто | C29: Редко | D29: Иногда | E29: Иногда | F29: Иногда | G29: Иногда | H29: Иногда | I29: Редко | J29: Редко | K29: Часто | L29: Я успеваю разобраться с необходимой текучкой, и даже изредка могу посвящать силы долгосрочным планам | M29: Я успеваю разобраться с необходимой текучкой, и даже изредка могу посвящать силы долгосрочным планам | N29: 5 | O29: 312 | P29: 120 | R29: 21 | S29: 267 | T29: Mozilla/5.0 (iPhone; CPU iPhone OS 12_2 like Mac OS X) AppleWebKit/605.1.15 (KHTML, like Gecko) Mobile/15E148 [FBAN/FBIOS;FBDV/iPhone10,1;FBMD/iPhone;FBSN/iOS;FBSV/12.2;FBSS/2;FBCR/MegaFon;FBID/phone;FBLC/ru_RU;FBOP/5] | U29: =COUNTIF(Z29:BT29,">"&(O29+P29)) -> 2 | V29: =COUNTIF(Z29:BT29,">"&(O29+2*P29)) -> 2 | W29: =COUNTIF(Z29:BT29,">"&(O29+3*P29)) -> 0 | X29: =COUNTIF(Z29:BT29,">"&(O29+4*P29)) -> 0 | Y29: =COUNTIF(Z29:BT29,">"&(O29+6*P29)) -> 0 | Z29: 660 | AA29: 612 | AB29: 416 | AC29: 314 | AD29: 431 | AE29: 315 | AF29: 365 | AG29: 382 | AH29: 349 | AI29: 394 | AJ29: 349 | AK29: 350 | AL29: 315 | AM29: 383 | AN29: 130 | AO29: 181 | AP29: 130 | AQ29: 132 | AR29: 148 | AS29: 115 | AT29: 83
A30: 43717.861 | B30: Иногда | C30: Редко | D30: Иногда | E30: Часто | F30: Редко | G30: Иногда | H30: Практически никогда | I30: Редко | J30: Редко | K30: Практичеки всегда | L30: Я вполне продуктивно продвигаюсь к своим долгосрочным целям. Завалы если и случаются, то не часто | M30: Я вполне продуктивно продвигаюсь к своим долгосрочным целям. Завалы если и случаются, то не часто | N30: 7 | O30: 345 | P30: 65 | R30: 25 | S30: 0 | T30: Mozilla/5.0 (Windows NT 10.0; Win64; x64) AppleWebKit/537.36 (KHTML, like Gecko) Chrome/76.0.3809.132 Safari/537.36 | U30: =COUNTIF(Z30:BT30,">"&(O30+P30)) -> 4 | V30: =COUNTIF(Z30:BT30,">"&(O30+2*P30)) -> 2 | W30: =COUNTIF(Z30:BT30,">"&(O30+3*P30)) -> 2 | X30: =COUNTIF(Z30:BT30,">"&(O30+4*P30)) -> 1 | Y30: =COUNTIF(Z30:BT30,">"&(O30+6*P30)) -> 0 | Z30: 638 | AA30: 380 | AB30: 361 | AC30: 344 | AD30: 558 | AE30: 273 | AF30: 321 | AG30: 274 | AH30: 265 | AI30: 278 | AJ30: 235 | AK30: 323 | AL30: 296 | AM30: 394 | AN30: 305 | AO30: 341 | AP30: 323 | AQ30: 443 | AR30: 258 | AS30: 339 | AT30: 279 | AU30: 282 | AV30: 328 | AW30: 351 | AX30: 456
A31: 43717.862 | B31: Практичеки всегда | C31: Редко | D31: Практичеки всегда | E31: Иногда | F31: Практичеки всегда | G31: Практичеки всегда | H31: Часто | I31: Практичеки всегда | J31: Практичеки всегда | K31: Практичеки всегда | L31: Я едва-едва успеваю выполнить необходимую текучку, но на долгосрочные планы не остается сил | M31: Я едва-едва успеваю выполнить необходимую текучку, но на долгосрочные планы не остается сил | N31: 1 | O31: 402 | P31: 100 | R31: 25 | S31: 1 | T31: Mozilla/5.0 (iPhone; CPU iPhone OS 12_4 like Mac OS X) AppleWebKit/605.1.15 (KHTML, like Gecko) Mobile/15E148 [FBAN/FBIOS;FBDV/iPhone7,2;FBMD/iPhone;FBSN/iOS;FBSV/12.4;FBSS/2;FBCR/Tele2;FBID/phone;FBLC/ru_RU;FBOP/5] | U31: =COUNTIF(Z31:BT31,">"&(O31+P31)) -> 2 | V31: =COUNTIF(Z31:BT31,">"&(O31+2*P31)) -> 2 | W31: =COUNTIF(Z31:BT31,">"&(O31+3*P31)) -> 2 | X31: =COUNTIF(Z31:BT31,">"&(O31+4*P31)) -> 1 | Y31: =COUNTIF(Z31:BT31,">"&(O31+6*P31)) -> 1 | Z31: 1095 | AA31: 750 | AB31: 465 | AC31: 300 | AD31: 404 | AE31: 433 | AF31: 376 | AG31: 383 | AH31: 416 | AI31: 465 | AJ31: 385 | AK31: 451 | AL31: 300 | AM31: 317 | AN31: 336 | AO31: 379 | AP31: 317 | AQ31: 347 | AR31: 255 | AS31: 317 | AT31: 301 | AU31: 333 | AV31: 297 | AW31: 316 | AX31: 336
A32: 43717.862 | B32: Часто | C32: Иногда | D32: Редко | E32: Часто | F32: Иногда | G32: Иногда | H32: Иногда | I32: Редко | J32: Часто | K32: Часто | L32: Я вполне продуктивно продвигаюсь к своим долгосрочным целям. Завалы если и случаются, то не часто | M32: Я успеваю разобраться с необходимой текучкой, и даже изредка могу посвящать силы долгосрочным планам | N32: 4 | O32: 478 | P32: 162 | R32: 26 | S32: 1 | T32: Mozilla/5.0 (Linux; Android 8.1.0; Redmi 6 Build/O11019; wv) AppleWebKit/537.36 (KHTML, like Gecko) Version/4.0 Chrome/76.0.3809.132 Mobile Safari/537.36 [FB_IAB/FB4A;FBAV/237.0.0.44.120;] | U32: =COUNTIF(Z32:BT32,">"&(O32+P32)) -> 2 | V32: =COUNTIF(Z32:BT32,">"&(O32+2*P32)) -> 2 | W32: =COUNTIF(Z32:BT32,">"&(O32+3*P32)) -> 2 | X32: =COUNTIF(Z32:BT32,">"&(O32+4*P32)) -> 2 | Y32: =COUNTIF(Z32:BT32,">"&(O32+6*P32)) -> 1 | Z32: 1626 | AA32: 355 | AB32: 398 | AC32: 380 | AD32: 331 | AE32: 396 | AF32: 463 | AG32: 400 | AH32: 514 | AI32: 314 | AJ32: 419 | AK32: 391 | AL32: 1361 | AM32: 410 | AN32: 366 | AO32: 514 | AP32: 491 | AQ32: 386 | AR32: 367 | AS32: 376 | AT32: 364 | AU32: 330 | AV32: 364 | AW32: 386 | AX32: 368 | AY32: 365
A33: 43717.862 | B33: Редко | C33: Иногда | D33: Часто | E33: Иногда | F33: Редко | G33: Практичеки всегда | H33: Иногда | I33: Редко | J33: Редко | K33: Практичеки всегда | L33: Я едва-едва успеваю выполнить необходимую текучку, но на долгосрочные планы не остается сил | M33: Я успеваю разобраться с необходимой текучкой, и даже изредка могу посвящать силы долгосрочным планам | N33: 4 | O33: 471 | P33: 188 | R33: 30 | S33: 4 | T33: Mozilla/5.0 (iPhone; CPU iPhone OS 12_4 like Mac OS X) AppleWebKit/605.1.15 (KHTML, like Gecko) Mobile/15E148 [FBAN/FBIOS;FBDV/iPhone9,3;FBMD/iPhone;FBSN/iOS;FBSV/12.4;FBSS/2;FBID/phone;FBLC/en_GB;FBOP/5;FBCR/MegaFon] | U33: =COUNTIF(Z33:BT33,">"&(O33+P33)) -> 5 | V33: =COUNTIF(Z33:BT33,">"&(O33+2*P33)) -> 2 | W33: =COUNTIF(Z33:BT33,">"&(O33+3*P33)) -> 1 | X33: =COUNTIF(Z33:BT33,">"&(O33+4*P33)) -> 1 | Y33: =COUNTIF(Z33:BT33,">"&(O33+6*P33)) -> 1 | Z33: 692 | AA33: 394 | AB33: 546 | AC33: 330 | AD33: 385 | AE33: 329 | AF33: 322 | AG33: 355 | AH33: 294 | AI33: 300 | AJ33: 301 | AK33: 415 | AL33: 304 | AM33: 310 | AN33: 959 | AO33: 430 | AP33: 725 | AQ33: 417 | AR33: 357 | AS33: 348 | AT33: 762 | AU33: 1973 | AV33: 324 | AW33: 402 | AX33: 349 | AY33: 348 | AZ33: 479 | BA33: 332 | BB33: 322 | BC33: 350
A34: 43717.864 | B34: Иногда | C34: Редко | D34: Редко | E34: Часто | F34: Иногда | G34: Редко | H34: Редко | I34: Редко | J34: Редко | K34: Часто | L34: Я вполне продуктивно продвигаюсь к своим долгосрочным целям. Завалы если и случаются, то не часто | M34: Я успеваю разобраться с необходимой текучкой, и даже изредка могу посвящать силы долгосрочным планам | N34: 5 | O34: 343 | P34: 47 | R34: 28 | S34: 0 | T34: Mozilla/5.0 (iPhone; CPU iPhone OS 12_2 like Mac OS X) AppleWebKit/605.1.15 (KHTML, like Gecko) Mobile/15E148 [FBAN/FBIOS;FBDV/iPhone10,1;FBMD/iPhone;FBSN/iOS;FBSV/12.2;FBSS/2;FBCR/MegaFon;FBID/phone;FBLC/ru_RU;FBOP/5] | U34: =COUNTIF(Z34:BT34,">"&(O34+P34)) -> 3 | V34: =COUNTIF(Z34:BT34,">"&(O34+2*P34)) -> 2 | W34: =COUNTIF(Z34:BT34,">"&(O34+3*P34)) -> 2 | X34: =COUNTIF(Z34:BT34,">"&(O34+4*P34)) -> 2 | Y34: =COUNTIF(Z34:BT34,">"&(O34+6*P34)) -> 0 | Z34: 306 | AA34: 314 | AB34: 297 | AC34: 299 | AD34: 282 | AE34: 301 | AF34: 314 | AG34: 363 | AH34: 351 | AI34: 329 | AJ34: 333 | AK34: 330 | AL34: 350 | AM34: 596 | AN34: 335 | AO34: 431 | AP34: 346 | AQ34: 301 | AR34: 296 | AS34: 381 | AT34: 366 | AU34: 299 | AV34: 312 | AW34: 381 | AX34: 532 | AY34: 315 | AZ34: 301 | BA34: 263
A35: 43717.865 | B35: Иногда | C35: Иногда | D35: Иногда | E35: Иногда | F35: Иногда | G35: Часто | H35: Иногда | I35: Иногда | J35: Иногда | K35: Иногда | L35: Я успеваю разобраться с необходимой текучкой, и даже изредка могу посвящать силы долгосрочным планам | M35: Я успеваю разобраться с необходимой текучкой, и даже изредка могу посвящать силы долгосрочным планам | N35: 6 | O35: 460 | P35: 147 | R35: 22 | S35: 0 | T35: Mozilla/5.0 (Windows NT 6.1; Win64; x64) AppleWebKit/537.36 (KHTML, like Gecko) Chrome/76.0.3809.132 Safari/537.36 | U35: =COUNTIF(Z35:BT35,">"&(O35+P35)) -> 2 | V35: =COUNTIF(Z35:BT35,">"&(O35+2*P35)) -> 2 | W35: =COUNTIF(Z35:BT35,">"&(O35+3*P35)) -> 2 | X35: =COUNTIF(Z35:BT35,">"&(O35+4*P35)) -> 2 | Y35: =COUNTIF(Z35:BT35,">"&(O35+6*P35)) -> 0 | Z35: 594 | AA35: 520 | AB35: 432 | AC35: 451 | AD35: 469 | AE35: 1191 | AF35: 488 | AG35: 1119 | AH35: 332 | AI35: 354 | AJ35: 335 | AK35: 325 | AL35: 303 | AM35: 323 | AN35: 367 | AO35: 309 | AP35: 374 | AQ35: 333 | AR35: 347 | AS35: 402 | AT35: 450 | AU35: 308
A36: 43717.865 | B36: Часто | C36: Иногда | D36: Часто | E36: Часто | F36: Редко | G36: Часто | H36: Редко | I36: Иногда | J36: Редко | K36: Иногда | L36: Я успеваю разобраться с необходимой текучкой, и даже изредка могу посвящать силы долгосрочным планам | M36: Я успеваю разобраться с необходимой текучкой, и даже изредка могу посвящать силы долгосрочным планам | N36: 3 | O36: 486 | P36: 116 | R36: 23 | S36: 1 | T36: Mozilla/5.0 (Linux; Android 6.0.1; Redmi 4 Build/MMB29M; wv) AppleWebKit/537.36 (KHTML, like Gecko) Version/4.0 Chrome/76.0.3809.132 Mobile Safari/537.36 [FB_IAB/FB4A;FBAV/237.0.0.44.120;] | U36: =COUNTIF(Z36:BT36,">"&(O36+P36)) -> 3 | V36: =COUNTIF(Z36:BT36,">"&(O36+2*P36)) -> 1 | W36: =COUNTIF(Z36:BT36,">"&(O36+3*P36)) -> 1 | X36: =COUNTIF(Z36:BT36,">"&(O36+4*P36)) -> 1 | Y36: =COUNTIF(Z36:BT36,">"&(O36+6*P36)) -> 1 | Z36: 656 | AA36: 698 | AB36: 361 | AC36: 436 | AD36: 453 | AE36: 430 | AF36: 435 | AG36: 420 | AH36: 1236 | AI36: 377 | AJ36: 466 | AK36: 358 | AL36: 559 | AM36: 561 | AN36: 399 | AO36: 386 | AP36: 543 | AQ36: 436 | AR36: 352 | AS36: 416 | AT36: 446 | AU36: 370 | AV36: 387
A37: 43717.866 | B37: Практичеки всегда | C37: Часто | D37: Часто | E37: Иногда | F37: Иногда | G37: Иногда | H37: Иногда | I37: Часто | J37: Часто | K37: Редко | L37: Я успеваю разобраться с необходимой текучкой, и даже изредка могу посвящать силы долгосрочным планам | M37: Я вполне продуктивно продвигаюсь к своим долгосрочным целям. Завалы если и случаются, то не часто | N37: 1 | O37: 402 | P37: 169 | R37: 24 | S37: 1 | T37: Mozilla/5.0 (iPhone; CPU iPhone OS 12_4 like Mac OS X) AppleWebKit/605.1.15 (KHTML, like Gecko) Mobile/15E148 [FBAN/FBIOS;FBDV/iPhone9,3;FBMD/iPhone;FBSN/iOS;FBSV/12.4;FBSS/2;FBID/phone;FBLC/en_US;FBOP/5;FBCR/lifecell] | U37: =COUNTIF(Z37:BT37,">"&(O37+P37)) -> 3 | V37: =COUNTIF(Z37:BT37,">"&(O37+2*P37)) -> 1 | W37: =COUNTIF(Z37:BT37,">"&(O37+3*P37)) -> 1 | X37: =COUNTIF(Z37:BT37,">"&(O37+4*P37)) -> 1 | Y37: =COUNTIF(Z37:BT37,">"&(O37+6*P37)) -> 1 | Z37: 1918 | AA37: 663 | AB37: 329 | AC37: 299 | AD37: 285 | AE37: 274 | AF37: 289 | AG37: 447 | AH37: 265 | AI37: 267 | AJ37: 347 | AK37: 267 | AL37: 396 | AM37: 329 | AN37: 616 | AO37: 313 | AP37: 274 | AQ37: 321 | AR37: 333 | AS37: 281 | AT37: 297 | AU37: 299 | AV37: 299 | AW37: 259
A38: 43717.866 | B38: Иногда | C38: Редко | D38: Иногда | E38: Часто | F38: Иногда | G38: Часто | H38: Иногда | I38: Редко | J38: Редко | K38: Часто | L38: Я успеваю разобраться с необходимой текучкой, и даже изредка могу посвящать силы долгосрочным планам | M38: Я едва-едва успеваю выполнить необходимую текучку, но на долгосрочные планы не остается сил | N38: 3 | O38: 429 | P38: 89 | R38: 24 | S38: 5 | T38: Mozilla/5.0 (Linux; Android 6.0.1; MI 5s Build/MXB48T; wv) AppleWebKit/537.36 (KHTML, like Gecko) Version/4.0 Chrome/76.0.3809.132 Mobile Safari/537.36 [FB_IAB/FB4A;FBAV/237.0.0.44.120;] | U38: =COUNTIF(Z38:BT38,">"&(O38+P38)) -> 3 | V38: =COUNTIF(Z38:BT38,">"&(O38+2*P38)) -> 1 | W38: =COUNTIF(Z38:BT38,">"&(O38+3*P38)) -> 1 | X38: =COUNTIF(Z38:BT38,">"&(O38+4*P38)) -> 1 | Y38: =COUNTIF(Z38:BT38,">"&(O38+6*P38)) -> 1 | Z38: 1278 | AA38: 368 | AB38: 392 | AC38: 356 | AD38: 335 | AE38: 366 | AF38: 388 | AG38: 385 | AH38: 407 | AI38: 345 | AJ38: 340 | AK38: 539 | AL38: 436 | AM38: 384 | AN38: 406 | AO38: 362 | AP38: 369 | AQ38: 415 | AR38: 382 | AS38: 368 | AT38: 428 | AU38: 536 | AV38: 369 | AW38: 361
A39: 43717.866 | B39: Часто | C39: Иногда | D39: Часто | E39: Редко | F39: Редко | G39: Практичеки всегда | H39: Часто | I39: Практичеки всегда | J39: Часто | K39: Иногда | L39: Я едва-едва успеваю выполнить необходимую текучку, но на долгосрочные планы не остается сил | M39: Я успеваю разобраться с необходимой текучкой, и даже изредка могу посвящать силы долгосрочным планам | N39: 4 | O39: 403 | P39: 82 | R39: 25 | S39: 2 | T39: Mozilla/5.0 (iPhone; CPU iPhone OS 12_3_2 like Mac OS X) AppleWebKit/605.1.15 (KHTML, like Gecko) Version/12.1.1 Mobile/15E148 Safari/604.1 | U39: =COUNTIF(Z39:BT39,">"&(O39+P39)) -> 5 | V39: =COUNTIF(Z39:BT39,">"&(O39+2*P39)) -> 2 | W39: =COUNTIF(Z39:BT39,">"&(O39+3*P39)) -> 0 | X39: =COUNTIF(Z39:BT39,">"&(O39+4*P39)) -> 0 | Y39: =COUNTIF(Z39:BT39,">"&(O39+6*P39)) -> 0 | Z39: 343 | AA39: 364 | AB39: 332 | AC39: 365 | AD39: 315 | AE39: 332 | AF39: 386 | AG39: 345 | AH39: 382 | AI39: 519 | AJ39: 330 | AK39: 349 | AL39: 366 | AM39: 365 | AN39: 480 | AO39: 566 | AP39: 448 | AQ39: 283 | AR39: 647 | AS39: 298 | AT39: 616 | AU39: 567 | AV39: 316 | AW39: 413 | AX39: 348
A40: 43717.867 | B40: Часто | C40: Иногда | D40: Редко | E40: Часто | F40: Иногда | G40: Редко | H40: Иногда | I40: Редко | J40: Иногда | K40: Часто | L40: Я успеваю разобраться с необходимой текучкой, и даже изредка могу посвящать силы долгосрочным планам | M40: Я вполне продуктивно продвигаюсь к своим долгосрочным целям. Завалы если и случаются, то не часто | N40: 4 | O40: 322 | P40: 72 | R40: 26 | S40: 6 | T40: Mozilla/5.0 (iPhone; CPU iPhone OS 12_4 like Mac OS X) AppleWebKit/605.1.15 (KHTML, like Gecko) Mobile/15E148 [FBAN/FBIOS;FBDV/iPhone9,3;FBMD/iPhone;FBSN/iOS;FBSV/12.4;FBSS/2;FBID/phone;FBLC/ru_RU;FBOP/5;FBCR/MegaFon] | U40: =COUNTIF(Z40:BT40,">"&(O40+P40)) -> 2 | V40: =COUNTIF(Z40:BT40,">"&(O40+2*P40)) -> 1 | W40: =COUNTIF(Z40:BT40,">"&(O40+3*P40)) -> 1 | X40: =COUNTIF(Z40:BT40,">"&(O40+4*P40)) -> 1 | Y40: =COUNTIF(Z40:BT40,">"&(O40+6*P40)) -> 1 | Z40: 1032 | AA40: 327 | AB40: 257 | AC40: 261 | AD40: 336 | AE40: 297 | AF40: 419 | AG40: 269 | AH40: 273 | AI40: 350 | AJ40: 277 | AK40: 259 | AL40: 301 | AM40: 250 | AN40: 250 | AO40: 377 | AP40: 264 | AQ40: 365 | AR40: 263 | AS40: 271 | AT40: 278 | AU40: 287 | AV40: 312 | AW40: 285 | AX40: 258 | AY40: 267
...

Sheet Ключи
A1: Практически никогда | B1: 1
A2: Редко | B2: 2
A3: Иногда | B3: 3
A4: Часто | B4: 4
A5: Практичеки всегда | B5: 5
A8: Никогда | B8: 1
A9: Редко | B9: 2
A10: Иногда | B10: 3
A11: Часто | B11: 4
A12: Очень часто | B12: 5
A15: Я не успеваю выполнять даже необходимый минимум | B15: плохо | G15: 1
A16: Я едва-едва успеваю выполнить необходимую текучку, но на долгосрочные планы не остается сил | B16: плохо | G16: 2
A17: Я успеваю разобраться с необходимой текучкой, и даже изредка могу посвящать силы долгосрочным планам | B17: средне | G17: 3
A18: Я вполне продуктивно продвигаюсь к своим долгосрочным целям. Завалы если и случаются, то не часто | B18: хорошо | G18: 4
A19: Все происходит легко и естественно и временами мне кажется, что редко бывает лучше | B19: хорошо | G19: 5
A21: 1 | B21: 1. зомбак
A22: 2 | B22: 1. зомбак
A23: 3 | B23: 1. зомбак
A24: 4 | B24: 2. средняк
A25: 5 | B25: 2. средняк
A26: 6 | B26: 3. бодряк
A27: 7 | B27: 3. бодряк

Sheet Анализ
A1: Уровень усталости
A2: 1. Свеж | B2: =COUNTIF('Рабочий стол'!L:L,Анализ!A2) -> 115
A3: 2. Устал | B3: =COUNTIF('Рабочий стол'!L:L,Анализ!A3) -> 258
A4: 3. Вилы | B4: =COUNTIF('Рабочий стол'!L:L,Анализ!A4) -> 168

Sheet Рабочий стол
A1: В какой степени утверждения ниже характеризуют ваше обычное состояние? [Меня беспокоит усталость] | B1: В какой степени утверждения ниже характеризуют ваше обычное состояние? [Я очень быстро устаю] | C1: В какой степени утверждения ниже характеризуют ваше обычное состояние? [Я успеваю сделать мало дел в течение дня] | D1: В какой степени утверждения ниже характеризуют ваше обычное состояние? [У меня достаточно энергии для повседневной жизни] | E1: В какой степени утверждения ниже характеризуют ваше обычное состояние? [Я чувствую физическое истощение] | F1: В какой степени утверждения ниже характеризуют ваше обычное состояние? [Мне трудно начать что-нибудь делать] | G1: В какой степени утверждения ниже характеризуют ваше обычное состояние? [Мне трудно думать четко и ясно] | H1: В какой степени утверждения ниже характеризуют ваше обычное состояние? [У меня нет никакого желания что-нибудь делать] | I1: В какой степени утверждения ниже характеризуют ваше обычное состояние? [Я чувствую умственное истощение] | J1: В какой степени утверждения ниже характеризуют ваше обычное состояние? [Когда я делаю что-нибудь, я могу довольно хорошо сконцентрироваться] | K1: FAS | L1: Уровень FAS | M1: Что лучше характеризует то, как вы справляетесь с делами в ЛИЧНОЙ жизни? | N1: Что лучше характеризует то, как вы справляетесь с делами по работе? | O1: На сколько свежим и отдохнувшим вы сегодня проснулись? | P1: Сетепень утренней проснутости | Q1: Среднее время в PVT | R1: PVT Диагноз | S1: Среднее отклонение времени в PVT | T1: Сходимость | U1: Степень сходимости | V1: Больше среднего на одно среднее отклонение | W1: Больше среднего на два средних отклонения | X1: Больше среднего на три средних отклонения | Y1: Больше среднего на 4 средних отклонения | Z1: Больше среднего на 6 средних отклонения
A2: =VLOOKUP('Ответы на форму (1)'!B2,FAS_Scale,2,FALSE) -> 4 | B2: =VLOOKUP('Ответы на форму (1)'!C2,FAS_Scale,2,FALSE) -> 3 | C2: =VLOOKUP('Ответы на форму (1)'!D2,FAS_Scale,2,FALSE) -> 3 | D2: =VLOOKUP('Ответы на форму (1)'!E2,FAS_Scale,2,FALSE) -> 5 | E2: =VLOOKUP('Ответы на форму (1)'!F2,FAS_Scale,2,FALSE) -> 3 | F2: =VLOOKUP('Ответы на форму (1)'!G2,FAS_Scale,2,FALSE) -> 2 | G2: =VLOOKUP('Ответы на форму (1)'!H2,FAS_Scale,2,FALSE) -> 3 | H2: =VLOOKUP('Ответы на форму (1)'!I2,FAS_Scale,2,FALSE) -> 3 | ... J2: =VLOOKUP('Ответы на форму (1)'!K2,FAS_Scale,2,FALSE) -> 4 | K2: =A2+B2+C2+(6-D2)+E2+F2+G2+H2+I2+(6-J2) -> 28 | L2: =IF(K2>=33,"3. Вилы",IF(K2>=23,"2. Устал","1. Свеж")) -> 2. Устал | M2: =VLOOKUP('Ответы на форму (1)'!L2,УровниУспевания,2,FALSE) -> хорошо | N2: =VLOOKUP('Ответы на форму (1)'!M2,УровниУспевания,2,FALSE) -> хорошо | O2: ='Ответы на форму (1)'!N2 -> 3 | P2: =VLOOKUP(O2,СтепеньПроснутости,2,FALSE) -> 1. зомбак | Q2: ='Ответы на форму (1)'!O2 -> 587 | R2: =IF(Q2>600,"2. Устал",IF(Q2>350,"2. Устал","1. Свеж")) -> 2. Устал | S2: ='Ответы на форму (1)'!P2 -> 79 | T2: =S2/Q2 -> 0.13458262 | U2: =IF(T2>0.35,"3. Ужас",IF(T2>0.1,"2. Фигово","1. Хорошо")) -> 2. Фигово | V2: ='Ответы на форму (1)'!U2 -> 4 | W2: ='Ответы на форму (1)'!V2 -> 1 | X2: ='Ответы на форму (1)'!W2 -> 1 | Y2: ='Ответы на форму (1)'!X2 -> 0 | Z2: ='Ответы на форму (1)'!Y2 -> 0
A3: =VLOOKUP('Ответы на форму (1)'!B3,FAS_Scale,2,FALSE) -> 3 | B3: =VLOOKUP('Ответы на форму (1)'!C3,FAS_Scale,2,FALSE) -> 2 | C3: =VLOOKUP('Ответы на форму (1)'!D3,FAS_Scale,2,FALSE) -> 2 | D3: =VLOOKUP('Ответы на форму (1)'!E3,FAS_Scale,2,FALSE) -> 3 | E3: =VLOOKUP('Ответы на форму (1)'!F3,FAS_Scale,2,FALSE) -> 3 | F3: =VLOOKUP('Ответы на форму (1)'!G3,FAS_Scale,2,FALSE) -> 2 | G3: =VLOOKUP('Ответы на форму (1)'!H3,FAS_Scale,2,FALSE) -> 2 | H3: =VLOOKUP('Ответы на форму (1)'!I3,FAS_Scale,2,FALSE) -> 1 | ... J3: =VLOOKUP('Ответы на форму (1)'!K3,FAS_Scale,2,FALSE) -> 3 | K3: =A3+B3+C3+(6-D3)+E3+F3+G3+H3+I3+(6-J3) -> 24 | L3: =IF(K3>=33,"3. Вилы",IF(K3>=23,"2. Устал","1. Свеж")) -> 2. Устал | M3: =VLOOKUP('Ответы на форму (1)'!L3,УровниУспевания,2,FALSE) -> средне | N3: =VLOOKUP('Ответы на форму (1)'!M3,УровниУспевания,2,FALSE) -> средне | O3: ='Ответы на форму (1)'!N3 -> 5 | P3: =VLOOKUP(O3,СтепеньПроснутости,2,FALSE) -> 2. средняк | Q3: ='Ответы на форму (1)'!O3 -> 407 | R3: =IF(Q3>600,"2. Устал",IF(Q3>350,"2. Устал","1. Свеж")) -> 2. Устал | S3: ='Ответы на форму (1)'!P3 -> 75 | T3: =S3/Q3 -> 0.18427518 | U3: =IF(T3>0.35,"3. Ужас",IF(T3>0.1,"2. Фигово","1. Хорошо")) -> 2. Фигово | V3: ='Ответы на форму (1)'!U3 -> 4 | W3: ='Ответы на форму (1)'!V3 -> 1 | X3: ='Ответы на форму (1)'!W3 -> 1 | Y3: ='Ответы на форму (1)'!X3 -> 1 | Z3: ='Ответы на форму (1)'!Y3 -> 1
A4: =VLOOKUP('Ответы на форму (1)'!B4,FAS_Scale,2,FALSE) -> 4 | B4: =VLOOKUP('Ответы на форму (1)'!C4,FAS_Scale,2,FALSE) -> 3 | C4: =VLOOKUP('Ответы на форму (1)'!D4,FAS_Scale,2,FALSE) -> 3 | D4: =VLOOKUP('Ответы на форму (1)'!E4,FAS_Scale,2,FALSE) -> 4 | E4: =VLOOKUP('Ответы на форму (1)'!F4,FAS_Scale,2,FALSE) -> 2 | F4: =VLOOKUP('Ответы на форму (1)'!G4,FAS_Scale,2,FALSE) -> 2 | G4: =VLOOKUP('Ответы на форму (1)'!H4,FAS_Scale,2,FALSE) -> 3 | H4: =VLOOKUP('Ответы на форму (1)'!I4,FAS_Scale,2,FALSE) -> 3 | ... J4: =VLOOKUP('Ответы на форму (1)'!K4,FAS_Scale,2,FALSE) -> 4 | K4: =A4+B4+C4+(6-D4)+E4+F4+G4+H4+I4+(6-J4) -> 26 | L4: =IF(K4>=33,"3. Вилы",IF(K4>=23,"2. Устал","1. Свеж")) -> 2. Устал | M4: =VLOOKUP('Ответы на форму (1)'!L4,УровниУспевания,2,FALSE) -> средне | N4: =VLOOKUP('Ответы на форму (1)'!M4,УровниУспевания,2,FALSE) -> средне | O4: ='Ответы на форму (1)'!N4 -> 5 | P4: =VLOOKUP(O4,СтепеньПроснутости,2,FALSE) -> 2. средняк | Q4: ='Ответы на форму (1)'!O4 -> 343 | R4: =IF(Q4>600,"2. Устал",IF(Q4>350,"2. Устал","1. Свеж")) -> 1. Свеж | S4: ='Ответы на форму (1)'!P4 -> 63 | T4: =S4/Q4 -> 0.18367347 | U4: =IF(T4>0.35,"3. Ужас",IF(T4>0.1,"2. Фигово","1. Хорошо")) -> 2. Фигово | V4: ='Ответы на форму (1)'!U4 -> 4 | W4: ='Ответы на форму (1)'!V4 -> 3 | X4: ='Ответы на форму (1)'!W4 -> 2 | Y4: ='Ответы на форму (1)'!X4 -> 0 | Z4: ='Ответы на форму (1)'!Y4 -> 0
A5: =VLOOKUP('Ответы на форму (1)'!B5,FAS_Scale,2,FALSE) -> 2 | B5: =VLOOKUP('Ответы на форму (1)'!C5,FAS_Scale,2,FALSE) -> 2 | C5: =VLOOKUP('Ответы на форму (1)'!D5,FAS_Scale,2,FALSE) -> 4 | D5: =VLOOKUP('Ответы на форму (1)'!E5,FAS_Scale,2,FALSE) -> 4 | E5: =VLOOKUP('Ответы на форму (1)'!F5,FAS_Scale,2,FALSE) -> 2 | F5: =VLOOKUP('Ответы на форму (1)'!G5,FAS_Scale,2,FALSE) -> 4 | G5: =VLOOKUP('Ответы на форму (1)'!H5,FAS_Scale,2,FALSE) -> 3 | H5: =VLOOKUP('Ответы на форму (1)'!I5,FAS_Scale,2,FALSE) -> 3 | ... J5: =VLOOKUP('Ответы на форму (1)'!K5,FAS_Scale,2,FALSE) -> 4 | K5: =A5+B5+C5+(6-D5)+E5+F5+G5+H5+I5+(6-J5) -> 26 | L5: =IF(K5>=33,"3. Вилы",IF(K5>=23,"2. Устал","1. Свеж")) -> 2. Устал | M5: =VLOOKUP('Ответы на форму (1)'!L5,УровниУспевания,2,FALSE) -> средне | N5: =VLOOKUP('Ответы на форму (1)'!M5,УровниУспевания,2,FALSE) -> средне | O5: ='Ответы на форму (1)'!N5 -> 6 | P5: =VLOOKUP(O5,СтепеньПроснутости,2,FALSE) -> 3. бодряк | Q5: ='Ответы на форму (1)'!O5 -> 291 | R5: =IF(Q5>600,"2. Устал",IF(Q5>350,"2. Устал","1. Свеж")) -> 1. Свеж | S5: ='Ответы на форму (1)'!P5 -> 24 | T5: =S5/Q5 -> 0.082474227 | U5: =IF(T5>0.35,"3. Ужас",IF(T5>0.1,"2. Фигово","1. Хорошо")) -> 1. Хорошо | V5: ='Ответы на форму (1)'!U5 -> 5 | W5: ='Ответы на форму (1)'!V5 -> 1 | X5: ='Ответы на форму (1)'!W5 -> 0 | Y5: ='Ответы на форму (1)'!X5 -> 0 | Z5: ='Ответы на форму (1)'!Y5 -> 0
A6: =VLOOKUP('Ответы на форму (1)'!B6,FAS_Scale,2,FALSE) -> 4 | B6: =VLOOKUP('Ответы на форму (1)'!C6,FAS_Scale,2,FALSE) -> 3 | C6: =VLOOKUP('Ответы на форму (1)'!D6,FAS_Scale,2,FALSE) -> 4 | D6: =VLOOKUP('Ответы на форму (1)'!E6,FAS_Scale,2,FALSE) -> 4 | E6: =VLOOKUP('Ответы на форму (1)'!F6,FAS_Scale,2,FALSE) -> 3 | F6: =VLOOKUP('Ответы на форму (1)'!G6,FAS_Scale,2,FALSE) -> 4 | G6: =VLOOKUP('Ответы на форму (1)'!H6,FAS_Scale,2,FALSE) -> 2 | H6: =VLOOKUP('Ответы на форму (1)'!I6,FAS_Scale,2,FALSE) -> 3 | ... J6: =VLOOKUP('Ответы на форму (1)'!K6,FAS_Scale,2,FALSE) -> 3 | K6: =A6+B6+C6+(6-D6)+E6+F6+G6+H6+I6+(6-J6) -> 31 | L6: =IF(K6>=33,"3. Вилы",IF(K6>=23,"2. Устал","1. Свеж")) -> 2. Устал | M6: =VLOOKUP('Ответы на форму (1)'!L6,УровниУспевания,2,FALSE) -> средне | N6: =VLOOKUP('Ответы на форму (1)'!M6,УровниУспевания,2,FALSE) -> средне | O6: ='Ответы на форму (1)'!N6 -> 4 | P6: =VLOOKUP(O6,СтепеньПроснутости,2,FALSE) -> 2. средняк | Q6: ='Ответы на форму (1)'!O6 -> 259 | R6: =IF(Q6>600,"2. Устал",IF(Q6>350,"2. Устал","1. Свеж")) -> 1. Свеж | S6: ='Ответы на форму (1)'!P6 -> 35 | T6: =S6/Q6 -> 0.13513514 | U6: =IF(T6>0.35,"3. Ужас",IF(T6>0.1,"2. Фигово","1. Хорошо")) -> 2. Фигово | V6: ='Ответы на форму (1)'!U6 -> 6 | W6: ='Ответы на форму (1)'!V6 -> 3 | X6: ='Ответы на форму (1)'!W6 -> 2 | Y6: ='Ответы на форму (1)'!X6 -> 1 | Z6: ='Ответы на форму (1)'!Y6 -> 0
A7: =VLOOKUP('Ответы на форму (1)'!B7,FAS_Scale,2,FALSE) -> 5 | B7: =VLOOKUP('Ответы на форму (1)'!C7,FAS_Scale,2,FALSE) -> 4 | C7: =VLOOKUP('Ответы на форму (1)'!D7,FAS_Scale,2,FALSE) -> 4 | D7: =VLOOKUP('Ответы на форму (1)'!E7,FAS_Scale,2,FALSE) -> 3 | E7: =VLOOKUP('Ответы на форму (1)'!F7,FAS_Scale,2,FALSE) -> 4 | F7: =VLOOKUP('Ответы на форму (1)'!G7,FAS_Scale,2,FALSE) -> 4 | G7: =VLOOKUP('Ответы на форму (1)'!H7,FAS_Scale,2,FALSE) -> 3 | H7: =VLOOKUP('Ответы на форму (1)'!I7,FAS_Scale,2,FALSE) -> 4 | ... J7: =VLOOKUP('Ответы на форму (1)'!K7,FAS_Scale,2,FALSE) -> 4 | K7: =A7+B7+C7+(6-D7)+E7+F7+G7+H7+I7+(6-J7) -> 37 | L7: =IF(K7>=33,"3. Вилы",IF(K7>=23,"2. Устал","1. Свеж")) -> 3. Вилы | M7: =VLOOKUP('Ответы на форму (1)'!L7,УровниУспевания,2,FALSE) -> плохо | N7: =VLOOKUP('Ответы на форму (1)'!M7,УровниУспевания,2,FALSE) -> плохо | O7: ='Ответы на форму (1)'!N7 -> 4 | P7: =VLOOKUP(O7,СтепеньПроснутости,2,FALSE) -> 2. средняк | Q7: ='Ответы на форму (1)'!O7 -> 371 | R7: =IF(Q7>600,"2. Устал",IF(Q7>350,"2. Устал","1. Свеж")) -> 2. Устал | S7: ='Ответы на форму (1)'!P7 -> 108 | T7: =S7/Q7 -> 0.29110512 | U7: =IF(T7>0.35,"3. Ужас",IF(T7>0.1,"2. Фигово","1. Хорошо")) -> 2. Фигово | V7: ='Ответы на форму (1)'!U7 -> 3 | W7: ='Ответы на форму (1)'!V7 -> 2 | X7: ='Ответы на форму (1)'!W7 -> 2 | Y7: ='Ответы на форму (1)'!X7 -> 0 | Z7: ='Ответы на форму (1)'!Y7 -> 0
A8: =VLOOKUP('Ответы на форму (1)'!B8,FAS_Scale,2,FALSE) -> 4 | B8: =VLOOKUP('Ответы на форму (1)'!C8,FAS_Scale,2,FALSE) -> 2 | C8: =VLOOKUP('Ответы на форму (1)'!D8,FAS_Scale,2,FALSE) -> 3 | D8: =VLOOKUP('Ответы на форму (1)'!E8,FAS_Scale,2,FALSE) -> 5 | E8: =VLOOKUP('Ответы на форму (1)'!F8,FAS_Scale,2,FALSE) -> 1 | F8: =VLOOKUP('Ответы на форму (1)'!G8,FAS_Scale,2,FALSE) -> 3 | G8: =VLOOKUP('Ответы на форму (1)'!H8,FAS_Scale,2,FALSE) -> 1 | H8: =VLOOKUP('Ответы на форму (1)'!I8,FAS_Scale,2,FALSE) -> 2 | ... J8: =VLOOKUP('Ответы на форму (1)'!K8,FAS_Scale,2,FALSE) -> 4 | K8: =A8+B8+C8+(6-D8)+E8+F8+G8+H8+I8+(6-J8) -> 21 | L8: =IF(K8>=33,"3. Вилы",IF(K8>=23,"2. Устал","1. Свеж")) -> 1. Свеж | M8: =VLOOKUP('Ответы на форму (1)'!L8,УровниУспевания,2,FALSE) -> средне | N8: =VLOOKUP('Ответы на форму (1)'!M8,УровниУспевания,2,FALSE) -> средне | O8: ='Ответы на форму (1)'!N8 -> 3 | P8: =VLOOKUP(O8,СтепеньПроснутости,2,FALSE) -> 1. зомбак | Q8: ='Ответы на форму (1)'!O8 -> 446 | R8: =IF(Q8>600,"2. Устал",IF(Q8>350,"2. Устал","1. Свеж")) -> 2. Устал | S8: ='Ответы на форму (1)'!P8 -> 31 | T8: =S8/Q8 -> 0.069506726 | U8: =IF(T8>0.35,"3. Ужас",IF(T8>0.1,"2. Фигово","1. Хорошо")) -> 1. Хорошо | V8: ='Ответы на форму (1)'!U8 -> 5 | W8: ='Ответы на форму (1)'!V8 -> 2 | X8: ='Ответы на форму (1)'!W8 -> 2 | Y8: ='Ответы на форму (1)'!X8 -> 0 | Z8: ='Ответы на форму (1)'!Y8 -> 0
