Workbook
Name negAnxiety: Ключи!$A$7:$B$10
Name posAnxiety: Ключи!$A$1:$B$4

Sheet Ответы на форму (1)
A1: Отметка времени | B1: Я спокоен | C1: Я нахожусь в напряжении | D1: Я расстроен | E1: Я не чувствую скованности, напряжения | F1: Я доволен | G1: Меня волнуют возможные неудачи | H1: В свободной форме ;) | I1: Браузер | J1: Фон | K1: Значение
A2: 43850.777 | B2: Пожалуй это так | C2: Верно | D2: Пожалуй это так | E2: Нет, это не так | F2: Нет, это не так | G2: Нет, это не так | I2: Mozilla/5.0 (Windows NT 10.0; Win64; x64) AppleWebKit/537.36 (KHTML, like Gecko) Chrome/79.0.3945.130 Safari/537.36 | J2: #51a7f9 | K2: 27821
A3: 43850.779 | B3: Пожалуй это так | C3: Нет, это не так | D3: Нет, это не так | E3: Пожалуй это так | F3: Пожалуй это так | G3: Нет, это не так | I3: Mozilla/5.0 (Linux; Android 9; POCOPHONE F1 Build/PKQ1.180729.001; wv) AppleWebKit/537.36 (KHTML, like Gecko) Version/4.0 Chrome/77.0.3865.116 Mobile Safari/537.36 [FB_IAB/FB4A;FBAV/244.0.0.43.118;] | J3: #f39019 | K3: 23508
A4: 43850.779 | B4: Верно | C4: Нет, это не так | D4: Нет, это не так | E4: Верно | F4: Верно | G4: Нет, это не так | I4: Mozilla/5.0 (Macintosh; Intel Mac OS X 10_15_2) AppleWebKit/537.36 (KHTML, like Gecko) Chrome/79.0.3945.117 Safari/537.36 | J4: #f39019 | K4: 56838
A5: 43850.78 | B5: Нет, это не так | C5: Верно | D5: Пожалуй это так | E5: Нет, это не так | F5: Пожалуй это так | G5: Совершенно верно | I5: Mozilla/5.0 (Macintosh; Intel Mac OS X 10_14_6) AppleWebKit/537.36 (KHTML, like Gecko) Chrome/79.0.3945.117 Safari/537.36 | J5: #51a7f9 | K5: 65292
A6: 43850.78 | B6: Верно | C6: Нет, это не так | D6: Пожалуй это так | E6: Совершенно верно | F6: Верно | G6: Пожалуй это так | I6: Mozilla/5.0 (Linux; Android 9; HRY-LX1 Build/HONORHRY-L21; wv) AppleWebKit/537.36 (KHTML, like Gecko) Version/4.0 Chrome/79.0.3945.116 Mobile Safari/537.36 [FB_IAB/FB4A;FBAV/253.0.0.28.116;] | J6: #f39019 | K6: 73828
A7: 43850.78 | B7: Пожалуй это так | C7: Нет, это не так | D7: Нет, это не так | E7: Верно | F7: Пожалуй это так | G7: Нет, это не так | I7: Mozilla/5.0 (Linux; Android 10; ASUS_Z01RD) AppleWebKit/537.36 (KHTML, like Gecko) Chrome/79.0.3945.116 Mobile Safari/537.36 | J7: #51a7f9 | K7: 21211
A8: 43850.78 | B8: Нет, это не так | C8: Пожалуй это так | D8: Верно | E8: Нет, это не так | F8: Нет, это не так | G8: Совершенно верно | I8: Mozilla/5.0 (Windows NT 10.0; Win64; x64) AppleWebKit/537.36 (KHTML, like Gecko) Chrome/79.0.3945.117 Safari/537.36 | J8: #f39019 | K8: 54964
A9: 43850.78 | B9: Пожалуй это так | C9: Верно | D9: Верно | E9: Пожалуй это так | F9: Нет, это не так | G9: Пожалуй это так | I9: Mozilla/5.0 (Linux; Android 7.0; SAMSUNG SM-G930F) AppleWebKit/537.36 (KHTML, like Gecko) SamsungBrowser/10.2 Chrome/71.0.3578.99 Mobile Safari/537.36 | J9: #f39019 | K9: 100965
A10: 43850.782 | B10: Верно | C10: Нет, это не так | D10: Нет, это не так | E10: Верно | F10: Пожалуй это так | G10: Пожалуй это так | I10: Mozilla/5.0 (Windows NT 10.0; Win64; x64; rv:72.0) Gecko/20100101 Firefox/72.0 | J10: #f39019 | K10: 146159
A11: 43850.785 | B11: Совершенно верно | C11: Нет, это не так | D11: Нет, это не так | E11: Совершенно верно | F11: Пожалуй это так | G11: Нет, это не так | I11: Mozilla/5.0 (Macintosh; Intel Mac OS X 10_13_6) AppleWebKit/537.36 (KHTML, like Gecko) Chrome/79.0.3945.117 Safari/537.36 | J11: #51a7f9 | K11: 46390
A12: 43850.785 | B12: Верно | C12: Пожалуй это так | D12: Нет, это не так | E12: Пожалуй это так | F12: Пожалуй это так | G12: Пожалуй это так | I12: Mozilla/5.0 (Windows NT 10.0; Win64; x64; rv:72.0) Gecko/20100101 Firefox/72.0 | J12: #51a7f9 | K12: 42845
A13: 43850.786 | B13: Верно | C13: Нет, это не так | D13: Нет, это не так | E13: Верно | F13: Верно | G13: Нет, это не так | I13: Mozilla/5.0 (Linux; Android 9; Redmi Note 5 Build/PKQ1.180904.001; wv) AppleWebKit/537.36 (KHTML, like Gecko) Version/4.0 Chrome/79.0.3945.116 Mobile Safari/537.36 [FB_IAB/FB4A;FBAV/253.0.0.28.116;] | J13: #51a7f9 | K13: 54376
... A23: 43850.796 | B23: Пожалуй это так | C23: Нет, это не так | D23: Нет, это не так | E23: Пожалуй это так | F23: Пожалуй это так | G23: Верно | I23: Mozilla/5.0 (iPhone; CPU iPhone OS 13_3 like Mac OS X) AppleWebKit/605.1.15 (KHTML, like Gecko) Version/13.0.4 Mobile/15E148 Safari/604.1 | J23: #f39019 | K23: 65020
A24: 43850.796 | B24: Нет, это не так | C24: Совершенно верно | D24: Совершенно верно | E24: Совершенно верно | F24: Нет, это не так | G24: Нет, это не так | H24: Пириветики из Стамбула)) | I24: Mozilla/5.0 (Macintosh; Intel Mac OS X 10.14; rv:72.0) Gecko/20100101 Firefox/72.0 | J24: #51a7f9 | K24: 6058
A25: 43850.796 | B25: Верно | C25: Нет, это не так | D25: Нет, это не так | E25: Совершенно верно | F25: Пожалуй это так | G25: Нет, это не так | I25: Mozilla/5.0 (Macintosh; Intel Mac OS X 10_14_6) AppleWebKit/537.36 (KHTML, like Gecko) Chrome/79.0.3945.117 Safari/537.36 | J25: #f39019 | K25: 51338
A26: 43850.797 | B26: Пожалуй это так | C26: Верно | D26: Нет, это не так | E26: Нет, это не так | F26: Пожалуй это так | G26: Верно | I26: Mozilla/5.0 (Macintosh; Intel Mac OS X 10_14_6) AppleWebKit/537.36 (KHTML, like Gecko) Chrome/79.0.3945.130 Safari/537.36 | J26: #f39019 | K26: 66247
A27: 43850.798 | B27: Нет, это не так | C27: Верно | D27: Нет, это не так | E27: Нет, это не так | F27: Нет, это не так | G27: Совершенно верно | H27: Сколько у меня секунд? | I27: Mozilla/5.0 (Linux; Android 10; SAMSUNG SM-G970F) AppleWebKit/537.36 (KHTML, like Gecko) SamsungBrowser/11.0 Chrome/75.0.3770.143 Mobile Safari/537.36 | J27: #51a7f9 | K27: 34249
A28: 43850.798 | B28: Верно | C28: Нет, это не так | D28: Пожалуй это так | E28: Нет, это не так | F28: Пожалуй это так | G28: Пожалуй это так | I28: Mozilla/5.0 (Windows NT 10.0; Win64; x64; rv:72.0) Gecko/20100101 Firefox/72.0 | J28: #f39019 | K28: 24719
A29: 43850.798 | B29: Нет, это не так | C29: Пожалуй это так | D29: Пожалуй это так | E29: Пожалуй это так | F29: Нет, это не так | G29: Пожалуй это так | H29: чувствую что начинаю заболевать | I29: Mozilla/5.0 (X11; Linux x86_64) AppleWebKit/537.36 (KHTML, like Gecko) Chrome/79.0.3945.130 Safari/537.36 | J29: #f39019 | K29: 81944
A30: 43850.801 | B30: Нет, это не так | C30: Совершенно верно | D30: Верно | E30: Нет, это не так | F30: Нет, это не так | G30: Верно | I30: Mozilla/5.0 (Windows NT 10.0; Win64; x64) AppleWebKit/537.36 (KHTML, like Gecko) Chrome/79.0.3945.130 Safari/537.36 | J30: #f39019 | K30: 45399
A31: 43850.803 | B31: Нет, это не так | C31: Пожалуй это так | D31: Нет, это не так | E31: Нет, это не так | F31: Нет, это не так | G31: Верно | H31: За восприятие времени отвечает определенная зона мозга которая по разному развита у людей. | I31: Mozilla/5.0 (Linux; Android 9; HMA-L29 Build/HUAWEIHMA-L29; wv) AppleWebKit/537.36 (KHTML, like Gecko) Version/4.0 Chrome/79.0.3945.116 Mobile Safari/537.36 [FB_IAB/FB4A;FBAV/253.0.0.28.116;] | J31: #51a7f9 | K31: 48588
A32: 43850.803 | B32: Верно | C32: Нет, это не так | D32: Нет, это не так | E32: Нет, это не так | F32: Пожалуй это так | G32: Нет, это не так | I32: Mozilla/5.0 (Macintosh; Intel Mac OS X 10.14; rv:72.0) Gecko/20100101 Firefox/72.0 | J32: #f39019 | K32: 79382
A33: 43850.803 | B33: Совершенно верно | C33: Нет, это не так | D33: Нет, это не так | E33: Совершенно верно | F33: Совершенно верно | G33: Нет, это не так | I33: Mozilla/5.0 (Linux; Android 10; Pixel 3a) AppleWebKit/537.36 (KHTML, like Gecko) Chrome/79.0.3945.116 Mobile Safari/537.36 | J33: #f39019 | K33: 35075
A34: 43850.804 | B34: Нет, это не так | C34: Совершенно верно | D34: Нет, это не так | E34: Нет, это не так | F34: Нет, это не так | G34: Совершенно верно | I34: Mozilla/5.0 (iPhone; CPU iPhone OS 12_1_4 like Mac OS X) AppleWebKit/605.1.15 (KHTML, like Gecko) Mobile/16D57 [FBAN/FBIOS;FBDV/iPhone8,1;FBMD/iPhone;FBSN/iOS;FBSV/12.1.4;FBSS/2;FBID/phone;FBLC/en_GB;FBOP/5;FBCR/Beeline] | J34: #f39019 | K34: 17176
A35: 43850.805 | B35: Пожалуй это так | C35: Пожалуй это так | D35: Нет, это не так | E35: Пожалуй это так | F35: Нет, это не так | G35: Пожалуй это так | I35: Mozilla/5.0 (Linux; Android 9; G8441 Build/47.2.A.11.228; wv) AppleWebKit/537.36 (KHTML, like Gecko) Version/4.0 Chrome/79.0.3945.116 Mobile Safari/537.36 [FB_IAB/FB4A;FBAV/253.0.0.28.116;] | J35: #f39019 | K35: 68263
A36: 43850.806 | B36: Пожалуй это так | C36: Нет, это не так | D36: Нет, это не так | E36: Верно | F36: Нет, это не так | G36: Нет, это не так | I36: Mozilla/5.0 (iPhone; CPU iPhone OS 13_3 like Mac OS X) AppleWebKit/605.1.15 (KHTML, like Gecko) Mobile/15E148 [FBAN/FBIOS;FBDV/iPhone10,5;FBMD/iPhone;FBSN/iOS;FBSV/13.3;FBSS/3;FBID/phone;FBLC/ru_RU;FBOP/5;FBCR/Beeline] | J36: #f39019 | K36: 48061
A37: 43850.806 | B37: Пожалуй это так | C37: Пожалуй это так | D37: Нет, это не так | E37: Пожалуй это так | F37: Верно | G37: Нет, это не так | I37: Mozilla/5.0 (iPhone; CPU iPhone OS 13_3 like Mac OS X) AppleWebKit/605.1.15 (KHTML, like Gecko) Version/13.0.4 Mobile/15E148 Safari/604.1 | J37: #f39019 | K37: 67067
A38: 43850.807 | B38: Совершенно верно | C38: Нет, это не так | D38: Нет, это не так | E38: Верно | F38: Нет, это не так | G38: Пожалуй это так | I38: Mozilla/5.0 (Macintosh; Intel Mac OS X 10.14; rv:72.0) Gecko/20100101 Firefox/72.0 | J38: #f39019 | K38: 45447
A39: 43850.808 | B39: Совершенно верно | C39: Пожалуй это так | D39: Нет, это не так | E39: Совершенно верно | F39: Пожалуй это так | G39: Нет, это не так | I39: Mozilla/5.0 (Macintosh; Intel Mac OS X 10_14_4) AppleWebKit/537.36 (KHTML, like Gecko) Chrome/79.0.3945.88 Safari/537.36 | J39: #f39019 | K39: 60308
A40: 43850.817 | B40: Пожалуй это так | C40: Нет, это не так | D40: Нет, это не так | E40: Пожалуй это так | F40: Пожалуй это так | G40: Нет, это не так | I40: Mozilla/5.0 (Windows NT 10.0; Win64; x64; rv:72.0) Gecko/20100101 Firefox/72.0 | J40: #51a7f9 | K40: 47526
A41: 43850.818 | B41: Пожалуй это так | C41: Пожалуй это так | D41: Нет, это не так | E41: Совершенно верно | F41: Пожалуй это так | G41: Нет, это не так | I41: Mozilla/5.0 (Linux; Android 8.0.0; SM-A750FN Build/R16NW; wv) AppleWebKit/537.36 (KHTML, like Gecko) Version/4.0 Chrome/79.0.3945.116 Mobile Safari/537.36 [FB_IAB/FB4A;FBAV/253.0.0.28.116;] | J41: #f39019 | K41: 45905
A42: 43850.822 | B42: Пожалуй это так | C42: Нет, это не так | D42: Нет, это не так | E42: Пожалуй это так | F42: Пожалуй это так | G42: Пожалуй это так | I42: Mozilla/5.0 (Windows NT 10.0; Win64; x64) AppleWebKit/537.36 (KHTML, like Gecko) Chrome/79.0.3945.117 Safari/537.36 | J42: #f39019 | K42: 53421
A43: 43850.828 | B43: Нет, это не так | C43: Верно | D43: Верно | E43: Нет, это не так | F43: Нет, это не так | G43: Совершенно верно | I43: Mozilla/5.0 (Windows NT 10.0; Win64; x64) AppleWebKit/537.36 (KHTML, like Gecko) Chrome/79.0.3945.117 Safari/537.36 | J43: #51a7f9 | K43: 29826
A44: 43850.828 | B44: Верно | C44: Нет, это не так | D44: Нет, это не так | E44: Пожалуй это так | F44: Верно | G44: Пожалуй это так | H44: Пару раз мелькала мысль "а уже минута? Да неет" | I44: Mozilla/5.0 (Linux; Android 10; Pixel 2) AppleWebKit/537.36 (KHTML, like Gecko) Chrome/79.0.3945.116 Mobile Safari/537.36 | J44: #51a7f9 | K44: 79775
A45: 43850.829 | B45: Нет, это не так | C45: Верно | D45: Верно | E45: Нет, это не так | F45: Нет, это не так | G45: Совершенно верно | H45: Болею, температура 37,2 :(
A46: 43850.831 | B46: Пожалуй это так | C46: Нет, это не так | D46: Нет, это не так | E46: Пожалуй это так | F46: Нет, это не так | G46: Пожалуй это так | I46: Mozilla/5.0 (Macintosh; Intel Mac OS X 10_13_6) AppleWebKit/537.36 (KHTML, like Gecko) Chrome/79.0.3945.117 Safari/537.36 | J46: #f39019 | K46: 49385
A47: 43850.835 | B47: Пожалуй это так | C47: Нет, это не так | D47: Нет, это не так | E47: Нет, это не так | F47: Нет, это не так | G47: Пожалуй это так | H47: Скованность и напряжение от усталости (на случай, если выбор ответов будет выглядеть странно) | I47: Mozilla/5.0 (Linux; Android 8.0.0; SM-A520F Build/R16NW; wv) AppleWebKit/537.36 (KHTML, like Gecko) Version/4.0 Chrome/79.0.3945.116 Mobile Safari/537.36 [FB_IAB/FB4A;FBAV/253.0.0.28.116;] | J47: #51a7f9 | K47: 24521
A48: 43850.836 | B48: Пожалуй это так | C48: Пожалуй это так | D48: Нет, это не так | E48: Нет, это не так | F48: Нет, это не так | G48: Верно | I48: Mozilla/5.0 (Windows NT 6.1; Win64; x64) AppleWebKit/537.36 (KHTML, like Gecko) Chrome/79.0.3945.117 Safari/537.36 | J48: #51a7f9 | K48: 46046
A49: 43850.837 | B49: Нет, это не так | C49: Совершенно верно | D49: Верно | E49: Нет, это не так | F49: Нет, это не так | G49: Совершенно верно | I49: Mozilla/5.0 (iPhone; CPU iPhone OS 12_4_2 like Mac OS X) AppleWebKit/605.1.15 (KHTML, like Gecko) Mobile/15E148 [FBAN/FBIOS;FBDV/iPhone6,2;FBMD/iPhone;FBSN/iOS;FBSV/12.4.2;FBSS/2;FBID/phone;FBLC/ru_RU;FBOP/5;FBCR/Mobile TeleSystems] | J49: #51a7f9 | K49: 30976
...

Sheet Анализ
A1: Я спокоен | B1: Я нахожусь в напряжении | C1: Я расстроен | D1: Я не чувствую скованности, напряжения | E1: Я доволен | F1: Меня волнуют возможные неудачи | G1: Фон | H1: Значение | I1: Тревожность по субъективной минуте | J1: Балл тревожности | K1: Тревожность по опросу
A2: =VLOOKUP('Ответы на форму (1)'!B2,negAnxiety,2,FALSE) -> 3 | B2: =VLOOKUP('Ответы на форму (1)'!C2,posAnxiety,2,FALSE) -> 3 | C2: =VLOOKUP('Ответы на форму (1)'!D2,posAnxiety,2,FALSE) -> 2 | D2: =VLOOKUP('Ответы на форму (1)'!E2,negAnxiety,2,FALSE) -> 4 | E2: =VLOOKUP('Ответы на форму (1)'!F2,negAnxiety,2,FALSE) -> 4 | F2: =VLOOKUP('Ответы на форму (1)'!G2,posAnxiety,2,FALSE) -> 1 | G2: ='Ответы на форму (1)'!J2 -> #51a7f9 | H2: ='Ответы на форму (1)'!K2 -> 27821 | I2: =IF(H2>65000,"1. Спок",IF(H2>45000,"2. Немного","3. Тревожный")) -> 3. Тревожный | J2: =AVERAGE(A2:F2) -> 2.8333333 | K2: =IF(J2<2,"A. Спок",IF(J2<3,"B. Немного","C. Тревожный")) -> B. Немного
A3: =VLOOKUP('Ответы на форму (1)'!B3,negAnxiety,2,FALSE) -> 3 | B3: =VLOOKUP('Ответы на форму (1)'!C3,posAnxiety,2,FALSE) -> 1 | C3: =VLOOKUP('Ответы на форму (1)'!D3,posAnxiety,2,FALSE) -> 1 | D3: =VLOOKUP('Ответы на форму (1)'!E3,negAnxiety,2,FALSE) -> 3 | E3: =VLOOKUP('Ответы на форму (1)'!F3,negAnxiety,2,FALSE) -> 3 | F3: =VLOOKUP('Ответы на форму (1)'!G3,posAnxiety,2,FALSE) -> 1 | G3: ='Ответы на форму (1)'!J3 -> #f39019 | H3: ='Ответы на форму (1)'!K3 -> 23508 | I3: =IF(H3>65000,"1. Спок",IF(H3>45000,"2. Немного","3. Тревожный")) -> 3. Тревожный | J3: =AVERAGE(A3:F3) -> 2 | K3: =IF(J3<2,"A. Спок",IF(J3<3,"B. Немного","C. Тревожный")) -> B. Немного
A4: =VLOOKUP('Ответы на форму (1)'!B4,negAnxiety,2,FALSE) -> 2 | B4: =VLOOKUP('Ответы на форму (1)'!C4,posAnxiety,2,FALSE) -> 1 | C4: =VLOOKUP('Ответы на форму (1)'!D4,posAnxiety,2,FALSE) -> 1 | D4: =VLOOKUP('Ответы на форму (1)'!E4,negAnxiety,2,FALSE) -> 2 | E4: =VLOOKUP('Ответы на форму (1)'!F4,negAnxiety,2,FALSE) -> 2 | F4: =VLOOKUP('Ответы на форму (1)'!G4,posAnxiety,2,FALSE) -> 1 | G4: ='Ответы на форму (1)'!J4 -> #f39019 | H4: ='Ответы на форму (1)'!K4 -> 56838 | I4: =IF(H4>65000,"1. Спок",IF(H4>45000,"2. Немного","3. Тревожный")) -> 2. Немного | J4: =AVERAGE(A4:F4) -> 1.5 | K4: =IF(J4<2,"A. Спок",IF(J4<3,"B. Немного","C. Тревожный")) -> A. Спок
A5: =VLOOKUP('Ответы на форму (1)'!B5,negAnxiety,2,FALSE) -> 4 | B5: =VLOOKUP('Ответы на форму (1)'!C5,posAnxiety,2,FALSE) -> 3 | C5: =VLOOKUP('Ответы на форму (1)'!D5,posAnxiety,2,FALSE) -> 2 | D5: =VLOOKUP('Ответы на форму (1)'!E5,negAnxiety,2,FALSE) -> 4 | E5: =VLOOKUP('Ответы на форму (1)'!F5,negAnxiety,2,FALSE) -> 3 | F5: =VLOOKUP('Ответы на форму (1)'!G5,posAnxiety,2,FALSE) -> 4 | G5: ='Ответы на форму (1)'!J5 -> #51a7f9 | H5: ='Ответы на форму (1)'!K5 -> 65292 | I5: =IF(H5>65000,"1. Спок",IF(H5>45000,"2. Немного","3. Тревожный")) -> 1. Спок | J5: =AVERAGE(A5:F5) -> 3.3333333 | K5: =IF(J5<2,"A. Спок",IF(J5<3,"B. Немного","C. Тревожный")) -> C. Тревожный
A6: =VLOOKUP('Ответы на форму (1)'!B6,negAnxiety,2,FALSE) -> 2 | B6: =VLOOKUP('Ответы на форму (1)'!C6,posAnxiety,2,FALSE) -> 1 | C6: =VLOOKUP('Ответы на форму (1)'!D6,posAnxiety,2,FALSE) -> 2 | D6: =VLOOKUP('Ответы на форму (1)'!E6,negAnxiety,2,FALSE) -> 1 | E6: =VLOOKUP('Ответы на форму (1)'!F6,negAnxiety,2,FALSE) -> 2 | F6: =VLOOKUP('Ответы на форму (1)'!G6,posAnxiety,2,FALSE) -> 2 | G6: ='Ответы на форму (1)'!J6 -> #f39019 | H6: ='Ответы на форму (1)'!K6 -> 73828 | I6: =IF(H6>65000,"1. Спок",IF(H6>45000,"2. Немного","3. Тревожный")) -> 1. Спок | J6: =AVERAGE(A6:F6) -> 1.6666667 | K6: =IF(J6<2,"A. Спок",IF(J6<3,"B. Немного","C. Тревожный")) -> A. Спок
A7: =VLOOKUP('Ответы на форму (1)'!B7,negAnxiety,2,FALSE) -> 3 | B7: =VLOOKUP('Ответы на форму (1)'!C7,posAnxiety,2,FALSE) -> 1 | C7: =VLOOKUP('Ответы на форму (1)'!D7,posAnxiety,2,FALSE) -> 1 | D7: =VLOOKUP('Ответы на форму (1)'!E7,negAnxiety,2,FALSE) -> 2 | E7: =VLOOKUP('Ответы на форму (1)'!F7,negAnxiety,2,FALSE) -> 3 | F7: =VLOOKUP('Ответы на форму (1)'!G7,posAnxiety,2,FALSE) -> 1 | G7: ='Ответы на форму (1)'!J7 -> #51a7f9 | H7: ='Ответы на форму (1)'!K7 -> 21211 | I7: =IF(H7>65000,"1. Спок",IF(H7>45000,"2. Немного","3. Тревожный")) -> 3. Тревожный | J7: =AVERAGE(A7:F7) -> 1.8333333 | K7: =IF(J7<2,"A. Спок",IF(J7<3,"B. Немного","C. Тревожный")) -> A. Спок
A8: =VLOOKUP('Ответы на форму (1)'!B8,negAnxiety,2,FALSE) -> 4 | B8: =VLOOKUP('Ответы на форму (1)'!C8,posAnxiety,2,FALSE) -> 2 | C8: =VLOOKUP('Ответы на форму (1)'!D8,posAnxiety,2,FALSE) -> 3 | D8: =VLOOKUP('Ответы на форму (1)'!E8,negAnxiety,2,FALSE) -> 4 | E8: =VLOOKUP('Ответы на форму (1)'!F8,negAnxiety,2,FALSE) -> 4 | F8: =VLOOKUP('Ответы на форму (1)'!G8,posAnxiety,2,FALSE) -> 4 | G8: ='Ответы на форму (1)'!J8 -> #f39019 | H8: ='Ответы на форму (1)'!K8 -> 54964 | I8: =IF(H8>65000,"1. Спок",IF(H8>45000,"2. Немного","3. Тревожный")) -> 2. Немного | J8: =AVERAGE(A8:F8) -> 3.5 | K8: =IF(J8<2,"A. Спок",IF(J8<3,"B. Немного","C. Тревожный")) -> C. Тревожный
A9: =VLOOKUP('Ответы на форму (1)'!B9,negAnxiety,2,FALSE) -> 3 | B9: =VLOOKUP('Ответы на форму (1)'!C9,posAnxiety,2,FALSE) -> 3 | C9: =VLOOKUP('Ответы на форму (1)'!D9,posAnxiety,2,FALSE) -> 3 | D9: =VLOOKUP('Ответы на форму (1)'!E9,negAnxiety,2,FALSE) -> 3 | E9: =VLOOKUP('Ответы на форму (1)'!F9,negAnxiety,2,FALSE) -> 4 | F9: =VLOOKUP('Ответы на форму (1)'!G9,posAnxiety,2,FALSE) -> 2 | G9: ='Ответы на форму (1)'!J9 -> #f39019 | H9: ='Ответы на форму (1)'!K9 -> 100965 | I9: =IF(H9>65000,"1. Спок",IF(H9>45000,"2. Немного","3. Тревожный")) -> 1. Спок | J9: =AVERAGE(A9:F9) -> 3 | K9: =IF(J9<2,"A. Спок",IF(J9<3,"B. Немного","C. Тревожный")) -> C. Тревожный
A10: =VLOOKUP('Ответы на форму (1)'!B10,negAnxiety,2,FALSE) -> 2 | B10: =VLOOKUP('Ответы на форму (1)'!C10,posAnxiety,2,FALSE) -> 1 | C10: =VLOOKUP('Ответы на форму (1)'!D10,posAnxiety,2,FALSE) -> 1 | D10: =VLOOKUP('Ответы на форму (1)'!E10,negAnxiety,2,FALSE) -> 2 | E10: =VLOOKUP('Ответы на форму (1)'!F10,negAnxiety,2,FALSE) -> 3 | F10: =VLOOKUP('Ответы на форму (1)'!G10,posAnxiety,2,FALSE) -> 2 | G10: ='Ответы на форму (1)'!J10 -> #f39019 | H10: ='Ответы на форму (1)'!K10 -> 146159 | I10: =IF(H10>65000,"1. Спок",IF(H10>45000,"2. Немного","3. Тревожный")) -> 1. Спок | J10: =AVERAGE(A10:F10) -> 1.8333333 | K10: =IF(J10<2,"A. Спок",IF(J10<3,"B. Немного","C. Тревожный")) -> A. Спок
A11: =VLOOKUP('Ответы на форму (1)'!B11,negAnxiety,2,FALSE) -> 1 | B11: =VLOOKUP('Ответы на форму (1)'!C11,posAnxiety,2,FALSE) -> 1 | C11: =VLOOKUP('Ответы на форму (1)'!D11,posAnxiety,2,FALSE) -> 1 | D11: =VLOOKUP('Ответы на форму (1)'!E11,negAnxiety,2,FALSE) -> 1 | E11: =VLOOKUP('Ответы на форму (1)'!F11,negAnxiety,2,FALSE) -> 3 | F11: =VLOOKUP('Ответы на форму (1)'!G11,posAnxiety,2,FALSE) -> 1 | G11: ='Ответы на форму (1)'!J11 -> #51a7f9 | H11: ='Ответы на форму (1)'!K11 -> 46390 | I11: =IF(H11>65000,"1. Спок",IF(H11>45000,"2. Немного","3. Тревожный")) -> 2. Немного | J11: =AVERAGE(A11:F11) -> 1.3333333 | K11: =IF(J11<2,"A. Спок",IF(J11<3,"B. Немного","C. Тревожный")) -> A. Спок
A12: =VLOOKUP('Ответы на форму (1)'!B12,negAnxiety,2,FALSE) -> 2 | B12: =VLOOKUP('Ответы на форму (1)'!C12,posAnxiety,2,FALSE) -> 2 | C12: =VLOOKUP('Ответы на форму (1)'!D12,posAnxiety,2,FALSE) -> 1 | D12: =VLOOKUP('Ответы на форму (1)'!E12,negAnxiety,2,FALSE) -> 3 | E12: =VLOOKUP('Ответы на форму (1)'!F12,negAnxiety,2,FALSE) -> 3 | F12: =VLOOKUP('Ответы на форму (1)'!G12,posAnxiety,2,FALSE) -> 2 | G12: ='Ответы на форму (1)'!J12 -> #51a7f9 | H12: ='Ответы на форму (1)'!K12 -> 42845 | I12: =IF(H12>65000,"1. Спок",IF(H12>45000,"2. Немного","3. Тревожный")) -> 3. Тревожный | J12: =AVERAGE(A12:F12) -> 2.1666667 | K12: =IF(J12<2,"A. Спок",IF(J12<3,"B. Немного","C. Тревожный")) -> B. Немного
A13: =VLOOKUP('Ответы на форму (1)'!B13,negAnxiety,2,FALSE) -> 2 | B13: =VLOOKUP('Ответы на форму (1)'!C13,posAnxiety,2,FALSE) -> 1 | C13: =VLOOKUP('Ответы на форму (1)'!D13,posAnxiety,2,FALSE) -> 1 | D13: =VLOOKUP('Ответы на форму (1)'!E13,negAnxiety,2,FALSE) -> 2 | E13: =VLOOKUP('Ответы на форму (1)'!F13,negAnxiety,2,FALSE) -> 2 | F13: =VLOOKUP('Ответы на форму (1)'!G13,posAnxiety,2,FALSE) -> 1 | G13: ='Ответы на форму (1)'!J13 -> #51a7f9 | H13: ='Ответы на форму (1)'!K13 -> 54376 | I13: =IF(H13>65000,"1. Спок",IF(H13>45000,"2. Немного","3. Тревожный")) -> 2. Немного | J13: =AVERAGE(A13:F13) -> 1.5 | K13: =IF(J13<2,"A. Спок",IF(J13<3,"B. Немного","C. Тревожный")) -> A. Спок
... A44: =VLOOKUP('Ответы на форму (1)'!B44,negAnxiety,2,FALSE) -> 2 | B44: =VLOOKUP('Ответы на форму (1)'!C44,posAnxiety,2,FALSE) -> 1 | C44: =VLOOKUP('Ответы на форму (1)'!D44,posAnxiety,2,FALSE) -> 1 | D44: =VLOOKUP('Ответы на форму (1)'!E44,negAnxiety,2,FALSE) -> 3 | E44: =VLOOKUP('Ответы на форму (1)'!F44,negAnxiety,2,FALSE) -> 2 | F44: =VLOOKUP('Ответы на форму (1)'!G44,posAnxiety,2,FALSE) -> 2 | G44: ='Ответы на форму (1)'!J44 -> #51a7f9 | H44: ='Ответы на форму (1)'!K44 -> 79775 | I44: =IF(H44>65000,"1. Спок",IF(H44>45000,"2. Немного","3. Тревожный")) -> 1. Спок | J44: =AVERAGE(A44:F44) -> 1.8333333 | K44: =IF(J44<2,"A. Спок",IF(J44<3,"B. Немного","C. Тревожный")) -> A. Спок
A45: =VLOOKUP('Ответы на форму (1)'!B46,negAnxiety,2,FALSE) -> 3 | B45: =VLOOKUP('Ответы на форму (1)'!C46,posAnxiety,2,FALSE) -> 1 | C45: =VLOOKUP('Ответы на форму (1)'!D46,posAnxiety,2,FALSE) -> 1 | D45: =VLOOKUP('Ответы на форму (1)'!E46,negAnxiety,2,FALSE) -> 3 | E45: =VLOOKUP('Ответы на форму (1)'!F46,negAnxiety,2,FALSE) -> 4 | F45: =VLOOKUP('Ответы на форму (1)'!G46,posAnxiety,2,FALSE) -> 2 | G45: ='Ответы на форму (1)'!J46 -> #f39019 | H45: ='Ответы на форму (1)'!K46 -> 49385 | I45: =IF(H45>65000,"1. Спок",IF(H45>45000,"2. Немного","3. Тревожный")) -> 2. Немного | J45: =AVERAGE(A45:F45) -> 2.3333333 | K45: =IF(J45<2,"A. Спок",IF(J45<3,"B. Немного","C. Тревожный")) -> B. Немного
A46: =VLOOKUP('Ответы на форму (1)'!B47,negAnxiety,2,FALSE) -> 3 | B46: =VLOOKUP('Ответы на форму (1)'!C47,posAnxiety,2,FALSE) -> 1 | C46: =VLOOKUP('Ответы на форму (1)'!D47,posAnxiety,2,FALSE) -> 1 | D46: =VLOOKUP('Ответы на форму (1)'!E47,negAnxiety,2,FALSE) -> 4 | E46: =VLOOKUP('Ответы на форму (1)'!F47,negAnxiety,2,FALSE) -> 4 | F46: =VLOOKUP('Ответы на форму (1)'!G47,posAnxiety,2,FALSE) -> 2 | G46: ='Ответы на форму (1)'!J47 -> #51a7f9 | H46: ='Ответы на форму (1)'!K47 -> 24521 | I46: =IF(H46>65000,"1. Спок",IF(H46>45000,"2. Немного","3. Тревожный")) -> 3. Тревожный | J46: =AVERAGE(A46:F46) -> 2.5 | K46: =IF(J46<2,"A. Спок",IF(J46<3,"B. Немного","C. Тревожный")) -> B. Немного
A47: =VLOOKUP('Ответы на форму (1)'!B48,negAnxiety,2,FALSE) -> 3 | B47: =VLOOKUP('Ответы на форму (1)'!C48,posAnxiety,2,FALSE) -> 2 | C47: =VLOOKUP('Ответы на форму (1)'!D48,posAnxiety,2,FALSE) -> 1 | D47: =VLOOKUP('Ответы на форму (1)'!E48,negAnxiety,2,FALSE) -> 4 | E47: =VLOOKUP('Ответы на форму (1)'!F48,negAnxiety,2,FALSE) -> 4 | F47: =VLOOKUP('Ответы на форму (1)'!G48,posAnxiety,2,FALSE) -> 3 | G47: ='Ответы на форму (1)'!J48 -> #51a7f9 | H47: ='Ответы на форму (1)'!K48 -> 46046 | I47: =IF(H47>65000,"1. Спок",IF(H47>45000,"2. Немного","3. Тревожный")) -> 2. Немного | J47: =AVERAGE(A47:F47) -> 2.8333333 | K47: =IF(J47<2,"A. Спок",IF(J47<3,"B. Немного","C. Тревожный")) -> B. Немного
A48: =VLOOKUP('Ответы на форму (1)'!B49,negAnxiety,2,FALSE) -> 4 | B48: =VLOOKUP('Ответы на форму (1)'!C49,posAnxiety,2,FALSE) -> 4 | C48: =VLOOKUP('Ответы на форму (1)'!D49,posAnxiety,2,FALSE) -> 3 | D48: =VLOOKUP('Ответы на форму (1)'!E49,negAnxiety,2,FALSE) -> 4 | E48: =VLOOKUP('Ответы на форму (1)'!F49,negAnxiety,2,FALSE) -> 4 | F48: =VLOOKUP('Ответы на форму (1)'!G49,posAnxiety,2,FALSE) -> 4 | G48: ='Ответы на форму (1)'!J49 -> #51a7f9 | H48: ='Ответы на форму (1)'!K49 -> 30976 | I48: =IF(H48>65000,"1. Спок",IF(H48>45000,"2. Немного","3. Тревожный")) -> 3. Тревожный | J48: =AVERAGE(A48:F48) -> 3.8333333 | K48: =IF(J48<2,"A. Спок",IF(J48<3,"B. Немного","C. Тревожный")) -> C. Тревожный
A49: =VLOOKUP('Ответы на форму (1)'!B50,negAnxiety,2,FALSE) -> 1 | B49: =VLOOKUP('Ответы на форму (1)'!C50,posAnxiety,2,FALSE) -> 1 | C49: =VLOOKUP('Ответы на форму (1)'!D50,posAnxiety,2,FALSE) -> 1 | D49: =VLOOKUP('Ответы на форму (1)'!E50,negAnxiety,2,FALSE) -> 2 | E49: =VLOOKUP('Ответы на форму (1)'!F50,negAnxiety,2,FALSE) -> 3 | F49: =VLOOKUP('Ответы на форму (1)'!G50,posAnxiety,2,FALSE) -> 2 | G49: ='Ответы на форму (1)'!J50 -> #51a7f9 | H49: ='Ответы на форму (1)'!K50 -> 52796 | I49: =IF(H49>65000,"1. Спок",IF(H49>45000,"2. Немного","3. Тревожный")) -> 2. Немного | J49: =AVERAGE(A49:F49) -> 1.6666667 | K49: =IF(J49<2,"A. Спок",IF(J49<3,"B. Немного","C. Тревожный")) -> A. Спок
A50: =VLOOKUP('Ответы на форму (1)'!B51,negAnxiety,2,FALSE) -> 3 | B50: =VLOOKUP('Ответы на форму (1)'!C51,posAnxiety,2,FALSE) -> 2 | C50: =VLOOKUP('Ответы на форму (1)'!D51,posAnxiety,2,FALSE) -> 1 | D50: =VLOOKUP('Ответы на форму (1)'!E51,negAnxiety,2,FALSE) -> 4 | E50: =VLOOKUP('Ответы на форму (1)'!F51,negAnxiety,2,FALSE) -> 4 | F50: =VLOOKUP('Ответы на форму (1)'!G51,posAnxiety,2,FALSE) -> 1 | G50: ='Ответы на форму (1)'!J51 -> #51a7f9 | H50: ='Ответы на форму (1)'!K51 -> 112583 | I50: =IF(H50>65000,"1. Спок",IF(H50>45000,"2. Немного","3. Тревожный")) -> 1. Спок | J50: =AVERAGE(A50:F50) -> 2.5 | K50: =IF(J50<2,"A. Спок",IF(J50<3,"B. Немного","C. Тревожный")) -> B. Немного
A51: =VLOOKUP('Ответы на форму (1)'!B52,negAnxiety,2,FALSE) -> 2 | B51: =VLOOKUP('Ответы на форму (1)'!C52,posAnxiety,2,FALSE) -> 1 | C51: =VLOOKUP('Ответы на форму (1)'!D52,posAnxiety,2,FALSE) -> 2 | D51: =VLOOKUP('Ответы на форму (1)'!E52,negAnxiety,2,FALSE) -> 3 | E51: =VLOOKUP('Ответы на форму (1)'!F52,negAnxiety,2,FALSE) -> 3 | F51: =VLOOKUP('Ответы на форму (1)'!G52,posAnxiety,2,FALSE) -> 2 | G51: ='Ответы на форму (1)'!J52 -> #f39019 | H51: ='Ответы на форму (1)'!K52 -> 1068 | I51: =IF(H51>65000,"1. Спок",IF(H51>45000,"2. Немного","3. Тревожный")) -> 3. Тревожный | J51: =AVERAGE(A51:F51) -> 2.1666667 | K51: =IF(J51<2,"A. Спок",IF(J51<3,"B. Немного","C. Тревожный")) -> B. Немного
A52: =VLOOKUP('Ответы на форму (1)'!B53,negAnxiety,2,FALSE) -> 3 | B52: =VLOOKUP('Ответы на форму (1)'!C53,posAnxiety,2,FALSE) -> 1 | C52: =VLOOKUP('Ответы на форму (1)'!D53,posAnxiety,2,FALSE) -> 1 | D52: =VLOOKUP('Ответы на форму (1)'!E53,negAnxiety,2,FALSE) -> 2 | E52: =VLOOKUP('Ответы на форму (1)'!F53,negAnxiety,2,FALSE) -> 3 | F52: =VLOOKUP('Ответы на форму (1)'!G53,posAnxiety,2,FALSE) -> 2 | G52: ='Ответы на форму (1)'!J53 -> #f39019 | H52: ='Ответы на форму (1)'!K53 -> 45493 | I52: =IF(H52>65000,"1. Спок",IF(H52>45000,"2. Немного","3. Тревожный")) -> 2. Немного | J52: =AVERAGE(A52:F52) -> 2 | K52: =IF(J52<2,"A. Спок",IF(J52<3,"B. Немного","C. Тревожный")) -> B. Немного
A53: =VLOOKUP('Ответы на форму (1)'!B54,negAnxiety,2,FALSE) -> 4 | B53: =VLOOKUP('Ответы на форму (1)'!C54,posAnxiety,2,FALSE) -> 3 | C53: =VLOOKUP('Ответы на форму (1)'!D54,posAnxiety,2,FALSE) -> 1 | D53: =VLOOKUP('Ответы на форму (1)'!E54,negAnxiety,2,FALSE) -> 4 | E53: =VLOOKUP('Ответы на форму (1)'!F54,negAnxiety,2,FALSE) -> 2 | F53: =VLOOKUP('Ответы на форму (1)'!G54,posAnxiety,2,FALSE) -> 2 | G53: ='Ответы на форму (1)'!J54 -> #51a7f9 | H53: ='Ответы на форму (1)'!K54 -> 74962 | I53: =IF(H53>65000,"1. Спок",IF(H53>45000,"2. Немного","3. Тревожный")) -> 1. Спок | J53: =AVERAGE(A53:F53) -> 2.6666667 | K53: =IF(J53<2,"A. Спок",IF(J53<3,"B. Немного","C. Тревожный")) -> B. Немного
A54: =VLOOKUP('Ответы на форму (1)'!B55,negAnxiety,2,FALSE) -> 2 | B54: =VLOOKUP('Ответы на форму (1)'!C55,posAnxiety,2,FALSE) -> 1 | C54: =VLOOKUP('Ответы на форму (1)'!D55,posAnxiety,2,FALSE) -> 1 | D54: =VLOOKUP('Ответы на форму (1)'!E55,negAnxiety,2,FALSE) -> 4 | E54: =VLOOKUP('Ответы на форму (1)'!F55,negAnxiety,2,FALSE) -> 2 | F54: =VLOOKUP('Ответы на форму (1)'!G55,posAnxiety,2,FALSE) -> 2 | G54: ='Ответы на форму (1)'!J55 -> #f39019 | H54: ='Ответы на форму (1)'!K55 -> 64355 | I54: =IF(H54>65000,"1. Спок",IF(H54>45000,"2. Немного","3. Тревожный")) -> 2. Немного | J54: =AVERAGE(A54:F54) -> 2 | K54: =IF(J54<2,"A. Спок",IF(J54<3,"B. Немного","C. Тревожный")) -> B. Немного
A55: =VLOOKUP('Ответы на форму (1)'!B56,negAnxiety,2,FALSE) -> 1 | B55: =VLOOKUP('Ответы на форму (1)'!C56,posAnxiety,2,FALSE) -> 1 | C55: =VLOOKUP('Ответы на форму (1)'!D56,posAnxiety,2,FALSE) -> 1 | D55: =VLOOKUP('Ответы на форму (1)'!E56,negAnxiety,2,FALSE) -> 1 | E55: =VLOOKUP('Ответы на форму (1)'!F56,negAnxiety,2,FALSE) -> 2 | F55: =VLOOKUP('Ответы на форму (1)'!G56,posAnxiety,2,FALSE) -> 1 | G55: ='Ответы на форму (1)'!J56 -> #f39019 | H55: ='Ответы на форму (1)'!K56 -> 45744 | I55: =IF(H55>65000,"1. Спок",IF(H55>45000,"2. Немного","3. Тревожный")) -> 2. Немного | J55: =AVERAGE(A55:F55) -> 1.1666667 | K55: =IF(J55<2,"A. Спок",IF(J55<3,"B. Немного","C. Тревожный")) -> A. Спок
A56: =VLOOKUP('Ответы на форму (1)'!B57,negAnxiety,2,FALSE) -> 4 | B56: =VLOOKUP('Ответы на форму (1)'!C57,posAnxiety,2,FALSE) -> 1 | C56: =VLOOKUP('Ответы на форму (1)'!D57,posAnxiety,2,FALSE) -> 1 | D56: =VLOOKUP('Ответы на форму (1)'!E57,negAnxiety,2,FALSE) -> 2 | E56: =VLOOKUP('Ответы на форму (1)'!F57,negAnxiety,2,FALSE) -> 1 | F56: =VLOOKUP('Ответы на форму (1)'!G57,posAnxiety,2,FALSE) -> 1 | G56: ='Ответы на форму (1)'!J57 -> #51a7f9 | H56: ='Ответы на форму (1)'!K57 -> 43310 | I56: =IF(H56>65000,"1. Спок",IF(H56>45000,"2. Немного","3. Тревожный")) -> 3. Тревожный | J56: =AVERAGE(A56:F56) -> 1.6666667 | K56: =IF(J56<2,"A. Спок",IF(J56<3,"B. Немного","C. Тревожный")) -> A. Спок
... A124: =VLOOKUP('Ответы на форму (1)'!B125,negAnxiety,2,FALSE) -> 3 | B124: =VLOOKUP('Ответы на форму (1)'!C125,posAnxiety,2,FALSE) -> 2 | C124: =VLOOKUP('Ответы на форму (1)'!D125,posAnxiety,2,FALSE) -> 2 | D124: =VLOOKUP('Ответы на форму (1)'!E125,negAnxiety,2,FALSE) -> 3 | E124: =VLOOKUP('Ответы на форму (1)'!F125,negAnxiety,2,FALSE) -> 3 | F124: =VLOOKUP('Ответы на форму (1)'!G125,posAnxiety,2,FALSE) -> 4 | G124: ='Ответы на форму (1)'!J125 -> #f39019 | H124: ='Ответы на форму (1)'!K125 -> 354935 | I124: =IF(H124>65000,"1. Спок",IF(H124>45000,"2. Немного","3. Тревожный")) -> 1. Спок | J124: =AVERAGE(A124:F124) -> 2.8333333 | K124: =IF(J124<2,"A. Спок",IF(J124<3,"B. Немного","C. Тревожный")) -> B. Немного
A125: =VLOOKUP('Ответы на форму (1)'!B127,negAnxiety,2,FALSE) -> 2 | B125: =VLOOKUP('Ответы на форму (1)'!C127,posAnxiety,2,FALSE) -> 2 | C125: =VLOOKUP('Ответы на форму (1)'!D127,posAnxiety,2,FALSE) -> 1 | D125: =VLOOKUP('Ответы на форму (1)'!E127,negAnxiety,2,FALSE) -> 3 | E125: =VLOOKUP('Ответы на форму (1)'!F127,negAnxiety,2,FALSE) -> 3 | F125: =VLOOKUP('Ответы на форму (1)'!G127,posAnxiety,2,FALSE) -> 2 | G125: ='Ответы на форму (1)'!J127 -> #f39019 | H125: ='Ответы на форму (1)'!K127 -> 95359 | I125: =IF(H125>65000,"1. Спок",IF(H125>45000,"2. Немного","3. Тревожный")) -> 1. Спок | J125: =AVERAGE(A125:F125) -> 2.1666667 | K125: =IF(J125<2,"A. Спок",IF(J125<3,"B. Немного","C. Тревожный")) -> B. Немного
A126: =VLOOKUP('Ответы на форму (1)'!B128,negAnxiety,2,FALSE) -> 3 | B126: =VLOOKUP('Ответы на форму (1)'!C128,posAnxiety,2,FALSE) -> 1 | C126: =VLOOKUP('Ответы на форму (1)'!D128,posAnxiety,2,FALSE) -> 1 | D126: =VLOOKUP('Ответы на форму (1)'!E128,negAnxiety,2,FALSE) -> 3 | E126: =VLOOKUP('Ответы на форму (1)'!F128,negAnxiety,2,FALSE) -> 4 | F126: =VLOOKUP('Ответы на форму (1)'!G128,posAnxiety,2,FALSE) -> 2 | G126: ='Ответы на форму (1)'!J128 -> #51a7f9 | H126: ='Ответы на форму (1)'!K128 -> 26377 | I126: =IF(H126>65000,"1. Спок",IF(H126>45000,"2. Немного","3. Тревожный")) -> 3. Тревожный | J126: =AVERAGE(A126:F126) -> 2.3333333 | K126: =IF(J126<2,"A. Спок",IF(J126<3,"B. Немного","C. Тревожный")) -> B. Немного
A127: =VLOOKUP('Ответы на форму (1)'!B129,negAnxiety,2,FALSE) -> 3 | B127: =VLOOKUP('Ответы на форму (1)'!C129,posAnxiety,2,FALSE) -> 1 | C127: =VLOOKUP('Ответы на форму (1)'!D129,posAnxiety,2,FALSE) -> 1 | D127: =VLOOKUP('Ответы на форму (1)'!E129,negAnxiety,2,FALSE) -> 3 | E127: =VLOOKUP('Ответы на форму (1)'!F129,negAnxiety,2,FALSE) -> 3 | F127: =VLOOKUP('Ответы на форму (1)'!G129,posAnxiety,2,FALSE) -> 1 | G127: ='Ответы на форму (1)'!J129 -> #51a7f9 | H127: ='Ответы на форму (1)'!K129 -> 82368 | I127: =IF(H127>65000,"1. Спок",IF(H127>45000,"2. Немного","3. Тревожный")) -> 1. Спок | J127: =AVERAGE(A127:F127) -> 2 | K127: =IF(J127<2,"A. Спок",IF(J127<3,"B. Немного","C. Тревожный")) -> B. Немного
A128: =VLOOKUP('Ответы на форму (1)'!B130,negAnxiety,2,FALSE) -> 3 | B128: =VLOOKUP('Ответы на форму (1)'!C130,posAnxiety,2,FALSE) -> 1 | C128: =VLOOKUP('Ответы на форму (1)'!D130,posAnxiety,2,FALSE) -> 1 | D128: =VLOOKUP('Ответы на форму (1)'!E130,negAnxiety,2,FALSE) -> 2 | E128: =VLOOKUP('Ответы на форму (1)'!F130,negAnxiety,2,FALSE) -> 3 | F128: =VLOOKUP('Ответы на форму (1)'!G130,posAnxiety,2,FALSE) -> 2 | G128: ='Ответы на форму (1)'!J130 -> #f39019 | H128: ='Ответы на форму (1)'!K130 -> 55415 | I128: =IF(H128>65000,"1. Спок",IF(H128>45000,"2. Немного","3. Тревожный")) -> 2. Немного | J128: =AVERAGE(A128:F128) -> 2 | K128: =IF(J128<2,"A. Спок",IF(J128<3,"B. Немного","C. Тревожный")) -> B. Немного
A129: =VLOOKUP('Ответы на форму (1)'!B131,negAnxiety,2,FALSE) -> 3 | B129: =VLOOKUP('Ответы на форму (1)'!C131,posAnxiety,2,FALSE) -> 2 | C129: =VLOOKUP('Ответы на форму (1)'!D131,posAnxiety,2,FALSE) -> 1 | D129: =VLOOKUP('Ответы на форму (1)'!E131,negAnxiety,2,FALSE) -> 4 | E129: =VLOOKUP('Ответы на форму (1)'!F131,negAnxiety,2,FALSE) -> 3 | F129: =VLOOKUP('Ответы на форму (1)'!G131,posAnxiety,2,FALSE) -> 3 | G129: ='Ответы на форму (1)'!J131 -> #51a7f9 | H129: ='Ответы на форму (1)'!K131 -> 32400 | I129: =IF(H129>65000,"1. Спок",IF(H129>45000,"2. Немного","3. Тревожный")) -> 3. Тревожный | J129: =AVERAGE(A129:F129) -> 2.6666667 | K129: =IF(J129<2,"A. Спок",IF(J129<3,"B. Немного","C. Тревожный")) -> B. Немного
A130: =VLOOKUP('Ответы на форму (1)'!B132,negAnxiety,2,FALSE) -> 2 | B130: =VLOOKUP('Ответы на форму (1)'!C132,posAnxiety,2,FALSE) -> 1 | C130: =VLOOKUP('Ответы на форму (1)'!D132,posAnxiety,2,FALSE) -> 1 | D130: =VLOOKUP('Ответы на форму (1)'!E132,negAnxiety,2,FALSE) -> 2 | E130: =VLOOKUP('Ответы на форму (1)'!F132,negAnxiety,2,FALSE) -> 4 | F130: =VLOOKUP('Ответы на форму (1)'!G132,posAnxiety,2,FALSE) -> 3 | G130: ='Ответы на форму (1)'!J132 -> #51a7f9 | H130: ='Ответы на форму (1)'!K132 -> 67428 | I130: =IF(H130>65000,"1. Спок",IF(H130>45000,"2. Немного","3. Тревожный")) -> 1. Спок | J130: =AVERAGE(A130:F130) -> 2.1666667 | K130: =IF(J130<2,"A. Спок",IF(J130<3,"B. Немного","C. Тревожный")) -> B. Немного
A131: =VLOOKUP('Ответы на форму (1)'!B133,negAnxiety,2,FALSE) -> 2 | B131: =VLOOKUP('Ответы на форму (1)'!C133,posAnxiety,2,FALSE) -> 1 | C131: =VLOOKUP('Ответы на форму (1)'!D133,posAnxiety,2,FALSE) -> 1 | D131: =VLOOKUP('Ответы на форму (1)'!E133,negAnxiety,2,FALSE) -> 3 | E131: =VLOOKUP('Ответы на форму (1)'!F133,negAnxiety,2,FALSE) -> 3 | F131: =VLOOKUP('Ответы на форму (1)'!G133,posAnxiety,2,FALSE) -> 2 | G131: ='Ответы на форму (1)'!J133 -> #51a7f9 | H131: ='Ответы на форму (1)'!K133 -> 41780 | I131: =IF(H131>65000,"1. Спок",IF(H131>45000,"2. Немного","3. Тревожный")) -> 3. Тревожный | J131: =AVERAGE(A131:F131) -> 2 | K131: =IF(J131<2,"A. Спок",IF(J131<3,"B. Немного","C. Тревожный")) -> B. Немного
A132: =VLOOKUP('Ответы на форму (1)'!B134,negAnxiety,2,FALSE) -> 4 | B132: =VLOOKUP('Ответы на форму (1)'!C134,posAnxiety,2,FALSE) -> 2 | C132: =VLOOKUP('Ответы на форму (1)'!D134,posAnxiety,2,FALSE) -> 1 | D132: =VLOOKUP('Ответы на форму (1)'!E134,negAnxiety,2,FALSE) -> 3 | E132: =VLOOKUP('Ответы на форму (1)'!F134,negAnxiety,2,FALSE) -> 3 | F132: =VLOOKUP('Ответы на форму (1)'!G134,posAnxiety,2,FALSE) -> 3 | G132: ='Ответы на форму (1)'!J134 -> #f39019 | H132: ='Ответы на форму (1)'!K134 -> 40466 | I132: =IF(H132>65000,"1. Спок",IF(H132>45000,"2. Немного","3. Тревожный")) -> 3. Тревожный | J132: =AVERAGE(A132:F132) -> 2.6666667 | K132: =IF(J132<2,"A. Спок",IF(J132<3,"B. Немного","C. Тревожный")) -> B. Немного
A133: =VLOOKUP('Ответы на форму (1)'!B135,negAnxiety,2,FALSE) -> 1 | B133: =VLOOKUP('Ответы на форму (1)'!C135,posAnxiety,2,FALSE) -> 1 | C133: =VLOOKUP('Ответы на форму (1)'!D135,posAnxiety,2,FALSE) -> 1 | D133: =VLOOKUP('Ответы на форму (1)'!E135,negAnxiety,2,FALSE) -> 1 | E133: =VLOOKUP('Ответы на форму (1)'!F135,negAnxiety,2,FALSE) -> 1 | F133: =VLOOKUP('Ответы на форму (1)'!G135,posAnxiety,2,FALSE) -> 1 | G133: ='Ответы на форму (1)'!J135 -> #51a7f9 | H133: ='Ответы на форму (1)'!K135 -> 56742 | I133: =IF(H133>65000,"1. Спок",IF(H133>45000,"2. Немного","3. Тревожный")) -> 2. Немного | J133: =AVERAGE(A133:F133) -> 1 | K133: =IF(J133<2,"A. Спок",IF(J133<3,"B. Немного","C. Тревожный")) -> A. Спок
A134: =VLOOKUP('Ответы на форму (1)'!B136,negAnxiety,2,FALSE) -> 3 | B134: =VLOOKUP('Ответы на форму (1)'!C136,posAnxiety,2,FALSE) -> 2 | C134: =VLOOKUP('Ответы на форму (1)'!D136,posAnxiety,2,FALSE) -> 1 | D134: =VLOOKUP('Ответы на форму (1)'!E136,negAnxiety,2,FALSE) -> 3 | E134: =VLOOKUP('Ответы на форму (1)'!F136,negAnxiety,2,FALSE) -> 3 | F134: =VLOOKUP('Ответы на форму (1)'!G136,posAnxiety,2,FALSE) -> 3 | G134: ='Ответы на форму (1)'!J136 -> #f39019 | H134: ='Ответы на форму (1)'!K136 -> 49055 | I134: =IF(H134>65000,"1. Спок",IF(H134>45000,"2. Немного","3. Тревожный")) -> 2. Немного | J134: =AVERAGE(A134:F134) -> 2.5 | K134: =IF(J134<2,"A. Спок",IF(J134<3,"B. Немного","C. Тревожный")) -> B. Немного
A135: =VLOOKUP('Ответы на форму (1)'!B137,negAnxiety,2,FALSE) -> 1 | B135: =VLOOKUP('Ответы на форму (1)'!C137,posAnxiety,2,FALSE) -> 1 | C135: =VLOOKUP('Ответы на форму (1)'!D137,posAnxiety,2,FALSE) -> 2 | D135: =VLOOKUP('Ответы на форму (1)'!E137,negAnxiety,2,FALSE) -> 1 | E135: =VLOOKUP('Ответы на форму (1)'!F137,negAnxiety,2,FALSE) -> 2 | F135: =VLOOKUP('Ответы на форму (1)'!G137,posAnxiety,2,FALSE) -> 3 | G135: ='Ответы на форму (1)'!J137 -> #51a7f9 | H135: ='Ответы на форму (1)'!K137 -> 47826 | I135: =IF(H135>65000,"1. Спок",IF(H135>45000,"2. Немного","3. Тревожный")) -> 2. Немного | J135: =AVERAGE(A135:F135) -> 1.6666667 | K135: =IF(J135<2,"A. Спок",IF(J135<3,"B. Немного","C. Тревожный")) -> A. Спок
A136: =VLOOKUP('Ответы на форму (1)'!B138,negAnxiety,2,FALSE) -> 1 | B136: =VLOOKUP('Ответы на форму (1)'!C138,posAnxiety,2,FALSE) -> 1 | C136: =VLOOKUP('Ответы на форму (1)'!D138,posAnxiety,2,FALSE) -> 1 | D136: =VLOOKUP('Ответы на форму (1)'!E138,negAnxiety,2,FALSE) -> 1 | E136: =VLOOKUP('Ответы на форму (1)'!F138,negAnxiety,2,FALSE) -> 3 | F136: =VLOOKUP('Ответы на форму (1)'!G138,posAnxiety,2,FALSE) -> 3 | G136: ='Ответы на форму (1)'!J138 -> #51a7f9 | H136: ='Ответы на форму (1)'!K138 -> 56043 | I136: =IF(H136>65000,"1. Спок",IF(H136>45000,"2. Немного","3. Тревожный")) -> 2. Немного | J136: =AVERAGE(A136:F136) -> 1.6666667 | K136: =IF(J136<2,"A. Спок",IF(J136<3,"B. Немного","C. Тревожный")) -> A. Спок
... A196: =VLOOKUP('Ответы на форму (1)'!B198,negAnxiety,2,FALSE) -> 2 | B196: =VLOOKUP('Ответы на форму (1)'!C198,posAnxiety,2,FALSE) -> 1 | C196: =VLOOKUP('Ответы на форму (1)'!D198,posAnxiety,2,FALSE) -> 2 | D196: =VLOOKUP('Ответы на форму (1)'!E198,negAnxiety,2,FALSE) -> 3 | E196: =VLOOKUP('Ответы на форму (1)'!F198,negAnxiety,2,FALSE) -> 3 | F196: =VLOOKUP('Ответы на форму (1)'!G198,posAnxiety,2,FALSE) -> 2 | G196: ='Ответы на форму (1)'!J198 -> #f39019 | H196: ='Ответы на форму (1)'!K198 -> 80136 | I196: =IF(H196>65000,"1. Спок",IF(H196>45000,"2. Немного","3. Тревожный")) -> 1. Спок | J196: =AVERAGE(A196:F196) -> 2.1666667 | K196: =IF(J196<2,"A. Спок",IF(J196<3,"B. Немного","C. Тревожный")) -> B. Немного

Sheet Correlation tests1
B1: You are using the XLSTAT trial version. Number of days remaining until the trial expires: 6
B3: XLSTAT 2019.4.2.63762 - Correlation tests - Start time: 28/01/2020 at 15:44:33 / End time: 28/01/2020 at 15:44:33 / Microsoft Excel 16.012325
B4: Observations / Quantitative variables: Workbook = Субъективная минута (Ответы).xlsx / Sheet = Анализ / Range = 'Анализ'!$A:$F,'Анализ'!$J:$J / 195 rows and 7 columns
B5: Type of correlation: Pearson
B10: Summary statistics (Quantitative data):
B12: Variable | C12: Observations | D12: Obs. with missing data | E12: Obs. without missing data | F12: Minimum | G12: Maximum | H12: Mean | I12: Std. deviation
B13: Я спокоен | C13: 195 | D13: 0 | E13: 195 | F13: 1 | G13: 4 | H13: 2.7025641 | I13: 0.96524319
B14: Я нахожусь в напряжении | C14: 195 | D14: 0 | E14: 195 | F14: 1 | G14: 4 | H14: 1.574359 | I14: 0.79842563
B15: Я расстроен | C15: 195 | D15: 0 | E15: 195 | F15: 1 | G15: 4 | H15: 1.3179487 | I15: 0.68971524
B16: Я не чувствую скованности, напряжения | C16: 195 | D16: 0 | E16: 195 | F16: 1 | G16: 4 | H16: 2.8205128 | I16: 1.0714619
B17: Я доволен | C17: 195 | D17: 0 | E17: 195 | F17: 1 | G17: 4 | H17: 3.0358974 | I17: 0.83957745
B18: Меня волнуют возможные неудачи | C18: 195 | D18: 0 | E18: 195 | F18: 1 | G18: 4 | H18: 2.0923077 | I18: 1.0212648
B19: Балл тревожности | C19: 195 | D19: 0 | E19: 195 | F19: 1 | G19: 4 | H19: 2.257265 | I19: 0.64465148
B22: Correlation matrix (Pearson):
B24: Variables | C24: Я спокоен | D24: Я нахожусь в напряжении | E24: Я расстроен | F24: Я не чувствую скованности, напряжения | G24: Я доволен | H24: Меня волнуют возможные неудачи | I24: Балл тревожности
B25: Я спокоен | C25: 1 | D25: 0.58398955 | E25: 0.29763683 | F25: 0.55118784 | G25: 0.49665175 | H25: 0.42017464 | I25: 0.79460611
B26: Я нахожусь в напряжении | C26: 0.58398955 | D26: 1 | E26: 0.4623073 | F26: 0.45854963 | G26: 0.42276957 | H26: 0.4656571 | I26: 0.77633769
B27: Я расстроен | C27: 0.29763683 | D27: 0.4623073 | E27: 1 | F27: 0.21712298 | G27: 0.33625193 | H27: 0.24351923 | I27: 0.54545528
B28: Я не чувствую скованности, напряжения | C28: 0.55118784 | D28: 0.45854963 | E28: 0.21712298 | F28: 1 | G28: 0.5286367 | H28: 0.38265178 | I28: 0.76371584
B29: Я доволен | C29: 0.49665175 | D29: 0.42276957 | E29: 0.33625193 | F29: 0.5286367 | G29: 1 | H29: 0.28467833 | I29: 0.7098361
B30: Меня волнуют возможные неудачи | C30: 0.42017464 | D30: 0.4656571 | E30: 0.24351923 | F30: 0.38265178 | G30: 0.28467833 | H30: 1 | I30: 0.6762293
B31: Балл тревожности | C31: 0.79460611 | D31: 0.77633769 | E31: 0.54545528 | F31: 0.76371584 | G31: 0.7098361 | H31: 0.6762293 | I31: 1
B32: Values in bold are different from 0 with a significance level alpha=0,01
B35: p-values (Pearson):
B37: Variables | C37: Я спокоен | D37: Я нахожусь в напряжении | E37: Я расстроен | F37: Я не чувствую скованности, напряжения | G37: Я доволен | H37: Меня волнуют возможные неудачи | I37: Балл тревожности
B38: Я спокоен | C38: 0 | D38: < 0,0001 | E38: < 0,0001 | F38: < 0,0001 | G38: < 0,0001 | H38: < 0,0001 | I38: < 0,0001
B39: Я нахожусь в напряжении | C39: < 0,0001 | D39: 0 | E39: < 0,0001 | F39: < 0,0001 | G39: < 0,0001 | H39: < 0,0001 | I39: < 0,0001
B40: Я расстроен | C40: < 0,0001 | D40: < 0,0001 | E40: 0 | F40: 0.002296655 | G40: < 0,0001 | H40: 0.0006024982 | I40: < 0,0001
B41: Я не чувствую скованности, напряжения | C41: < 0,0001 | D41: < 0,0001 | E41: 0.002296655 | F41: 0 | G41: < 0,0001 | H41: < 0,0001 | I41: < 0,0001
B42: Я доволен | C42: < 0,0001 | D42: < 0,0001 | E42: < 0,0001 | F42: < 0,0001 | G42: 0 | H42: < 0,0001 | I42: < 0,0001
B43: Меня волнуют возможные неудачи | C43: < 0,0001 | D43: < 0,0001 | E43: 0.0006024982 | F43: < 0,0001 | G43: < 0,0001 | H43: 0 | I43: < 0,0001
B44: Балл тревожности | C44: < 0,0001 | D44: < 0,0001 | E44: < 0,0001 | F44: < 0,0001 | G44: < 0,0001 | H44: < 0,0001 | I44: 0
B47: Coefficients of determination (Pearson):
B49: Variables | C49: Я спокоен | D49: Я нахожусь в напряжении | E49: Я расстроен | F49: Я не чувствую скованности, напряжения | G49: Я доволен | H49: Меня волнуют возможные неудачи | I49: Балл тревожности
B50: Я спокоен | C50: 1 | D50: 0.34104379 | E50: 0.088587681 | F50: 0.30380804 | G50: 0.24666296 | H50: 0.17654673 | I50: 0.63139887
B51: Я нахожусь в напряжении | C51: 0.34104379 | D51: 1 | E51: 0.21372804 | F51: 0.21026776 | G51: 0.17873411 | H51: 0.21683654 | I51: 0.6027002
B52: Я расстроен | C52: 0.088587681 | D52: 0.21372804 | E52: 1 | F52: 0.047142387 | G52: 0.11306536 | H52: 0.059301613 | I52: 0.29752146
B53: Я не чувствую скованности, напряжения | C53: 0.30380804 | D53: 0.21026776 | E53: 0.047142387 | F53: 1 | G53: 0.27945676 | H53: 0.14642238 | I53: 0.58326189
B54: Я доволен | C54: 0.24666296 | D54: 0.17873411 | E54: 0.11306536 | F54: 0.27945676 | G54: 1 | H54: 0.08104175 | I54: 0.50386729
B55: Меня волнуют возможные неудачи | C55: 0.17654673 | D55: 0.21683654 | E55: 0.059301613 | F55: 0.14642238 | G55: 0.08104175 | H55: 1 | I55: 0.45728606
...

Sheet Association coefficients1
B1: You are using the XLSTAT trial version. Number of days remaining until the trial expires: 6
B3: XLSTAT 2019.4.2.63762 - Tests on contingency tables (Chi-square...) - Start time: 28/01/2020 at 15:39:34 / End time: 28/01/2020 at 15:39:35 / Microsoft Excel 16.012325
B4: Row variable(s): Workbook = Субъективная минута (Ответы).xlsx / Sheet = Анализ / Range = 'Анализ'!$I:$I / 195 rows and 1 column
B5: Column variable(s): Workbook = Субъективная минута (Ответы).xlsx / Sheet = Анализ / Range = 'Анализ'!$K:$K / 195 rows and 1 column
B6: Seed (random numbers): 123456789
B11: Results for the variables Тревожность по субъективной минуте and Тревожность по опросу:
B13: Contingency table (Тревожность по субъективной минуте / Тревожность по опросу):
C15: A. Спок | D15: B. Немного | E15: C. Тревожный
B16: 1. Спок | C16: 17 | D16: 33 | E16: 8
B17: 2. Немного | C17: 27 | D17: 26 | E17: 12
B18: 3. Тревожный | C18: 19 | D18: 41 | E18: 12
B21: Test of independence between the rows and the columns (Тревожность по субъективной минуте / Тревожность по опросу):
B23: Chi-square (Observed value) | C23: 5.4879422
B24: Chi-square (Critical value) | C24: 9.487729
B25: DF | C25: 4
B26: p-value | C26: 0.2407914
B27: alpha | C27: 0.05
B29: Test interpretation:
B30: H0: The rows and the columns of the table are independent.
B31: Ha: There is a link between the rows and the columns of the table.
B32: As the computed p-value is greater than the significance level alpha=0,05, one cannot reject the null hypothesis H0.
B36: Significance by cell (Fisher's exact test) (Тревожность по субъективной минуте / Тревожность по опросу):
C38: A. Спок | D38: B. Немного | E38: C. Тревожный
B39: 1. Спок | C39: < | D39: > | E39: <
B40: 2. Немного | C40: > | D40: < | E40: >
B41: 3. Тревожный | C41: < | D41: > | E41: >
B42: Values displayed in red are significant at the level alpha=0,05
B45: Theoretical frequencies / Resampled statistics (Number of samples=100) (Тревожность по субъективной минуте / Тревожность по опросу):
B47: Row variable | C47: Column variable | D47: Observed frequencies | E47: Theoretical frequencies | F47: Mean(Bootstrap) | G47: Standard error | H47: Lower bound (95%) | I47: Upper bound (95%) | J47: Lower bound Simple percentile interval (95%) | K47: Upper bound Simple percentile interval (95%)
B48: 1. Спок | C48: A. Спок | D48: 17 | E48: 18.738462 | F48: 18.58 | G48: 4.2263722 | H48: 10.244463 | I48: 26.915537 | J48: 11 | K48: 27
B49: 1. Спок | C49: B. Немного | D49: 33 | E49: 29.74359 | F49: 30.44 | G49: 4.9468284 | H49: 20.683531 | I49: 40.196469 | J49: 21 | K49: 39.525
B50: 1. Спок | C50: C. Тревожный | D50: 8 | E50: 9.5179487 | F50: 9.52 | G50: 2.8761647 | H50: 3.8474338 | I50: 15.192566 | J50: 4 | K50: 16
B51: 2. Немного | C51: A. Спок | D51: 27 | E51: 21 | F51: 21.3 | G51: 4.5847794 | H51: 12.257588 | I51: 30.342412 | J51: 14 | K51: 29.525
B52: 2. Немного | C52: B. Немного | D52: 26 | E52: 33.333333 | F52: 33.31 | G52: 5.5952631 | H52: 22.274644 | I52: 44.345356 | J52: 23.475 | K52: 45.05
B53: 2. Немного | C53: C. Тревожный | D53: 12 | E53: 10.666667 | F53: 10.46 | G53: 2.9556315 | H53: 4.630704 | I53: 16.289296 | J53: 5.475 | K53: 15.525
B54: 3. Тревожный | C54: A. Спок | D54: 19 | E54: 23.261538 | F54: 22.85 | G54: 4.5800953 | H54: 13.816827 | I54: 31.883173 | J54: 15.475 | K54: 33
B55: 3. Тревожный | C55: B. Немного | D55: 41 | E55: 36.923077 | F55: 37.14 | G55: 5.3936364 | H55: 26.502306 | I55: 47.777694 | J55: 27 | K55: 45.525
B56: 3. Тревожный | C56: C. Тревожный | D56: 12 | E56: 11.815385 | F56: 11.4 | G56: 3.2380316 | H56: 5.0137355 | I56: 17.786265 | J56: 6 | K56: 18
C57: Values displayed in bold are significant at the level alpha=0,05
B60: Test of independence between the rows and the columns (Chi-square):
...

Sheet Correlation tests
B1: You are using the XLSTAT trial version. Number of days remaining until the trial expires: 6
B3: XLSTAT 2019.4.2.63762 - Correlation tests - Start time: 28/01/2020 at 15:36:36 / End time: 28/01/2020 at 15:36:36 / Microsoft Excel 16.012325
B4: Observations / Quantitative variables: Workbook = Субъективная минута (Ответы).xlsx / Sheet = Анализ / Range = 'Анализ'!$H:$H,'Анализ'!$J:$J / 195 rows and 2 columns
B5: Type of correlation: Pearson
B10: Summary statistics (Quantitative data):
B12: Variable | C12: Observations | D12: Obs. with missing data | E12: Obs. without missing data | F12: Minimum | G12: Maximum | H12: Mean | I12: Std. deviation
B13: Значение | C13: 195 | D13: 0 | E13: 195 | F13: 1068 | G13: 1371408 | H13: 60721.528 | I13: 99614.077
B14: Балл тревожности | C14: 195 | D14: 0 | E14: 195 | F14: 1 | G14: 4 | H14: 2.257265 | I14: 0.64465148
B17: Correlation matrix (Pearson):
B19: Variables | C19: Значение | D19: Балл тревожности
B20: Значение | C20: 1 | D20: 0.029551434
B21: Балл тревожности | C21: 0.029551434 | D21: 1
B22: Values in bold are different from 0 with a significance level alpha=0,01
B25: p-values (Pearson):
B27: Variables | C27: Значение | D27: Балл тревожности
B28: Значение | C28: 0 | D28: 0.68173275
B29: Балл тревожности | C29: 0.68173275 | D29: 0
B32: Coefficients of determination (Pearson):
B34: Variables | C34: Значение | D34: Балл тревожности
B35: Значение | C35: 1 | D35: 0.00087328724
B36: Балл тревожности | C36: 0.00087328724 | D36: 1

Sheet Влияние фона на задержку
A1: Фон | B1: Значение (син) | D1: Фон | E1: Значение (оранж)
A2: #51a7f9 | B2: 19502 | D2: #f39019 | E2: 23442
A3: #51a7f9 | B3: 21211 | D3: #f39019 | E3: 23508
A4: #51a7f9 | B4: 21294 | D4: #f39019 | E4: 24719
A5: #51a7f9 | B5: 24521 | D5: #f39019 | E5: 25568
A6: #51a7f9 | B6: 26377 | D6: #f39019 | E6: 29426
A7: #51a7f9 | B7: 26460 | D7: #f39019 | E7: 30369
A8: #51a7f9 | B8: 27821 | D8: #f39019 | E8: 31361
A9: #51a7f9 | B9: 29826 | D9: #f39019 | E9: 32986
A10: #51a7f9 | B10: 30804 | D10: #f39019 | E10: 33097
A11: #51a7f9 | B11: 30976 | D11: #f39019 | E11: 34311
A12: #51a7f9 | B12: 32400 | D12: #f39019 | E12: 34349
A13: #51a7f9 | B13: 33351 | D13: #f39019 | E13: 34705
... A70: #51a7f9 | B70: 94609 | D70: #f39019 | E70: 95359
A71: #51a7f9 | B71: 98317
A72: #51a7f9 | B72: 98870

Sheet Ключи
A1: Нет, это не так | B1: 1
A2: Пожалуй это так | B2: 2
A3: Верно | B3: 3
A4: Совершенно верно | B4: 4
A7: Нет, это не так | B7: 4
A8: Пожалуй это так | B8: 3
A9: Верно | B9: 2
A10: Совершенно верно | B10: 1
A15: Статья про опросник тревоги: https://www.researchgate.net/publication/38079410_Support_for_the_Reliability_and_Validity_of_a_Six-Item_State_Anxiety_Scale_Derived_From_the_State-Trait_Anxiety_Inventory
A16: Русское взял отсюда: https://www.sites.google.com/site/logopedonlain/psihologogiceskaa-diagnostika-testy/diagnostika-straha-zastencivosti-trevoznosti/test-oprosnik-na-trevoznost-spilbergera-hanina
