Workbook
Name Keys: Ключи!$A$1:$B$4

Sheet Ответы на форму (1)
A1: Отметка времени | B1: ...в приложениях соцсетей на смартфоне? | C1: ...в мессенджерах на смартфоне? | D1: ...в электронной почте на смартфоне? | E1: Значение субъективной минуты
A2: 43868.647 | B2: Да, но выключены лишь некоторые оповещения. Не все. | C2: Да, но выключены лишь некоторые оповещения. Не все. | D2: Нет, все осталось как и было после установки | E2: 18206
A3: 43868.648 | B3: Нет, все осталось как и было после установки | C3: Да, но выключены лишь некоторые оповещения. Не все. | D3: Нет, все осталось как и было после установки | E3: 48943
A4: 43868.648 | B4: Да, но выключены лишь некоторые оповещения. Не все. | C4: Да, но выключены лишь некоторые оповещения. Не все. | D4: Да, но выключены лишь некоторые оповещения. Не все. | E4: 54887
A5: 43868.648 | B5: Все выключено | C5: Все выключено | D5: Да, но выключены лишь некоторые оповещения. Не все. | E5: 2172
A6: 43868.648 | B6: Да, но выключены лишь некоторые оповещения. Не все. | C6: Да, но выключены лишь некоторые оповещения. Не все. | D6: Нет, все осталось как и было после установки | E6: 28638
A7: 43868.648 | B7: Да, но выключены лишь некоторые оповещения. Не все. | C7: Да, но выключены лишь некоторые оповещения. Не все. | D7: Все выключено | E7: 58115
A8: 43868.648 | B8: Нет, все осталось как и было после установки | C8: Нет, все осталось как и было после установки | D8: У меня вообще нет этих приложений | E8: 51021
A9: 43868.649 | B9: Все выключено | C9: Все выключено | D9: Все выключено | E9: 73815
A10: 43868.649 | B10: Все выключено | C10: Да, но выключены лишь некоторые оповещения. Не все. | D10: Да, но выключены лишь некоторые оповещения. Не все. | E10: 42780
A11: 43868.65 | B11: Да, но выключены лишь некоторые оповещения. Не все. | C11: Да, но выключены лишь некоторые оповещения. Не все. | D11: Все выключено | E11: 24538
A12: 43868.651 | B12: Все выключено | C12: Да, но выключены лишь некоторые оповещения. Не все. | D12: Все выключено | E12: 74998
A13: 43868.651 | B13: Все выключено | C13: Все выключено | D13: Все выключено | E13: 1305
... A65: 43868.701 | B65: Да, но выключены лишь некоторые оповещения. Не все. | C65: Да, но выключены лишь некоторые оповещения. Не все. | D65: Нет, все осталось как и было после установки | E65: 32207
A66: 43868.703 | E66: 40048
A67: 43868.707 | B67: Все выключено | C67: Да, но выключены лишь некоторые оповещения. Не все. | D67: Все выключено | E67: 88762
A68: 43868.708 | B68: Нет, все осталось как и было после установки | C68: Да, но выключены лишь некоторые оповещения. Не все. | D68: Нет, все осталось как и было после установки | E68: 79739
A69: 43868.712 | B69: Все выключено | C69: Да, но выключены лишь некоторые оповещения. Не все. | D69: Все выключено | E69: 50174
A70: 43868.715 | B70: У меня вообще нет этих приложений | C70: Да, но выключены лишь некоторые оповещения. Не все. | D70: Все выключено | E70: 50167
A71: 43868.715 | B71: Да, но выключены лишь некоторые оповещения. Не все. | C71: Да, но выключены лишь некоторые оповещения. Не все. | D71: Все выключено | E71: 31450
A72: 43868.716 | B72: Да, но выключены лишь некоторые оповещения. Не все. | C72: Да, но выключены лишь некоторые оповещения. Не все. | D72: Все выключено | E72: 48304
A73: 43868.717 | B73: Нет, все осталось как и было после установки | C73: Нет, все осталось как и было после установки | D73: Нет, все осталось как и было после установки | E73: 92212
A74: 43868.717 | B74: Нет, все осталось как и было после установки | C74: Нет, все осталось как и было после установки | D74: Нет, все осталось как и было после установки | E74: 92212
A75: 43868.718 | B75: Да, но выключены лишь некоторые оповещения. Не все. | C75: Да, но выключены лишь некоторые оповещения. Не все. | D75: Да, но выключены лишь некоторые оповещения. Не все. | E75: 43473
A76: 43868.718 | B76: Да, но выключены лишь некоторые оповещения. Не все. | C76: Да, но выключены лишь некоторые оповещения. Не все. | D76: Все выключено | E76: 15830
A77: 43868.719 | B77: У меня вообще нет этих приложений | C77: Да, но выключены лишь некоторые оповещения. Не все. | D77: Все выключено | E77: 67576
A78: 43868.722 | B78: У меня вообще нет этих приложений | C78: Все выключено | D78: Все выключено | E78: 71295
... A115: 43868.859 | B115: Все выключено | C115: Да, но выключены лишь некоторые оповещения. Не все. | D115: Все выключено | E115: 39639
A116: 43868.86 | B116: Все выключено | C116: Да, но выключены лишь некоторые оповещения. Не все. | D116: Все выключено
A117: 43868.873 | B117: Все выключено | C117: Да, но выключены лишь некоторые оповещения. Не все. | D117: Все выключено | E117: 26054
A118: 43868.877 | B118: У меня вообще нет этих приложений | C118: Все выключено | D118: Нет, все осталось как и было после установки | E118: 5477
A119: 43868.878 | B119: У меня вообще нет этих приложений | C119: Все выключено | D119: Все выключено | E119: 60990
A120: 43868.879 | B120: У меня вообще нет этих приложений | C120: Да, но выключены лишь некоторые оповещения. Не все. | D120: Нет, все осталось как и было после установки | E120: 68962
A121: 43868.894 | B121: У меня вообще нет этих приложений | C121: Да, но выключены лишь некоторые оповещения. Не все. | D121: Нет, все осталось как и было после установки | E121: 49460
A122: 43868.899 | B122: У меня вообще нет этих приложений | C122: У меня вообще нет этих приложений | D122: У меня вообще нет этих приложений | E122: 75297
A123: 43868.901 | B123: Все выключено | C123: Все выключено | D123: Все выключено | E123: 38047
A124: 43868.903 | B124: Да, но выключены лишь некоторые оповещения. Не все. | C124: Да, но выключены лишь некоторые оповещения. Не все. | D124: Все выключено | E124: 16209
A125: 43868.904 | B125: Да, но выключены лишь некоторые оповещения. Не все. | C125: Да, но выключены лишь некоторые оповещения. Не все. | D125: Да, но выключены лишь некоторые оповещения. Не все. | E125: 58270
A126: 43868.908 | B126: Все выключено | C126: Да, но выключены лишь некоторые оповещения. Не все. | D126: Все выключено | E126: 31222
A127: 43868.913 | B127: Все выключено | C127: Да, но выключены лишь некоторые оповещения. Не все. | D127: Все выключено | E127: 6026
A128: 43868.914 | B128: Да, но выключены лишь некоторые оповещения. Не все. | C128: Да, но выключены лишь некоторые оповещения. Не все. | D128: Нет, все осталось как и было после установки | E128: 16089
... A215: 43872.724 | B215: Да, но выключены лишь некоторые оповещения. Не все. | C215: Да, но выключены лишь некоторые оповещения. Не все. | D215: Все выключено | E215: 45623

Sheet Рабочий стол
A1: ...в приложениях соцсетей на смартфоне? | B1: ...в мессенджерах на смартфоне? | C1: ...в электронной почте на смартфоне? | D1: Значение субъективной минуты | E1: Диагноз
A2: =VLOOKUP('Ответы на форму (1)'!B2,Keys,2,FALSE) -> 2. Что-то выкл | B2: =VLOOKUP('Ответы на форму (1)'!C2,Keys,2,FALSE) -> 2. Что-то выкл | C2: =VLOOKUP('Ответы на форму (1)'!D2,Keys,2,FALSE) -> 1. Все как было | D2: ='Ответы на форму (1)'!E2 -> 18206 | E2: =IF(D2<45000,"3. Истеричка",IF(D2<65000,"2. Тревожный","1. Норм")) -> 3. Истеричка
A3: =VLOOKUP('Ответы на форму (1)'!B3,Keys,2,FALSE) -> 1. Все как было | B3: =VLOOKUP('Ответы на форму (1)'!C3,Keys,2,FALSE) -> 2. Что-то выкл | C3: =VLOOKUP('Ответы на форму (1)'!D3,Keys,2,FALSE) -> 1. Все как было | D3: ='Ответы на форму (1)'!E3 -> 48943 | E3: =IF(D3<45000,"3. Истеричка",IF(D3<65000,"2. Тревожный","1. Норм")) -> 2. Тревожный
A4: =VLOOKUP('Ответы на форму (1)'!B4,Keys,2,FALSE) -> 2. Что-то выкл | B4: =VLOOKUP('Ответы на форму (1)'!C4,Keys,2,FALSE) -> 2. Что-то выкл | C4: =VLOOKUP('Ответы на форму (1)'!D4,Keys,2,FALSE) -> 2. Что-то выкл | D4: ='Ответы на форму (1)'!E4 -> 54887 | E4: =IF(D4<45000,"3. Истеричка",IF(D4<65000,"2. Тревожный","1. Норм")) -> 2. Тревожный
A5: =VLOOKUP('Ответы на форму (1)'!B5,Keys,2,FALSE) -> 3. Все выкл | B5: =VLOOKUP('Ответы на форму (1)'!C5,Keys,2,FALSE) -> 3. Все выкл | C5: =VLOOKUP('Ответы на форму (1)'!D5,Keys,2,FALSE) -> 2. Что-то выкл | D5: ='Ответы на форму (1)'!E5 -> 2172 | E5: =IF(D5<45000,"3. Истеричка",IF(D5<65000,"2. Тревожный","1. Норм")) -> 3. Истеричка
A6: =VLOOKUP('Ответы на форму (1)'!B6,Keys,2,FALSE) -> 2. Что-то выкл | B6: =VLOOKUP('Ответы на форму (1)'!C6,Keys,2,FALSE) -> 2. Что-то выкл | C6: =VLOOKUP('Ответы на форму (1)'!D6,Keys,2,FALSE) -> 1. Все как было | D6: ='Ответы на форму (1)'!E6 -> 28638 | E6: =IF(D6<45000,"3. Истеричка",IF(D6<65000,"2. Тревожный","1. Норм")) -> 3. Истеричка
A7: =VLOOKUP('Ответы на форму (1)'!B7,Keys,2,FALSE) -> 2. Что-то выкл | B7: =VLOOKUP('Ответы на форму (1)'!C7,Keys,2,FALSE) -> 2. Что-то выкл | C7: =VLOOKUP('Ответы на форму (1)'!D7,Keys,2,FALSE) -> 3. Все выкл | D7: ='Ответы на форму (1)'!E7 -> 58115 | E7: =IF(D7<45000,"3. Истеричка",IF(D7<65000,"2. Тревожный","1. Норм")) -> 2. Тревожный
A8: =VLOOKUP('Ответы на форму (1)'!B8,Keys,2,FALSE) -> 1. Все как было | B8: =VLOOKUP('Ответы на форму (1)'!C8,Keys,2,FALSE) -> 1. Все как было | C8: =VLOOKUP('Ответы на форму (1)'!D8,Keys,2,FALSE) -> 4. Нет прилаги | D8: ='Ответы на форму (1)'!E8 -> 51021 | E8: =IF(D8<45000,"3. Истеричка",IF(D8<65000,"2. Тревожный","1. Норм")) -> 2. Тревожный
A9: =VLOOKUP('Ответы на форму (1)'!B9,Keys,2,FALSE) -> 3. Все выкл | B9: =VLOOKUP('Ответы на форму (1)'!C9,Keys,2,FALSE) -> 3. Все выкл | C9: =VLOOKUP('Ответы на форму (1)'!D9,Keys,2,FALSE) -> 3. Все выкл | D9: ='Ответы на форму (1)'!E9 -> 73815 | E9: =IF(D9<45000,"3. Истеричка",IF(D9<65000,"2. Тревожный","1. Норм")) -> 1. Норм
A10: =VLOOKUP('Ответы на форму (1)'!B10,Keys,2,FALSE) -> 3. Все выкл | B10: =VLOOKUP('Ответы на форму (1)'!C10,Keys,2,FALSE) -> 2. Что-то выкл | C10: =VLOOKUP('Ответы на форму (1)'!D10,Keys,2,FALSE) -> 2. Что-то выкл | D10: ='Ответы на форму (1)'!E10 -> 42780 | E10: =IF(D10<45000,"3. Истеричка",IF(D10<65000,"2. Тревожный","1. Норм")) -> 3. Истеричка
A11: =VLOOKUP('Ответы на форму (1)'!B11,Keys,2,FALSE) -> 2. Что-то выкл | B11: =VLOOKUP('Ответы на форму (1)'!C11,Keys,2,FALSE) -> 2. Что-то выкл | C11: =VLOOKUP('Ответы на форму (1)'!D11,Keys,2,FALSE) -> 3. Все выкл | D11: ='Ответы на форму (1)'!E11 -> 24538 | E11: =IF(D11<45000,"3. Истеричка",IF(D11<65000,"2. Тревожный","1. Норм")) -> 3. Истеричка
A12: =VLOOKUP('Ответы на форму (1)'!B12,Keys,2,FALSE) -> 3. Все выкл | B12: =VLOOKUP('Ответы на форму (1)'!C12,Keys,2,FALSE) -> 2. Что-то выкл | C12: =VLOOKUP('Ответы на форму (1)'!D12,Keys,2,FALSE) -> 3. Все выкл | D12: ='Ответы на форму (1)'!E12 -> 74998 | E12: =IF(D12<45000,"3. Истеричка",IF(D12<65000,"2. Тревожный","1. Норм")) -> 1. Норм
A13: =VLOOKUP('Ответы на форму (1)'!B13,Keys,2,FALSE) -> 3. Все выкл | B13: =VLOOKUP('Ответы на форму (1)'!C13,Keys,2,FALSE) -> 3. Все выкл | C13: =VLOOKUP('Ответы на форму (1)'!D13,Keys,2,FALSE) -> 3. Все выкл | D13: ='Ответы на форму (1)'!E13 -> 1305 | E13: =IF(D13<45000,"3. Истеричка",IF(D13<65000,"2. Тревожный","1. Норм")) -> 3. Истеричка
... A65: =VLOOKUP('Ответы на форму (1)'!B65,Keys,2,FALSE) -> 2. Что-то выкл | B65: =VLOOKUP('Ответы на форму (1)'!C65,Keys,2,FALSE) -> 2. Что-то выкл | C65: =VLOOKUP('Ответы на форму (1)'!D65,Keys,2,FALSE) -> 1. Все как было | D65: ='Ответы на форму (1)'!E65 -> 32207 | E65: =IF(D65<45000,"3. Истеричка",IF(D65<65000,"2. Тревожный","1. Норм")) -> 3. Истеричка
A66: =VLOOKUP('Ответы на форму (1)'!B67,Keys,2,FALSE) -> 3. Все выкл | B66: =VLOOKUP('Ответы на форму (1)'!C67,Keys,2,FALSE) -> 2. Что-то выкл | C66: =VLOOKUP('Ответы на форму (1)'!D67,Keys,2,FALSE) -> 3. Все выкл | D66: ='Ответы на форму (1)'!E67 -> 88762 | E66: =IF(D66<45000,"3. Истеричка",IF(D66<65000,"2. Тревожный","1. Норм")) -> 1. Норм
A67: =VLOOKUP('Ответы на форму (1)'!B68,Keys,2,FALSE) -> 1. Все как было | B67: =VLOOKUP('Ответы на форму (1)'!C68,Keys,2,FALSE) -> 2. Что-то выкл | C67: =VLOOKUP('Ответы на форму (1)'!D68,Keys,2,FALSE) -> 1. Все как было | D67: ='Ответы на форму (1)'!E68 -> 79739 | E67: =IF(D67<45000,"3. Истеричка",IF(D67<65000,"2. Тревожный","1. Норм")) -> 1. Норм
A68: =VLOOKUP('Ответы на форму (1)'!B69,Keys,2,FALSE) -> 3. Все выкл | B68: =VLOOKUP('Ответы на форму (1)'!C69,Keys,2,FALSE) -> 2. Что-то выкл | C68: =VLOOKUP('Ответы на форму (1)'!D69,Keys,2,FALSE) -> 3. Все выкл | D68: ='Ответы на форму (1)'!E69 -> 50174 | E68: =IF(D68<45000,"3. Истеричка",IF(D68<65000,"2. Тревожный","1. Норм")) -> 2. Тревожный
A69: =VLOOKUP('Ответы на форму (1)'!B70,Keys,2,FALSE) -> 4. Нет прилаги | B69: =VLOOKUP('Ответы на форму (1)'!C70,Keys,2,FALSE) -> 2. Что-то выкл | C69: =VLOOKUP('Ответы на форму (1)'!D70,Keys,2,FALSE) -> 3. Все выкл | D69: ='Ответы на форму (1)'!E70 -> 50167 | E69: =IF(D69<45000,"3. Истеричка",IF(D69<65000,"2. Тревожный","1. Норм")) -> 2. Тревожный
A70: =VLOOKUP('Ответы на форму (1)'!B71,Keys,2,FALSE) -> 2. Что-то выкл | B70: =VLOOKUP('Ответы на форму (1)'!C71,Keys,2,FALSE) -> 2. Что-то выкл | C70: =VLOOKUP('Ответы на форму (1)'!D71,Keys,2,FALSE) -> 3. Все выкл | D70: ='Ответы на форму (1)'!E71 -> 31450 | E70: =IF(D70<45000,"3. Истеричка",IF(D70<65000,"2. Тревожный","1. Норм")) -> 3. Истеричка
A71: =VLOOKUP('Ответы на форму (1)'!B72,Keys,2,FALSE) -> 2. Что-то выкл | B71: =VLOOKUP('Ответы на форму (1)'!C72,Keys,2,FALSE) -> 2. Что-то выкл | C71: =VLOOKUP('Ответы на форму (1)'!D72,Keys,2,FALSE) -> 3. Все выкл | D71: ='Ответы на форму (1)'!E72 -> 48304 | E71: =IF(D71<45000,"3. Истеричка",IF(D71<65000,"2. Тревожный","1. Норм")) -> 2. Тревожный
A72: =VLOOKUP('Ответы на форму (1)'!B73,Keys,2,FALSE) -> 1. Все как было | B72: =VLOOKUP('Ответы на форму (1)'!C73,Keys,2,FALSE) -> 1. Все как было | C72: =VLOOKUP('Ответы на форму (1)'!D73,Keys,2,FALSE) -> 1. Все как было | D72: ='Ответы на форму (1)'!E73 -> 92212 | E72: =IF(D72<45000,"3. Истеричка",IF(D72<65000,"2. Тревожный","1. Норм")) -> 1. Норм
A73: =VLOOKUP('Ответы на форму (1)'!B74,Keys,2,FALSE) -> 1. Все как было | B73: =VLOOKUP('Ответы на форму (1)'!C74,Keys,2,FALSE) -> 1. Все как было | C73: =VLOOKUP('Ответы на форму (1)'!D74,Keys,2,FALSE) -> 1. Все как было | D73: ='Ответы на форму (1)'!E74 -> 92212 | E73: =IF(D73<45000,"3. Истеричка",IF(D73<65000,"2. Тревожный","1. Норм")) -> 1. Норм
A74: =VLOOKUP('Ответы на форму (1)'!B75,Keys,2,FALSE) -> 2. Что-то выкл | B74: =VLOOKUP('Ответы на форму (1)'!C75,Keys,2,FALSE) -> 2. Что-то выкл | C74: =VLOOKUP('Ответы на форму (1)'!D75,Keys,2,FALSE) -> 2. Что-то выкл | D74: ='Ответы на форму (1)'!E75 -> 43473 | E74: =IF(D74<45000,"3. Истеричка",IF(D74<65000,"2. Тревожный","1. Норм")) -> 3. Истеричка
A75: =VLOOKUP('Ответы на форму (1)'!B76,Keys,2,FALSE) -> 2. Что-то выкл | B75: =VLOOKUP('Ответы на форму (1)'!C76,Keys,2,FALSE) -> 2. Что-то выкл | C75: =VLOOKUP('Ответы на форму (1)'!D76,Keys,2,FALSE) -> 3. Все выкл | D75: ='Ответы на форму (1)'!E76 -> 15830 | E75: =IF(D75<45000,"3. Истеричка",IF(D75<65000,"2. Тревожный","1. Норм")) -> 3. Истеричка
A76: =VLOOKUP('Ответы на форму (1)'!B77,Keys,2,FALSE) -> 4. Нет прилаги | B76: =VLOOKUP('Ответы на форму (1)'!C77,Keys,2,FALSE) -> 2. Что-то выкл | C76: =VLOOKUP('Ответы на форму (1)'!D77,Keys,2,FALSE) -> 3. Все выкл | D76: ='Ответы на форму (1)'!E77 -> 67576 | E76: =IF(D76<45000,"3. Истеричка",IF(D76<65000,"2. Тревожный","1. Норм")) -> 1. Норм
A77: =VLOOKUP('Ответы на форму (1)'!B78,Keys,2,FALSE) -> 4. Нет прилаги | B77: =VLOOKUP('Ответы на форму (1)'!C78,Keys,2,FALSE) -> 3. Все выкл | C77: =VLOOKUP('Ответы на форму (1)'!D78,Keys,2,FALSE) -> 3. Все выкл | D77: ='Ответы на форму (1)'!E78 -> 71295 | E77: =IF(D77<45000,"3. Истеричка",IF(D77<65000,"2. Тревожный","1. Норм")) -> 1. Норм
... A214: =VLOOKUP('Ответы на форму (1)'!B215,Keys,2,FALSE) -> 2. Что-то выкл | B214: =VLOOKUP('Ответы на форму (1)'!C215,Keys,2,FALSE) -> 2. Что-то выкл | C214: =VLOOKUP('Ответы на форму (1)'!D215,Keys,2,FALSE) -> 3. Все выкл | D214: ='Ответы на форму (1)'!E215 -> 45623 | E214: =IF(D214<45000,"3. Истеричка",IF(D214<65000,"2. Тревожный","1. Норм")) -> 2. Тревожный

Sheet Histogram_HID
A1: 14000 | B1: 0 | C1: 0 | D1: 0
A2: 14000 | B2: 0.12987013 | C2: 0 | D2: 0
A3: 14069.307 | B3: 0.12987013 | C3: 14000 | D3: 0
A4: 14069.307 | B4: 0 | C4: 14000 | D4: 0
A5: 14138.614 | B5: 0 | C5: 14000 | D5: 0.12987013
A6: 14138.614 | B6: 0.12987013 | C6: 28000 | D6: 0.12987013
A7: 14207.921 | B7: 0.12987013 | C7: 28000 | D7: 0
A8: 14207.921 | B8: 0 | C8: 28000 | D8: 0.16883117
A9: 14277.228 | B9: 0 | C9: 42000 | D9: 0.16883117
A10: 14277.228 | B10: 0.12987013 | C10: 42000 | D10: 0
A11: 14346.535 | B11: 0.12987013 | C11: 42000 | D11: 0.23376623
A12: 14346.535 | B12: 0 | C12: 56000 | D12: 0.23376623
... A31: 15039.604 | B31: 0.12987013 | C31: 140000 | D31: 0
A32: 15039.604 | B32: 0
A33: 15108.911 | B33: 0
A34: 15108.911 | B34: 0.12987013
A35: 15178.218 | B35: 0.12987013
A36: 15178.218 | B36: 0
A37: 15247.525 | B37: 0
A38: 15247.525 | B38: 0.12987013
A39: 15316.832 | B39: 0.12987013
A40: 15316.832 | B40: 0
A41: 15386.139 | B41: 0
A42: 15386.139 | B42: 0.12987013
A43: 15455.446 | B43: 0.12987013
... A3636: 139930.69 | B3636: 0

Sheet Histogram1_HID
A1: 14001 | B1: 0 | C1: 0 | D1: 0
A2: 14001 | B2: 0.12987013 | C2: 0 | D2: 0
A3: 14070.312 | B3: 0.12987013 | C3: 14001 | D3: 0
A4: 14070.312 | B4: 0 | C4: 14001 | D4: 0
A5: 14139.624 | B5: 0 | C5: 14001 | D5: 0.12987013
A6: 14139.624 | B6: 0.12987013 | C6: 28002 | D6: 0.12987013
A7: 14208.936 | B7: 0.12987013 | C7: 28002 | D7: 0
A8: 14208.936 | B8: 0 | C8: 28002 | D8: 0.16883117
A9: 14278.248 | B9: 0 | C9: 42003 | D9: 0.16883117
A10: 14278.248 | B10: 0.12987013 | C10: 42003 | D10: 0
A11: 14347.559 | B11: 0.12987013 | C11: 42003 | D11: 0.23376623
A12: 14347.559 | B12: 0 | C12: 56004 | D12: 0.23376623
... A31: 15040.678 | B31: 0.12987013 | C31: 140010 | D31: 0
A32: 15040.678 | B32: 0
A33: 15109.99 | B33: 0
A34: 15109.99 | B34: 0.12987013
A35: 15179.302 | B35: 0.12987013
A36: 15179.302 | B36: 0
A37: 15248.614 | B37: 0
A38: 15248.614 | B38: 0.12987013
A39: 15317.926 | B39: 0.12987013
A40: 15317.926 | B40: 0
A41: 15387.238 | B41: 0
A42: 15387.238 | B42: 0.12987013
A43: 15456.55 | B43: 0.12987013
... A3636: 139940.69 | B3636: 0

Sheet Association coefficients2
B1: You are using the XLSTAT trial version. Number of days remaining until the trial expires: -14
B3: XLSTAT 2019.4.2.63762 - Tests on contingency tables (Chi-square...) - Start time: 18/02/2020 at 16:28:15 / End time: 18/02/2020 at 16:28:16 / Microsoft Excel 16.012430
B4: These results have been generated using XLSTAT Free. You can benefit from many more tools and options with a full version.
B5: Row variable(s): Workbook = Отключение оповещений и субъективная минута (Ответы).xlsx / Sheet = Рабочий стол / Range = 'Рабочий стол'!$E:$E / 213 rows and 1 column
B6: Column variable(s): Workbook = Отключение оповещений и субъективная минута (Ответы).xlsx / Sheet = Рабочий стол / Range = 'Рабочий стол'!$C:$C / 213 rows and 1 column
B11: Results for the variables Диагноз and ...в электронной почте на смартфоне?:
B13: Contingency table (Диагноз / ...в электронной почте на смартфоне?):
C15: 1. Все как было | D15: 2. Что-то выкл | E15: 3. Все выкл | F15: 4. Нет прилаги
B16: 1. Норм | C16: 16 | D16: 11 | E16: 27 | F16: 2
B17: 2. Тревожный | C17: 9 | D17: 20 | E17: 39 | F17: 5
B18: 3. Истеричка | C18: 21 | D18: 25 | E18: 35 | F18: 3
B21: Test of independence between the rows and the columns (Диагноз / ...в электронной почте на смартфоне?):
B23: Chi-square (Observed value) | C23: 8.2226668
B24: Chi-square (Critical value) | C24: 12.591587
B25: DF | C25: 6
B26: p-value | C26: 0.22223989
B27: alpha | C27: 0.05
B29: Test interpretation:
B30: H0: The rows and the columns of the table are independent.
B31: Ha: There is a link between the rows and the columns of the table.
B32: As the computed p-value is greater than the significance level alpha=0,05, one cannot reject the null hypothesis H0.
B36: Significance by cell (Fisher's exact test) (Диагноз / ...в электронной почте на смартфоне?):
C38: 1. Все как было | D38: 2. Что-то выкл | E38: 3. Все выкл | F38: 4. Нет прилаги
B39: 1. Норм | C39: > | D39: < | E39: > | F39: <
B40: 2. Тревожный | C40: < | D40: > | E40: > | F40: >
B41: 3. Истеричка | C41: > | D41: > | E41: < | F41: <
B42: Values displayed in red are significant at the level alpha=0,05
B45: Test of independence between the rows and the columns (Chi-square):
B47: Chi-square (Observed value) | C47: 8.2226668
B48: Chi-square (Critical value) | C48: 12.591587
B49: DF | C49: 6
B50: p-value | C50: 0.22223989
B51: alpha | C51: 0.05
B53: Test interpretation:
B54: H0: The rows and the columns of the table are independent.
B55: Ha: There is a link between the rows and the columns of the table.
B56: As the computed p-value is greater than the significance level alpha=0,05, one cannot reject the null hypothesis H0.
B60: Theoretical counts lower than 5 have been detected. To safely use the Chi-square test based on the Chi-square approximation, the theoretical counts should not be lower than 5.
B63: Fisher's exact test:
B65: p-value (Two-tailed) | C65: 0.19951611
B66: alpha | C66: 0.05
B68: Test interpretation:
B69: H0: The rows and the columns of the table are independent.
B70: Ha: There is a link between the rows and the columns of the table.
B71: As the computed p-value is greater than the significance level alpha=0,05, one cannot reject the null hypothesis H0.
B75: Test of independence between the rows and the columns (Wilks' G²):
B77: Wilks' G² (Observed value) | C77: 8.6419356
B78: Wilks' G² (Critical value) | C78: 12.591587
B79: DF | C79: 6
B80: p-value | C80: 0.19473918
B81: alpha | C81: 0.05
B83: Test interpretation:
B84: H0: The rows and the columns of the table are independent.
B85: Ha: There is a link between the rows and the columns of the table.
B86: As the computed p-value is greater than the significance level alpha=0,05, one cannot reject the null hypothesis H0.
B90: Association coefficients (1):
B92: Coefficient | C92: Value
B93: Pearson's Phi | C93: 0.19647918
B94: Contingency coefficient | C94: 0.19279312
B95: Cramer's V | C95: 0.13893176
B96: Tschuprow's T | C96: 0.12553902
B97: Goodman and Kruskal tau (R/C) | C97: 0.019372704
B98: Goodman and Kruskal tau (C/R) | C98: 0.013935619
B101: Association coefficients (2):
B103: Coefficient | C103: Value | D103: Standard deviation | E103: Lower bound 95% | F103: Upper bound 95%
B104: Goodman and Kruskal Gamma | C104: -0.06872086 | D104: 0.09521399 | E104: -0.25533685 | F104: 0.11789513
B105: Kendall's tau | C105: -0.045454552 | D105: 0.062932912 | E105: -0.16880079 | F105: 0.07789169
B106: Stuart's tau | C106: -0.044832375 | D106: 0.062014911 | E106: -0.16637937 | F106: 0.076714618
B107: Somers' D (R/C) | C107: -0.045478937 | D107: 0.062954943 | E107: -0.16886836 | F107: 0.077910484
B108: Somers' D (C/R) | C108: -0.04543018 | D108: 0.062918253 | E108: -0.16874769 | F108: 0.07788733
B109: Theil's U (R/C) | C109: 0.018693885 | D109: 0.01225857 | E109: -0.0053324701 | F109: 0.04272024
B110: Theil's U (C/R) | C110: 0.017196855 | D110: 0.011250047 | E110: -0.0048528319 | F110: 0.039246541
B111: Theil's U (Symmetric) | C111: 0.017914149 | D111: 0.011728979 | E111: -0.0050742282 | F111: 0.040902525

Sheet Association coefficients1
B1: You are using the XLSTAT trial version. Number of days remaining until the trial expires: -14
B3: XLSTAT 2019.4.2.63762 - Tests on contingency tables (Chi-square...) - Start time: 18/02/2020 at 16:28:01 / End time: 18/02/2020 at 16:28:02 / Microsoft Excel 16.012430
B4: These results have been generated using XLSTAT Free. You can benefit from many more tools and options with a full version.
B5: Row variable(s): Workbook = Отключение оповещений и субъективная минута (Ответы).xlsx / Sheet = Рабочий стол / Range = 'Рабочий стол'!$E:$E / 213 rows and 1 column
B6: Column variable(s): Workbook = Отключение оповещений и субъективная минута (Ответы).xlsx / Sheet = Рабочий стол / Range = 'Рабочий стол'!$B:$B / 213 rows and 1 column
B11: Results for the variables Диагноз and ...в мессенджерах на смартфоне?:
B13: Contingency table (Диагноз / ...в мессенджерах на смартфоне?):
C15: 1. Все как было | D15: 2. Что-то выкл | E15: 3. Все выкл | F15: 4. Нет прилаги
B16: 1. Норм | C16: 7 | D16: 38 | E16: 10 | F16: 1
B17: 2. Тревожный | C17: 6 | D17: 54 | E17: 12 | F17: 1
B18: 3. Истеричка | C18: 6 | D18: 63 | E18: 15 | F18: 0
B21: Test of independence between the rows and the columns (Диагноз / ...в мессенджерах на смартфоне?):
B23: Chi-square (Observed value) | C23: 2.8161425
B24: Chi-square (Critical value) | C24: 12.591587
B25: DF | C25: 6
B26: p-value | C26: 0.83154384
B27: alpha | C27: 0.05
B29: Test interpretation:
B30: H0: The rows and the columns of the table are independent.
B31: Ha: There is a link between the rows and the columns of the table.
B32: As the computed p-value is greater than the significance level alpha=0,05, one cannot reject the null hypothesis H0.
B36: Significance by cell (Fisher's exact test) (Диагноз / ...в мессенджерах на смартфоне?):
C38: 1. Все как было | D38: 2. Что-то выкл | E38: 3. Все выкл | F38: 4. Нет прилаги
B39: 1. Норм | C39: > | D39: < | E39: > | F39: >
B40: 2. Тревожный | C40: < | D40: > | E40: < | F40: >
B41: 3. Истеричка | C41: < | D41: > | E41: > | F41: <
B42: Values displayed in red are significant at the level alpha=0,05
B45: Test of independence between the rows and the columns (Chi-square):
B47: Chi-square (Observed value) | C47: 2.8161425
B48: Chi-square (Critical value) | C48: 12.591587
B49: DF | C49: 6
B50: p-value | C50: 0.83154384
B51: alpha | C51: 0.05
B53: Test interpretation:
B54: H0: The rows and the columns of the table are independent.
B55: Ha: There is a link between the rows and the columns of the table.
B56: As the computed p-value is greater than the significance level alpha=0,05, one cannot reject the null hypothesis H0.
B60: Theoretical counts lower than 5 have been detected. To safely use the Chi-square test based on the Chi-square approximation, the theoretical counts should not be lower than 5.
B63: Fisher's exact test:
B65: p-value (Two-tailed) | C65: 0.82003202
B66: alpha | C66: 0.05
B68: Test interpretation:
B69: H0: The rows and the columns of the table are independent.
B70: Ha: There is a link between the rows and the columns of the table.
B71: As the computed p-value is greater than the significance level alpha=0,05, one cannot reject the null hypothesis H0.
B75: Test of independence between the rows and the columns (Wilks' G²):
B77: Wilks' G² (Observed value) | C77: 3.4335284
B78: Wilks' G² (Critical value) | C78: 12.591587
B79: DF | C79: 6
B80: p-value | C80: 0.75279142
B81: alpha | C81: 0.05
B83: Test interpretation:
B84: H0: The rows and the columns of the table are independent.
B85: Ha: There is a link between the rows and the columns of the table.
B86: As the computed p-value is greater than the significance level alpha=0,05, one cannot reject the null hypothesis H0.
B90: Association coefficients (1):
B92: Coefficient | C92: Value
B93: Pearson's Phi | C93: 0.11498403
B94: Contingency coefficient | C94: 0.11423136
B95: Cramer's V | C95: 0.081305985
B96: Tschuprow's T | C96: 0.073468251
B97: Goodman and Kruskal tau (R/C) | C97: 0.0065012955
B98: Goodman and Kruskal tau (C/R) | C98: 0.0033868608
B101: Association coefficients (2):
B103: Coefficient | C103: Value | D103: Standard deviation | E103: Lower bound 95% | F103: Upper bound 95%
B104: Goodman and Kruskal Gamma | C104: 0.035203689 | D104: 0.11969967 | E104: -0.19940335 | F104: 0.26981073
B105: Kendall's tau | C105: 0.018930804 | D105: 0.064350707 | E105: -0.10719426 | F105: 0.14505587
B106: Stuart's tau | C106: 0.015142498 | D106: 0.051489047 | E106: -0.08577418 | F106: 0.11605918
B107: Somers' D (R/C) | C107: 0.023355431 | D107: 0.079381125 | E107: -0.13222872 | F107: 0.17893958
B108: Somers' D (C/R) | C108: 0.015344412 | D108: 0.052174028 | E108: -0.086914805 | F108: 0.11760363
B109: Theil's U (R/C)
B110: Theil's U (C/R)
B111: Theil's U (Symmetric)

Sheet Association coefficients
B1: You are using the XLSTAT trial version. Number of days remaining until the trial expires: -14
B3: XLSTAT 2019.4.2.63762 - Tests on contingency tables (Chi-square...) - Start time: 18/02/2020 at 16:27:40 / End time: 18/02/2020 at 16:27:41 / Microsoft Excel 16.012430
B4: These results have been generated using XLSTAT Free. You can benefit from many more tools and options with a full version.
B5: Row variable(s): Workbook = Отключение оповещений и субъективная минута (Ответы).xlsx / Sheet = Рабочий стол / Range = 'Рабочий стол'!$E:$E / 213 rows and 1 column
B6: Column variable(s): Workbook = Отключение оповещений и субъективная минута (Ответы).xlsx / Sheet = Рабочий стол / Range = 'Рабочий стол'!$A:$A / 213 rows and 1 column
B11: Results for the variables Диагноз and ...в приложениях соцсетей на смартфоне?:
B13: Contingency table (Диагноз / ...в приложениях соцсетей на смартфоне?):
C15: 1. Все как было | D15: 2. Что-то выкл | E15: 3. Все выкл | F15: 4. Нет прилаги
B16: 1. Норм | C16: 8 | D16: 14 | E16: 25 | F16: 9
B17: 2. Тревожный | C17: 6 | D17: 26 | E17: 31 | F17: 10
B18: 3. Истеричка | C18: 6 | D18: 41 | E18: 30 | F18: 7
B21: Test of independence between the rows and the columns (Диагноз / ...в приложениях соцсетей на смартфоне?):
B23: Chi-square (Observed value) | C23: 9.8008242
B24: Chi-square (Critical value) | C24: 12.591587
B25: DF | C25: 6
B26: p-value | C26: 0.13329423
B27: alpha | C27: 0.05
B29: Test interpretation:
B30: H0: The rows and the columns of the table are independent.
B31: Ha: There is a link between the rows and the columns of the table.
B32: As the computed p-value is greater than the significance level alpha=0,05, one cannot reject the null hypothesis H0.
B36: Significance by cell (Fisher's exact test) (Диагноз / ...в приложениях соцсетей на смартфоне?):
C38: 1. Все как было | D38: 2. Что-то выкл | E38: 3. Все выкл | F38: 4. Нет прилаги
B39: 1. Норм | C39: > | D39: < | E39: > | F39: >
B40: 2. Тревожный | C40: < | D40: < | E40: > | F40: >
B41: 3. Истеричка | C41: < | D41: > | E41: < | F41: <
B42: Values displayed in red are significant at the level alpha=0,05
B45: Test of independence between the rows and the columns (Chi-square):
B47: Chi-square (Observed value) | C47: 9.8008242
B48: Chi-square (Critical value) | C48: 12.591587
B49: DF | C49: 6
B50: p-value | C50: 0.13329423
B51: alpha | C51: 0.05
B53: Test interpretation:
B54: H0: The rows and the columns of the table are independent.
B55: Ha: There is a link between the rows and the columns of the table.
B56: As the computed p-value is greater than the significance level alpha=0,05, one cannot reject the null hypothesis H0.
B60: Fisher's exact test:
B62: p-value (Two-tailed) | C62: 0.12791319
B63: alpha | C63: 0.05
B65: Test interpretation:
B66: H0: The rows and the columns of the table are independent.
B67: Ha: There is a link between the rows and the columns of the table.
B68: As the computed p-value is greater than the significance level alpha=0,05, one cannot reject the null hypothesis H0.
B72: Test of independence between the rows and the columns (Wilks' G²):
B74: Wilks' G² (Observed value) | C74: 9.8561174
B75: Wilks' G² (Critical value) | C75: 12.591587
B76: DF | C76: 6
B77: p-value | C77: 0.13084346
B78: alpha | C78: 0.05
B80: Test interpretation:
B81: H0: The rows and the columns of the table are independent.
B82: Ha: There is a link between the rows and the columns of the table.
B83: As the computed p-value is greater than the significance level alpha=0,05, one cannot reject the null hypothesis H0.
B87: Association coefficients (1):
B89: Coefficient | C89: Value
B90: Pearson's Phi | C90: 0.21450701
B91: Contingency coefficient | C91: 0.20973596
B92: Cramer's V | C92: 0.15167936
B93: Tschuprow's T | C93: 0.13705778
B94: Goodman and Kruskal tau (R/C) | C94: 0.022857855
B95: Goodman and Kruskal tau (C/R) | C95: 0.01894575
B98: Association coefficients (2):
B100: Coefficient | C100: Value | D100: Standard deviation | E100: Lower bound 95% | F100: Upper bound 95%
B101: Goodman and Kruskal Gamma | C101: -0.1446093 | D101: 0.09123938 | E101: -0.3234352 | F101: 0.034216601
B102: Kendall's tau | C102: -0.097171877 | D102: 0.061510935 | E102: -0.21773109 | F102: 0.02338734
B103: Stuart's tau | C103: -0.09667394 | D103: 0.061055255 | E103: -0.21634004 | F103: 0.02299216
B104: Somers' D (R/C) | C104: -0.096387131 | D104: 0.06114691 | E104: -0.21623287 | F104: 0.023458611
B105: Somers' D (C/R) | C105: -0.097963013 | D105: 0.06190075 | E105: -0.21928625 | F105: 0.023360227
B106: Theil's U (R/C) | C106: 0.021320354 | D106: 0.013395319 | E106: -0.0049339899 | F106: 0.047574697
B107: Theil's U (C/R) | C107: 0.019078388 | D107: 0.011978951 | E107: -0.0043999248 | F107: 0.0425567
B108: Theil's U (Symmetric) | C108: 0.020137161 | D108: 0.012643924 | E108: -0.0046444741 | F108: 0.044918795

Sheet Ключи
A1: Нет, все осталось как и было после установки | B1: 1. Все как было
A2: Да, но выключены лишь некоторые оповещения. Не все. | B2: 2. Что-то выкл
A3: Все выключено | B3: 3. Все выкл
A4: У меня вообще нет этих приложений | B4: 4. Нет прилаги
B9: 1. Норм | C9: =COUNTIF('Рабочий стол'!E:E,Ключи!B9) -> 56
B10: 2. Тревожный | C10: =COUNTIF('Рабочий стол'!E:E,Ключи!B10) -> 73
B11: 3. Истеричка | C11: =COUNTIF('Рабочий стол'!E:E,Ключи!B11) -> 84
