Workbook
Name Амбив: Анализ!$B$11
Name ГлубИнтро: Анализ!$B$13
Name Интро: Анализ!$B$12
Name Экстр: Анализ!$B$10
Name ЯркЭкстр: Анализ!$B$9

Sheet Form responses 1
A1: Timestamp | B1: Постарайтесь представить типичные ситуации и дайте первый «естественный» ответ, который придет вам в голову. Отвечайте быстро и точно. Помните, что нет «хороших» или «плохих» ответов. [Часто ли вы испытываете тягу к новым впечатлениям, к тому, чтобы отвлечься, испытывать сильные ощущения?] | C1: Постарайтесь представить типичные ситуации и дайте первый «естественный» ответ, который придет вам в голову. Отвечайте быстро и точно. Помните, что нет «хороших» или «плохих» ответов. [Часто ли вы чувствуете, что нуждаетесь в друзьях, которые могут вас понять, ободрить или посочувствовать?] | D1: Постарайтесь представить типичные ситуации и дайте первый «естественный» ответ, который придет вам в голову. Отвечайте быстро и точно. Помните, что нет «хороших» или «плохих» ответов. [Считаете ли вы себя беззаботным человеком?] | E1: Постарайтесь представить типичные ситуации и дайте первый «естественный» ответ, который придет вам в голову. Отвечайте быстро и точно. Помните, что нет «хороших» или «плохих» ответов. [Очень ли трудно вам отказываться от своих намерений?] | F1: Постарайтесь представить типичные ситуации и дайте первый «естественный» ответ, который придет вам в голову. Отвечайте быстро и точно. Помните, что нет «хороших» или «плохих» ответов. [Обдумываете ли вы свои дела не спеша и предпочитаете ли подождать, прежде чем действовать?] | G1: Постарайтесь представить типичные ситуации и дайте первый «естественный» ответ, который придет вам в голову. Отвечайте быстро и точно. Помните, что нет «хороших» или «плохих» ответов. [Всегда ли вы сдерживаете свои обещания, даже если это вам невыгодно?] | H1: Постарайтесь представить типичные ситуации и дайте первый «естественный» ответ, который придет вам в голову. Отвечайте быстро и точно. Помните, что нет «хороших» или «плохих» ответов. [Часто ли у вас бывают спады и подъемы настроения?] | I1: Постарайтесь представить типичные ситуации и дайте первый «естественный» ответ, который придет вам в голову. Отвечайте быстро и точно. Помните, что нет «хороших» или «плохих» ответов. [Быстро ли вы обычно действуете и говорите, не тратите ли много времени на обдумывание?] | J1: Постарайтесь представить типичные ситуации и дайте первый «естественный» ответ, который придет вам в голову. Отвечайте быстро и точно. Помните, что нет «хороших» или «плохих» ответов. [Возникало ли у вас когда-нибудь чувство, что вы несчастны, хотя никакой серьезной причины для этого не было?] | K1: Постарайтесь представить типичные ситуации и дайте первый «естественный» ответ, который придет вам в голову. Отвечайте быстро и точно. Помните, что нет «хороших» или «плохих» ответов. [Верно ли, что на спор вы способны решиться на все?] | L1: Постарайтесь представить типичные ситуации и дайте первый «естественный» ответ, который придет вам в голову. Отвечайте быстро и точно. Помните, что нет «хороших» или «плохих» ответов. [Смущаетесь ли вы, когда хотите познакомиться с человеком противоположного пола, который вам симпатичен?] | M1: Постарайтесь представить типичные ситуации и дайте первый «естественный» ответ, который придет вам в голову. Отвечайте быстро и точно. Помните, что нет «хороших» или «плохих» ответов. [Бывает ли когда-нибудь, что, разозлившись, вы выходите из себя?] | N1: Постарайтесь представить типичные ситуации и дайте первый «естественный» ответ, который придет вам в голову. Отвечайте быстро и точно. Помните, что нет «хороших» или «плохих» ответов. [Часто ли бывает, что вы действуете необдуманно, под влиянием момента?] | O1: Постарайтесь представить типичные ситуации и дайте первый «естественный» ответ, который придет вам в голову. Отвечайте быстро и точно. Помните, что нет «хороших» или «плохих» ответов. [Часто ли вас беспокоят мысли о том, что вам не следовало чего-либо делать или говорить?] | P1: Постарайтесь представить типичные ситуации и дайте первый «естественный» ответ, который придет вам в голову. Отвечайте быстро и точно. Помните, что нет «хороших» или «плохих» ответов. [Предпочитаете ли вы чтение книг встречам с людьми?] | Q1: Постарайтесь представить типичные ситуации и дайте первый «естественный» ответ, который придет вам в голову. Отвечайте быстро и точно. Помните, что нет «хороших» или «плохих» ответов. [Верно ли, что вас легко задеть?] | R1: Постарайтесь представить типичные ситуации и дайте первый «естественный» ответ, который придет вам в голову. Отвечайте быстро и точно. Помните, что нет «хороших» или «плохих» ответов. [Любите ли вы часто бывать в компании?] | S1: Постарайтесь представить типичные ситуации и дайте первый «естественный» ответ, который придет вам в голову. Отвечайте быстро и точно. Помните, что нет «хороших» или «плохих» ответов. [Бывают ли иногда у вас такие мысли, которыми вам не хотелось бы делиться с другими людьми?] | T1: Постарайтесь представить типичные ситуации и дайте первый «естественный» ответ, который придет вам в голову. Отвечайте быстро и точно. Помните, что нет «хороших» или «плохих» ответов. [Верно ли, что иногда вы настолько полны энергии, что все горит в руках, а иногда чувствуете сильную вялость?] | U1: Постарайтесь представить типичные ситуации и дайте первый «естественный» ответ, который придет вам в голову. Отвечайте быстро и точно. Помните, что нет «хороших» или «плохих» ответов. [Стараетесь ли вы ограничить круг своих знакомых небольшим числом самых близких друзей?] | V1: Постарайтесь представить типичные ситуации и дайте первый «естественный» ответ, который придет вам в голову. Отвечайте быстро и точно. Помните, что нет «хороших» или «плохих» ответов. [Много ли вы мечтаете?] | W1: Постарайтесь представить типичные ситуации и дайте первый «естественный» ответ, который придет вам в голову. Отвечайте быстро и точно. Помните, что нет «хороших» или «плохих» ответов. [Когда на вас кричат, отвечаете ли вы тем же?] | X1: Постарайтесь представить типичные ситуации и дайте первый «естественный» ответ, который придет вам в голову. Отвечайте быстро и точно. Помните, что нет «хороших» или «плохих» ответов. [Часто ли вас беспокоит чувство вины?] | Y1: Постарайтесь представить типичные ситуации и дайте первый «естественный» ответ, который придет вам в голову. Отвечайте быстро и точно. Помните, что нет «хороших» или «плохих» ответов. [Часто ли у вас появляется чувство, что вы в чем-то виноваты?] | Z1: Постарайтесь представить типичные ситуации и дайте первый «естественный» ответ, который придет вам в голову. Отвечайте быстро и точно. Помните, что нет «хороших» или «плохих» ответов. [Способны ли вы иногда дать волю своим чувствам и беззаботно развлечься с веселой компанией?] | AA1: Постарайтесь представить типичные ситуации и дайте первый «естественный» ответ, который придет вам в голову. Отвечайте быстро и точно. Помните, что нет «хороших» или «плохих» ответов. [Можно ли сказать, что нервы у вас часто бывают натянуты до предела?] | AB1: Постарайтесь представить типичные ситуации и дайте первый «естественный» ответ, который придет вам в голову. Отвечайте быстро и точно. Помните, что нет «хороших» или «плохих» ответов. [Слывете ли вы за человека живого и веселого?] | AC1: Постарайтесь представить типичные ситуации и дайте первый «естественный» ответ, который придет вам в голову. Отвечайте быстро и точно. Помните, что нет «хороших» или «плохих» ответов. [После того как дело сделано, часто ли вы мысленно возвращаетесь к нему и думаете, что могли бы сделать лучше?] | AD1: Постарайтесь представить типичные ситуации и дайте первый «естественный» ответ, который придет вам в голову. Отвечайте быстро и точно. Помните, что нет «хороших» или «плохих» ответов. [Чувствуете ли вы себя неспокойно, находясь в большой компании?] | AE1: Постарайтесь представить типичные ситуации и дайте первый «естественный» ответ, который придет вам в голову. Отвечайте быстро и точно. Помните, что нет «хороших» или «плохих» ответов. [Бывает ли, что вы передаете слухи?] | AF1: Постарайтесь представить типичные ситуации и дайте первый «естественный» ответ, который придет вам в голову. Отвечайте быстро и точно. Помните, что нет «хороших» или «плохих» ответов. [Бывает ли, что вам не спится из-за того, что в голову лезут разные мысли?] | AG1: Постарайтесь представить типичные ситуации и дайте первый «естественный» ответ, который придет вам в голову. Отвечайте быстро и точно. Помните, что нет «хороших» или «плохих» ответов. [Что вы предпочитаете, если хотите узнать что-либо: найти в книге (ответ “Да”) или спросить у друзей (ответ “Нет”)?] | AH1: Постарайтесь представить типичные ситуации и дайте первый «естественный» ответ, который придет вам в голову. Отвечайте быстро и точно. Помните, что нет «хороших» или «плохих» ответов. [Бывают ли у вас сильные сердцебиения?] | AI1: Постарайтесь представить типичные ситуации и дайте первый «естественный» ответ, который придет вам в голову. Отвечайте быстро и точно. Помните, что нет «хороших» или «плохих» ответов. [Нравится ли вам работа, требующая сосредоточения?] | AJ1: Постарайтесь представить типичные ситуации и дайте первый «естественный» ответ, который придет вам в голову. Отвечайте быстро и точно. Помните, что нет «хороших» или «плохих» ответов. [Бывают ли у вас приступы дрожи?] | AK1: Постарайтесь представить типичные ситуации и дайте первый «естественный» ответ, который придет вам в голову. Отвечайте быстро и точно. Помните, что нет «хороших» или «плохих» ответов. [Всегда ли вы говорите только правду?] | AL1: Постарайтесь представить типичные ситуации и дайте первый «естественный» ответ, который придет вам в голову. Отвечайте быстро и точно. Помните, что нет «хороших» или «плохих» ответов. [Бывает ли вам неприятно находиться в компании, где все подшучивают друг над другом?] | AM1: Постарайтесь представить типичные ситуации и дайте первый «естественный» ответ, который придет вам в голову. Отвечайте быстро и точно. Помните, что нет «хороших» или «плохих» ответов. [Раздражительны ли вы?] | AN1: Постарайтесь представить типичные ситуации и дайте первый «естественный» ответ, который придет вам в голову. Отвечайте быстро и точно. Помните, что нет «хороших» или «плохих» ответов. [Нравится ли вам работа, требующая быстрого действия?] | AO1: Постарайтесь представить типичные ситуации и дайте первый «естественный» ответ, который придет вам в голову. Отвечайте быстро и точно. Помните, что нет «хороших» или «плохих» ответов. [Верно ли, что вам часто не дают покоя мысли о разных неприятностях и «ужасах», которые могли бы произойти, хотя все кончилось благополучно?] | AP1: Постарайтесь представить типичные ситуации и дайте первый «естественный» ответ, который придет вам в голову. Отвечайте быстро и точно. Помните, что нет «хороших» или «плохих» ответов. [Верно ли, что вы неторопливы в движениях и несколько медлительны?] | AQ1: Постарайтесь представить типичные ситуации и дайте первый «естественный» ответ, который придет вам в голову. Отвечайте быстро и точно. Помните, что нет «хороших» или «плохих» ответов. [Опаздывали ли вы когда-нибудь на работу или на встречу с кем-либо?] | AR1: Постарайтесь представить типичные ситуации и дайте первый «естественный» ответ, который придет вам в голову. Отвечайте быстро и точно. Помните, что нет «хороших» или «плохих» ответов. [Часто ли вам снятся кошмары?] | AS1: Постарайтесь представить типичные ситуации и дайте первый «естественный» ответ, который придет вам в голову. Отвечайте быстро и точно. Помните, что нет «хороших» или «плохих» ответов. [Верно ли, что вы так любите поговорить, что не упускаете любого удобного случая побеседовать с новым человеком?] | AT1: Постарайтесь представить типичные ситуации и дайте первый «естественный» ответ, который придет вам в голову. Отвечайте быстро и точно. Помните, что нет «хороших» или «плохих» ответов. [Беспокоят ли вас какие-нибудь боли?] | AU1: Постарайтесь представить типичные ситуации и дайте первый «естественный» ответ, который придет вам в голову. Отвечайте быстро и точно. Помните, что нет «хороших» или «плохих» ответов. [Огорчились бы вы, если бы долго не могли видеться со своими друзьями?] | AV1: Постарайтесь представить типичные ситуации и дайте первый «естественный» ответ, который придет вам в голову. Отвечайте быстро и точно. Помните, что нет «хороших» или «плохих» ответов. [Можете ли вы назвать себя нервным человеком?] | AW1: Постарайтесь представить типичные ситуации и дайте первый «естественный» ответ, который придет вам в голову. Отвечайте быстро и точно. Помните, что нет «хороших» или «плохих» ответов. [Есть ли среди ваших знакомых такие, которые вам явно не нравятся?] | AX1: Постарайтесь представить типичные ситуации и дайте первый «естественный» ответ, который придет вам в голову. Отвечайте быстро и точно. Помните, что нет «хороших» или «плохих» ответов. [Могли бы вы сказать, что вы уверенный в себе человек?] | AY1: Постарайтесь представить типичные ситуации и дайте первый «естественный» ответ, который придет вам в голову. Отвечайте быстро и точно. Помните, что нет «хороших» или «плохих» ответов. [Легко ли вас задевает критика ваших недостатков или вашей работы?] | AZ1: Постарайтесь представить типичные ситуации и дайте первый «естественный» ответ, который придет вам в голову. Отвечайте быстро и точно. Помните, что нет «хороших» или «плохих» ответов. [Трудно ли вам получить настоящее удовольствие от мероприятий, в которых участвует много народа?] | BA1: Постарайтесь представить типичные ситуации и дайте первый «естественный» ответ, который придет вам в голову. Отвечайте быстро и точно. Помните, что нет «хороших» или «плохих» ответов. [Беспокоит ли вас чувство, что вы чем-то хуже других?] | BB1: Постарайтесь представить типичные ситуации и дайте первый «естественный» ответ, который придет вам в голову. Отвечайте быстро и точно. Помните, что нет «хороших» или «плохих» ответов. [Сумели бы вы внести оживление в скучную компанию?] | BC1: Постарайтесь представить типичные ситуации и дайте первый «естественный» ответ, который придет вам в голову. Отвечайте быстро и точно. Помните, что нет «хороших» или «плохих» ответов. [Бывает ли, что вы говорите о вещах, в которых совсем не разбираетесь?] | BD1: Постарайтесь представить типичные ситуации и дайте первый «естественный» ответ, который придет вам в голову. Отвечайте быстро и точно. Помните, что нет «хороших» или «плохих» ответов. [Беспокоитесь ли вы о своем здоровье?] | BE1: Постарайтесь представить типичные ситуации и дайте первый «естественный» ответ, который придет вам в голову. Отвечайте быстро и точно. Помните, что нет «хороших» или «плохих» ответов. [Любите ли вы подшутить над другими?] | BF1: Постарайтесь представить типичные ситуации и дайте первый «естественный» ответ, который придет вам в голову. Отвечайте быстро и точно. Помните, что нет «хороших» или «плохих» ответов. [Страдаете ли вы бессонницей?] | BG1: Бейсбольный мяч и бита вместе стоят 1 доллар и 10 центов. Бейсбольная бита дороже мяча на 1 доллар. Сколько центов стоит мяч? | BH1: 5 машин за 5 минут производят 5 штуковин. Сколько минут потребуется 100 машинам, чтобы произвести 100 штуковин? | BI1: На одной планете началась эпидемия неизвестного вируса. Каждый день число зараженных удваивается. Все жители планеты заразятся через 28 дней. Сколько дней понадобится, чтобы заразить половину жителей планеты? | BJ1: Иван выпивает бочку пива за 6 дней. Мария выпивает такую же бочку за 12 дней. На сколько дней хватит бочки пива Марии и Ивану, если они будут пить ее вместе? | BK1: Юный Жора по результатам аттестации занял 15-е место сверху и 15-е место снизу отсортированного списка рейтинга учеников. Сколько человек учится у Жоры в классе? | BL1: Колхозник купил свинью за 60 рублей, продал за 70, выкупил обратно за 80 и в конце концов продал за 90. Сколько рублей заработал колхозник? | BM1: Семен инвестировал в акции 8000 денег. За первые полгода акции выросли на 75%. Затем упали на 50%. Каковы финансовые результаты семена?
A2: 44534.741 | B2: Нет | C2: Нет | D2: Нет | E2: Да | F2: Нет | G2: Да | H2: Нет | I2: Нет | J2: Нет | K2: Нет | L2: Нет | M2: Да | N2: Нет | O2: Да | P2: Да | Q2: Нет | R2: Нет | S2: Да | T2: Да | U2: Да | V2: Да | W2: Нет | X2: Да | Y2: Да | Z2: Да | AA2: Нет | AB2: Нет | AC2: Да | AD2: Нет | AE2: Нет | AF2: Да | AG2: Да | AH2: Нет | AI2: Да | AJ2: Да | AK2: Нет | AL2: Да | AM2: Нет | AN2: Нет | AO2: Нет | AP2: Нет | AQ2: Да | AR2: Нет | AS2: Нет | AT2: Да | AU2: Нет | AV2: Нет | AW2: Да | AX2: Нет | AY2: Да | AZ2: Нет | BA2: Да | BB2: Нет | BC2: Нет | BD2: Нет | BE2: Нет | BF2: Да | BG2: 5 | BH2: 5 | BI2: 27 | BJ2: 4 | BK2: 29 | BL2: 10 | BM2: Семен потерял часть денег
A3: 44534.742 | B3: Да | C3: Нет | D3: Нет | E3: Нет | F3: Да | G3: Да | H3: Да | I3: Да | J3: Да | K3: Нет | L3: Да | M3: Да | N3: Да | O3: Да | P3: Да | Q3: Да | R3: Нет | S3: Да | T3: Да | U3: Да | V3: Да | W3: Нет | X3: Да | Y3: Да | Z3: Нет | AA3: Да | AB3: Нет | AC3: Да | AD3: Да | AE3: Нет | AF3: Да | AG3: Да | AH3: Нет | AI3: Нет | AJ3: Нет | AK3: Нет | AL3: Да | AM3: Да | AN3: Да | AO3: Нет | AP3: Да | AQ3: Нет | AR3: Нет | AS3: Нет | AT3: Да | AU3: Нет | AV3: Нет | AW3: Да | AX3: Нет | AY3: Да | AZ3: Да | BA3: Да | BB3: Нет | BC3: Да | BD3: Да | BE3: Да | BF3: Нет | BG3: 5 | BH3: 5 | BI3: 27 | BJ3: 4 | BK3: 29 | BL3: 20 | BM3: Семен потерял часть денег
A4: 44534.742 | B4: Да | C4: Нет | D4: Нет | E4: Нет | F4: Да | G4: Нет | H4: Да | I4: Нет | J4: Да | K4: Нет | L4: Да | M4: Нет | N4: Нет | O4: Да | P4: Нет | Q4: Нет | R4: Нет | S4: Да | T4: Да | U4: Нет | V4: Нет | W4: Нет | X4: Нет | Y4: Нет | Z4: Да | AA4: Нет | AB4: Да | AC4: Да | AD4: Да | AE4: Да | AF4: Да | AG4: Да | AH4: Нет | AI4: Да | AJ4: Нет | AK4: Нет | AL4: Да | AM4: Нет | AN4: Нет | AO4: Нет | AP4: Да | AQ4: Да | AR4: Нет | AS4: Нет | AT4: Нет | AU4: Нет | AV4: Нет | AW4: Нет | AX4: Нет | AY4: Да | AZ4: Да | BA4: Да | BB4: Нет | BC4: Нет | BD4: Нет | BE4: Да | BF4: Нет | BG4: 5 | BH4: 5 | BI4: 27 | BJ4: 4 | BK4: 29 | BL4: 20 | BM4: Семен потерял часть денег
A5: 44534.743 | B5: Да | C5: Нет | D5: Нет | E5: Да | F5: Да | G5: Да | H5: Да | I5: Нет | J5: Нет | K5: Да | L5: Да | M5: Да | N5: Да | O5: Да | P5: Да | Q5: Нет | R5: Нет | S5: Да | T5: Да | U5: Да | V5: Да | W5: Нет | X5: Нет | Y5: Нет | Z5: Да | AA5: Да | AB5: Нет | AC5: Да | AD5: Да | AE5: Да | AF5: Да | AG5: Да | AH5: Да | AI5: Да | AJ5: Нет | AK5: Нет | AL5: Нет | AM5: Нет | AN5: Да | AO5: Да | AP5: Нет | AQ5: Да | AR5: Нет | AS5: Нет | AT5: Да | AU5: Нет | AV5: Нет | AW5: Да | AX5: Нет | AY5: Да | AZ5: Да | BA5: Да | BB5: Нет | BC5: Да | BD5: Да | BE5: Да | BF5: Нет | BG5: 5 | BH5: 5 | BI5: 27 | BJ5: 4 | BK5: 30 | BL5: 20 | BM5: Семен заработал денег
A6: 44534.743 | B6: Нет | C6: Да | D6: Нет | E6: Да | F6: Да | G6: Да | H6: Да | I6: Нет | J6: Да | K6: Нет | L6: Да | M6: Да | N6: Нет | O6: Да | P6: Да | Q6: Нет | R6: Нет | S6: Да | T6: Да | U6: Нет | V6: Да | W6: Нет | X6: Нет | Y6: Да | Z6: Да | AA6: Нет | AB6: Нет | AC6: Да | AD6: Нет | AE6: Да | AF6: Да | AG6: Да | AH6: Да | AI6: Да | AJ6: Да | AK6: Да | AL6: Нет | AM6: Нет | AN6: Нет | AO6: Нет | AP6: Нет | AQ6: Да | AR6: Нет | AS6: Нет | AT6: Да | AU6: Да | AV6: Нет | AW6: Да | AX6: Нет | AY6: Да | AZ6: Нет | BA6: Да | BB6: Нет | BC6: Да | BD6: Нет | BE6: Нет | BF6: Нет | BG6: 5 | BH6: 5 | BI6: 27 | BJ6: 4 | BK6: 29 | BL6: 20 | BM6: Семен потерял часть денег
A7: 44534.743 | B7: Нет | C7: Да | D7: Нет | E7: Да | F7: Да | G7: Да | H7: Нет | I7: Нет | J7: Да | K7: Нет | L7: Да | M7: Да | N7: Нет | O7: Нет | P7: Нет | Q7: Да | R7: Нет | S7: Да | T7: Нет | U7: Да | V7: Нет | W7: Нет | X7: Да | Y7: Да | Z7: Нет | AA7: Нет | AB7: Нет | AC7: Нет | AD7: Да | AE7: Да | AF7: Нет | AG7: Да | AH7: Нет | AI7: Да | AJ7: Нет | AK7: Нет | AL7: Нет | AM7: Да | AN7: Нет | AO7: Нет | AP7: Нет | AQ7: Да | AR7: Нет | AS7: Нет | AT7: Да | AU7: Да | AV7: Да | AW7: Да | AX7: Нет | AY7: Нет | AZ7: Нет | BA7: Да | BB7: Да | BC7: Да | BD7: Да | BE7: Да | BF7: Нет | BG7: 5 | BH7: 5 | BI7: 27 | BJ7: 4 | BK7: 29 | BL7: 20 | BM7: Семен потерял часть денег
A8: 44534.743 | B8: Да | C8: Нет | D8: Да | E8: Нет | F8: Да | G8: Нет | H8: Нет | I8: Нет | J8: Нет | K8: Нет | L8: Да | M8: Да | N8: Нет | O8: Нет | P8: Нет | Q8: Нет | R8: Да | S8: Нет | T8: Да | U8: Нет | V8: Да | W8: Да | X8: Нет | Y8: Нет | Z8: Да | AA8: Нет | AB8: Да | AC8: Да | AD8: Да | AE8: Да | AF8: Да | AG8: Да | AH8: Да | AI8: Да | AJ8: Нет | AK8: Нет | AL8: Да | AM8: Нет | AN8: Нет | AO8: Нет | AP8: Нет | AQ8: Да | AR8: Нет | AS8: Нет | AT8: Да | AU8: Да | AV8: Нет | AW8: Да | AX8: Да | AY8: Нет | AZ8: Нет | BA8: Нет | BB8: Да | BC8: Нет | BD8: Нет | BE8: Да | BF8: Нет | BG8: 5 | BH8: 5 | BI8: 27 | BJ8: 4 | BK8: 29 | BL8: 20 | BM8: Семен потерял часть денег
A9: 44534.743 | B9: Нет | C9: Нет | D9: Нет | E9: Да | F9: Да | G9: Да | H9: Да | I9: Нет | J9: Нет | K9: Нет | L9: Да | M9: Да | N9: Нет | O9: Да | P9: Да | Q9: Да | R9: Нет | S9: Да | T9: Да | U9: Да | V9: Да | W9: Нет | X9: Нет | Y9: Нет | Z9: Да | AA9: Нет | AB9: Нет | AC9: Да | AD9: Да | AE9: Да | AF9: Да | AG9: Да | AH9: Да | AI9: Да | AJ9: Нет | AK9: Нет | AL9: Да | AM9: Да | AN9: Нет | AO9: Да | AP9: Нет | AQ9: Да | AR9: Нет | AS9: Нет | AT9: Да | AU9: Да | AV9: Да | AW9: Нет | AX9: Нет | AY9: Нет | AZ9: Нет | BA9: Да | BB9: Нет | BC9: Нет | BD9: Да | BE9: Нет | BF9: Нет | BG9: 5 | BH9: 5 | BI9: 27 | BJ9: 4 | BK9: 29 | BL9: 20 | BM9: Семен потерял часть денег
A10: 44534.743 | B10: Да | C10: Да | D10: Нет | E10: Нет | F10: Нет | G10: Нет | H10: Да | I10: Нет | J10: Да | K10: Да | L10: Да | M10: Да | N10: Да | O10: Да | P10: Да | Q10: Да | R10: Нет | S10: Да | T10: Да | U10: Нет | V10: Да | W10: Нет | X10: Да | Y10: Да | Z10: Да | AA10: Да | AB10: Да | AC10: Да | AD10: Да | AE10: Да | AF10: Да | AG10: Да | AH10: Да | AI10: Да | AJ10: Нет | AK10: Нет | AL10: Да | AM10: Нет | AN10: Нет | AO10: Нет | AP10: Нет | AQ10: Да | AR10: Нет | AS10: Нет | AT10: Да | AU10: Да | AV10: Да | AW10: Да | AX10: Нет | AY10: Да | AZ10: Нет | BA10: Да | BB10: Нет | BC10: Нет | BD10: Да | BE10: Да | BF10: Нет | BG10: 5 | BH10: 5 | BI10: 27 | BJ10: 4 | BK10: 29 | BL10: 20 | BM10: Семен потерял часть денег
A11: 44534.743 | B11: Да | C11: Да | D11: Нет | E11: Да | F11: Да | G11: Да | H11: Нет | I11: Нет | J11: Да | K11: Нет | L11: Да | M11: Да | N11: Нет | O11: Нет | P11: Да | Q11: Да | R11: Нет | S11: Да | T11: Да | U11: Нет | V11: Да | W11: Да | X11: Нет | Y11: Нет | Z11: Да | AA11: Нет | AB11: Нет | AC11: Да | AD11: Да | AE11: Да | AF11: Нет | AG11: Нет | AH11: Нет | AI11: Да | AJ11: Нет | AK11: Нет | AL11: Да | AM11: Да | AN11: Нет | AO11: Нет | AP11: Нет | AQ11: Да | AR11: Нет | AS11: Да | AT11: Да | AU11: Да | AV11: Нет | AW11: Да | AX11: Да | AY11: Нет | AZ11: Да | BA11: Нет | BB11: Да | BC11: Нет | BD11: Да | BE11: Да | BF11: Нет | BG11: 10 | BH11: 5 | BI11: 14 | BJ11: 4 | BK11: 31 | BL11: 10 | BM11: Семен потерял часть денег
A12: 44534.744 | B12: Нет | C12: Да | D12: Да | E12: Нет | F12: Да | G12: Да | H12: Нет | I12: Нет | J12: Нет | K12: Нет | L12: Нет | M12: Нет | N12: Нет | O12: Нет | P12: Да | Q12: Нет | R12: Нет | S12: Да | T12: Да | U12: Нет | V12: Да | W12: Нет | X12: Нет | Y12: Нет | Z12: Да | AA12: Нет | AB12: Нет | AC12: Нет | AD12: Нет | AE12: Да | AF12: Нет | AG12: Да | AH12: Да | AI12: Да | AJ12: Нет | AK12: Нет | AL12: Нет | AM12: Нет | AN12: Нет | AO12: Нет | AP12: Да | AQ12: Да | AR12: Нет | AS12: Нет | AT12: Да | AU12: Нет | AV12: Нет | AW12: Да | AX12: Да | AY12: Нет | AZ12: Нет | BA12: Нет | BB12: Да | BC12: Нет | BD12: Нет | BE12: Нет | BF12: Нет | BG12: 5 | BH12: 5 | BI12: 27 | BJ12: 4 | BK12: 29 | BL12: 20 | BM12: Семен потерял часть денег
A13: 44534.744 | B13: Да | C13: Да | D13: Да | E13: Нет | F13: Да | G13: Нет | H13: Нет | I13: Нет | J13: Да | K13: Нет | L13: Да | M13: Нет | N13: Нет | O13: Нет | P13: Да | Q13: Нет | R13: Нет | S13: Да | T13: Да | U13: Нет | V13: Да | W13: Нет | X13: Нет | Y13: Нет | Z13: Да | AA13: Нет | AB13: Да | AC13: Да | AD13: Нет | AE13: Да | AF13: Да | AG13: Да | AH13: Да | AI13: Да | AJ13: Да | AK13: Нет | AL13: Да | AM13: Нет | AN13: Да | AO13: Нет | AP13: Да | AQ13: Да | AR13: Нет | AS13: Да | AT13: Да | AU13: Нет | AV13: Нет | AW13: Да | AX13: Да | AY13: Нет | AZ13: Нет | BA13: Нет | BB13: Да | BC13: Да | BD13: Нет | BE13: Да | BF13: Нет | BG13: 5 | BH13: 5 | BI13: 27 | BJ13: 9 | BK13: 29 | BL13: 20 | BM13: Семен потерял часть денег
... A134: 44534.785 | B134: Нет | C134: Да | D134: Нет | E134: Нет | F134: Да | G134: Нет | H134: Нет | I134: Да | J134: Нет | K134: Да | L134: Нет | M134: Да | N134: Нет | O134: Нет | P134: Нет | Q134: Нет | R134: Да | S134: Да | T134: Нет | U134: Нет | V134: Да | W134: Да | X134: Нет | Y134: Нет | Z134: Да | AA134: Нет | AB134: Да | AC134: Нет | AD134: Нет | AE134: Да | AF134: Нет | AG134: Да | AH134: Нет | AI134: Да | AJ134: Нет | AK134: Нет | AL134: Нет | AM134: Нет | AN134: Нет | AO134: Нет | AP134: Нет | AQ134: Да | AR134: Нет | AS134: Да | AT134: Нет | AU134: Да | AV134: Нет | AW134: Да | AX134: Да | AY134: Нет | AZ134: Нет | BA134: Нет | BB134: Да | BC134: Нет | BD134: Да | BE134: Да | BF134: Нет | BG134: 5 | BH134: 527 | BI134: 27 | BJ134: 4 | BK134: 29 | BL134: 20 | BM134: Семен потерял часть денег
A135: 44534.785 | B135: Нет | C135: Нет | D135: Нет | E135: Нет | F135: Да | G135: Да | H135: Нет | I135: Да | J135: Да | K135: Нет | L135: Нет | M135: Да | N135: Нет | O135: Нет | P135: Да | Q135: Да | R135: Нет | S135: Да | T135: Нет | U135: Да | V135: Нет | W135: Нет | X135: Да | Y135: Да | Z135: Да | AA135: Да | AB135: Да | AC135: Нет | AD135: Нет | AE135: Нет | AF135: Нет | AG135: Да | AH135: Да | AI135: Да | AJ135: Нет | AK135: Нет | AL135: Да | AM135: Да | AN135: Да | AO135: Нет | AP135: Нет | AQ135: Да | AR135: Нет | AS135: Нет | AT135: Нет | AU135: Нет | AV135: Да | AW135: Да | AX135: Да | AY135: Да | AZ135: Нет | BA135: Нет | BB135: Да | BC135: Нет | BD135: Нет | BE135: Нет | BF135: Нет | BG135: 99 | BH135: 1 минута | BI135: 27 | BJ135: 6 | BK135: 30 | BL135: 20 | BM135: Семен заработал денег
A136: 44534.786 | B136: Да | C136: Да | D136: Нет | E136: Нет | F136: Да | G136: Нет | H136: Нет | I136: Нет | J136: Да | K136: Нет | L136: Да | M136: Нет | N136: Да | O136: Да | P136: Нет | Q136: Да | R136: Нет | S136: Нет | T136: Да | U136: Да | V136: Да | W136: Нет | X136: Да | Y136: Да | Z136: Да | AA136: Да | AB136: Нет | AC136: Да | AD136: Да | AE136: Да | AF136: Да | AG136: Да | AH136: Да | AI136: Да | AJ136: Нет | AK136: Да | AL136: Да | AM136: Да | AN136: Нет | AO136: Да | AP136: Да | AQ136: Да | AR136: Нет | AS136: Нет | AT136: Нет | AU136: Да | AV136: Да | AW136: Да | AX136: Нет | AY136: Да | AZ136: Нет | BA136: Да | BB136: Да | BC136: Да | BD136: Да | BE136: Да | BF136: Да | BG136: 5 | BH136: 5 | BI136: 27 | BJ136: 4 | BK136: 29 | BL136: 20 | BM136: Семен потерял часть денег
A137: 44534.786 | B137: Нет | C137: Нет | D137: Нет | E137: Да | F137: Да | G137: Да | H137: Нет | I137: Да | J137: Нет | K137: Нет | L137: Да | M137: Да | N137: Нет | O137: Нет | P137: Нет | Q137: Да | R137: Да | S137: Нет | T137: Да | U137: Нет | V137: Да | W137: Нет | X137: Да | Y137: Да | Z137: Да | AA137: Нет | AB137: Да | AC137: Нет | AD137: Нет | AE137: Нет | AF137: Да | AG137: Да | AH137: Нет | AI137: Нет | AJ137: Нет | AK137: Нет | AL137: Да | AM137: Нет | AN137: Да | AO137: Нет | AP137: Нет | AQ137: Да | AR137: Нет | AS137: Нет | AT137: Нет | AU137: Да | AV137: Да | AW137: Нет | AX137: Да | AY137: Да | AZ137: Нет | BA137: Да | BB137: Да | BC137: Нет | BD137: Да | BE137: Да | BF137: Нет | BG137: 5 | BH137: 5 | BI137: 27 | BJ137: 4 | BK137: 29 | BL137: 20 | BM137: Семен потерял часть денег
A138: 44534.786 | B138: Да | C138: Да | D138: Да | E138: Нет | F138: Да | G138: Да | H138: Да | I138: Нет | J138: Да | K138: Нет | L138: Да | M138: Да | N138: Нет | O138: Да | P138: Нет | Q138: Нет | R138: Да | S138: Нет | T138: Да | U138: Да | V138: Да | W138: Нет | X138: Нет | Y138: Нет | Z138: Да | AA138: Нет | AB138: Да | AC138: Да | AD138: Нет | AE138: Нет | AF138: Да | AG138: Да | AH138: Да | AI138: Да | AJ138: Да | AK138: Да | AL138: Нет | AM138: Да | AN138: Да | AO138: Нет | AP138: Нет | AQ138: Нет | AR138: Нет | AS138: Нет | AT138: Да | AU138: Нет | AV138: Да | AW138: Да | AX138: Да | AY138: Нет | AZ138: Нет | BA138: Нет | BB138: Да | BC138: Нет | BD138: Нет | BE138: Да | BF138: Нет | BG138: 10, возможно 5 | BH138: 5 | BI138: 4, но не факт | BJ138: На 1 максимум растянут | BK138: 31 | BL138: 20 | BM138: Стоимость акций Семена не изменилась
A139: 44534.787 | B139: Да | C139: Нет | D139: Нет | E139: Да | F139: Нет | G139: Да | H139: Да | I139: Нет | J139: Да | K139: Нет | L139: Нет | M139: Нет | N139: Нет | O139: Да | P139: Да | Q139: Да | R139: Нет | S139: Да | T139: Да | U139: Да | V139: Да | W139: Да | X139: Да | Y139: Да | Z139: Нет | AA139: Нет | AB139: Нет | AC139: Да | AD139: Да | AE139: Да | AF139: Да | AG139: Да | AH139: Да | AI139: Да | AJ139: Нет | AK139: Нет | AL139: Да | AM139: Нет | AN139: Нет | AO139: Да | AP139: Да | AQ139: Да | AR139: Нет | AS139: Да | AT139: Да | AU139: Нет | AV139: Нет | AW139: Нет | AX139: Да | AY139: Да | AZ139: Да | BA139: Да | BB139: Нет | BC139: Да | BD139: Да | BE139: Да | BF139: Да | BG139: 5 | BH139: 5 | BI139: 27 | BJ139: 4 | BK139: 29 | BL139: 20 | BM139: Семен потерял часть денег
A140: 44534.787 | B140: Да | C140: Да | D140: Да | E140: Нет | F140: Да | G140: Да | H140: Да | I140: Нет | J140: Да | K140: Нет | L140: Да | M140: Да | N140: Да | O140: Да | P140: Да | Q140: Да | R140: Нет | S140: Да | T140: Да | U140: Да | V140: Да | W140: Да | X140: Да | Y140: Да | Z140: Да | AA140: Да | AB140: Да | AC140: Да | AD140: Нет | AE140: Да | AF140: Нет | AG140: Да | AH140: Нет | AI140: Да | AJ140: Нет | AK140: Нет | AL140: Нет | AM140: Да | AN140: Нет | AO140: Да | AP140: Да | AQ140: Да | AR140: Нет | AS140: Нет | AT140: Нет | AU140: Нет | AV140: Да | AW140: Да | AX140: Нет | AY140: Да | AZ140: Да | BA140: Да | BB140: Нет | BC140: Да | BD140: Да | BE140: Да | BF140: Нет | BG140: 5 | BH140: 5 | BI140: 27 | BJ140: 4 | BK140: 29 | BL140: 20 | BM140: Семен потерял часть денег
A141: 44534.788 | B141: Да | C141: Да | D141: Нет | E141: Нет | F141: Да | G141: Да | H141: Нет | I141: Да | J141: Нет | K141: Да | L141: Нет | M141: Да | N141: Да | O141: Нет | P141: Нет | Q141: Нет | R141: Да | S141: Да | T141: Нет | U141: Нет | V141: Да | W141: Да | X141: Нет | Y141: Нет | Z141: Да | AA141: Нет | AB141: Да | AC141: Да | AD141: Нет | AE141: Нет | AF141: Да | AG141: Да | AH141: Да | AI141: Да | AJ141: Нет | AK141: Нет | AL141: Нет | AM141: Нет | AN141: Да | AO141: Нет | AP141: Нет | AQ141: Да | AR141: Нет | AS141: Да | AT141: Нет | AU141: Да | AV141: Нет | AW141: Да | AX141: Да | AY141: Нет | AZ141: Нет | BA141: Нет | BB141: Да | BC141: Да | BD141: Да | BE141: Да | BF141: Да | BG141: 5 | BH141: 5 | BI141: 27 | BJ141: 5 | BK141: 29 | BL141: 10 | BM141: Семен потерял часть денег
A142: 44534.788 | B142: Нет | C142: Нет | D142: Нет | E142: Да | F142: Да | G142: Да | H142: Нет | I142: Да | J142: Да | K142: Нет | L142: Нет | M142: Да | N142: Нет | O142: Да | P142: Да | Q142: Да | R142: Нет | S142: Да | T142: Нет | U142: Да | V142: Нет | W142: Да | X142: Нет | Y142: Нет | Z142: Да | AA142: Нет | AB142: Нет | AC142: Нет | AD142: Да | AE142: Да | AF142: Да | AG142: Да | AH142: Да | AI142: Да | AJ142: Нет | AK142: Нет | AL142: Да | AM142: Да | AN142: Да | AO142: Да | AP142: Нет | AQ142: Да | AR142: Нет | AS142: Нет | AT142: Да | AU142: Да | AV142: Да | AW142: Да | AX142: Да | AY142: Нет | AZ142: Нет | BA142: Нет | BB142: Нет | BC142: Нет | BD142: Да | BE142: Нет | BF142: Нет | BG142: 5 | BH142: 5 | BI142: 27 | BJ142: 4 | BK142: 29 | BL142: 20 | BM142: Семен потерял часть денег
A143: 44534.789 | B143: Нет | C143: Нет | D143: Нет | E143: Да | F143: Да | G143: Да | H143: Да | I143: Нет | J143: Да | K143: Да | L143: Да | M143: Да | N143: Нет | O143: Да | P143: Да | Q143: Да | R143: Нет | S143: Да | T143: Да | U143: Да | V143: Да | W143: Нет | X143: Нет | Y143: Нет | Z143: Да | AA143: Да | AB143: Нет | AC143: Нет | AD143: Нет | AE143: Да | AF143: Да | AG143: Да | AH143: Да | AI143: Да | AJ143: Да | AK143: Нет | AL143: Да | AM143: Да | AN143: Нет | AO143: Нет | AP143: Нет | AQ143: Нет | AR143: Нет | AS143: Нет | AT143: Нет | AU143: Нет | AV143: Да | AW143: Да | AX143: Нет | AY143: Да | AZ143: Нет | BA143: Да | BB143: Нет | BC143: Нет | BD143: Да | BE143: Нет | BF143: Нет | BG143: 5 | BH143: 5 | BI143: 27 | BJ143: 4 | BK143: 29 | BL143: 10 | BM143: Семен потерял часть денег
A144: 44534.789 | B144: Нет | C144: Да | D144: Нет | E144: Нет | F144: Нет | G144: Да | H144: Нет | I144: Да | J144: Да | K144: Нет | L144: Да | M144: Нет | N144: Нет | O144: Нет | P144: Нет | Q144: Нет | R144: Нет | S144: Нет | T144: Да | U144: Да | V144: Нет | W144: Нет | X144: Нет | Y144: Нет | Z144: Нет | AA144: Нет | AB144: Да | AC144: Нет | AD144: Нет | AE144: Да | AF144: Да | AG144: Нет | AH144: Да | AI144: Да | AJ144: Да | AK144: Нет | AL144: Нет | AM144: Нет | AN144: Нет | AO144: Нет | AP144: Да | AQ144: Да | AR144: Нет | AS144: Нет | AT144: Нет | AU144: Да | AV144: Нет | AW144: Нет | AX144: Да | AY144: Нет | AZ144: Да | BA144: Нет | BB144: Да | BC144: Да | BD144: Нет | BE144: Да | BF144: Нет | BG144: 5 | BH144: 20 | BI144: 27 | BJ144: 4 | BK144: 30 | BL144: 10 | BM144: Семен потерял часть денег
A145: 44534.79 | B145: Нет | C145: Нет | D145: Да | E145: Нет | F145: Да | G145: Нет | H145: Да | I145: Нет | J145: Да | K145: Нет | L145: Да | M145: Да | N145: Нет | O145: Нет | P145: Да | Q145: Нет | R145: Нет | S145: Да | T145: Да | U145: Да | V145: Нет | W145: Нет | X145: Нет | Y145: Нет | Z145: Да | AA145: Нет | AB145: Да | AC145: Нет | AD145: Нет | AE145: Да | AF145: Да | AG145: Да | AH145: Нет | AI145: Да | AJ145: Нет | AK145: Нет | AL145: Да | AM145: Нет | AN145: Нет | AO145: Нет | AP145: Да | AQ145: Нет | AR145: Нет | AS145: Нет | AT145: Да | AU145: Нет | AV145: Нет | AW145: Да | AX145: Нет | AY145: Нет | AZ145: Да | BA145: Нет | BB145: Да | BC145: Да | BD145: Нет | BE145: Нет | BF145: Да | BG145: 5 | BH145: 5 | BI145: 27 | BJ145: 4 | BK145: 29 | BL145: 20 | BM145: Семен потерял часть денег
A146: 44534.79 | B146: Да | C146: Да | D146: Нет | E146: Нет | F146: Да | G146: Да | H146: Да | I146: Да | J146: Да | K146: Нет | L146: Да | M146: Да | N146: Да | O146: Да | P146: Нет | Q146: Да | R146: Да | S146: Да | T146: Да | U146: Нет | V146: Да | W146: Да | X146: Да | Y146: Да | Z146: Да | AA146: Да | AB146: Да | AC146: Нет | AD146: Нет | AE146: Да | AF146: Да | AG146: Нет | AH146: Да | AI146: Нет | AJ146: Да | AK146: Нет | AL146: Нет | AM146: Да | AN146: Нет | AO146: Да | AP146: Нет | AQ146: Да | AR146: Нет | AS146: Нет | AT146: Да | AU146: Да | AV146: Да | AW146: Нет | AX146: Нет | AY146: Да | AZ146: Нет | BA146: Да | BB146: Да | BC146: Да | BD146: Да | BE146: Да | BF146: Нет | BG146: 5 | BH146: 5 | BI146: 27 | BJ146: 4 | BK146: 31 | BL146: 20 | BM146: Семен потерял часть денег
A147: 44534.79 | B147: Да | C147: Да | D147: Нет | E147: Нет | F147: Да | G147: Нет | H147: Да | I147: Да | J147: Да | K147: Нет | L147: Да | M147: Да | N147: Да | O147: Да | P147: Да | Q147: Нет | R147: Нет | S147: Да | T147: Да | U147: Да | V147: Да | W147: Да | X147: Да | Y147: Да | Z147: Да | AA147: Нет | AB147: Нет | AC147: Нет | AD147: Да | AE147: Да | AF147: Да | AG147: Да | AH147: Нет | AI147: Да | AJ147: Нет | AK147: Нет | AL147: Да | AM147: Нет | AN147: Да | AO147: Да | AP147: Нет | AQ147: Да | AR147: Нет | AS147: Нет | AT147: Да | AU147: Да | AV147: Нет | AW147: Нет | AX147: Да | AY147: Нет | AZ147: Да | BA147: Нет | BB147: Нет | BC147: Да | BD147: Да | BE147: Нет | BF147: Нет | BG147: 5 | BH147: 5 | BI147: 27 | BJ147: 4 | BK147: 29 | BL147: 10 | BM147: Семен заработал денег
A148: 44534.79 | B148: Да | C148: Да | D148: Нет | E148: Да | F148: Да | G148: Нет | H148: Нет | I148: Нет | J148: Да | K148: Нет | L148: Да | M148: Да | N148: Нет | O148: Нет | P148: Да | Q148: Нет | R148: Нет | S148: Да | T148: Нет | U148: Да | V148: Нет | W148: Нет | X148: Нет | Y148: Нет | Z148: Да | AA148: Нет | AB148: Нет | AC148: Нет | AD148: Нет | AE148: Нет | AF148: Да | AG148: Нет | AH148: Нет | AI148: Да | AJ148: Нет | AK148: Нет | AL148: Нет | AM148: Нет | AN148: Нет | AO148: Нет | AP148: Нет | AQ148: Да | AR148: Нет | AS148: Нет | AT148: Нет | AU148: Да | AV148: Нет | AW148: Нет | AX148: Нет | AY148: Нет | AZ148: Нет | BA148: Да | BB148: Нет | BC148: Нет | BD148: Да | BE148: Да | BF148: Нет | BG148: 5 | BH148: 5 | BI148: 27 | BJ148: 4 | BK148: 29 | BL148: 20 | BM148: Семен потерял часть денег
A149: 44534.79 | B149: Нет | C149: Нет | D149: Да | E149: Да | F149: Нет | G149: Нет | H149: Нет | I149: Да | J149: Нет | K149: Да | L149: Да | M149: Да | N149: Да | O149: Нет | P149: Да | Q149: Нет | R149: Нет | S149: Да | T149: Да | U149: Да | V149: Нет | W149: Нет | X149: Нет | Y149: Нет | Z149: Да | AA149: Нет | AB149: Да | AC149: Нет | AD149: Да | AE149: Нет | AF149: Нет | AG149: Да | AH149: Нет | AI149: Да | AJ149: Нет | AK149: Да | AL149: Да | AM149: Нет | AN149: Да | AO149: Нет | AP149: Нет | AQ149: Нет | AR149: Нет | AS149: Нет | AT149: Нет | AU149: Нет | AV149: Нет | AW149: Нет | AX149: Да | AY149: Нет | AZ149: Да | BA149: Нет | BB149: Да | BC149: Нет | BD149: Да | BE149: Да | BF149: Нет | BG149: 5 | BH149: 5 | BI149: 27 | BJ149: 4 | BK149: 29 | BL149: 20 | BM149: Семен потерял часть денег
A150: 44534.791 | B150: Да | C150: Нет | D150: Нет | E150: Нет | F150: Да | G150: Нет | H150: Нет | I150: Нет | J150: Да | K150: Нет | L150: Нет | M150: Да | N150: Да | O150: Нет | P150: Да | Q150: Да | R150: Нет | S150: Да | T150: Да | U150: Нет | V150: Нет | W150: Нет | X150: Нет | Y150: Нет | Z150: Да | AA150: Нет | AB150: Да | AC150: Да | AD150: Нет | AE150: Да | AF150: Да | AG150: Да | AH150: Да | AI150: Да | AJ150: Нет | AK150: Нет | AL150: Да | AM150: Да | AN150: Да | AO150: Да | AP150: Да | AQ150: Да | AR150: Нет | AS150: Нет | AT150: Да | AU150: Нет | AV150: Нет | AW150: Да | AX150: Нет | AY150: Да | AZ150: Нет | BA150: Да | BB150: Да | BC150: Да | BD150: Да | BE150: Да | BF150: Нет | BG150: 5 | BH150: 5 | BI150: 27 | BJ150: 4 | BK150: 29 | BL150: 10 | BM150: Семен потерял часть денег
... A166: 44534.796 | B166: Нет | C166: Да | D166: Да | E166: Нет | F166: Да | G166: Нет | H166: Нет | I166: Нет | J166: Нет | K166: Да | L166: Да | M166: Да | N166: Нет | O166: Да | P166: Да | Q166: Нет | R166: Нет | S166: Да | T166: Да | U166: Да | V166: Да | W166: Да | X166: Нет | Y166: Нет | Z166: Нет | AA166: Нет | AB166: Нет | AC166: Да | AD166: Да | AE166: Да | AF166: Нет | AG166: Да | AH166: Нет | AI166: Да | AJ166: Нет | AK166: Нет | AL166: Да | AM166: Нет | AN166: Нет | AO166: Нет | AP166: Да | AQ166: Да | AR166: Нет | AS166: Нет | AT166: Да | AU166: Да | AV166: Нет | AW166: Да | AX166: Нет | AY166: Да | AZ166: Да | BA166: Да | BB166: Нет | BC166: Нет | BD166: Да | BE166: Да | BF166: Нет | BG166: 5 | BH166: 5 | BI166: 27 | BJ166: 4 | BK166: 29 | BL166: 20 | BM166: Семен потерял часть денег
A167: 44534.796 | B167: Нет | C167: Нет | D167: Нет | E167: Нет | F167: Нет | G167: Нет | H167: Нет | I167: Да | J167: Нет | K167: Нет | L167: Да | M167: Да | N167: Да | O167: Да | P167: Да | Q167: Да | R167: Нет | S167: Да | T167: Да | U167: Да | V167: Да | W167: Да | X167: Нет | Y167: Нет | Z167: Да | AA167: Да | AB167: Нет | AC167: Нет | AD167: Да | AE167: Да | AF167: Да | AG167: Нет | AH167: Да | AI167: Да | AJ167: Нет | AK167: Нет | AL167: Да | AM167: Да | AN167: Да | AO167: Нет | AP167: Нет | AQ167: Да | AR167: Нет | AS167: Нет | AT167: Да | AU167: Нет | AV167: Да | AW167: Да | AX167: Нет | AY167: Да | AZ167: Нет | BA167: Нет | BB167: Нет | BC167: Да | BD167: Да | BE167: Нет | BF167: Да | BG167: 10 центов | BH167: 5 | BI167: 27 | BJ167: 4 | BK167: 29 | BL167: 10 | BM167: Семен заработал денег
A168: 44534.796 | B168: Нет | C168: Нет | D168: Нет | E168: Нет | F168: Да | G168: Да | H168: Нет | I168: Нет | J168: Нет | K168: Нет | L168: Да | M168: Нет | N168: Нет | O168: Да | P168: Да | Q168: Нет | R168: Нет | S168: Да | T168: Да | U168: Да | V168: Нет | W168: Нет | X168: Нет | Y168: Нет | Z168: Нет | AA168: Да | AB168: Нет | AC168: Да | AD168: Да | AE168: Да | AF168: Нет | AG168: Да | AH168: Нет | AI168: Да | AJ168: Нет | AK168: Нет | AL168: Да | AM168: Да | AN168: Нет | AO168: Да | AP168: Нет | AQ168: Да | AR168: Нет | AS168: Нет | AT168: Да | AU168: Да | AV168: Да | AW168: Да | AX168: Нет | AY168: Да | AZ168: Да | BA168: Да | BB168: Нет | BC168: Да | BD168: Да | BE168: Да | BF168: Нет | BG168: 1 доллар 5 центов | BH168: 5 | BI168: 27 | BJ168: 4 | BK168: 29 | BL168: 0 | BM168: Семен потерял часть денег
A169: 44534.797 | B169: Нет | C169: Нет | D169: Нет | E169: Да | F169: Да | G169: Да | H169: Да | I169: Нет | J169: Да | K169: Нет | L169: Да | M169: Да | N169: Нет | O169: Да | P169: Да | Q169: Да | R169: Нет | S169: Да | T169: Да | U169: Да | V169: Да | W169: Нет | X169: Да | Y169: Да | Z169: Да | AA169: Нет | AB169: Нет | AC169: Да | AD169: Нет | AE169: Нет | AF169: Нет | AG169: Да | AH169: Нет | AI169: Да | AJ169: Нет | AK169: Нет | AL169: Да | AM169: Нет | AN169: Нет | AO169: Нет | AP169: Нет | AQ169: Да | AR169: Нет | AS169: Нет | AT169: Нет | AU169: Нет | AV169: Нет | AW169: Да | AX169: Нет | AY169: Да | AZ169: Да | BA169: Да | BB169: Да | BC169: Да | BD169: Да | BE169: Нет | BF169: Нет | BG169: 5 | BH169: 5 | BI169: 27 | BJ169: 4 | BK169: 29 | BL169: 20 | BM169: Семен потерял часть денег
A170: 44534.797 | B170: Да | C170: Да | D170: Нет | E170: Нет | F170: Да | G170: Да | H170: Да | I170: Нет | J170: Да | K170: Нет | L170: Да | M170: Да | N170: Да | O170: Да | P170: Да | Q170: Нет | R170: Нет | S170: Да | T170: Да | U170: Нет | V170: Да | W170: Да | X170: Нет | Y170: Нет | Z170: Да | AA170: Нет | AB170: Да | AC170: Да | AD170: Нет | AE170: Нет | AF170: Нет | AG170: Нет | AH170: Нет | AI170: Да | AJ170: Нет | AK170: Нет | AL170: Да | AM170: Да | AN170: Да | AO170: Да | AP170: Да | AQ170: Да | AR170: Нет | AS170: Нет | AT170: Да | AU170: Да | AV170: Да | AW170: Нет | AX170: Да | AY170: Да | AZ170: Нет | BA170: Да | BB170: Нет | BC170: Нет | BD170: Да | BE170: Нет | BF170: Нет | BG170: 5 | BH170: 100 | BI170: 27 | BJ170: 4.5 | BK170: 29 | BL170: 10 | BM170: Семен потерял часть денег
A171: 44534.797 | B171: Нет | C171: Да | D171: Нет | E171: Нет | F171: Да | G171: Да | H171: Нет | I171: Нет | J171: Да | K171: Нет | L171: Да | M171: Да | N171: Да | O171: Да | P171: Да | Q171: Нет | R171: Нет | S171: Да | T171: Нет | U171: Да | V171: Да | W171: Нет | X171: Да | Y171: Да | Z171: Нет | AA171: Нет | AB171: Нет | AC171: Да | AD171: Да | AE171: Да | AF171: Да | AG171: Нет | AH171: Да | AI171: Да | AJ171: Нет | AK171: Нет | AL171: Да | AM171: Нет | AN171: Нет | AO171: Нет | AP171: Да | AQ171: Да | AR171: Нет | AS171: Нет | AT171: Да | AU171: Да | AV171: Да | AW171: Да | AX171: Нет | AY171: Да | AZ171: Да | BA171: Да | BB171: Нет | BC171: Да | BD171: Да | BE171: Да | BF171: Да | BG171: 5 | BH171: 1 | BI171: 27 | BJ171: 4 | BK171: 29 | BL171: 0 | BM171: Семен потерял часть денег
A172: 44534.798 | B172: Нет | C172: Нет | D172: Нет | E172: Нет | F172: Да | G172: Да | H172: Да | I172: Нет | J172: Да | K172: Нет | L172: Да | M172: Да | N172: Нет | O172: Да | P172: Да | Q172: Да | R172: Нет | S172: Да | T172: Нет | U172: Да | V172: Нет | W172: Да | X172: Да | Y172: Да | Z172: Нет | AA172: Да | AB172: Нет | AC172: Да | AD172: Да | AE172: Нет | AF172: Да | AG172: Да | AH172: Да | AI172: Да | AJ172: Нет | AK172: Да | AL172: Да | AM172: Да | AN172: Нет | AO172: Да | AP172: Нет | AQ172: Да | AR172: Нет | AS172: Нет | AT172: Нет | AU172: Нет | AV172: Да | AW172: Да | AX172: Нет | AY172: Да | AZ172: Нет | BA172: Да | BB172: Нет | BC172: Да | BD172: Да | BE172: Нет | BF172: Нет | BG172: 5 | BH172: 5 | BI172: 27 | BJ172: 4 | BK172: 29 | BL172: 20 | BM172: Семен потерял часть денег
A173: 44534.798 | B173: Да | C173: Нет | D173: Нет | E173: Да | F173: Да | G173: Нет | H173: Нет | I173: Нет | J173: Да | K173: Нет | L173: Да | M173: Да | N173: Да | O173: Нет | P173: Да | Q173: Нет | R173: Нет | S173: Нет | T173: Да | U173: Да | V173: Да | W173: Да | X173: Да | Y173: Да | Z173: Да | AA173: Нет | AB173: Да | AC173: Нет | AD173: Да | AE173: Да | AF173: Да | AG173: Да | AH173: Да | AI173: Да | AJ173: Да | AK173: Нет | AL173: Да | AM173: Нет | AN173: Нет | AO173: Нет | AP173: Нет | AQ173: Да | AR173: Нет | AS173: Нет | AT173: Нет | AU173: Да | AV173: Нет | AW173: Нет | AX173: Нет | AY173: Да | AZ173: Да | BA173: Нет | BB173: Нет | BC173: Да | BD173: Да | BE173: Нет | BF173: Нет | BG173: 5 | BH173: 5 | BI173: 27 | BJ173: 4 | BK173: 29 | BL173: 20 | BM173: Семен потерял часть денег
A174: 44534.798 | B174: Нет | C174: Нет | D174: Нет | E174: Да | F174: Нет | G174: Да | H174: Да | I174: Нет | J174: Да | K174: Нет | L174: Да | M174: Нет | N174: Нет | O174: Нет | P174: Да | Q174: Да | R174: Нет | S174: Да | T174: Да | U174: Да | V174: Нет | W174: Нет | X174: Да | Y174: Нет | Z174: Нет | AA174: Да | AB174: Нет | AC174: Нет | AD174: Да | AE174: Нет | AF174: Да | AG174: Да | AH174: Да | AI174: Да | AJ174: Да | AK174: Нет | AL174: Да | AM174: Да | AN174: Нет | AO174: Да | AP174: Да | AQ174: Да | AR174: Нет | AS174: Нет | AT174: Да | AU174: Нет | AV174: Нет | AW174: Да | AX174: Нет | AY174: Да | AZ174: Да | BA174: Да | BB174: Да | BC174: Нет | BD174: Да | BE174: Нет | BF174: Нет | BG174: 5 | BH174: 5 | BI174: 27 | BJ174: 4 | BK174: 29 | BL174: 20 | BM174: Семен заработал денег
A175: 44534.798 | B175: Да | C175: Нет | D175: Нет | E175: Да | F175: Да | G175: Да | H175: Да | I175: Нет | J175: Да | K175: Нет | L175: Да | M175: Да | N175: Нет | O175: Да | P175: Нет | Q175: Да | R175: Нет | S175: Да | T175: Да | U175: Нет | V175: Да | W175: Да | X175: Да | Y175: Да | Z175: Да | AA175: Да | AB175: Да | AC175: Нет | AD175: Нет | AE175: Да | AF175: Да | AG175: Да | AH175: Да | AI175: Да | AJ175: Да | AK175: Нет | AL175: Да | AM175: Да | AN175: Нет | AO175: Нет | AP175: Да | AQ175: Да | AR175: Нет | AS175: Нет | AT175: Да | AU175: Нет | AV175: Нет | AW175: Нет | AX175: Да | AY175: Да | AZ175: Да | BA175: Да | BB175: Нет | BC175: Нет | BD175: Да | BE175: Да | BF175: Нет | BG175: 5 | BH175: 5 | BI175: 27 | BJ175: 4 | BK175: 29 | BL175: 20 | BM175: Семен потерял часть денег
A176: 44534.799 | B176: Да | C176: Да | D176: Нет | E176: Да | F176: Да | G176: Нет | H176: Да | I176: Нет | J176: Да | K176: Нет | L176: Да | M176: Да | N176: Нет | O176: Нет | P176: Нет | Q176: Нет | R176: Да | S176: Да | T176: Да | U176: Нет | V176: Да | W176: Нет | X176: Нет | Y176: Нет | Z176: Да | AA176: Нет | AB176: Да | AC176: Да | AD176: Нет | AE176: Да | AF176: Да | AG176: Да | AH176: Нет | AI176: Да | AJ176: Нет | AK176: Нет | AL176: Нет | AM176: Нет | AN176: Да | AO176: Нет | AP176: Нет | AQ176: Да | AR176: Нет | AS176: Нет | AT176: Нет | AU176: Да | AV176: Нет | AW176: Да | AX176: Да | AY176: Нет | AZ176: Нет | BA176: Нет | BB176: Да | BC176: Да | BD176: Нет | BE176: Да | BF176: Нет | BG176: 5 | BH176: 5 | BI176: 27 | BJ176: 4 | BK176: 15 | BL176: 10 | BM176: Семен потерял часть денег
A177: 44534.801 | B177: Да | C177: Да | D177: Да | E177: Да | F177: Да | G177: Да | H177: Нет | I177: Да | J177: Да | K177: Нет | L177: Да | M177: Нет | N177: Да | O177: Нет | P177: Да | Q177: Нет | R177: Нет | S177: Да | T177: Да | U177: Нет | V177: Нет | W177: Да | X177: Да | Y177: Нет | Z177: Да | AA177: Да | AB177: Нет | AC177: Да | AD177: Нет | AE177: Да | AF177: Нет | AG177: Да | AH177: Нет | AI177: Да | AJ177: Нет | AK177: Нет | AL177: Нет | AM177: Нет | AN177: Да | AO177: Нет | AP177: Да | AQ177: Нет | AR177: Нет | AS177: Нет | AT177: Нет | AU177: Да | AV177: Нет | AW177: Да | AX177: Да | AY177: Нет | AZ177: Да | BA177: Да | BB177: Нет | BC177: Нет | BD177: Нет | BE177: Да | BF177: Нет | BG177: 5 | BH177: 500 | BI177: 14 | BJ177: 4 | BK177: 29 | BL177: 20 | BM177: Семен потерял часть денег
A178: 44534.801 | B178: Да | C178: Да | D178: Нет | E178: Нет | F178: Да | G178: Нет | H178: Да | I178: Да | J178: Да | K178: Нет | L178: Да | M178: Нет | N178: Нет | O178: Нет | P178: Нет | Q178: Да | R178: Нет | S178: Да | T178: Да | U178: Нет | V178: Да | W178: Нет | X178: Нет | Y178: Нет | Z178: Да | AA178: Нет | AB178: Нет | AC178: Да | AD178: Да | AE178: Да | AF178: Да | AG178: Да | AH178: Нет | AI178: Да | AJ178: Нет | AK178: Нет | AL178: Да | AM178: Нет | AN178: Нет | AO178: Да | AP178: Нет | AQ178: Да | AR178: Нет | AS178: Нет | AT178: Да | AU178: Да | AV178: Нет | AW178: Да | AX178: Нет | AY178: Да | AZ178: Нет | BA178: Да | BB178: Нет | BC178: Да | BD178: Да | BE178: Да | BF178: Да | BG178: 5 | BH178: 5 | BI178: 27 | BJ178: 4 | BK178: 29 | BL178: 20 | BM178: Семен потерял часть денег
A179: 44534.802 | B179: Да | C179: Да | D179: Нет | E179: Да | F179: Нет | G179: Да | H179: Да | I179: Да | J179: Да | K179: Нет | L179: Да | M179: Да | N179: Да | O179: Да | P179: Да | Q179: Да | R179: Нет | S179: Да | T179: Да | U179: Да | V179: Да | W179: Да | X179: Да | Y179: Да | Z179: Нет | AA179: Да | AB179: Да | AC179: Да | AD179: Да | AE179: Да | AF179: Да | AG179: Да | AH179: Да | AI179: Да | AJ179: Да | AK179: Нет | AL179: Да | AM179: Да | AN179: Нет | AO179: Да | AP179: Нет | AQ179: Да | AR179: Нет | AS179: Нет | AT179: Да | AU179: Да | AV179: Да | AW179: Нет | AX179: Нет | AY179: Да | AZ179: Да | BA179: Да | BB179: Нет | BC179: Да | BD179: Да | BE179: Нет | BF179: Нет | BG179: 1.05 | BH179: 5 | BI179: 27 | BJ179: 4 | BK179: 29 | BL179: 20 | BM179: Семен потерял часть денег
A180: 44534.802 | B180: Нет | C180: Нет | D180: Нет | E180: Нет | F180: Да | G180: Да | H180: Нет | I180: Да | J180: Нет | K180: Нет | L180: Да | M180: Да | N180: Нет | O180: Нет | P180: Да | Q180: Нет | R180: Нет | S180: Да | T180: Да | U180: Да | V180: Нет | W180: Нет | X180: Нет | Y180: Нет | Z180: Да | AA180: Нет | AB180: Нет | AC180: Нет | AD180: Да | AE180: Нет | AF180: Да | AG180: Да | AH180: Нет | AI180: Да | AJ180: Нет | AK180: Нет | AL180: Да | AM180: Да | AN180: Нет | AO180: Нет | AP180: Нет | AQ180: Да | AR180: Нет | AS180: Нет | AT180: Нет | AU180: Нет | AV180: Да | AW180: Нет | AX180: Да | AY180: Нет | AZ180: Да | BA180: Нет | BB180: Нет | BC180: Нет | BD180: Да | BE180: Нет | BF180: Нет | BG180: 5 | BH180: 5 | BI180: 27 | BJ180: 4 | BK180: 31 | BL180: 20 | BM180: Семен потерял часть денег
... A182: 44534.803 | B182: Да | C182: Нет | D182: Нет | E182: Нет | F182: Нет | G182: Да | H182: Да | I182: Да | J182: Да | K182: Нет | L182: Нет | M182: Да | N182: Нет | O182: Нет | P182: Нет | Q182: Да | R182: Да | S182: Нет | T182: Да | U182: Да | V182: Да | W182: Да | X182: Нет | Y182: Нет | Z182: Да | AA182: Нет | AB182: Да | AC182: Нет | AD182: Нет | AE182: Да | AF182: Да | AG182: Нет | AH182: Нет | AI182: Да | AJ182: Нет | AK182: Нет | AL182: Да | AM182: Да | AN182: Нет | AO182: Нет | AP182: Нет | AQ182: Да | AR182: Нет | AS182: Нет | AT182: Да | AU182: Да | AV182: Нет | AW182: Да | AX182: Да | AY182: Да | AZ182: Нет | BA182: Да | BB182: Да | BC182: Да | BD182: Да | BE182: Нет | BF182: Нет | BG182: 5 | BH182: 5 | BI182: 27 | BJ182: 4 | BK182: 29 | BL182: 20 | BM182: Семен потерял часть денег
A183: 44534.803 | B183: Да | C183: Нет | D183: Да | E183: Нет | F183: Да | G183: Нет | H183: Нет | I183: Нет | J183: Нет | K183: Нет | L183: Да | M183: Да | N183: Нет | O183: Да | P183: Нет | Q183: Нет | R183: Нет | S183: Да | T183: Да | U183: Да | V183: Да | W183: Нет | X183: Нет | Y183: Нет | Z183: Да | AA183: Нет | AB183: Да | AC183: Да | AD183: Да | AE183: Да | AF183: Да | AG183: Да | AH183: Нет | AI183: Да | AJ183: Нет | AK183: Нет | AL183: Нет | AM183: Нет | AN183: Нет | AO183: Нет | AP183: Да | AQ183: Да | AR183: Нет | AS183: Нет | AT183: Нет | AU183: Нет | AV183: Нет | AW183: Нет | AX183: Нет | AY183: Нет | AZ183: Нет | BA183: Нет | BB183: Да | BC183: Да | BD183: Нет | BE183: Да | BF183: Нет | BG183: 5 | BH183: 1 минута | BI183: 27 | BJ183: 4 | BK183: 29 | BL183: 20 | BM183: Семен потерял часть денег
A184: 44534.803 | B184: Да | C184: Да | D184: Нет | E184: Да | F184: Нет | G184: Нет | H184: Да | I184: Нет | J184: Да | K184: Нет | L184: Нет | M184: Да | N184: Да | O184: Нет | P184: Да | Q184: Нет | R184: Нет | S184: Да | T184: Да | U184: Да | V184: Нет | W184: Нет | X184: Нет | Y184: Нет | Z184: Да | AA184: Нет | AB184: Да | AC184: Да | AD184: Нет | AE184: Да | AF184: Да | AG184: Нет | AH184: Нет | AI184: Нет | AJ184: Нет | AK184: Нет | AL184: Нет | AM184: Да | AN184: Да | AO184: Да | AP184: Нет | AQ184: Да | AR184: Нет | AS184: Нет | AT184: Да | AU184: Да | AV184: Нет | AW184: Да | AX184: Нет | AY184: Нет | AZ184: Да | BA184: Да | BB184: Да | BC184: Да | BD184: Да | BE184: Да | BF184: Да | BG184: 10 центов | BH184: 100 | BI184: Незнаю | BJ184: 0 | BK184: 0 | BL184: 0 | BM184: Стоимость акций Семена не изменилась
A185: 44534.803 | B185: Нет | C185: Да | D185: Нет | E185: Нет | F185: Да | G185: Да | H185: Нет | I185: Нет | J185: Да | K185: Нет | L185: Да | M185: Да | N185: Да | O185: Да | P185: Нет | Q185: Да | R185: Нет | S185: Да | T185: Нет | U185: Да | V185: Нет | W185: Да | X185: Да | Y185: Да | Z185: Нет | AA185: Да | AB185: Нет | AC185: Да | AD185: Да | AE185: Да | AF185: Да | AG185: Да | AH185: Нет | AI185: Да | AJ185: Нет | AK185: Нет | AL185: Да | AM185: Да | AN185: Да | AO185: Да | AP185: Нет | AQ185: Да | AR185: Нет | AS185: Нет | AT185: Нет | AU185: Нет | AV185: Нет | AW185: Да | AX185: Нет | AY185: Да | AZ185: Да | BA185: Да | BB185: Нет | BC185: Да | BD185: Да | BE185: Нет | BF185: Нет | BG185: 5 | BH185: 100 | BI185: 27 | BJ185: - | BK185: - | BL185: - | BM185: Семен заработал денег
A186: 44534.803 | B186: Да | C186: Нет | D186: Нет | E186: Да | F186: Да | G186: Нет | H186: Да | I186: Нет | J186: Нет | K186: Нет | L186: Да | M186: Да | N186: Нет | O186: Нет | P186: Да | Q186: Нет | R186: Нет | S186: Да | T186: Да | U186: Да | V186: Да | W186: Нет | X186: Да | Y186: Нет | Z186: Да | AA186: Да | AB186: Да | AC186: Нет | AD186: Да | AE186: Да | AF186: Да | AG186: Да | AH186: Да | AI186: Да | AJ186: Да | AK186: Нет | AL186: Да | AM186: Да | AN186: Нет | AO186: Нет | AP186: Нет | AQ186: Да | AR186: Нет | AS186: Нет | AT186: Нет | AU186: Да | AV186: Нет | AW186: Да | AX186: Да | AY186: Да | AZ186: Нет | BA186: Нет | BB186: Да | BC186: Нет | BD186: Нет | BE186: Нет | BF186: Нет | BG186: 5 | BH186: - | BI186: =- | BJ186: - | BK186: - | BL186: - | BM186: Семен заработал денег
A187: 44534.803 | B187: Нет | C187: Нет | D187: Да | E187: Нет | F187: Да | G187: Да | H187: Да | I187: Нет | J187: Нет | K187: Нет | L187: Нет | M187: Нет | N187: Да | O187: Нет | P187: Нет | Q187: Нет | R187: Нет | S187: Нет | T187: Да | U187: Нет | V187: Да | W187: Нет | X187: Нет | Y187: Нет | Z187: Да | AA187: Нет | AB187: Нет | AC187: Да | AD187: Да | AE187: Нет | AF187: Да | AG187: Да | AH187: Нет | AI187: Да | AJ187: Нет | AK187: Да | AL187: Нет | AM187: Нет | AN187: Нет | AO187: Нет | AP187: Да | AQ187: Нет | AR187: Нет | AS187: Нет | AT187: Нет | AU187: Да | AV187: Нет | AW187: Нет | AX187: Да | AY187: Нет | AZ187: Да | BA187: Нет | BB187: Нет | BC187: Да | BD187: Да | BE187: Да | BF187: Нет | BG187: 5 | BH187: 500 minutes | BI187: 27 | BJ187: 4 | BK187: 31 | BL187: 20 | BM187: Семен потерял часть денег
A188: 44534.804 | B188: Да | C188: Да | D188: Нет | E188: Да | F188: Да | G188: Нет | H188: Нет | I188: Нет | J188: Да | K188: Нет | L188: Нет | M188: Нет | N188: Нет | O188: Нет | P188: Нет | Q188: Нет | R188: Да | S188: Да | T188: Да | U188: Нет | V188: Нет | W188: Да | X188: Нет | Y188: Нет | Z188: Да | AA188: Нет | AB188: Нет | AC188: Нет | AD188: Нет | AE188: Да | AF188: Да | AG188: Да | AH188: Да | AI188: Да | AJ188: Да | AK188: Нет | AL188: Да | AM188: Нет | AN188: Да | AO188: Нет | AP188: Нет | AQ188: Нет | AR188: Нет | AS188: Да | AT188: Нет | AU188: Нет | AV188: Нет | AW188: Да | AX188: Да | AY188: Нет | AZ188: Нет | BA188: Нет | BB188: Да | BC188: Да | BD188: Да | BE188: Нет | BF188: Нет | BG188: 5 | BH188: 5 | BI188: 27 | BJ188: 4 | BK188: 29 | BL188: 20 | BM188: Семен потерял часть денег
A189: 44534.804 | B189: Нет | C189: Да | D189: Нет | E189: Нет | F189: Да | G189: Да | H189: Нет | I189: Нет | J189: Нет | K189: Нет | L189: Нет | M189: Да | N189: Нет | O189: Нет | P189: Да | Q189: Нет | R189: Да | S189: Да | T189: Да | U189: Да | V189: Да | W189: Нет | X189: Нет | Y189: Нет | Z189: Нет | AA189: Нет | AB189: Да | AC189: Да | AD189: Нет | AE189: Да | AF189: Нет | AG189: Да | AH189: Нет | AI189: Да | AJ189: Нет | AK189: Нет | AL189: Нет | AM189: Нет | AN189: Нет | AO189: Нет | AP189: Да | AQ189: Да | AR189: Нет | AS189: Да | AT189: Нет | AU189: Да | AV189: Нет | AW189: Да | AX189: Да | AY189: Да | AZ189: Нет | BA189: Нет | BB189: Да | BC189: Нет | BD189: Да | BE189: Да | BF189: Нет | BG189: 5 | BH189: 5 | BI189: 27 | BJ189: 4 | BK189: 29 | BL189: 20 | BM189: Семен потерял часть денег
A190: 44534.804 | B190: Да | C190: Нет | D190: Нет | E190: Да | F190: Да | G190: Нет | H190: Да | I190: Нет | J190: Да | K190: Нет | L190: Да | M190: Да | N190: Нет | O190: Да | P190: Да | Q190: Нет | R190: Нет | S190: Нет | T190: Нет | U190: Нет | V190: Да | W190: Нет | X190: Нет | Y190: Нет | Z190: Да | AA190: Нет | AB190: Да | AC190: Да | AD190: Да | AE190: Да | AF190: Да | AG190: Да | AH190: Нет | AI190: Да | AJ190: Нет | AK190: Да | AL190: Да | AM190: Нет | AN190: Нет | AO190: Нет | AP190: Нет | AQ190: Да | AR190: Нет | AS190: Нет | AT190: Да | AU190: Да | AV190: Да | AW190: Да | AX190: Нет | AY190: Да | AZ190: Да | BA190: Да | BB190: Да | BC190: Да | BD190: Да | BE190: Нет | BF190: Да | BG190: 5 | BH190: 5 | BI190: 27 | BJ190: 4 | BK190: 29 | BL190: 20 | BM190: Семен потерял часть денег
A191: 44534.804 | B191: Да | C191: Да | D191: Нет | E191: Да | F191: Да | G191: Нет | H191: Нет | I191: Да | J191: Да | K191: Нет | L191: Да | M191: Да | N191: Нет | O191: Да | P191: Нет | Q191: Нет | R191: Да | S191: Да | T191: Да | U191: Нет | V191: Да | W191: Нет | X191: Да | Y191: Да | Z191: Да | AA191: Да | AB191: Нет | AC191: Да | AD191: Да | AE191: Да | AF191: Да | AG191: Нет | AH191: Да | AI191: Нет | AJ191: Да | AK191: Нет | AL191: Нет | AM191: Нет | AN191: Да | AO191: Да | AP191: Нет | AQ191: Да | AR191: Нет | AS191: Нет | AT191: Да | AU191: Да | AV191: Нет | AW191: Да | AX191: Да | AY191: Да | AZ191: Да | BA191: Да | BB191: Да | BC191: Да | BD191: Нет | BE191: Да | BF191: Нет | BG191: 5 | BH191: 5 | BI191: 27 | BJ191: 4 | BK191: 29 | BL191: 10 | BM191: Семен потерял часть денег
A192: 44534.805 | B192: Нет | C192: Нет | D192: Нет | E192: Да | F192: Да | G192: Нет | H192: Нет | I192: Нет | J192: Да | K192: Нет | L192: Да | M192: Да | N192: Нет | O192: Да | P192: Да | Q192: Нет | R192: Нет | S192: Да | T192: Да | U192: Да | V192: Да | W192: Нет | X192: Нет | Y192: Нет | Z192: Нет | AA192: Да | AB192: Нет | AC192: Нет | AD192: Да | AE192: Нет | AF192: Да | AG192: Да | AH192: Да | AI192: Да | AJ192: Нет | AK192: Нет | AL192: Да | AM192: Нет | AN192: Нет | AO192: Да | AP192: Нет | AQ192: Да | AR192: Нет | AS192: Нет | AT192: Нет | AU192: Нет | AV192: Нет | AW192: Нет | AX192: Да | AY192: Нет | AZ192: Да | BA192: Нет | BB192: Нет | BC192: Нет | BD192: Нет | BE192: Нет | BF192: Нет | BG192: 5 | BH192: 5 | BI192: 27 | BJ192: 4 | BK192: 29 | BL192: 30 | BM192: Семен потерял часть денег
A193: 44534.805 | B193: Да | C193: Да | D193: Нет | E193: Да | F193: Нет | G193: Да | H193: Да | I193: Да | J193: Да | K193: Нет | L193: Да | M193: Да | N193: Да | O193: Да | P193: Да | Q193: Нет | R193: Нет | S193: Да | T193: Да | U193: Да | V193: Нет | W193: Да | X193: Нет | Y193: Да | Z193: Да | AA193: Да | AB193: Нет | AC193: Да | AD193: Да | AE193: Да | AF193: Да | AG193: Да | AH193: Да | AI193: Да | AJ193: Нет | AK193: Нет | AL193: Нет | AM193: Да | AN193: Нет | AO193: Нет | AP193: Нет | AQ193: Да | AR193: Нет | AS193: Нет | AT193: Да | AU193: Нет | AV193: Да | AW193: Да | AX193: Нет | AY193: Да | AZ193: Да | BA193: Да | BB193: Нет | BC193: Да | BD193: Да | BE193: Нет | BF193: Нет | BG193: 5 | BH193: 5 | BI193: 27 | BJ193: 4 | BK193: 29 | BL193: 0 | BM193: Семен заработал денег
A194: 44534.805 | B194: Да | C194: Да | D194: Нет | E194: Нет | F194: Да | G194: Нет | H194: Да | I194: Нет | J194: Да | K194: Нет | L194: Да | M194: Да | N194: Да | O194: Да | P194: Да | Q194: Да | R194: Нет | S194: Да | T194: Да | U194: Да | V194: Да | W194: Нет | X194: Да | Y194: Да | Z194: Нет | AA194: Нет | AB194: Нет | AC194: Да | AD194: Да | AE194: Да | AF194: Да | AG194: Да | AH194: Нет | AI194: Да | AJ194: Да | AK194: Нет | AL194: Да | AM194: Нет | AN194: Нет | AO194: Да | AP194: Нет | AQ194: Да | AR194: Нет | AS194: Нет | AT194: Да | AU194: Нет | AV194: Да | AW194: Да | AX194: Нет | AY194: Да | AZ194: Да | BA194: Да | BB194: Нет | BC194: Нет | BD194: Да | BE194: Нет | BF194: Да | BG194: 5 | BH194: 5 | BI194: 27 | BJ194: 4 | BK194: 29 | BL194: 20 | BM194: Семен потерял часть денег
A195: 44534.805 | B195: Да | C195: Нет | D195: Нет | E195: Да | F195: Да | G195: Да | H195: Нет | I195: Нет | J195: Да | K195: Нет | L195: Да | M195: Нет | N195: Да | O195: Да | P195: Да | Q195: Да | R195: Нет | S195: Да | T195: Да | U195: Да | V195: Да | W195: Нет | X195: Да | Y195: Да | Z195: Нет | AA195: Нет | AB195: Нет | AC195: Да | AD195: Да | AE195: Да | AF195: Да | AG195: Да | AH195: Нет | AI195: Да | AJ195: Нет | AK195: Нет | AL195: Нет | AM195: Да | AN195: Нет | AO195: Да | AP195: Да | AQ195: Да | AR195: Нет | AS195: Нет | AT195: Нет | AU195: Нет | AV195: Да | AW195: Да | AX195: Нет | AY195: Да | AZ195: Да | BA195: Да | BB195: Нет | BC195: Нет | BD195: Да | BE195: Да | BF195: Нет | BG195: 5 | BH195: 5 | BI195: 14 дней | BJ195: 4 | BK195: 29 | BL195: 20 | BM195: Семен потерял часть денег
A196: 44534.806 | B196: Да | C196: Да | D196: Нет | E196: Да | F196: Нет | G196: Да | H196: Да | I196: Да | J196: Да | K196: Нет | L196: Да | M196: Да | N196: Да | O196: Да | P196: Да | Q196: Да | R196: Да | S196: Да | T196: Да | U196: Да | V196: Да | W196: Да | X196: Да | Y196: Да | Z196: Да | AA196: Да | AB196: Нет | AC196: Да | AD196: Да | AE196: Да | AF196: Да | AG196: Да | AH196: Нет | AI196: Да | AJ196: Нет | AK196: Нет | AL196: Нет | AM196: Да | AN196: Да | AO196: Нет | AP196: Нет | AQ196: Да | AR196: Нет | AS196: Нет | AT196: Да | AU196: Нет | AV196: Да | AW196: Нет | AX196: Да | AY196: Да | AZ196: Да | BA196: Нет | BB196: Нет | BC196: Нет | BD196: Да | BE196: Нет | BF196: Нет | BG196: 5 | BH196: 5 | BI196: 14 | BJ196: 9 | BK196: 29 | BL196: 10 | BM196: Семен заработал денег
A197: 44534.806 | B197: Да | C197: Нет | D197: Нет | E197: Нет | F197: Да | G197: Да | H197: Да | I197: Нет | J197: Да | K197: Нет | L197: Да | M197: Нет | N197: Да | O197: Нет | P197: Нет | Q197: Нет | R197: Да | S197: Да | T197: Да | U197: Нет | V197: Да | W197: Нет | X197: Да | Y197: Да | Z197: Да | AA197: Нет | AB197: Да | AC197: Нет | AD197: Да | AE197: Да | AF197: Нет | AG197: Да | AH197: Да | AI197: Да | AJ197: Нет | AK197: Нет | AL197: Да | AM197: Нет | AN197: Нет | AO197: Нет | AP197: Нет | AQ197: Да | AR197: Нет | AS197: Нет | AT197: Нет | AU197: Да | AV197: Нет | AW197: Да | AX197: Нет | AY197: Да | AZ197: Да | BA197: Да | BB197: Да | BC197: Нет | BD197: Да | BE197: Нет | BF197: Нет | BG197: 5 | BH197: 5 | BI197: 27 | BJ197: 4 | BK197: 29 | BL197: 30 | BM197: Семен потерял часть денег
A198: 44534.807 | B198: Да | C198: Да | D198: Нет | E198: Да | F198: Да | G198: Нет | H198: Да | I198: Нет | J198: Да | K198: Нет | L198: Да | M198: Да | N198: Да | O198: Да | P198: Да | Q198: Да | R198: Нет | S198: Да | T198: Да | U198: Да | V198: Нет | W198: Да | X198: Да | Y198: Да | Z198: Да | AA198: Да | AB198: Да | AC198: Да | AD198: Да | AE198: Да | AF198: Да | AG198: Да | AH198: Да | AI198: Да | AJ198: Да | AK198: Нет | AL198: Да | AM198: Да | AN198: Нет | AO198: Да | AP198: Нет | AQ198: Да | AR198: Нет | AS198: Нет | AT198: Да | AU198: Да | AV198: Да | AW198: Да | AX198: Нет | AY198: Да | AZ198: Да | BA198: Да | BB198: Да | BC198: Нет | BD198: Нет | BE198: Нет | BF198: Нет | BG198: 5 | BH198: 5 | BI198: 27 | BJ198: 4 | BK198: 29 | BL198: 20 | BM198: Семен потерял часть денег
A199: 44534.808 | B199: Да | C199: Нет | D199: Да | E199: Нет | F199: Да | G199: Да | H199: Да | I199: Нет | J199: Нет | K199: Нет | L199: Да | M199: Да | N199: Да | O199: Да | P199: Нет | Q199: Да | R199: Да | S199: Нет | T199: Да | U199: Да | V199: Нет | W199: Да | X199: Нет | Y199: Да | Z199: Да | AA199: Да | AB199: Нет | AC199: Нет | AD199: Нет | AE199: Да | AF199: Да | AG199: Да | AH199: Да | AI199: Да | AJ199: Нет | AK199: Да | AL199: Нет | AM199: Нет | AN199: Нет | AO199: Нет | AP199: Да | AQ199: Да | AR199: Да | AS199: Нет | AT199: Да | AU199: Да | AV199: Да | AW199: Да | AX199: Да | AY199: Нет | AZ199: Да | BA199: Нет | BB199: Да | BC199: Нет | BD199: Да | BE199: Да | BF199: Да | BG199: 5 | BH199: 5 | BI199: 27 | BJ199: 4 | BK199: 29 | BL199: 20 | BM199: Семен потерял часть денег
A200: 44534.808 | B200: Да | C200: Нет | D200: Нет | E200: Да | F200: Да | G200: Нет | H200: Да | I200: Нет | J200: Да | K200: Нет | L200: Да | M200: Да | N200: Нет | O200: Да | P200: Да | Q200: Нет | R200: Да | S200: Да | T200: Да | U200: Нет | V200: Да | W200: Да | X200: Да | Y200: Да | Z200: Да | AA200: Да | AB200: Да | AC200: Да | AD200: Нет | AE200: Да | AF200: Да | AG200: Да | AH200: Да | AI200: Да | AJ200: Нет | AK200: Нет | AL200: Нет | AM200: Нет | AN200: Да | AO200: Нет | AP200: Да | AQ200: Да | AR200: Нет | AS200: Нет | AT200: Да | AU200: Да | AV200: Да | AW200: Да | AX200: Да | AY200: Нет | AZ200: Нет | BA200: Нет | BB200: Да | BC200: Да | BD200: Да | BE200: Да | BF200: Нет | BG200: 5 | BH200: 5 | BI200: 27 | BJ200: 4 | BK200: 29 | BL200: 20 | BM200: Семен потерял часть денег
A201: 44534.808 | B201: Нет | C201: Да | D201: Да | E201: Нет | F201: Да | G201: Нет | H201: Нет | I201: Нет | J201: Нет | K201: Да | L201: Нет | M201: Нет | N201: Нет | O201: Нет | P201: Нет | Q201: Нет | R201: Нет | S201: Да | T201: Нет | U201: Да | V201: Да | W201: Нет | X201: Нет | Y201: Нет | Z201: Да | AA201: Нет | AB201: Да | AC201: Нет | AD201: Нет | AE201: Нет | AF201: Нет | AG201: Да | AH201: Нет | AI201: Да | AJ201: Нет | AK201: Нет | AL201: Нет | AM201: Нет | AN201: Нет | AO201: Нет | AP201: Нет | AQ201: Да | AR201: Нет | AS201: Нет | AT201: Нет | AU201: Да | AV201: Нет | AW201: Нет | AX201: Да | AY201: Нет | AZ201: Нет | BA201: Нет | BB201: Да | BC201: Нет | BD201: Нет | BE201: Нет | BF201: Нет | BG201: 5 | BH201: 5 | BI201: 27 | BJ201: 4 | BK201: 29 | BL201: 10 | BM201: Семен потерял часть денег
A202: 44534.808 | B202: Да | C202: Да | D202: Нет | E202: Да | F202: Да | G202: Нет | H202: Нет | I202: Нет | J202: Да | K202: Нет | L202: Да | M202: Да | N202: Нет | O202: Нет | P202: Да | Q202: Нет | R202: Да | S202: Нет | T202: Да | U202: Да | V202: Да | W202: Нет | X202: Нет | Y202: Нет | Z202: Нет | AA202: Нет | AB202: Нет | AC202: Нет | AD202: Да | AE202: Да | AF202: Да | AG202: Да | AH202: Да | AI202: Да | AJ202: Нет | AK202: Нет | AL202: Нет | AM202: Нет | AN202: Нет | AO202: Нет | AP202: Да | AQ202: Да | AR202: Нет | AS202: Нет | AT202: Нет | AU202: Нет | AV202: Нет | AW202: Да | AX202: Нет | AY202: Нет | AZ202: Да | BA202: Да | BB202: Да | BC202: Да | BD202: Да | BE202: Нет | BF202: Нет | BG202: 5 | BH202: 5 | BI202: 27 | BJ202: 4 | BK202: 29 | BL202: 10 | BM202: Семен потерял часть денег
A203: 44534.809 | B203: Да | C203: Да | D203: Нет | E203: Да | F203: Да | G203: Да | H203: Да | I203: Нет | J203: Да | K203: Нет | L203: Да | M203: Нет | N203: Да | O203: Да | P203: Нет | Q203: Да | R203: Да | S203: Да | T203: Да | U203: Да | V203: Да | W203: Нет | X203: Да | Y203: Да | Z203: Да | AA203: Нет | AB203: Нет | AC203: Да | AD203: Нет | AE203: Нет | AF203: Да | AG203: Нет | AH203: Нет | AI203: Да | AJ203: Нет | AK203: Да | AL203: Да | AM203: Да | AN203: Нет | AO203: Да | AP203: Нет | AQ203: Да | AR203: Да | AS203: Нет | AT203: Да | AU203: Да | AV203: Нет | AW203: Да | AX203: Нет | AY203: Да | AZ203: Нет | BA203: Да | BB203: Нет | BC203: Да | BD203: Да | BE203: Нет | BF203: Нет | BG203: 5 | BH203: 2000 | BI203: 27 | BJ203: 3 | BK203: 29 | BL203: 20 | BM203: Семен потерял часть денег
A204: 44534.809 | B204: Нет | C204: Нет | D204: Нет | E204: Да | F204: Да | G204: Да | H204: Нет | I204: Нет | J204: Да | K204: Нет | L204: Да | M204: Да | N204: Нет | O204: Нет | P204: Да | Q204: Нет | R204: Нет | S204: Да | T204: Да | U204: Нет | V204: Нет | W204: Да | X204: Нет | Y204: Нет | Z204: Да | AA204: Нет | AB204: Да | AC204: Нет | AD204: Нет | AE204: Да | AF204: Да | AG204: Да | AH204: Да | AI204: Да | AJ204: Нет | AK204: Нет | AL204: Да | AM204: Нет | AN204: Нет | AO204: Нет | AP204: Нет | AQ204: Да | AR204: Нет | AS204: Да | AT204: Да | AU204: Да | AV204: Нет | AW204: Да | AX204: Да | AY204: Нет | AZ204: Нет | BA204: Нет | BB204: Да | BC204: Да | BD204: Да | BE204: Да | BF204: Нет | BG204: 5 | BH204: 5 | BI204: 27 | BJ204: 4 | BK204: 29 | BL204: 20 | BM204: Семен потерял часть денег
A205: 44534.809 | B205: Нет | C205: Да | D205: Нет | E205: Нет | F205: Нет | G205: Нет | H205: Да | I205: Да | J205: Да | K205: Нет | L205: Да | M205: Да | N205: Да | O205: Да | P205: Нет | Q205: Да | R205: Да | S205: Да | T205: Да | U205: Нет | V205: Да | W205: Да | X205: Да | Y205: Да | Z205: Да | AA205: Да | AB205: Да | AC205: Да | AD205: Нет | AE205: Да | AF205: Да | AG205: Да | AH205: Нет | AI205: Нет | AJ205: Нет | AK205: Нет | AL205: Нет | AM205: Да | AN205: Нет | AO205: Нет | AP205: Нет | AQ205: Да | AR205: Нет | AS205: Да | AT205: Да | AU205: Да | AV205: Да | AW205: Да | AX205: Нет | AY205: Да | AZ205: Да | BA205: Да | BB205: Да | BC205: Нет | BD205: Нет | BE205: Да | BF205: Нет | BG205: 5 | BH205: 5 | BI205: 27 | BJ205: 3 | BK205: 29 | BL205: 20 | BM205: Семен потерял часть денег
A206: 44534.81 | B206: Нет | C206: Да | D206: Нет | E206: Да | F206: Да | G206: Да | H206: Нет | I206: Нет | J206: Да | K206: Нет | L206: Да | M206: Нет | N206: Нет | O206: Да | P206: Да | Q206: Нет | R206: Нет | S206: Да | T206: Нет | U206: Да | V206: Да | W206: Нет | X206: Нет | Y206: Нет | Z206: Нет | AA206: Нет | AB206: Нет | AC206: Да | AD206: Да | AE206: Нет | AF206: Да | AG206: Да | AH206: Нет | AI206: Да | AJ206: Нет | AK206: Нет | AL206: Да | AM206: Нет | AN206: Нет | AO206: Нет | AP206: Да | AQ206: Да | AR206: Нет | AS206: Нет | AT206: Нет | AU206: Нет | AV206: Нет | AW206: Нет | AX206: Нет | AY206: Да | AZ206: Да | BA206: Да | BB206: Нет | BC206: Нет | BD206: Да | BE206: Нет | BF206: Да | BG206: 5 | BH206: 100 | BI206: 27 | BJ206: 4 | BK206: 29 | BL206: 30 | BM206: Семен потерял часть денег
A207: 44534.81 | B207: Нет | C207: Нет | D207: Нет | E207: Да | F207: Да | G207: Нет | H207: Да | I207: Нет | J207: Да | K207: Нет | L207: Да | M207: Да | N207: Нет | O207: Нет | P207: Да | Q207: Да | R207: Нет | S207: Да | T207: Нет | U207: Да | V207: Нет | W207: Нет | X207: Да | Y207: Да | Z207: Да | AA207: Нет | AB207: Нет | AC207: Да | AD207: Да | AE207: Да | AF207: Да | AG207: Нет | AH207: Нет | AI207: Да | AJ207: Нет | AK207: Нет | AL207: Нет | AM207: Да | AN207: Нет | AO207: Нет | AP207: Да | AQ207: Да | AR207: Нет | AS207: Нет | AT207: Да | AU207: Нет | AV207: Да | AW207: Нет | AX207: Нет | AY207: Да | AZ207: Да | BA207: Да | BB207: Нет | BC207: Да | BD207: Да | BE207: Да | BF207: Нет | BG207: 5 | BH207: 5 | BI207: 27 | BJ207: 4 | BK207: 29 | BL207: 20 | BM207: Семен потерял часть денег
... A210: 44534.811 | B210: Да | C210: Да | D210: Нет | E210: Да | F210: Да | G210: Нет | H210: Да | I210: Нет | J210: Да | K210: Нет | L210: Да | M210: Да | N210: Да | O210: Да | P210: Да | Q210: Да | R210: Нет | S210: Да | T210: Да | U210: Да | V210: Да | W210: Да | X210: Да | Y210: Да | Z210: Да | AA210: Да | AB210: Да | AC210: Да | AD210: Да | AE210: Да | AF210: Да | AG210: Нет | AH210: Да | AI210: Да | AJ210: Нет | AK210: Нет | AL210: Да | AM210: Да | AN210: Нет | AO210: Да | AP210: Да | AQ210: Да | AR210: Да | AS210: Нет | AT210: Да | AU210: Нет | AV210: Да | AW210: Да | AX210: Нет | AY210: Да | AZ210: Нет | BA210: Да | BB210: Да | BC210: Нет | BD210: Да | BE210: Да | BF210: Да | BG210: 5 | BH210: 5 | BI210: 27 | BJ210: 4 | BK210: 29 | BL210: 20 | BM210: Семен потерял часть денег
A211: 44534.811 | B211: Да | C211: Да | D211: Нет | E211: Да | F211: Нет | G211: Нет | H211: Да | I211: Да | J211: Да | K211: Нет | L211: Да | M211: Да | N211: Да | O211: Да | P211: Нет | Q211: Да | R211: Нет | S211: Да | T211: Да | U211: Да | V211: Да | W211: Нет | X211: Да | Y211: Да | Z211: Да | AA211: Да | AB211: Нет | AC211: Да | AD211: Да | AE211: Да | AF211: Да | AG211: Да | AH211: Нет | AI211: Да | AJ211: Нет | AK211: Нет | AL211: Да | AM211: Да | AN211: Нет | AO211: Да | AP211: Да | AQ211: Да | AR211: Нет | AS211: Нет | AT211: Да | AU211: Нет | AV211: Да | AW211: Да | AX211: Нет | AY211: Да | AZ211: Да | BA211: Да | BB211: Нет | BC211: Да | BD211: Да | BE211: Да | BF211: Нет | BG211: 5 | BH211: 5 | BI211: 27 | BJ211: 4,5 дня | BK211: 29 | BL211: 10 руб | BM211: Семен потерял часть денег
A212: 44534.812 | B212: Да | C212: Нет | D212: Нет | E212: Нет | F212: Да | G212: Да | H212: Нет | I212: Нет | J212: Нет | K212: Нет | L212: Да | M212: Да | N212: Нет | O212: Нет | P212: Нет | Q212: Нет | R212: Да | S212: Да | T212: Да | U212: Нет | V212: Да | W212: Да | X212: Да | Y212: Нет | Z212: Да | AA212: Нет | AB212: Да | AC212: Да | AD212: Нет | AE212: Нет | AF212: Да | AG212: Да | AH212: Да | AI212: Да | AJ212: Нет | AK212: Нет | AL212: Нет | AM212: Нет | AN212: Да | AO212: Нет | AP212: Да | AQ212: Да | AR212: Нет | AS212: Нет | AT212: Нет | AU212: Да | AV212: Нет | AW212: Нет | AX212: Да | AY212: Нет | AZ212: Нет | BA212: Нет | BB212: Да | BC212: Нет | BD212: Нет | BE212: Нет | BF212: Нет | BG212: 5 | BH212: 5 | BI212: 27 | BJ212: 4 | BK212: 29 | BL212: 20 | BM212: Семен потерял часть денег
A213: 44534.812 | B213: Да | C213: Да | D213: Нет | E213: Да | F213: Да | G213: Да | H213: Да | I213: Нет | J213: Да | K213: Нет | L213: Да | M213: Да | N213: Нет | O213: Да | P213: Нет | Q213: Нет | R213: Нет | S213: Да | T213: Да | U213: Да | V213: Да | W213: Нет | X213: Нет | Y213: Нет | Z213: Да | AA213: Да | AB213: Да | AC213: Да | AD213: Да | AE213: Да | AF213: Да | AG213: Нет | AH213: Да | AI213: Да | AJ213: Нет | AK213: Нет | AL213: Нет | AM213: Нет | AN213: Нет | AO213: Да | AP213: Нет | AQ213: Да | AR213: Нет | AS213: Нет | AT213: Нет | AU213: Да | AV213: Нет | AW213: Да | AX213: Да | AY213: Да | AZ213: Нет | BA213: Да | BB213: Да | BC213: Нет | BD213: Нет | BE213: Да | BF213: Нет | BG213: 5 | BH213: 100 | BI213: 27 | BJ213: 4 | BK213: 29 | BL213: 30 | BM213: Семен потерял часть денег
A214: 44534.813 | B214: Да | C214: Нет | D214: Нет | E214: Да | F214: Да | G214: Да | H214: Нет | I214: Нет | J214: Нет | K214: Нет | L214: Да | M214: Нет | N214: Нет | O214: Нет | P214: Нет | Q214: Нет | R214: Да | S214: Да | T214: Да | U214: Да | V214: Да | W214: Нет | X214: Нет | Y214: Нет | Z214: Да | AA214: Нет | AB214: Нет | AC214: Да | AD214: Нет | AE214: Нет | AF214: Да | AG214: Да | AH214: Нет | AI214: Да | AJ214: Нет | AK214: Нет | AL214: Да | AM214: Нет | AN214: Нет | AO214: Да | AP214: Да | AQ214: Да | AR214: Нет | AS214: Нет | AT214: Нет | AU214: Да | AV214: Нет | AW214: Нет | AX214: Да | AY214: Нет | AZ214: Нет | BA214: Нет | BB214: Нет | BC214: Да | BD214: Да | BE214: Нет | BF214: Да | BG214: 10 центов | BH214: 20 | BI214: 14 | BJ214: 3 дня | BK214: 30 | BL214: 10 | BM214: Семен заработал денег
A215: 44534.814 | B215: Нет | C215: Нет | D215: Нет | E215: Нет | F215: Нет | G215: Да | H215: Нет | I215: Нет | J215: Да | K215: Нет | L215: Да | M215: Нет | N215: Нет | O215: Да | P215: Нет | Q215: Да | R215: Да | S215: Да | T215: Нет | U215: Нет | V215: Нет | W215: Нет | X215: Нет | Y215: Нет | Z215: Да | AA215: Нет | AB215: Да | AC215: Да | AD215: Нет | AE215: Да | AF215: Да | AG215: Да | AH215: Да | AI215: Да | AJ215: Нет | AK215: Нет | AL215: Да | AM215: Нет | AN215: Нет | AO215: Да | AP215: Нет | AQ215: Да | AR215: Нет | AS215: Нет | AT215: Да | AU215: Нет | AV215: Да | AW215: Нет | AX215: Нет | AY215: Нет | AZ215: Нет | BA215: Да | BB215: Да | BC215: Да | BD215: Да | BE215: Да | BF215: Нет | BG215: 5 | BH215: 5 | BI215: 27 | BJ215: 4 | BK215: 29 | BL215: 20 | BM215: Семен потерял часть денег
A216: 44534.814 | B216: Да | C216: Да | D216: Нет | E216: Нет | F216: Да | G216: Нет | H216: Нет | I216: Нет | J216: Да | K216: Нет | L216: Нет | M216: Да | N216: Да | O216: Нет | P216: Да | Q216: Да | R216: Нет | S216: Да | T216: Да | U216: Да | V216: Нет | W216: Нет | X216: Да | Y216: Нет | Z216: Да | AA216: Да | AB216: Нет | AC216: Да | AD216: Да | AE216: Да | AF216: Да | AG216: Нет | AH216: Нет | AI216: Да | AJ216: Нет | AK216: Нет | AL216: Да | AM216: Нет | AN216: Нет | AO216: Нет | AP216: Да | AQ216: Да | AR216: Нет | AS216: Нет | AT216: Нет | AU216: Да | AV216: Нет | AW216: Да | AX216: Нет | AY216: Нет | AZ216: Нет | BA216: Нет | BB216: Нет | BC216: Да | BD216: Да | BE216: Да | BF216: Нет | BG216: 5 | BH216: 5 | BI216: 27 | BJ216: 6 | BK216: 30 | BL216: 0 | BM216: Семен потерял часть денег
A217: 44534.814 | B217: Нет | C217: Нет | D217: Да | E217: Нет | F217: Да | G217: Да | H217: Нет | I217: Нет | J217: Да | K217: Нет | L217: Да | M217: Да | N217: Да | O217: Да | P217: Нет | Q217: Нет | R217: Да | S217: Да | T217: Да | U217: Да | V217: Да | W217: Нет | X217: Да | Y217: Да | Z217: Да | AA217: Нет | AB217: Да | AC217: Да | AD217: Нет | AE217: Нет | AF217: Да | AG217: Нет | AH217: Нет | AI217: Да | AJ217: Нет | AK217: Нет | AL217: Нет | AM217: Нет | AN217: Нет | AO217: Да | AP217: Нет | AQ217: Да | AR217: Нет | AS217: Да | AT217: Нет | AU217: Да | AV217: Нет | AW217: Нет | AX217: Да | AY217: Нет | AZ217: Нет | BA217: Нет | BB217: Да | BC217: Да | BD217: Нет | BE217: Да | BF217: Нет | BG217: 1,05 - бита + 0,05 - мяч | BH217: 5 | BI217: 27 | BJ217: 4 | BK217: 43 | BL217: 20 | BM217: Семен потерял часть денег
A218: 44534.814 | B218: Нет | C218: Нет | D218: Нет | E218: Нет | F218: Да | G218: Да | H218: Нет | I218: Нет | J218: Да | K218: Нет | L218: Нет | M218: Да | N218: Нет | O218: Нет | P218: Да | Q218: Нет | R218: Нет | S218: Да | T218: Да | U218: Да | V218: Да | W218: Нет | X218: Да | Y218: Да | Z218: Да | AA218: Нет | AB218: Нет | AC218: Да | AD218: Да | AE218: Нет | AF218: Да | AG218: Да | AH218: Да | AI218: Да | AJ218: Нет | AK218: Да | AL218: Да | AM218: Нет | AN218: Нет | AO218: Нет | AP218: Да | AQ218: Да | AR218: Нет | AS218: Нет | AT218: Да | AU218: Да | AV218: Да | AW218: Нет | AX218: Да | AY218: Нет | AZ218: Нет | BA218: Нет | BB218: Да | BC218: Нет | BD218: Да | BE218: Да | BF218: Нет | BG218: 5 | BH218: 5 | BI218: 27 | BJ218: 4 | BK218: 29 | BL218: 30 | BM218: Семен потерял часть денег
A219: 44534.815 | B219: Да | C219: Да | D219: Нет | E219: Нет | F219: Да | G219: Да | H219: Нет | I219: Да | J219: Нет | K219: Да | L219: Да | M219: Да | N219: Да | O219: Да | P219: Нет | Q219: Нет | R219: Да | S219: Да | T219: Да | U219: Нет | V219: Да | W219: Нет | X219: Нет | Y219: Да | Z219: Да | AA219: Да | AB219: Да | AC219: Да | AD219: Да | AE219: Да | AF219: Да | AG219: Нет | AH219: Да | AI219: Да | AJ219: Нет | AK219: Нет | AL219: Нет | AM219: Нет | AN219: Нет | AO219: Нет | AP219: Нет | AQ219: Да | AR219: Нет | AS219: Да | AT219: Нет | AU219: Да | AV219: Нет | AW219: Да | AX219: Да | AY219: Да | AZ219: Нет | BA219: Да | BB219: Да | BC219: Да | BD219: Да | BE219: Да | BF219: Нет | BG219: 5 | BH219: 5 | BI219: 27 | BJ219: 4 | BK219: 29 | BL219: 20 | BM219: Семен потерял часть денег
A220: 44534.815 | B220: Да | C220: Нет | D220: Нет | E220: Нет | F220: Нет | G220: Да | H220: Да | I220: Да | J220: Да | K220: Нет | L220: Нет | M220: Нет | N220: Нет | O220: Да | P220: Да | Q220: Да | R220: Нет | S220: Да | T220: Да | U220: Нет | V220: Нет | W220: Нет | X220: Нет | Y220: Нет | Z220: Нет | AA220: Нет | AB220: Нет | AC220: Нет | AD220: Да | AE220: Нет | AF220: Да | AG220: Да | AH220: Нет | AI220: Да | AJ220: Нет | AK220: Да | AL220: Нет | AM220: Нет | AN220: Нет | AO220: Нет | AP220: Нет | AQ220: Да | AR220: Нет | AS220: Нет | AT220: Нет | AU220: Нет | AV220: Нет | AW220: Да | AX220: Да | AY220: Нет | AZ220: Да | BA220: Да | BB220: Да | BC220: Нет | BD220: Да | BE220: Да | BF220: Нет | BG220: 5 | BH220: 5 | BI220: 27 | BJ220: 3 | BK220: 29 | BL220: 0 | BM220: Семен потерял часть денег
A221: 44534.815 | B221: Да | C221: Да | D221: Нет | E221: Да | F221: Да | G221: Нет | H221: Да | I221: Нет | J221: Да | K221: Нет | L221: Да | M221: Да | N221: Да | O221: Да | P221: Да | Q221: Нет | R221: Нет | S221: Да | T221: Да | U221: Да | V221: Да | W221: Да | X221: Да | Y221: Да | Z221: Да | AA221: Нет | AB221: Да | AC221: Нет | AD221: Да | AE221: Да | AF221: Да | AG221: Да | AH221: Нет | AI221: Да | AJ221: Нет | AK221: Нет | AL221: Нет | AM221: Нет | AN221: Да | AO221: Да | AP221: Да | AQ221: Да | AR221: Нет | AS221: Нет | AT221: Да | AU221: Нет | AV221: Нет | AW221: Да | AX221: Да | AY221: Нет | AZ221: Да | BA221: Да | BB221: Да | BC221: Да | BD221: Да | BE221: Да | BF221: Да | BG221: 10 центов | BH221: 1 минута | BI221: 27 | BJ221: 4 | BK221: 31 | BL221: 10 р | BM221: Семен потерял часть денег
A222: 44534.816 | B222: Нет | C222: Нет | D222: Да | E222: Нет | F222: Да | G222: Да | H222: Нет | I222: Да | J222: Да | K222: Нет | L222: Да | M222: Да | N222: Да | O222: Нет | P222: Да | Q222: Нет | R222: Нет | S222: Да | T222: Да | U222: Нет | V222: Нет | W222: Нет | X222: Нет | Y222: Нет | Z222: Да | AA222: Нет | AB222: Да | AC222: Да | AD222: Нет | AE222: Да | AF222: Да | AG222: Да | AH222: Да | AI222: Да | AJ222: Нет | AK222: Нет | AL222: Нет | AM222: Нет | AN222: Да | AO222: Нет | AP222: Нет | AQ222: Да | AR222: Нет | AS222: Нет | AT222: Нет | AU222: Да | AV222: Нет | AW222: Да | AX222: Да | AY222: Нет | AZ222: Нет | BA222: Да | BB222: Да | BC222: Нет | BD222: Да | BE222: Да | BF222: Нет | BG222: 5 | BH222: 5 | BI222: 27 | BJ222: 4 | BK222: 29 | BL222: 20 | BM222: Семен потерял часть денег
A223: 44534.816 | B223: Да | C223: Нет | D223: Нет | E223: Нет | F223: Да | G223: Нет | H223: Да | I223: Да | J223: Да | K223: Нет | L223: Нет | M223: Да | N223: Да | O223: Нет | P223: Нет | Q223: Нет | R223: Да | S223: Да | T223: Да | U223: Нет | V223: Да | W223: Нет | X223: Нет | Y223: Нет | Z223: Да | AA223: Нет | AB223: Да | AC223: Нет | AD223: Нет | AE223: Да | AF223: Да | AG223: Нет | AH223: Да | AI223: Да | AJ223: Да | AK223: Нет | AL223: Нет | AM223: Нет | AN223: Да | AO223: Нет | AP223: Нет | AQ223: Да | AR223: Нет | AS223: Да | AT223: Да | AU223: Нет | AV223: Нет | AW223: Да | AX223: Да | AY223: Нет | AZ223: Нет | BA223: Да | BB223: Да | BC223: Да | BD223: Да | BE223: Да | BF223: Нет | BG223: 5 | BH223: 5 | BI223: 27 | BJ223: 4 | BK223: 29 | BL223: 20 | BM223: Семен потерял часть денег
A224: 44534.816 | B224: Да | C224: Да | D224: Да | E224: Нет | F224: Да | G224: Да | H224: Да | I224: Да | J224: Нет | K224: Нет | L224: Да | M224: Да | N224: Да | O224: Да | P224: Да | Q224: Нет | R224: Да | S224: Да | T224: Да | U224: Да | V224: Да | W224: Да | X224: Нет | Y224: Нет | Z224: Да | AA224: Нет | AB224: Да | AC224: Да | AD224: Нет | AE224: Нет | AF224: Да | AG224: Да | AH224: Да | AI224: Да | AJ224: Нет | AK224: Нет | AL224: Да | AM224: Да | AN224: Да | AO224: Нет | AP224: Нет | AQ224: Да | AR224: Нет | AS224: Да | AT224: Да | AU224: Нет | AV224: Нет | AW224: Да | AX224: Да | AY224: Да | AZ224: Да | BA224: Нет | BB224: Да | BC224: Да | BD224: Нет | BE224: Да | BF224: Нет | BG224: 5 | BH224: 5 | BI224: 27 | BJ224: 4 | BK224: 29 | BL224: 10 | BM224: Семен потерял часть денег
A225: 44534.816 | B225: Да | C225: Да | D225: Нет | E225: Да | F225: Нет | G225: Нет | H225: Нет | I225: Нет | J225: Нет | K225: Нет | L225: Да | M225: Да | N225: Нет | O225: Нет | P225: Да | Q225: Да | R225: Нет | S225: Да | T225: Да | U225: Нет | V225: Нет | W225: Нет | X225: Нет | Y225: Да | Z225: Да | AA225: Нет | AB225: Нет | AC225: Да | AD225: Да | AE225: Да | AF225: Да | AG225: Да | AH225: Нет | AI225: Да | AJ225: Нет | AK225: Нет | AL225: Нет | AM225: Да | AN225: Да | AO225: Да | AP225: Нет | AQ225: Да | AR225: Нет | AS225: Нет | AT225: Нет | AU225: Да | AV225: Нет | AW225: Нет | AX225: Да | AY225: Да | AZ225: Да | BA225: Нет | BB225: Да | BC225: Да | BD225: Да | BE225: Да | BF225: Нет | BG225: 5 | BH225: 5 | BI225: 27 | BJ225: 4 | BK225: 29 | BL225: 20 | BM225: Семен потерял часть денег
A226: 44534.817 | B226: Нет | C226: Нет | D226: Да | E226: Да | F226: Нет | G226: Да | H226: Нет | I226: Нет | J226: Нет | K226: Нет | L226: Да | M226: Нет | N226: Нет | O226: Нет | P226: Нет | Q226: Нет | R226: Да | S226: Да | T226: Нет | U226: Да | V226: Нет | W226: Нет | X226: Нет | Y226: Нет | Z226: Да | AA226: Нет | AB226: Нет | AC226: Да | AD226: Нет | AE226: Нет | AF226: Да | AG226: Да | AH226: Нет | AI226: Да | AJ226: Нет | AK226: Да | AL226: Да | AM226: Нет | AN226: Нет | AO226: Нет | AP226: Да | AQ226: Да | AR226: Нет | AS226: Нет | AT226: Нет | AU226: Да | AV226: Нет | AW226: Да | AX226: Да | AY226: Нет | AZ226: Нет | BA226: Нет | BB226: Нет | BC226: Нет | BD226: Нет | BE226: Нет | BF226: Нет | BG226: 5 | BH226: 5 | BI226: 27 | BJ226: 4 | BK226: 29 | BL226: 10 | BM226: Семен потерял часть денег
A227: 44534.817 | B227: Да | C227: Нет | D227: Нет | E227: Нет | F227: Нет | G227: Да | H227: Да | I227: Да | J227: Да | K227: Нет | L227: Да | M227: Да | N227: Да | O227: Да | P227: Да | Q227: Да | R227: Нет | S227: Да | T227: Да | U227: Да | V227: Нет | W227: Да | X227: Да | Y227: Да | Z227: Да | AA227: Да | AB227: Нет | AC227: Да | AD227: Да | AE227: Да | AF227: Да | AG227: Да | AH227: Да | AI227: Да | AJ227: Нет | AK227: Нет | AL227: Да | AM227: Да | AN227: Нет | AO227: Да | AP227: Нет | AQ227: Нет | AR227: Нет | AS227: Нет | AT227: Да | AU227: Нет | AV227: Да | AW227: Да | AX227: Нет | AY227: Да | AZ227: Да | BA227: Да | BB227: Нет | BC227: Нет | BD227: Нет | BE227: Нет | BF227: Да | BG227: 5 | BH227: 5 | BI227: 27 | BJ227: 4 | BK227: 29 | BL227: 20 | BM227: Семен потерял часть денег
A228: 44534.817 | B228: Да | C228: Нет | D228: Нет | E228: Да | F228: Да | G228: Да | H228: Да | I228: Нет | J228: Да | K228: Нет | L228: Да | M228: Нет | N228: Нет | O228: Да | P228: Нет | Q228: Нет | R228: Нет | S228: Да | T228: Да | U228: Да | V228: Да | W228: Нет | X228: Нет | Y228: Нет | Z228: Нет | AA228: Да | AB228: Нет | AC228: Да | AD228: Да | AE228: Нет | AF228: Да | AG228: Да | AH228: Нет | AI228: Да | AJ228: Нет | AK228: Да | AL228: Да | AM228: Да | AN228: Нет | AO228: Нет | AP228: Да | AQ228: Нет | AR228: Нет | AS228: Нет | AT228: Да | AU228: Да | AV228: Да | AW228: Нет | AX228: Нет | AY228: Нет | AZ228: Да | BA228: Нет | BB228: Нет | BC228: Да | BD228: Да | BE228: Да | BF228: Да | BG228: 5 | BH228: 5 | BI228: 27 | BJ228: 4 | BK228: 29 | BL228: 20 | BM228: Семен потерял часть денег
A229: 44534.818 | B229: Да | C229: Нет | D229: Нет | E229: Да | F229: Да | G229: Да | H229: Нет | I229: Да | J229: Да | K229: Нет | L229: Да | M229: Да | N229: Да | O229: Да | P229: Нет | Q229: Да | R229: Нет | S229: Нет | T229: Да | U229: Да | V229: Да | W229: Да | X229: Нет | Y229: Нет | Z229: Да | AA229: Да | AB229: Да | AC229: Нет | AD229: Да | AE229: Да | AF229: Да | AG229: Нет | AH229: Нет | AI229: Да | AJ229: Нет | AK229: Да | AL229: Нет | AM229: Да | AN229: Да | AO229: Нет | AP229: Нет | AQ229: Да | AR229: Нет | AS229: Нет | AT229: Нет | AU229: Да | AV229: Нет | AW229: Нет | AX229: Да | AY229: Нет | AZ229: Да | BA229: Нет | BB229: Нет | BC229: Да | BD229: Да | BE229: Нет | BF229: Нет | BG229: 1.05 и 0.05 юсд | BH229: 5 | BI229: 27 | BJ229: 4 | BK229: 29 | BL229: 20 | BM229: Семен потерял часть денег
A230: 44534.818 | B230: Нет | C230: Да | D230: Нет | E230: Нет | F230: Нет | G230: Да | H230: Да | I230: Да | J230: Да | K230: Да | L230: Да | M230: Да | N230: Да | O230: Да | P230: Да | Q230: Да | R230: Нет | S230: Да | T230: Да | U230: Да | V230: Да | W230: Да | X230: Да | Y230: Да | Z230: Нет | AA230: Да | AB230: Да | AC230: Да | AD230: Да | AE230: Нет | AF230: Да | AG230: Да | AH230: Нет | AI230: Да | AJ230: Нет | AK230: Да | AL230: Нет | AM230: Да | AN230: Да | AO230: Да | AP230: Нет | AQ230: Нет | AR230: Да | AS230: Нет | AT230: Да | AU230: Нет | AV230: Да | AW230: Да | AX230: Нет | AY230: Да | AZ230: Нет | BA230: Да | BB230: Нет | BC230: Да | BD230: Да | BE230: Да | BF230: Да | BG230: 5 | BH230: 25 | BI230: 27 | BJ230: 4 | BK230: 29 | BL230: 20 | BM230: Семен потерял часть денег
A231: 44534.818 | B231: Нет | C231: Да | D231: Нет | E231: Да | F231: Да | G231: Да | H231: Да | I231: Нет | J231: Да | K231: Нет | L231: Да | M231: Да | N231: Нет | O231: Да | P231: Да | Q231: Нет | R231: Нет | S231: Да | T231: Да | U231: Да | V231: Да | W231: Нет | X231: Да | Y231: Да | Z231: Да | AA231: Нет | AB231: Нет | AC231: Да | AD231: Да | AE231: Да | AF231: Да | AG231: Да | AH231: Нет | AI231: Да | AJ231: Нет | AK231: Нет | AL231: Да | AM231: Нет | AN231: Да | AO231: Нет | AP231: Да | AQ231: Да | AR231: Нет | AS231: Нет | AT231: Нет | AU231: Да | AV231: Нет | AW231: Да | AX231: Нет | AY231: Да | AZ231: Да | BA231: Да | BB231: Нет | BC231: Да | BD231: Да | BE231: Нет | BF231: Да | BG231: 5 | BH231: 5 | BI231: 27 | BJ231: 4 | BK231: 30 | BL231: 20 | BM231: Семен потерял часть денег
A232: 44534.818 | B232: Да | C232: Нет | D232: Да | E232: Да | F232: Нет | G232: Нет | H232: Нет | I232: Да | J232: Да | K232: Нет | L232: Да | M232: Да | N232: Да | O232: Нет | P232: Да | Q232: Нет | R232: Нет | S232: Да | T232: Да | U232: Да | V232: Нет | W232: Нет | X232: Нет | Y232: Да | Z232: Нет | AA232: Нет | AB232: Нет | AC232: Нет | AD232: Да | AE232: Да | AF232: Да | AG232: Да | AH232: Нет | AI232: Да | AJ232: Нет | AK232: Нет | AL232: Нет | AM232: Нет | AN232: Да | AO232: Нет | AP232: Нет | AQ232: Да | AR232: Нет | AS232: Нет | AT232: Нет | AU232: Нет | AV232: Нет | AW232: Да | AX232: Нет | AY232: Нет | AZ232: Да | BA232: Да | BB232: Нет | BC232: Да | BD232: Да | BE232: Да | BF232: Нет | BG232: 5 | BH232: 5 | BI232: 27 | BJ232: 4 | BK232: 29 | BL232: 10 рублей | BM232: Семен потерял часть денег
A233: 44534.818 | B233: Да | C233: Нет | D233: Нет | E233: Да | F233: Да | G233: Нет | H233: Нет | I233: Да | J233: Да | K233: Нет | L233: Да | M233: Да | N233: Нет | O233: Да | P233: Да | Q233: Нет | R233: Нет | S233: Да | T233: Да | U233: Нет | V233: Да | W233: Да | X233: Да | Y233: Нет | Z233: Да | AA233: Нет | AB233: Нет | AC233: Нет | AD233: Да | AE233: Да | AF233: Да | AG233: Да | AH233: Да | AI233: Да | AJ233: Да | AK233: Нет | AL233: Да | AM233: Да | AN233: Да | AO233: Нет | AP233: Нет | AQ233: Да | AR233: Нет | AS233: Нет | AT233: Да | AU233: Нет | AV233: Нет | AW233: Да | AX233: Да | AY233: Нет | AZ233: Да | BA233: Нет | BB233: Нет | BC233: Да | BD233: Да | BE233: Нет | BF233: Нет | BG233: 5 | BH233: 5 | BI233: 27 | BJ233: 4 | BK233: 29 | BL233: 20 | BM233: Семен потерял часть денег
A234: 44534.82 | B234: Нет | C234: Да | D234: Нет | E234: Да | F234: Да | G234: Да | H234: Да | I234: Нет | J234: Да | K234: Да | L234: Нет | M234: Да | N234: Нет | O234: Да | P234: Нет | Q234: Да | R234: Да | S234: Да | T234: Нет | U234: Да | V234: Нет | W234: Да | X234: Да | Y234: Да | Z234: Да | AA234: Да | AB234: Да | AC234: Да | AD234: Нет | AE234: Да | AF234: Да | AG234: Нет | AH234: Да | AI234: Да | AJ234: Нет | AK234: Да | AL234: Да | AM234: Да | AN234: Нет | AO234: Да | AP234: Нет | AQ234: Да | AR234: Да | AS234: Да | AT234: Да | AU234: Да | AV234: Нет | AW234: Нет | AX234: Нет | AY234: Да | AZ234: Нет | BA234: Да | BB234: Нет | BC234: Нет | BD234: Да | BE234: Нет | BF234: Да | BG234: 5 | BH234: 5 | BI234: 27 | BJ234: 4 | BK234: 29 | BL234: 0 | BM234: Семен потерял часть денег
A235: 44534.821 | B235: Да | C235: Да | D235: Нет | E235: Да | F235: Да | G235: Да | H235: Да | I235: Нет | J235: Да | K235: Нет | L235: Нет | M235: Да | N235: Да | O235: Да | P235: Да | Q235: Да | R235: Да | S235: Да | T235: Да | U235: Нет | V235: Да | W235: Да | X235: Да | Y235: Да | Z235: Да | AA235: Нет | AB235: Да | AC235: Нет | AD235: Нет | AE235: Да | AF235: Да | AG235: Да | AH235: Да | AI235: Нет | AJ235: Нет | AK235: Нет | AL235: Нет | AM235: Да | AN235: Нет | AO235: Да | AP235: Нет | AQ235: Да | AR235: Нет | AS235: Нет | AT235: Нет | AU235: Нет | AV235: Да | AW235: Да | AX235: Нет | AY235: Да | AZ235: Нет | BA235: Да | BB235: Нет | BC235: Да | BD235: Да | BE235: Да | BF235: Нет | BG235: 5 | BH235: 1 | BI235: 27 | BJ235: 4 | BK235: 29 | BL235: 20 | BM235: Семен потерял часть денег
A236: 44534.821 | B236: Да | C236: Нет | D236: Нет | E236: Нет | F236: Да | G236: Да | H236: Да | I236: Да | J236: Да | K236: Нет | L236: Да | M236: Да | N236: Нет | O236: Нет | P236: Да | Q236: Нет | R236: Нет | S236: Да | T236: Да | U236: Нет | V236: Да | W236: Нет | X236: Да | Y236: Да | Z236: Да | AA236: Нет | AB236: Нет | AC236: Нет | AD236: Нет | AE236: Нет | AF236: Да | AG236: Да | AH236: Нет | AI236: Да | AJ236: Нет | AK236: Да | AL236: Нет | AM236: Нет | AN236: Да | AO236: Нет | AP236: Нет | AQ236: Да | AR236: Нет | AS236: Нет | AT236: Нет | AU236: Нет | AV236: Нет | AW236: Да | AX236: Нет | AY236: Да | AZ236: Да | BA236: Да | BB236: Да | BC236: Нет | BD236: Да | BE236: Нет | BF236: Нет | BG236: 5 | BH236: 5 | BI236: 27 | BJ236: 4 | BK236: 29 | BL236: 10 | BM236: Семен потерял часть денег
A237: 44534.822 | B237: Нет | C237: Нет | D237: Нет | E237: Да | F237: Да | G237: Нет | H237: Да | I237: Да | J237: Да | K237: Нет | L237: Да | M237: Нет | N237: Нет | O237: Нет | P237: Да | Q237: Да | R237: Нет | S237: Да | T237: Нет | U237: Да | V237: Нет | W237: Нет | X237: Нет | Y237: Нет | Z237: Да | AA237: Нет | AB237: Нет | AC237: Да | AD237: Да | AE237: Да | AF237: Да | AG237: Да | AH237: Да | AI237: Да | AJ237: Нет | AK237: Нет | AL237: Да | AM237: Нет | AN237: Нет | AO237: Да | AP237: Да | AQ237: Да | AR237: Нет | AS237: Нет | AT237: Да | AU237: Да | AV237: Нет | AW237: Да | AX237: Да | AY237: Да | AZ237: Да | BA237: Да | BB237: Нет | BC237: Нет | BD237: Да | BE237: Нет | BF237: Нет | BG237: 5 | BH237: 20 минут | BI237: Не знаю | BJ237: 4 | BK237: 29 | BL237: 20 | BM237: Семен заработал денег
A238: 44534.822 | B238: Нет | C238: Да | D238: Нет | E238: Нет | F238: Да | G238: Нет | H238: Нет | I238: Нет | J238: Да | K238: Нет | L238: Да | M238: Да | N238: Нет | O238: Да | P238: Нет | Q238: Да | R238: Нет | S238: Да | T238: Да | U238: Нет | V238: Да | W238: Да | X238: Да | Y238: Нет | Z238: Нет | AA238: Нет | AB238: Да | AC238: Нет | AD238: Нет | AE238: Нет | AF238: Да | AG238: Нет | AH238: Нет | AI238: Нет | AJ238: Нет | AK238: Нет | AL238: Да | AM238: Да | AN238: Да | AO238: Нет | AP238: Нет | AQ238: Да | AR238: Нет | AS238: Нет | AT238: Нет | AU238: Да | AV238: Нет | AW238: Да | AX238: Нет | AY238: Да | AZ238: Нет | BA238: Да | BB238: Нет | BC238: Да | BD238: Да | BE238: Да | BF238: Да | BG238: 5 | BH238: 5 | BI238: 27 | BJ238: 4 | BK238: 29 | BL238: 20 | BM238: Семен потерял часть денег
...

Sheet Рабочий стол
A1: Часто ли вы испытываете тягу к новым впечатлениям, к тому, чтобы отвлечься, испытывать сильные ощущения?] | B1: Часто ли вы чувствуете, что нуждаетесь в друзьях, которые могут вас понять, ободрить или посочувствовать?] | C1: Считаете ли вы себя беззаботным человеком?] | D1: Очень ли трудно вам отказываться от своих намерений?] | E1: Обдумываете ли вы свои дела не спеша и предпочитаете ли подождать, прежде чем действовать?] | F1: Всегда ли вы сдерживаете свои обещания, даже если это вам невыгодно?] | G1: Часто ли у вас бывают спады и подъемы настроения?] | H1: Быстро ли вы обычно действуете и говорите, не тратите ли много времени на обдумывание?] | I1: Возникало ли у вас когда-нибудь чувство, что вы несчастны, хотя никакой серьезной причины для этого не было?] | J1: Верно ли, что на спор вы способны решиться на все?] | K1: Смущаетесь ли вы, когда хотите познакомиться с человеком противоположного пола, который вам симпатичен?] | L1: Бывает ли когда-нибудь, что, разозлившись, вы выходите из себя?] | M1: Часто ли бывает, что вы действуете необдуманно, под влиянием момента?] | N1: Часто ли вас беспокоят мысли о том, что вам не следовало чего-либо делать или говорить?] | O1: Предпочитаете ли вы чтение книг встречам с людьми?] | P1: Верно ли, что вас легко задеть?] | Q1: Любите ли вы часто бывать в компании?] | R1: Бывают ли иногда у вас такие мысли, которыми вам не хотелось бы делиться с другими людьми?] | S1: Верно ли, что иногда вы настолько полны энергии, что все горит в руках, а иногда чувствуете сильную вялость?] | T1: Стараетесь ли вы ограничить круг своих знакомых небольшим числом самых близких друзей?] | U1: Много ли вы мечтаете?] | V1: Когда на вас кричат, отвечаете ли вы тем же?] | W1: Часто ли вас беспокоит чувство вины?] | X1: Часто ли у вас появляется чувство, что вы в чем-то виноваты?] | Y1: Способны ли вы иногда дать волю своим чувствам и беззаботно развлечься с веселой компанией?] | Z1: Можно ли сказать, что нервы у вас часто бывают натянуты до предела?] | AA1: Слывете ли вы за человека живого и веселого?] | AB1: После того как дело сделано, часто ли вы мысленно возвращаетесь к нему и думаете, что могли бы сделать лучше?] | AC1: Чувствуете ли вы себя неспокойно, находясь в большой компании?] | AD1: Бывает ли, что вы передаете слухи?] | AE1: Бывает ли, что вам не спится из-за того, что в голову лезут разные мысли?] | AF1: Что вы предпочитаете, если хотите узнать что-либо: найти в книге (ответ “Да”) или спросить у друзей (ответ “Нет”)?] | AG1: Бывают ли у вас сильные сердцебиения?] | AH1: Нравится ли вам работа, требующая сосредоточения?] | AI1: Бывают ли у вас приступы дрожи?] | AJ1: Всегда ли вы говорите только правду?] | AK1: Бывает ли вам неприятно находиться в компании, где все подшучивают друг над другом?] | AL1: Раздражительны ли вы?] | AM1: Нравится ли вам работа, требующая быстрого действия?] | AN1: Верно ли, что вам часто не дают покоя мысли о разных неприятностях и «ужасах», которые могли бы произойти, хотя все кончилось благополучно?] | AO1: Верно ли, что вы неторопливы в движениях и несколько медлительны?] | AP1: Опаздывали ли вы когда-нибудь на работу или на встречу с кем-либо?] | AQ1: Часто ли вам снятся кошмары?] | AR1: Верно ли, что вы так любите поговорить, что не упускаете любого удобного случая побеседовать с новым человеком?] | AS1: Беспокоят ли вас какие-нибудь боли?] | AT1: Огорчились бы вы, если бы долго не могли видеться со своими друзьями?] | AU1: Можете ли вы назвать себя нервным человеком?] | AV1: Есть ли среди ваших знакомых такие, которые вам явно не нравятся?] | AW1: Могли бы вы сказать, что вы уверенный в себе человек?] | AX1: Легко ли вас задевает критика ваших недостатков или вашей работы?] | AY1: Трудно ли вам получить настоящее удовольствие от мероприятий, в которых участвует много народа?] | AZ1: Беспокоит ли вас чувство, что вы чем-то хуже других?] | BA1: Сумели бы вы внести оживление в скучную компанию?] | BB1: Бывает ли, что вы говорите о вещах, в которых совсем не разбираетесь?] | BC1: Беспокоитесь ли вы о своем здоровье?] | BD1: Любите ли вы подшутить над другими?] | BE1: Страдаете ли вы бессонницей?] | BF1: Экстраверсия | BH1: Нейротизм | BJ1: FALSE | BL1: Бейсбольный мяч и бита вместе стоят 1 доллар и 10 центов. Бейсбольная бита дороже мяча на 1 доллар. Сколько центов стоит мяч? | BM1: 5 машин за 5 минут производят 5 штуковин. Сколько минут потребуется 100 машинам, чтобы произвести 100 штуковин? | BN1: На одной планете началась эпидемия неизвестного вируса. Каждый день число зараженных удваивается. Все жители планеты заразятся через 28 дней. Сколько дней понадобится, чтобы заразить половину жителей планеты? | BO1: Иван выпивает бочку пива за 6 дней. Мария выпивает такую же бочку за 12 дней. На сколько дней хватит бочки пива Марии и Ивану, если они будут пить ее вместе? | BP1: Юный Жора по результатам аттестации занял 15-е место сверху и 15-е место снизу отсортированного списка рейтинга учеников. Сколько человек учится у Жоры в классе? | BQ1: Колхозник купил свинью за 60 рублей, продал за 70, выкупил обратно за 80 и в конце концов продал за 90. Сколько рублей заработал колхозник? | BR1: Семен инвестировал в акции 8000 денег. За первые полгода акции выросли на 75%. Затем упали на 50%. Каковы финансовые результаты семена? | BS1: CRT | BT1: Все решил? | BU1: Высокий балл | BV1: Низкий балл
A2: =IF('Form responses 1'!B2="Да",1,0) -> 0 | B2: =IF('Form responses 1'!C2="Да",1,0) -> 0 | C2: =IF('Form responses 1'!D2="Да",1,0) -> 0 | D2: =IF('Form responses 1'!E2="Да",1,0) -> 1 | E2: =IF('Form responses 1'!F2="Да",0,1) -> 1 | F2: =IF('Form responses 1'!G2="Да",1,0) -> 1 | G2: =IF('Form responses 1'!H2="Да",1,0) -> 0 | H2: =IF('Form responses 1'!I2="Да",1,0) -> 0 | I2: =IF('Form responses 1'!J2="Да",1,0) -> 0 | J2: =IF('Form responses 1'!K2="Да",1,0) -> 0 | K2: =IF('Form responses 1'!L2="Да",1,0) -> 0 | L2: =IF('Form responses 1'!M2="Да",0,1) -> 0 | M2: =IF('Form responses 1'!N2="Да",1,0) -> 0 | N2: =IF('Form responses 1'!O2="Да",1,0) -> 1 | O2: =IF('Form responses 1'!P2="Да",0,1) -> 0 | P2: =IF('Form responses 1'!Q2="Да",1,0) -> 0 | Q2: =IF('Form responses 1'!R2="Да",1,0) -> 0 | R2: =IF('Form responses 1'!S2="Да",0,1) -> 0 | S2: =IF('Form responses 1'!T2="Да",1,0) -> 1 | T2: =IF('Form responses 1'!U2="Да",0,1) -> 0 | U2: =IF('Form responses 1'!V2="Да",1,0) -> 1 | V2: =IF('Form responses 1'!W2="Да",1,0) -> 0 | W2: =IF('Form responses 1'!X2="Да",1,0) -> 1 | X2: =IF('Form responses 1'!Y2="Да",1,0) -> 1 | Y2: =IF('Form responses 1'!Z2="Да",1,0) -> 1 | Z2: =IF('Form responses 1'!AA2="Да",1,0) -> 0 | AA2: =IF('Form responses 1'!AB2="Да",1,0) -> 0 | AB2: =IF('Form responses 1'!AC2="Да",1,0) -> 1 | AC2: =IF('Form responses 1'!AD2="Да",0,1) -> 1 | AD2: =IF('Form responses 1'!AE2="Да",0,1) -> 1 | AE2: =IF('Form responses 1'!AF2="Да",1,0) -> 1 | AF2: =IF('Form responses 1'!AG2="Да",0,1) -> 0 | AG2: =IF('Form responses 1'!AH2="Да",1,0) -> 0 | AH2: =IF('Form responses 1'!AI2="Да",0,1) -> 0 | AI2: =IF('Form responses 1'!AJ2="Да",1,0) -> 1 | AJ2: =IF('Form responses 1'!AK2="Да",1,0) -> 0 | AK2: =IF('Form responses 1'!AL2="Да",0,1) -> 0 | AL2: =IF('Form responses 1'!AM2="Да",1,0) -> 0 | AM2: =IF('Form responses 1'!AN2="Да",1,0) -> 0 | AN2: =IF('Form responses 1'!AO2="Да",1,0) -> 0 | AO2: =IF('Form responses 1'!AP2="Да",0,1) -> 1 | AP2: =IF('Form responses 1'!AQ2="Да",0,1) -> 0 | AQ2: =IF('Form responses 1'!AR2="Да",1,0) -> 0 | AR2: =IF('Form responses 1'!AS2="Да",1,0) -> 0 | AS2: =IF('Form responses 1'!AT2="Да",1,0) -> 1 | AT2: =IF('Form responses 1'!AU2="Да",1,0) -> 0 | AU2: =IF('Form responses 1'!AV2="Да",1,0) -> 0 | AV2: =IF('Form responses 1'!AW2="Да",0,1) -> 0 | AW2: =IF('Form responses 1'!AX2="Да",1,0) -> 0 | AX2: =IF('Form responses 1'!AY2="Да",1,0) -> 1 | AY2: =IF('Form responses 1'!AZ2="Да",0,1) -> 1 | AZ2: =IF('Form responses 1'!BA2="Да",1,0) -> 1 | BA2: =IF('Form responses 1'!BB2="Да",1,0) -> 0 | BB2: =IF('Form responses 1'!BC2="Да",0,1) -> 1 | BC2: =IF('Form responses 1'!BD2="Да",1,0) -> 0 | BD2: =IF('Form responses 1'!BE2="Да",1,0) -> 0 | BE2: =IF('Form responses 1'!BF2="Да",1,0) -> 1 | BF2: =A2+C2+H2+J2+M2+Q2+V2+Y2+AA2+AM2+AR2+AT2+AW2+BA2+BD2+E2+O2+T2+AC2+AF2+AH2+AK2+AO2+AY2 -> 5 | BG2: =IF(BF2>ЯркЭкстр,"1. Яркий экстраверт",IF(BF2>Экстр,"2. экстраверт",IF(BF2<ГлубИнтро,"5. глубокий интраверт",IF(BF2<Интро,"4. интроверт","3. амбиверт")))) -> 4. интроверт | BH2: =B2+D2+G2+I2+K2+N2+P2+S2+U2+W2+Z2+AB2+AE2+AG2+AI2+AL2+AN2+AQ2+AS2+AU2+AX2+AZ2+BC2+BE2 -> 12 | BI2: =IF(BH2>19,"1. Оч.высокий",IF(BH2>14,"2. Высокий",IF(BH2>7,"3. средний","4. низкий"))) -> 3. средний | BJ2: =F2+X2+AJ2+L2+R2+AD2+AP2+AV2+BB2 -> 4 | BK2: =IF(BJ2>4,"пздт","ок") -> ок | BL2: =IF('Form responses 1'!BG2=5,1,0) -> 1 | BM2: =IF('Form responses 1'!BH2=5,1,0) -> 1 | BN2: =IF('Form responses 1'!BI2=27,1,0) -> 1 | BO2: =IF('Form responses 1'!BJ2=4,1,0) -> 1 | BP2: =IF('Form responses 1'!BK2=29,1,0) -> 1 | BQ2: =IF('Form responses 1'!BL2=20,1,0) -> 0 | BR2: =IF('Form responses 1'!BM2="Семен потерял часть денег",1,0) -> 1 | BS2: =SUM(BL2:BR2) -> 6 | BT2: =IF(BS2=7,1,0) -> 0 | BU2: =IF(BS2>=6,1,0) -> 1 | BV2: =IF(BS2<5,1,0) -> 0
A3: =IF('Form responses 1'!B3="Да",1,0) -> 1 | B3: =IF('Form responses 1'!C3="Да",1,0) -> 0 | C3: =IF('Form responses 1'!D3="Да",1,0) -> 0 | D3: =IF('Form responses 1'!E3="Да",1,0) -> 0 | E3: =IF('Form responses 1'!F3="Да",0,1) -> 0 | F3: =IF('Form responses 1'!G3="Да",1,0) -> 1 | G3: =IF('Form responses 1'!H3="Да",1,0) -> 1 | H3: =IF('Form responses 1'!I3="Да",1,0) -> 1 | I3: =IF('Form responses 1'!J3="Да",1,0) -> 1 | J3: =IF('Form responses 1'!K3="Да",1,0) -> 0 | K3: =IF('Form responses 1'!L3="Да",1,0) -> 1 | L3: =IF('Form responses 1'!M3="Да",0,1) -> 0 | M3: =IF('Form responses 1'!N3="Да",1,0) -> 1 | N3: =IF('Form responses 1'!O3="Да",1,0) -> 1 | O3: =IF('Form responses 1'!P3="Да",0,1) -> 0 | P3: =IF('Form responses 1'!Q3="Да",1,0) -> 1 | Q3: =IF('Form responses 1'!R3="Да",1,0) -> 0 | R3: =IF('Form responses 1'!S3="Да",0,1) -> 0 | S3: =IF('Form responses 1'!T3="Да",1,0) -> 1 | T3: =IF('Form responses 1'!U3="Да",0,1) -> 0 | U3: =IF('Form responses 1'!V3="Да",1,0) -> 1 | V3: =IF('Form responses 1'!W3="Да",1,0) -> 0 | W3: =IF('Form responses 1'!X3="Да",1,0) -> 1 | X3: =IF('Form responses 1'!Y3="Да",1,0) -> 1 | Y3: =IF('Form responses 1'!Z3="Да",1,0) -> 0 | Z3: =IF('Form responses 1'!AA3="Да",1,0) -> 1 | AA3: =IF('Form responses 1'!AB3="Да",1,0) -> 0 | AB3: =IF('Form responses 1'!AC3="Да",1,0) -> 1 | AC3: =IF('Form responses 1'!AD3="Да",0,1) -> 0 | AD3: =IF('Form responses 1'!AE3="Да",0,1) -> 1 | AE3: =IF('Form responses 1'!AF3="Да",1,0) -> 1 | AF3: =IF('Form responses 1'!AG3="Да",0,1) -> 0 | AG3: =IF('Form responses 1'!AH3="Да",1,0) -> 0 | AH3: =IF('Form responses 1'!AI3="Да",0,1) -> 1 | AI3: =IF('Form responses 1'!AJ3="Да",1,0) -> 0 | AJ3: =IF('Form responses 1'!AK3="Да",1,0) -> 0 | AK3: =IF('Form responses 1'!AL3="Да",0,1) -> 0 | AL3: =IF('Form responses 1'!AM3="Да",1,0) -> 1 | AM3: =IF('Form responses 1'!AN3="Да",1,0) -> 1 | AN3: =IF('Form responses 1'!AO3="Да",1,0) -> 0 | AO3: =IF('Form responses 1'!AP3="Да",0,1) -> 0 | AP3: =IF('Form responses 1'!AQ3="Да",0,1) -> 1 | AQ3: =IF('Form responses 1'!AR3="Да",1,0) -> 0 | AR3: =IF('Form responses 1'!AS3="Да",1,0) -> 0 | AS3: =IF('Form responses 1'!AT3="Да",1,0) -> 1 | AT3: =IF('Form responses 1'!AU3="Да",1,0) -> 0 | AU3: =IF('Form responses 1'!AV3="Да",1,0) -> 0 | AV3: =IF('Form responses 1'!AW3="Да",0,1) -> 0 | AW3: =IF('Form responses 1'!AX3="Да",1,0) -> 0 | AX3: =IF('Form responses 1'!AY3="Да",1,0) -> 1 | AY3: =IF('Form responses 1'!AZ3="Да",0,1) -> 0 | AZ3: =IF('Form responses 1'!BA3="Да",1,0) -> 1 | BA3: =IF('Form responses 1'!BB3="Да",1,0) -> 0 | BB3: =IF('Form responses 1'!BC3="Да",0,1) -> 0 | BC3: =IF('Form responses 1'!BD3="Да",1,0) -> 1 | BD3: =IF('Form responses 1'!BE3="Да",1,0) -> 1 | BE3: =IF('Form responses 1'!BF3="Да",1,0) -> 0 | BF3: =A3+C3+H3+J3+M3+Q3+V3+Y3+AA3+AM3+AR3+AT3+AW3+BA3+BD3+E3+O3+T3+AC3+AF3+AH3+AK3+AO3+AY3 -> 6 | BG3: =IF(BF3>ЯркЭкстр,"1. Яркий экстраверт",IF(BF3>Экстр,"2. экстраверт",IF(BF3<ГлубИнтро,"5. глубокий интраверт",IF(BF3<Интро,"4. интроверт","3. амбиверт")))) -> 4. интроверт | BH3: =B3+D3+G3+I3+K3+N3+P3+S3+U3+W3+Z3+AB3+AE3+AG3+AI3+AL3+AN3+AQ3+AS3+AU3+AX3+AZ3+BC3+BE3 -> 16 | BI3: =IF(BH3>19,"1. Оч.высокий",IF(BH3>14,"2. Высокий",IF(BH3>7,"3. средний","4. низкий"))) -> 2. Высокий | BJ3: =F3+X3+AJ3+L3+R3+AD3+AP3+AV3+BB3 -> 4 | BK3: =IF(BJ3>4,"пздт","ок") -> ок | BL3: =IF('Form responses 1'!BG3=5,1,0) -> 1 | BM3: =IF('Form responses 1'!BH3=5,1,0) -> 1 | BN3: =IF('Form responses 1'!BI3=27,1,0) -> 1 | BO3: =IF('Form responses 1'!BJ3=4,1,0) -> 1 | BP3: =IF('Form responses 1'!BK3=29,1,0) -> 1 | BQ3: =IF('Form responses 1'!BL3=20,1,0) -> 1 | BR3: =IF('Form responses 1'!BM3="Семен потерял часть денег",1,0) -> 1 | BS3: =SUM(BL3:BR3) -> 7 | BT3: =IF(BS3=7,1,0) -> 1 | BU3: =IF(BS3>=6,1,0) -> 1 | BV3: =IF(BS3<5,1,0) -> 0
A4: =IF('Form responses 1'!B4="Да",1,0) -> 1 | B4: =IF('Form responses 1'!C4="Да",1,0) -> 0 | C4: =IF('Form responses 1'!D4="Да",1,0) -> 0 | D4: =IF('Form responses 1'!E4="Да",1,0) -> 0 | E4: =IF('Form responses 1'!F4="Да",0,1) -> 0 | F4: =IF('Form responses 1'!G4="Да",1,0) -> 0 | G4: =IF('Form responses 1'!H4="Да",1,0) -> 1 | H4: =IF('Form responses 1'!I4="Да",1,0) -> 0 | I4: =IF('Form responses 1'!J4="Да",1,0) -> 1 | J4: =IF('Form responses 1'!K4="Да",1,0) -> 0 | K4: =IF('Form responses 1'!L4="Да",1,0) -> 1 | L4: =IF('Form responses 1'!M4="Да",0,1) -> 1 | M4: =IF('Form responses 1'!N4="Да",1,0) -> 0 | N4: =IF('Form responses 1'!O4="Да",1,0) -> 1 | O4: =IF('Form responses 1'!P4="Да",0,1) -> 1 | P4: =IF('Form responses 1'!Q4="Да",1,0) -> 0 | Q4: =IF('Form responses 1'!R4="Да",1,0) -> 0 | R4: =IF('Form responses 1'!S4="Да",0,1) -> 0 | S4: =IF('Form responses 1'!T4="Да",1,0) -> 1 | T4: =IF('Form responses 1'!U4="Да",0,1) -> 1 | U4: =IF('Form responses 1'!V4="Да",1,0) -> 0 | V4: =IF('Form responses 1'!W4="Да",1,0) -> 0 | W4: =IF('Form responses 1'!X4="Да",1,0) -> 0 | X4: =IF('Form responses 1'!Y4="Да",1,0) -> 0 | Y4: =IF('Form responses 1'!Z4="Да",1,0) -> 1 | Z4: =IF('Form responses 1'!AA4="Да",1,0) -> 0 | AA4: =IF('Form responses 1'!AB4="Да",1,0) -> 1 | AB4: =IF('Form responses 1'!AC4="Да",1,0) -> 1 | AC4: =IF('Form responses 1'!AD4="Да",0,1) -> 0 | AD4: =IF('Form responses 1'!AE4="Да",0,1) -> 0 | AE4: =IF('Form responses 1'!AF4="Да",1,0) -> 1 | AF4: =IF('Form responses 1'!AG4="Да",0,1) -> 0 | AG4: =IF('Form responses 1'!AH4="Да",1,0) -> 0 | AH4: =IF('Form responses 1'!AI4="Да",0,1) -> 0 | AI4: =IF('Form responses 1'!AJ4="Да",1,0) -> 0 | AJ4: =IF('Form responses 1'!AK4="Да",1,0) -> 0 | AK4: =IF('Form responses 1'!AL4="Да",0,1) -> 0 | AL4: =IF('Form responses 1'!AM4="Да",1,0) -> 0 | AM4: =IF('Form responses 1'!AN4="Да",1,0) -> 0 | AN4: =IF('Form responses 1'!AO4="Да",1,0) -> 0 | AO4: =IF('Form responses 1'!AP4="Да",0,1) -> 0 | AP4: =IF('Form responses 1'!AQ4="Да",0,1) -> 0 | AQ4: =IF('Form responses 1'!AR4="Да",1,0) -> 0 | AR4: =IF('Form responses 1'!AS4="Да",1,0) -> 0 | AS4: =IF('Form responses 1'!AT4="Да",1,0) -> 0 | AT4: =IF('Form responses 1'!AU4="Да",1,0) -> 0 | AU4: =IF('Form responses 1'!AV4="Да",1,0) -> 0 | AV4: =IF('Form responses 1'!AW4="Да",0,1) -> 1 | AW4: =IF('Form responses 1'!AX4="Да",1,0) -> 0 | AX4: =IF('Form responses 1'!AY4="Да",1,0) -> 1 | AY4: =IF('Form responses 1'!AZ4="Да",0,1) -> 0 | AZ4: =IF('Form responses 1'!BA4="Да",1,0) -> 1 | BA4: =IF('Form responses 1'!BB4="Да",1,0) -> 0 | BB4: =IF('Form responses 1'!BC4="Да",0,1) -> 1 | BC4: =IF('Form responses 1'!BD4="Да",1,0) -> 0 | BD4: =IF('Form responses 1'!BE4="Да",1,0) -> 1 | BE4: =IF('Form responses 1'!BF4="Да",1,0) -> 0 | BF4: =A4+C4+H4+J4+M4+Q4+V4+Y4+AA4+AM4+AR4+AT4+AW4+BA4+BD4+E4+O4+T4+AC4+AF4+AH4+AK4+AO4+AY4 -> 6 | BG4: =IF(BF4>ЯркЭкстр,"1. Яркий экстраверт",IF(BF4>Экстр,"2. экстраверт",IF(BF4<ГлубИнтро,"5. глубокий интраверт",IF(BF4<Интро,"4. интроверт","3. амбиверт")))) -> 4. интроверт | BH4: =B4+D4+G4+I4+K4+N4+P4+S4+U4+W4+Z4+AB4+AE4+AG4+AI4+AL4+AN4+AQ4+AS4+AU4+AX4+AZ4+BC4+BE4 -> 9 | BI4: =IF(BH4>19,"1. Оч.высокий",IF(BH4>14,"2. Высокий",IF(BH4>7,"3. средний","4. низкий"))) -> 3. средний | BJ4: =F4+X4+AJ4+L4+R4+AD4+AP4+AV4+BB4 -> 3 | BK4: =IF(BJ4>4,"пздт","ок") -> ок | BL4: =IF('Form responses 1'!BG4=5,1,0) -> 1 | BM4: =IF('Form responses 1'!BH4=5,1,0) -> 1 | BN4: =IF('Form responses 1'!BI4=27,1,0) -> 1 | BO4: =IF('Form responses 1'!BJ4=4,1,0) -> 1 | BP4: =IF('Form responses 1'!BK4=29,1,0) -> 1 | BQ4: =IF('Form responses 1'!BL4=20,1,0) -> 1 | BR4: =IF('Form responses 1'!BM4="Семен потерял часть денег",1,0) -> 1 | BS4: =SUM(BL4:BR4) -> 7 | BT4: =IF(BS4=7,1,0) -> 1 | BU4: =IF(BS4>=6,1,0) -> 1 | BV4: =IF(BS4<5,1,0) -> 0
A5: =IF('Form responses 1'!B5="Да",1,0) -> 1 | B5: =IF('Form responses 1'!C5="Да",1,0) -> 0 | C5: =IF('Form responses 1'!D5="Да",1,0) -> 0 | D5: =IF('Form responses 1'!E5="Да",1,0) -> 1 | E5: =IF('Form responses 1'!F5="Да",0,1) -> 0 | F5: =IF('Form responses 1'!G5="Да",1,0) -> 1 | G5: =IF('Form responses 1'!H5="Да",1,0) -> 1 | H5: =IF('Form responses 1'!I5="Да",1,0) -> 0 | I5: =IF('Form responses 1'!J5="Да",1,0) -> 0 | J5: =IF('Form responses 1'!K5="Да",1,0) -> 1 | K5: =IF('Form responses 1'!L5="Да",1,0) -> 1 | L5: =IF('Form responses 1'!M5="Да",0,1) -> 0 | M5: =IF('Form responses 1'!N5="Да",1,0) -> 1 | N5: =IF('Form responses 1'!O5="Да",1,0) -> 1 | O5: =IF('Form responses 1'!P5="Да",0,1) -> 0 | P5: =IF('Form responses 1'!Q5="Да",1,0) -> 0 | Q5: =IF('Form responses 1'!R5="Да",1,0) -> 0 | R5: =IF('Form responses 1'!S5="Да",0,1) -> 0 | S5: =IF('Form responses 1'!T5="Да",1,0) -> 1 | T5: =IF('Form responses 1'!U5="Да",0,1) -> 0 | U5: =IF('Form responses 1'!V5="Да",1,0) -> 1 | V5: =IF('Form responses 1'!W5="Да",1,0) -> 0 | W5: =IF('Form responses 1'!X5="Да",1,0) -> 0 | X5: =IF('Form responses 1'!Y5="Да",1,0) -> 0 | Y5: =IF('Form responses 1'!Z5="Да",1,0) -> 1 | Z5: =IF('Form responses 1'!AA5="Да",1,0) -> 1 | AA5: =IF('Form responses 1'!AB5="Да",1,0) -> 0 | AB5: =IF('Form responses 1'!AC5="Да",1,0) -> 1 | AC5: =IF('Form responses 1'!AD5="Да",0,1) -> 0 | AD5: =IF('Form responses 1'!AE5="Да",0,1) -> 0 | AE5: =IF('Form responses 1'!AF5="Да",1,0) -> 1 | AF5: =IF('Form responses 1'!AG5="Да",0,1) -> 0 | AG5: =IF('Form responses 1'!AH5="Да",1,0) -> 1 | AH5: =IF('Form responses 1'!AI5="Да",0,1) -> 0 | AI5: =IF('Form responses 1'!AJ5="Да",1,0) -> 0 | AJ5: =IF('Form responses 1'!AK5="Да",1,0) -> 0 | AK5: =IF('Form responses 1'!AL5="Да",0,1) -> 1 | AL5: =IF('Form responses 1'!AM5="Да",1,0) -> 0 | AM5: =IF('Form responses 1'!AN5="Да",1,0) -> 1 | AN5: =IF('Form responses 1'!AO5="Да",1,0) -> 1 | AO5: =IF('Form responses 1'!AP5="Да",0,1) -> 1 | AP5: =IF('Form responses 1'!AQ5="Да",0,1) -> 0 | AQ5: =IF('Form responses 1'!AR5="Да",1,0) -> 0 | AR5: =IF('Form responses 1'!AS5="Да",1,0) -> 0 | AS5: =IF('Form responses 1'!AT5="Да",1,0) -> 1 | AT5: =IF('Form responses 1'!AU5="Да",1,0) -> 0 | AU5: =IF('Form responses 1'!AV5="Да",1,0) -> 0 | AV5: =IF('Form responses 1'!AW5="Да",0,1) -> 0 | AW5: =IF('Form responses 1'!AX5="Да",1,0) -> 0 | AX5: =IF('Form responses 1'!AY5="Да",1,0) -> 1 | AY5: =IF('Form responses 1'!AZ5="Да",0,1) -> 0 | AZ5: =IF('Form responses 1'!BA5="Да",1,0) -> 1 | BA5: =IF('Form responses 1'!BB5="Да",1,0) -> 0 | BB5: =IF('Form responses 1'!BC5="Да",0,1) -> 0 | BC5: =IF('Form responses 1'!BD5="Да",1,0) -> 1 | BD5: =IF('Form responses 1'!BE5="Да",1,0) -> 1 | BE5: =IF('Form responses 1'!BF5="Да",1,0) -> 0 | BF5: =A5+C5+H5+J5+M5+Q5+V5+Y5+AA5+AM5+AR5+AT5+AW5+BA5+BD5+E5+O5+T5+AC5+AF5+AH5+AK5+AO5+AY5 -> 8 | BG5: =IF(BF5>ЯркЭкстр,"1. Яркий экстраверт",IF(BF5>Экстр,"2. экстраверт",IF(BF5<ГлубИнтро,"5. глубокий интраверт",IF(BF5<Интро,"4. интроверт","3. амбиверт")))) -> 4. интроверт | BH5: =B5+D5+G5+I5+K5+N5+P5+S5+U5+W5+Z5+AB5+AE5+AG5+AI5+AL5+AN5+AQ5+AS5+AU5+AX5+AZ5+BC5+BE5 -> 15 | BI5: =IF(BH5>19,"1. Оч.высокий",IF(BH5>14,"2. Высокий",IF(BH5>7,"3. средний","4. низкий"))) -> 2. Высокий | BJ5: =F5+X5+AJ5+L5+R5+AD5+AP5+AV5+BB5 -> 1 | BK5: =IF(BJ5>4,"пздт","ок") -> ок | BL5: =IF('Form responses 1'!BG5=5,1,0) -> 1 | BM5: =IF('Form responses 1'!BH5=5,1,0) -> 1 | BN5: =IF('Form responses 1'!BI5=27,1,0) -> 1 | BO5: =IF('Form responses 1'!BJ5=4,1,0) -> 1 | BP5: =IF('Form responses 1'!BK5=29,1,0) -> 0 | BQ5: =IF('Form responses 1'!BL5=20,1,0) -> 1 | BR5: =IF('Form responses 1'!BM5="Семен потерял часть денег",1,0) -> 0 | BS5: =SUM(BL5:BR5) -> 5 | BT5: =IF(BS5=7,1,0) -> 0 | BU5: =IF(BS5>=6,1,0) -> 0 | BV5: =IF(BS5<5,1,0) -> 0
A6: =IF('Form responses 1'!B6="Да",1,0) -> 0 | B6: =IF('Form responses 1'!C6="Да",1,0) -> 1 | C6: =IF('Form responses 1'!D6="Да",1,0) -> 0 | D6: =IF('Form responses 1'!E6="Да",1,0) -> 1 | E6: =IF('Form responses 1'!F6="Да",0,1) -> 0 | F6: =IF('Form responses 1'!G6="Да",1,0) -> 1 | G6: =IF('Form responses 1'!H6="Да",1,0) -> 1 | H6: =IF('Form responses 1'!I6="Да",1,0) -> 0 | I6: =IF('Form responses 1'!J6="Да",1,0) -> 1 | J6: =IF('Form responses 1'!K6="Да",1,0) -> 0 | K6: =IF('Form responses 1'!L6="Да",1,0) -> 1 | L6: =IF('Form responses 1'!M6="Да",0,1) -> 0 | M6: =IF('Form responses 1'!N6="Да",1,0) -> 0 | N6: =IF('Form responses 1'!O6="Да",1,0) -> 1 | O6: =IF('Form responses 1'!P6="Да",0,1) -> 0 | P6: =IF('Form responses 1'!Q6="Да",1,0) -> 0 | Q6: =IF('Form responses 1'!R6="Да",1,0) -> 0 | R6: =IF('Form responses 1'!S6="Да",0,1) -> 0 | S6: =IF('Form responses 1'!T6="Да",1,0) -> 1 | T6: =IF('Form responses 1'!U6="Да",0,1) -> 1 | U6: =IF('Form responses 1'!V6="Да",1,0) -> 1 | V6: =IF('Form responses 1'!W6="Да",1,0) -> 0 | W6: =IF('Form responses 1'!X6="Да",1,0) -> 0 | X6: =IF('Form responses 1'!Y6="Да",1,0) -> 1 | Y6: =IF('Form responses 1'!Z6="Да",1,0) -> 1 | Z6: =IF('Form responses 1'!AA6="Да",1,0) -> 0 | AA6: =IF('Form responses 1'!AB6="Да",1,0) -> 0 | AB6: =IF('Form responses 1'!AC6="Да",1,0) -> 1 | AC6: =IF('Form responses 1'!AD6="Да",0,1) -> 1 | AD6: =IF('Form responses 1'!AE6="Да",0,1) -> 0 | AE6: =IF('Form responses 1'!AF6="Да",1,0) -> 1 | AF6: =IF('Form responses 1'!AG6="Да",0,1) -> 0 | AG6: =IF('Form responses 1'!AH6="Да",1,0) -> 1 | AH6: =IF('Form responses 1'!AI6="Да",0,1) -> 0 | AI6: =IF('Form responses 1'!AJ6="Да",1,0) -> 1 | AJ6: =IF('Form responses 1'!AK6="Да",1,0) -> 1 | AK6: =IF('Form responses 1'!AL6="Да",0,1) -> 1 | AL6: =IF('Form responses 1'!AM6="Да",1,0) -> 0 | AM6: =IF('Form responses 1'!AN6="Да",1,0) -> 0 | AN6: =IF('Form responses 1'!AO6="Да",1,0) -> 0 | AO6: =IF('Form responses 1'!AP6="Да",0,1) -> 1 | AP6: =IF('Form responses 1'!AQ6="Да",0,1) -> 0 | AQ6: =IF('Form responses 1'!AR6="Да",1,0) -> 0 | AR6: =IF('Form responses 1'!AS6="Да",1,0) -> 0 | AS6: =IF('Form responses 1'!AT6="Да",1,0) -> 1 | AT6: =IF('Form responses 1'!AU6="Да",1,0) -> 1 | AU6: =IF('Form responses 1'!AV6="Да",1,0) -> 0 | AV6: =IF('Form responses 1'!AW6="Да",0,1) -> 0 | AW6: =IF('Form responses 1'!AX6="Да",1,0) -> 0 | AX6: =IF('Form responses 1'!AY6="Да",1,0) -> 1 | AY6: =IF('Form responses 1'!AZ6="Да",0,1) -> 1 | AZ6: =IF('Form responses 1'!BA6="Да",1,0) -> 1 | BA6: =IF('Form responses 1'!BB6="Да",1,0) -> 0 | BB6: =IF('Form responses 1'!BC6="Да",0,1) -> 0 | BC6: =IF('Form responses 1'!BD6="Да",1,0) -> 0 | BD6: =IF('Form responses 1'!BE6="Да",1,0) -> 0 | BE6: =IF('Form responses 1'!BF6="Да",1,0) -> 0 | BF6: =A6+C6+H6+J6+M6+Q6+V6+Y6+AA6+AM6+AR6+AT6+AW6+BA6+BD6+E6+O6+T6+AC6+AF6+AH6+AK6+AO6+AY6 -> 7 | BG6: =IF(BF6>ЯркЭкстр,"1. Яркий экстраверт",IF(BF6>Экстр,"2. экстраверт",IF(BF6<ГлубИнтро,"5. глубокий интраверт",IF(BF6<Интро,"4. интроверт","3. амбиверт")))) -> 4. интроверт | BH6: =B6+D6+G6+I6+K6+N6+P6+S6+U6+W6+Z6+AB6+AE6+AG6+AI6+AL6+AN6+AQ6+AS6+AU6+AX6+AZ6+BC6+BE6 -> 15 | BI6: =IF(BH6>19,"1. Оч.высокий",IF(BH6>14,"2. Высокий",IF(BH6>7,"3. средний","4. низкий"))) -> 2. Высокий | BJ6: =F6+X6+AJ6+L6+R6+AD6+AP6+AV6+BB6 -> 3 | BK6: =IF(BJ6>4,"пздт","ок") -> ок | BL6: =IF('Form responses 1'!BG6=5,1,0) -> 1 | BM6: =IF('Form responses 1'!BH6=5,1,0) -> 1 | BN6: =IF('Form responses 1'!BI6=27,1,0) -> 1 | BO6: =IF('Form responses 1'!BJ6=4,1,0) -> 1 | BP6: =IF('Form responses 1'!BK6=29,1,0) -> 1 | BQ6: =IF('Form responses 1'!BL6=20,1,0) -> 1 | BR6: =IF('Form responses 1'!BM6="Семен потерял часть денег",1,0) -> 1 | BS6: =SUM(BL6:BR6) -> 7 | BT6: =IF(BS6=7,1,0) -> 1 | BU6: =IF(BS6>=6,1,0) -> 1 | BV6: =IF(BS6<5,1,0) -> 0
A7: =IF('Form responses 1'!B7="Да",1,0) -> 0 | B7: =IF('Form responses 1'!C7="Да",1,0) -> 1 | C7: =IF('Form responses 1'!D7="Да",1,0) -> 0 | D7: =IF('Form responses 1'!E7="Да",1,0) -> 1 | E7: =IF('Form responses 1'!F7="Да",0,1) -> 0 | F7: =IF('Form responses 1'!G7="Да",1,0) -> 1 | G7: =IF('Form responses 1'!H7="Да",1,0) -> 0 | H7: =IF('Form responses 1'!I7="Да",1,0) -> 0 | I7: =IF('Form responses 1'!J7="Да",1,0) -> 1 | J7: =IF('Form responses 1'!K7="Да",1,0) -> 0 | K7: =IF('Form responses 1'!L7="Да",1,0) -> 1 | L7: =IF('Form responses 1'!M7="Да",0,1) -> 0 | M7: =IF('Form responses 1'!N7="Да",1,0) -> 0 | N7: =IF('Form responses 1'!O7="Да",1,0) -> 0 | O7: =IF('Form responses 1'!P7="Да",0,1) -> 1 | P7: =IF('Form responses 1'!Q7="Да",1,0) -> 1 | Q7: =IF('Form responses 1'!R7="Да",1,0) -> 0 | R7: =IF('Form responses 1'!S7="Да",0,1) -> 0 | S7: =IF('Form responses 1'!T7="Да",1,0) -> 0 | T7: =IF('Form responses 1'!U7="Да",0,1) -> 0 | U7: =IF('Form responses 1'!V7="Да",1,0) -> 0 | V7: =IF('Form responses 1'!W7="Да",1,0) -> 0 | W7: =IF('Form responses 1'!X7="Да",1,0) -> 1 | X7: =IF('Form responses 1'!Y7="Да",1,0) -> 1 | Y7: =IF('Form responses 1'!Z7="Да",1,0) -> 0 | Z7: =IF('Form responses 1'!AA7="Да",1,0) -> 0 | AA7: =IF('Form responses 1'!AB7="Да",1,0) -> 0 | AB7: =IF('Form responses 1'!AC7="Да",1,0) -> 0 | AC7: =IF('Form responses 1'!AD7="Да",0,1) -> 0 | AD7: =IF('Form responses 1'!AE7="Да",0,1) -> 0 | AE7: =IF('Form responses 1'!AF7="Да",1,0) -> 0 | AF7: =IF('Form responses 1'!AG7="Да",0,1) -> 0 | AG7: =IF('Form responses 1'!AH7="Да",1,0) -> 0 | AH7: =IF('Form responses 1'!AI7="Да",0,1) -> 0 | AI7: =IF('Form responses 1'!AJ7="Да",1,0) -> 0 | AJ7: =IF('Form responses 1'!AK7="Да",1,0) -> 0 | AK7: =IF('Form responses 1'!AL7="Да",0,1) -> 1 | AL7: =IF('Form responses 1'!AM7="Да",1,0) -> 1 | AM7: =IF('Form responses 1'!AN7="Да",1,0) -> 0 | AN7: =IF('Form responses 1'!AO7="Да",1,0) -> 0 | AO7: =IF('Form responses 1'!AP7="Да",0,1) -> 1 | AP7: =IF('Form responses 1'!AQ7="Да",0,1) -> 0 | AQ7: =IF('Form responses 1'!AR7="Да",1,0) -> 0 | AR7: =IF('Form responses 1'!AS7="Да",1,0) -> 0 | AS7: =IF('Form responses 1'!AT7="Да",1,0) -> 1 | AT7: =IF('Form responses 1'!AU7="Да",1,0) -> 1 | AU7: =IF('Form responses 1'!AV7="Да",1,0) -> 1 | AV7: =IF('Form responses 1'!AW7="Да",0,1) -> 0 | AW7: =IF('Form responses 1'!AX7="Да",1,0) -> 0 | AX7: =IF('Form responses 1'!AY7="Да",1,0) -> 0 | AY7: =IF('Form responses 1'!AZ7="Да",0,1) -> 1 | AZ7: =IF('Form responses 1'!BA7="Да",1,0) -> 1 | BA7: =IF('Form responses 1'!BB7="Да",1,0) -> 1 | BB7: =IF('Form responses 1'!BC7="Да",0,1) -> 0 | BC7: =IF('Form responses 1'!BD7="Да",1,0) -> 1 | BD7: =IF('Form responses 1'!BE7="Да",1,0) -> 1 | BE7: =IF('Form responses 1'!BF7="Да",1,0) -> 0 | BF7: =A7+C7+H7+J7+M7+Q7+V7+Y7+AA7+AM7+AR7+AT7+AW7+BA7+BD7+E7+O7+T7+AC7+AF7+AH7+AK7+AO7+AY7 -> 7 | BG7: =IF(BF7>ЯркЭкстр,"1. Яркий экстраверт",IF(BF7>Экстр,"2. экстраверт",IF(BF7<ГлубИнтро,"5. глубокий интраверт",IF(BF7<Интро,"4. интроверт","3. амбиверт")))) -> 4. интроверт | BH7: =B7+D7+G7+I7+K7+N7+P7+S7+U7+W7+Z7+AB7+AE7+AG7+AI7+AL7+AN7+AQ7+AS7+AU7+AX7+AZ7+BC7+BE7 -> 11 | BI7: =IF(BH7>19,"1. Оч.высокий",IF(BH7>14,"2. Высокий",IF(BH7>7,"3. средний","4. низкий"))) -> 3. средний | BJ7: =F7+X7+AJ7+L7+R7+AD7+AP7+AV7+BB7 -> 2 | BK7: =IF(BJ7>4,"пздт","ок") -> ок | BL7: =IF('Form responses 1'!BG7=5,1,0) -> 1 | BM7: =IF('Form responses 1'!BH7=5,1,0) -> 1 | BN7: =IF('Form responses 1'!BI7=27,1,0) -> 1 | BO7: =IF('Form responses 1'!BJ7=4,1,0) -> 1 | BP7: =IF('Form responses 1'!BK7=29,1,0) -> 1 | BQ7: =IF('Form responses 1'!BL7=20,1,0) -> 1 | BR7: =IF('Form responses 1'!BM7="Семен потерял часть денег",1,0) -> 1 | BS7: =SUM(BL7:BR7) -> 7 | BT7: =IF(BS7=7,1,0) -> 1 | BU7: =IF(BS7>=6,1,0) -> 1 | BV7: =IF(BS7<5,1,0) -> 0
A8: =IF('Form responses 1'!B8="Да",1,0) -> 1 | B8: =IF('Form responses 1'!C8="Да",1,0) -> 0 | C8: =IF('Form responses 1'!D8="Да",1,0) -> 1 | D8: =IF('Form responses 1'!E8="Да",1,0) -> 0 | E8: =IF('Form responses 1'!F8="Да",0,1) -> 0 | F8: =IF('Form responses 1'!G8="Да",1,0) -> 0 | G8: =IF('Form responses 1'!H8="Да",1,0) -> 0 | H8: =IF('Form responses 1'!I8="Да",1,0) -> 0 | I8: =IF('Form responses 1'!J8="Да",1,0) -> 0 | J8: =IF('Form responses 1'!K8="Да",1,0) -> 0 | K8: =IF('Form responses 1'!L8="Да",1,0) -> 1 | L8: =IF('Form responses 1'!M8="Да",0,1) -> 0 | M8: =IF('Form responses 1'!N8="Да",1,0) -> 0 | N8: =IF('Form responses 1'!O8="Да",1,0) -> 0 | O8: =IF('Form responses 1'!P8="Да",0,1) -> 1 | P8: =IF('Form responses 1'!Q8="Да",1,0) -> 0 | Q8: =IF('Form responses 1'!R8="Да",1,0) -> 1 | R8: =IF('Form responses 1'!S8="Да",0,1) -> 1 | S8: =IF('Form responses 1'!T8="Да",1,0) -> 1 | T8: =IF('Form responses 1'!U8="Да",0,1) -> 1 | U8: =IF('Form responses 1'!V8="Да",1,0) -> 1 | V8: =IF('Form responses 1'!W8="Да",1,0) -> 1 | W8: =IF('Form responses 1'!X8="Да",1,0) -> 0 | X8: =IF('Form responses 1'!Y8="Да",1,0) -> 0 | Y8: =IF('Form responses 1'!Z8="Да",1,0) -> 1 | Z8: =IF('Form responses 1'!AA8="Да",1,0) -> 0 | AA8: =IF('Form responses 1'!AB8="Да",1,0) -> 1 | AB8: =IF('Form responses 1'!AC8="Да",1,0) -> 1 | AC8: =IF('Form responses 1'!AD8="Да",0,1) -> 0 | AD8: =IF('Form responses 1'!AE8="Да",0,1) -> 0 | AE8: =IF('Form responses 1'!AF8="Да",1,0) -> 1 | AF8: =IF('Form responses 1'!AG8="Да",0,1) -> 0 | AG8: =IF('Form responses 1'!AH8="Да",1,0) -> 1 | AH8: =IF('Form responses 1'!AI8="Да",0,1) -> 0 | AI8: =IF('Form responses 1'!AJ8="Да",1,0) -> 0 | AJ8: =IF('Form responses 1'!AK8="Да",1,0) -> 0 | AK8: =IF('Form responses 1'!AL8="Да",0,1) -> 0 | AL8: =IF('Form responses 1'!AM8="Да",1,0) -> 0 | AM8: =IF('Form responses 1'!AN8="Да",1,0) -> 0 | AN8: =IF('Form responses 1'!AO8="Да",1,0) -> 0 | AO8: =IF('Form responses 1'!AP8="Да",0,1) -> 1 | AP8: =IF('Form responses 1'!AQ8="Да",0,1) -> 0 | AQ8: =IF('Form responses 1'!AR8="Да",1,0) -> 0 | AR8: =IF('Form responses 1'!AS8="Да",1,0) -> 0 | AS8: =IF('Form responses 1'!AT8="Да",1,0) -> 1 | AT8: =IF('Form responses 1'!AU8="Да",1,0) -> 1 | AU8: =IF('Form responses 1'!AV8="Да",1,0) -> 0 | AV8: =IF('Form responses 1'!AW8="Да",0,1) -> 0 | AW8: =IF('Form responses 1'!AX8="Да",1,0) -> 1 | AX8: =IF('Form responses 1'!AY8="Да",1,0) -> 0 | AY8: =IF('Form responses 1'!AZ8="Да",0,1) -> 1 | AZ8: =IF('Form responses 1'!BA8="Да",1,0) -> 0 | BA8: =IF('Form responses 1'!BB8="Да",1,0) -> 1 | BB8: =IF('Form responses 1'!BC8="Да",0,1) -> 1 | BC8: =IF('Form responses 1'!BD8="Да",1,0) -> 0 | BD8: =IF('Form responses 1'!BE8="Да",1,0) -> 1 | BE8: =IF('Form responses 1'!BF8="Да",1,0) -> 0 | BF8: =A8+C8+H8+J8+M8+Q8+V8+Y8+AA8+AM8+AR8+AT8+AW8+BA8+BD8+E8+O8+T8+AC8+AF8+AH8+AK8+AO8+AY8 -> 14 | BG8: =IF(BF8>ЯркЭкстр,"1. Яркий экстраверт",IF(BF8>Экстр,"2. экстраверт",IF(BF8<ГлубИнтро,"5. глубокий интраверт",IF(BF8<Интро,"4. интроверт","3. амбиверт")))) -> 3. амбиверт | BH8: =B8+D8+G8+I8+K8+N8+P8+S8+U8+W8+Z8+AB8+AE8+AG8+AI8+AL8+AN8+AQ8+AS8+AU8+AX8+AZ8+BC8+BE8 -> 7 | BI8: =IF(BH8>19,"1. Оч.высокий",IF(BH8>14,"2. Высокий",IF(BH8>7,"3. средний","4. низкий"))) -> 4. низкий | BJ8: =F8+X8+AJ8+L8+R8+AD8+AP8+AV8+BB8 -> 2 | BK8: =IF(BJ8>4,"пздт","ок") -> ок | BL8: =IF('Form responses 1'!BG8=5,1,0) -> 1 | BM8: =IF('Form responses 1'!BH8=5,1,0) -> 1 | BN8: =IF('Form responses 1'!BI8=27,1,0) -> 1 | BO8: =IF('Form responses 1'!BJ8=4,1,0) -> 1 | BP8: =IF('Form responses 1'!BK8=29,1,0) -> 1 | BQ8: =IF('Form responses 1'!BL8=20,1,0) -> 1 | BR8: =IF('Form responses 1'!BM8="Семен потерял часть денег",1,0) -> 1 | BS8: =SUM(BL8:BR8) -> 7 | BT8: =IF(BS8=7,1,0) -> 1 | BU8: =IF(BS8>=6,1,0) -> 1 | BV8: =IF(BS8<5,1,0) -> 0
A9: =IF('Form responses 1'!B9="Да",1,0) -> 0 | B9: =IF('Form responses 1'!C9="Да",1,0) -> 0 | C9: =IF('Form responses 1'!D9="Да",1,0) -> 0 | D9: =IF('Form responses 1'!E9="Да",1,0) -> 1 | E9: =IF('Form responses 1'!F9="Да",0,1) -> 0 | F9: =IF('Form responses 1'!G9="Да",1,0) -> 1 | G9: =IF('Form responses 1'!H9="Да",1,0) -> 1 | H9: =IF('Form responses 1'!I9="Да",1,0) -> 0 | I9: =IF('Form responses 1'!J9="Да",1,0) -> 0 | J9: =IF('Form responses 1'!K9="Да",1,0) -> 0 | K9: =IF('Form responses 1'!L9="Да",1,0) -> 1 | L9: =IF('Form responses 1'!M9="Да",0,1) -> 0 | M9: =IF('Form responses 1'!N9="Да",1,0) -> 0 | N9: =IF('Form responses 1'!O9="Да",1,0) -> 1 | O9: =IF('Form responses 1'!P9="Да",0,1) -> 0 | P9: =IF('Form responses 1'!Q9="Да",1,0) -> 1 | Q9: =IF('Form responses 1'!R9="Да",1,0) -> 0 | R9: =IF('Form responses 1'!S9="Да",0,1) -> 0 | S9: =IF('Form responses 1'!T9="Да",1,0) -> 1 | T9: =IF('Form responses 1'!U9="Да",0,1) -> 0 | U9: =IF('Form responses 1'!V9="Да",1,0) -> 1 | V9: =IF('Form responses 1'!W9="Да",1,0) -> 0 | W9: =IF('Form responses 1'!X9="Да",1,0) -> 0 | X9: =IF('Form responses 1'!Y9="Да",1,0) -> 0 | Y9: =IF('Form responses 1'!Z9="Да",1,0) -> 1 | Z9: =IF('Form responses 1'!AA9="Да",1,0) -> 0 | AA9: =IF('Form responses 1'!AB9="Да",1,0) -> 0 | AB9: =IF('Form responses 1'!AC9="Да",1,0) -> 1 | AC9: =IF('Form responses 1'!AD9="Да",0,1) -> 0 | AD9: =IF('Form responses 1'!AE9="Да",0,1) -> 0 | AE9: =IF('Form responses 1'!AF9="Да",1,0) -> 1 | AF9: =IF('Form responses 1'!AG9="Да",0,1) -> 0 | AG9: =IF('Form responses 1'!AH9="Да",1,0) -> 1 | AH9: =IF('Form responses 1'!AI9="Да",0,1) -> 0 | AI9: =IF('Form responses 1'!AJ9="Да",1,0) -> 0 | AJ9: =IF('Form responses 1'!AK9="Да",1,0) -> 0 | AK9: =IF('Form responses 1'!AL9="Да",0,1) -> 0 | AL9: =IF('Form responses 1'!AM9="Да",1,0) -> 1 | AM9: =IF('Form responses 1'!AN9="Да",1,0) -> 0 | AN9: =IF('Form responses 1'!AO9="Да",1,0) -> 1 | AO9: =IF('Form responses 1'!AP9="Да",0,1) -> 1 | AP9: =IF('Form responses 1'!AQ9="Да",0,1) -> 0 | AQ9: =IF('Form responses 1'!AR9="Да",1,0) -> 0 | AR9: =IF('Form responses 1'!AS9="Да",1,0) -> 0 | AS9: =IF('Form responses 1'!AT9="Да",1,0) -> 1 | AT9: =IF('Form responses 1'!AU9="Да",1,0) -> 1 | AU9: =IF('Form responses 1'!AV9="Да",1,0) -> 1 | AV9: =IF('Form responses 1'!AW9="Да",0,1) -> 1 | AW9: =IF('Form responses 1'!AX9="Да",1,0) -> 0 | AX9: =IF('Form responses 1'!AY9="Да",1,0) -> 0 | AY9: =IF('Form responses 1'!AZ9="Да",0,1) -> 1 | AZ9: =IF('Form responses 1'!BA9="Да",1,0) -> 1 | BA9: =IF('Form responses 1'!BB9="Да",1,0) -> 0 | BB9: =IF('Form responses 1'!BC9="Да",0,1) -> 1 | BC9: =IF('Form responses 1'!BD9="Да",1,0) -> 1 | BD9: =IF('Form responses 1'!BE9="Да",1,0) -> 0 | BE9: =IF('Form responses 1'!BF9="Да",1,0) -> 0 | BF9: =A9+C9+H9+J9+M9+Q9+V9+Y9+AA9+AM9+AR9+AT9+AW9+BA9+BD9+E9+O9+T9+AC9+AF9+AH9+AK9+AO9+AY9 -> 4 | BG9: =IF(BF9>ЯркЭкстр,"1. Яркий экстраверт",IF(BF9>Экстр,"2. экстраверт",IF(BF9<ГлубИнтро,"5. глубокий интраверт",IF(BF9<Интро,"4. интроверт","3. амбиверт")))) -> 5. глубокий интраверт | BH9: =B9+D9+G9+I9+K9+N9+P9+S9+U9+W9+Z9+AB9+AE9+AG9+AI9+AL9+AN9+AQ9+AS9+AU9+AX9+AZ9+BC9+BE9 -> 16 | BI9: =IF(BH9>19,"1. Оч.высокий",IF(BH9>14,"2. Высокий",IF(BH9>7,"3. средний","4. низкий"))) -> 2. Высокий | BJ9: =F9+X9+AJ9+L9+R9+AD9+AP9+AV9+BB9 -> 3 | BK9: =IF(BJ9>4,"пздт","ок") -> ок | BL9: =IF('Form responses 1'!BG9=5,1,0) -> 1 | BM9: =IF('Form responses 1'!BH9=5,1,0) -> 1 | BN9: =IF('Form responses 1'!BI9=27,1,0) -> 1 | BO9: =IF('Form responses 1'!BJ9=4,1,0) -> 1 | BP9: =IF('Form responses 1'!BK9=29,1,0) -> 1 | BQ9: =IF('Form responses 1'!BL9=20,1,0) -> 1 | BR9: =IF('Form responses 1'!BM9="Семен потерял часть денег",1,0) -> 1 | BS9: =SUM(BL9:BR9) -> 7 | BT9: =IF(BS9=7,1,0) -> 1 | BU9: =IF(BS9>=6,1,0) -> 1 | BV9: =IF(BS9<5,1,0) -> 0
A10: =IF('Form responses 1'!B10="Да",1,0) -> 1 | B10: =IF('Form responses 1'!C10="Да",1,0) -> 1 | C10: =IF('Form responses 1'!D10="Да",1,0) -> 0 | D10: =IF('Form responses 1'!E10="Да",1,0) -> 0 | E10: =IF('Form responses 1'!F10="Да",0,1) -> 1 | F10: =IF('Form responses 1'!G10="Да",1,0) -> 0 | G10: =IF('Form responses 1'!H10="Да",1,0) -> 1 | H10: =IF('Form responses 1'!I10="Да",1,0) -> 0 | I10: =IF('Form responses 1'!J10="Да",1,0) -> 1 | J10: =IF('Form responses 1'!K10="Да",1,0) -> 1 | K10: =IF('Form responses 1'!L10="Да",1,0) -> 1 | L10: =IF('Form responses 1'!M10="Да",0,1) -> 0 | M10: =IF('Form responses 1'!N10="Да",1,0) -> 1 | N10: =IF('Form responses 1'!O10="Да",1,0) -> 1 | O10: =IF('Form responses 1'!P10="Да",0,1) -> 0 | P10: =IF('Form responses 1'!Q10="Да",1,0) -> 1 | Q10: =IF('Form responses 1'!R10="Да",1,0) -> 0 | R10: =IF('Form responses 1'!S10="Да",0,1) -> 0 | S10: =IF('Form responses 1'!T10="Да",1,0) -> 1 | T10: =IF('Form responses 1'!U10="Да",0,1) -> 1 | U10: =IF('Form responses 1'!V10="Да",1,0) -> 1 | V10: =IF('Form responses 1'!W10="Да",1,0) -> 0 | W10: =IF('Form responses 1'!X10="Да",1,0) -> 1 | X10: =IF('Form responses 1'!Y10="Да",1,0) -> 1 | Y10: =IF('Form responses 1'!Z10="Да",1,0) -> 1 | Z10: =IF('Form responses 1'!AA10="Да",1,0) -> 1 | AA10: =IF('Form responses 1'!AB10="Да",1,0) -> 1 | AB10: =IF('Form responses 1'!AC10="Да",1,0) -> 1 | AC10: =IF('Form responses 1'!AD10="Да",0,1) -> 0 | AD10: =IF('Form responses 1'!AE10="Да",0,1) -> 0 | AE10: =IF('Form responses 1'!AF10="Да",1,0) -> 1 | AF10: =IF('Form responses 1'!AG10="Да",0,1) -> 0 | AG10: =IF('Form responses 1'!AH10="Да",1,0) -> 1 | AH10: =IF('Form responses 1'!AI10="Да",0,1) -> 0 | AI10: =IF('Form responses 1'!AJ10="Да",1,0) -> 0 | AJ10: =IF('Form responses 1'!AK10="Да",1,0) -> 0 | AK10: =IF('Form responses 1'!AL10="Да",0,1) -> 0 | AL10: =IF('Form responses 1'!AM10="Да",1,0) -> 0 | AM10: =IF('Form responses 1'!AN10="Да",1,0) -> 0 | AN10: =IF('Form responses 1'!AO10="Да",1,0) -> 0 | AO10: =IF('Form responses 1'!AP10="Да",0,1) -> 1 | AP10: =IF('Form responses 1'!AQ10="Да",0,1) -> 0 | AQ10: =IF('Form responses 1'!AR10="Да",1,0) -> 0 | AR10: =IF('Form responses 1'!AS10="Да",1,0) -> 0 | AS10: =IF('Form responses 1'!AT10="Да",1,0) -> 1 | AT10: =IF('Form responses 1'!AU10="Да",1,0) -> 1 | AU10: =IF('Form responses 1'!AV10="Да",1,0) -> 1 | AV10: =IF('Form responses 1'!AW10="Да",0,1) -> 0 | AW10: =IF('Form responses 1'!AX10="Да",1,0) -> 0 | AX10: =IF('Form responses 1'!AY10="Да",1,0) -> 1 | AY10: =IF('Form responses 1'!AZ10="Да",0,1) -> 1 | AZ10: =IF('Form responses 1'!BA10="Да",1,0) -> 1 | BA10: =IF('Form responses 1'!BB10="Да",1,0) -> 0 | BB10: =IF('Form responses 1'!BC10="Да",0,1) -> 1 | BC10: =IF('Form responses 1'!BD10="Да",1,0) -> 1 | BD10: =IF('Form responses 1'!BE10="Да",1,0) -> 1 | BE10: =IF('Form responses 1'!BF10="Да",1,0) -> 0 | BF10: =A10+C10+H10+J10+M10+Q10+V10+Y10+AA10+AM10+AR10+AT10+AW10+BA10+BD10+E10+O10+T10+AC10+AF10+AH10+AK10+AO10+AY10 -> 11 | BG10: =IF(BF10>ЯркЭкстр,"1. Яркий экстраверт",IF(BF10>Экстр,"2. экстраверт",IF(BF10<ГлубИнтро,"5. глубокий интраверт",IF(BF10<Интро,"4. интроверт","3. амбиверт")))) -> 3. амбиверт | BH10: =B10+D10+G10+I10+K10+N10+P10+S10+U10+W10+Z10+AB10+AE10+AG10+AI10+AL10+AN10+AQ10+AS10+AU10+AX10+AZ10+BC10+BE10 -> 18 | BI10: =IF(BH10>19,"1. Оч.высокий",IF(BH10>14,"2. Высокий",IF(BH10>7,"3. средний","4. низкий"))) -> 2. Высокий | BJ10: =F10+X10+AJ10+L10+R10+AD10+AP10+AV10+BB10 -> 2 | BK10: =IF(BJ10>4,"пздт","ок") -> ок | BL10: =IF('Form responses 1'!BG10=5,1,0) -> 1 | BM10: =IF('Form responses 1'!BH10=5,1,0) -> 1 | BN10: =IF('Form responses 1'!BI10=27,1,0) -> 1 | BO10: =IF('Form responses 1'!BJ10=4,1,0) -> 1 | BP10: =IF('Form responses 1'!BK10=29,1,0) -> 1 | BQ10: =IF('Form responses 1'!BL10=20,1,0) -> 1 | BR10: =IF('Form responses 1'!BM10="Семен потерял часть денег",1,0) -> 1 | BS10: =SUM(BL10:BR10) -> 7 | BT10: =IF(BS10=7,1,0) -> 1 | BU10: =IF(BS10>=6,1,0) -> 1 | BV10: =IF(BS10<5,1,0) -> 0
A11: =IF('Form responses 1'!B11="Да",1,0) -> 1 | B11: =IF('Form responses 1'!C11="Да",1,0) -> 1 | C11: =IF('Form responses 1'!D11="Да",1,0) -> 0 | D11: =IF('Form responses 1'!E11="Да",1,0) -> 1 | E11: =IF('Form responses 1'!F11="Да",0,1) -> 0 | F11: =IF('Form responses 1'!G11="Да",1,0) -> 1 | G11: =IF('Form responses 1'!H11="Да",1,0) -> 0 | H11: =IF('Form responses 1'!I11="Да",1,0) -> 0 | I11: =IF('Form responses 1'!J11="Да",1,0) -> 1 | J11: =IF('Form responses 1'!K11="Да",1,0) -> 0 | K11: =IF('Form responses 1'!L11="Да",1,0) -> 1 | L11: =IF('Form responses 1'!M11="Да",0,1) -> 0 | M11: =IF('Form responses 1'!N11="Да",1,0) -> 0 | N11: =IF('Form responses 1'!O11="Да",1,0) -> 0 | O11: =IF('Form responses 1'!P11="Да",0,1) -> 0 | P11: =IF('Form responses 1'!Q11="Да",1,0) -> 1 | Q11: =IF('Form responses 1'!R11="Да",1,0) -> 0 | R11: =IF('Form responses 1'!S11="Да",0,1) -> 0 | S11: =IF('Form responses 1'!T11="Да",1,0) -> 1 | T11: =IF('Form responses 1'!U11="Да",0,1) -> 1 | U11: =IF('Form responses 1'!V11="Да",1,0) -> 1 | V11: =IF('Form responses 1'!W11="Да",1,0) -> 1 | W11: =IF('Form responses 1'!X11="Да",1,0) -> 0 | X11: =IF('Form responses 1'!Y11="Да",1,0) -> 0 | Y11: =IF('Form responses 1'!Z11="Да",1,0) -> 1 | Z11: =IF('Form responses 1'!AA11="Да",1,0) -> 0 | AA11: =IF('Form responses 1'!AB11="Да",1,0) -> 0 | AB11: =IF('Form responses 1'!AC11="Да",1,0) -> 1 | AC11: =IF('Form responses 1'!AD11="Да",0,1) -> 0 | AD11: =IF('Form responses 1'!AE11="Да",0,1) -> 0 | AE11: =IF('Form responses 1'!AF11="Да",1,0) -> 0 | AF11: =IF('Form responses 1'!AG11="Да",0,1) -> 1 | AG11: =IF('Form responses 1'!AH11="Да",1,0) -> 0 | AH11: =IF('Form responses 1'!AI11="Да",0,1) -> 0 | AI11: =IF('Form responses 1'!AJ11="Да",1,0) -> 0 | AJ11: =IF('Form responses 1'!AK11="Да",1,0) -> 0 | AK11: =IF('Form responses 1'!AL11="Да",0,1) -> 0 | AL11: =IF('Form responses 1'!AM11="Да",1,0) -> 1 | AM11: =IF('Form responses 1'!AN11="Да",1,0) -> 0 | AN11: =IF('Form responses 1'!AO11="Да",1,0) -> 0 | AO11: =IF('Form responses 1'!AP11="Да",0,1) -> 1 | AP11: =IF('Form responses 1'!AQ11="Да",0,1) -> 0 | AQ11: =IF('Form responses 1'!AR11="Да",1,0) -> 0 | AR11: =IF('Form responses 1'!AS11="Да",1,0) -> 1 | AS11: =IF('Form responses 1'!AT11="Да",1,0) -> 1 | AT11: =IF('Form responses 1'!AU11="Да",1,0) -> 1 | AU11: =IF('Form responses 1'!AV11="Да",1,0) -> 0 | AV11: =IF('Form responses 1'!AW11="Да",0,1) -> 0 | AW11: =IF('Form responses 1'!AX11="Да",1,0) -> 1 | AX11: =IF('Form responses 1'!AY11="Да",1,0) -> 0 | AY11: =IF('Form responses 1'!AZ11="Да",0,1) -> 0 | AZ11: =IF('Form responses 1'!BA11="Да",1,0) -> 0 | BA11: =IF('Form responses 1'!BB11="Да",1,0) -> 1 | BB11: =IF('Form responses 1'!BC11="Да",0,1) -> 1 | BC11: =IF('Form responses 1'!BD11="Да",1,0) -> 1 | BD11: =IF('Form responses 1'!BE11="Да",1,0) -> 1 | BE11: =IF('Form responses 1'!BF11="Да",1,0) -> 0 | BF11: =A11+C11+H11+J11+M11+Q11+V11+Y11+AA11+AM11+AR11+AT11+AW11+BA11+BD11+E11+O11+T11+AC11+AF11+AH11+AK11+AO11+AY11 -> 11 | BG11: =IF(BF11>ЯркЭкстр,"1. Яркий экстраверт",IF(BF11>Экстр,"2. экстраверт",IF(BF11<ГлубИнтро,"5. глубокий интраверт",IF(BF11<Интро,"4. интроверт","3. амбиверт")))) -> 3. амбиверт | BH11: =B11+D11+G11+I11+K11+N11+P11+S11+U11+W11+Z11+AB11+AE11+AG11+AI11+AL11+AN11+AQ11+AS11+AU11+AX11+AZ11+BC11+BE11 -> 11 | BI11: =IF(BH11>19,"1. Оч.высокий",IF(BH11>14,"2. Высокий",IF(BH11>7,"3. средний","4. низкий"))) -> 3. средний | BJ11: =F11+X11+AJ11+L11+R11+AD11+AP11+AV11+BB11 -> 2 | BK11: =IF(BJ11>4,"пздт","ок") -> ок | BL11: =IF('Form responses 1'!BG11=5,1,0) -> 0 | BM11: =IF('Form responses 1'!BH11=5,1,0) -> 1 | BN11: =IF('Form responses 1'!BI11=27,1,0) -> 0 | BO11: =IF('Form responses 1'!BJ11=4,1,0) -> 1 | BP11: =IF('Form responses 1'!BK11=29,1,0) -> 0 | BQ11: =IF('Form responses 1'!BL11=20,1,0) -> 0 | BR11: =IF('Form responses 1'!BM11="Семен потерял часть денег",1,0) -> 1 | BS11: =SUM(BL11:BR11) -> 3 | BT11: =IF(BS11=7,1,0) -> 0 | BU11: =IF(BS11>=6,1,0) -> 0 | BV11: =IF(BS11<5,1,0) -> 1
A12: =IF('Form responses 1'!B12="Да",1,0) -> 0 | B12: =IF('Form responses 1'!C12="Да",1,0) -> 1 | C12: =IF('Form responses 1'!D12="Да",1,0) -> 1 | D12: =IF('Form responses 1'!E12="Да",1,0) -> 0 | E12: =IF('Form responses 1'!F12="Да",0,1) -> 0 | F12: =IF('Form responses 1'!G12="Да",1,0) -> 1 | G12: =IF('Form responses 1'!H12="Да",1,0) -> 0 | H12: =IF('Form responses 1'!I12="Да",1,0) -> 0 | I12: =IF('Form responses 1'!J12="Да",1,0) -> 0 | J12: =IF('Form responses 1'!K12="Да",1,0) -> 0 | K12: =IF('Form responses 1'!L12="Да",1,0) -> 0 | L12: =IF('Form responses 1'!M12="Да",0,1) -> 1 | M12: =IF('Form responses 1'!N12="Да",1,0) -> 0 | N12: =IF('Form responses 1'!O12="Да",1,0) -> 0 | O12: =IF('Form responses 1'!P12="Да",0,1) -> 0 | P12: =IF('Form responses 1'!Q12="Да",1,0) -> 0 | Q12: =IF('Form responses 1'!R12="Да",1,0) -> 0 | R12: =IF('Form responses 1'!S12="Да",0,1) -> 0 | S12: =IF('Form responses 1'!T12="Да",1,0) -> 1 | T12: =IF('Form responses 1'!U12="Да",0,1) -> 1 | U12: =IF('Form responses 1'!V12="Да",1,0) -> 1 | V12: =IF('Form responses 1'!W12="Да",1,0) -> 0 | W12: =IF('Form responses 1'!X12="Да",1,0) -> 0 | X12: =IF('Form responses 1'!Y12="Да",1,0) -> 0 | Y12: =IF('Form responses 1'!Z12="Да",1,0) -> 1 | Z12: =IF('Form responses 1'!AA12="Да",1,0) -> 0 | AA12: =IF('Form responses 1'!AB12="Да",1,0) -> 0 | AB12: =IF('Form responses 1'!AC12="Да",1,0) -> 0 | AC12: =IF('Form responses 1'!AD12="Да",0,1) -> 1 | AD12: =IF('Form responses 1'!AE12="Да",0,1) -> 0 | AE12: =IF('Form responses 1'!AF12="Да",1,0) -> 0 | AF12: =IF('Form responses 1'!AG12="Да",0,1) -> 0 | AG12: =IF('Form responses 1'!AH12="Да",1,0) -> 1 | AH12: =IF('Form responses 1'!AI12="Да",0,1) -> 0 | AI12: =IF('Form responses 1'!AJ12="Да",1,0) -> 0 | AJ12: =IF('Form responses 1'!AK12="Да",1,0) -> 0 | AK12: =IF('Form responses 1'!AL12="Да",0,1) -> 1 | AL12: =IF('Form responses 1'!AM12="Да",1,0) -> 0 | AM12: =IF('Form responses 1'!AN12="Да",1,0) -> 0 | AN12: =IF('Form responses 1'!AO12="Да",1,0) -> 0 | AO12: =IF('Form responses 1'!AP12="Да",0,1) -> 0 | AP12: =IF('Form responses 1'!AQ12="Да",0,1) -> 0 | AQ12: =IF('Form responses 1'!AR12="Да",1,0) -> 0 | AR12: =IF('Form responses 1'!AS12="Да",1,0) -> 0 | AS12: =IF('Form responses 1'!AT12="Да",1,0) -> 1 | AT12: =IF('Form responses 1'!AU12="Да",1,0) -> 0 | AU12: =IF('Form responses 1'!AV12="Да",1,0) -> 0 | AV12: =IF('Form responses 1'!AW12="Да",0,1) -> 0 | AW12: =IF('Form responses 1'!AX12="Да",1,0) -> 1 | AX12: =IF('Form responses 1'!AY12="Да",1,0) -> 0 | AY12: =IF('Form responses 1'!AZ12="Да",0,1) -> 1 | AZ12: =IF('Form responses 1'!BA12="Да",1,0) -> 0 | BA12: =IF('Form responses 1'!BB12="Да",1,0) -> 1 | BB12: =IF('Form responses 1'!BC12="Да",0,1) -> 1 | BC12: =IF('Form responses 1'!BD12="Да",1,0) -> 0 | BD12: =IF('Form responses 1'!BE12="Да",1,0) -> 0 | BE12: =IF('Form responses 1'!BF12="Да",1,0) -> 0 | BF12: =A12+C12+H12+J12+M12+Q12+V12+Y12+AA12+AM12+AR12+AT12+AW12+BA12+BD12+E12+O12+T12+AC12+AF12+AH12+AK12+AO12+AY12 -> 8 | BG12: =IF(BF12>ЯркЭкстр,"1. Яркий экстраверт",IF(BF12>Экстр,"2. экстраверт",IF(BF12<ГлубИнтро,"5. глубокий интраверт",IF(BF12<Интро,"4. интроверт","3. амбиверт")))) -> 4. интроверт | BH12: =B12+D12+G12+I12+K12+N12+P12+S12+U12+W12+Z12+AB12+AE12+AG12+AI12+AL12+AN12+AQ12+AS12+AU12+AX12+AZ12+BC12+BE12 -> 5 | BI12: =IF(BH12>19,"1. Оч.высокий",IF(BH12>14,"2. Высокий",IF(BH12>7,"3. средний","4. низкий"))) -> 4. низкий | BJ12: =F12+X12+AJ12+L12+R12+AD12+AP12+AV12+BB12 -> 3 | BK12: =IF(BJ12>4,"пздт","ок") -> ок | BL12: =IF('Form responses 1'!BG12=5,1,0) -> 1 | BM12: =IF('Form responses 1'!BH12=5,1,0) -> 1 | BN12: =IF('Form responses 1'!BI12=27,1,0) -> 1 | BO12: =IF('Form responses 1'!BJ12=4,1,0) -> 1 | BP12: =IF('Form responses 1'!BK12=29,1,0) -> 1 | BQ12: =IF('Form responses 1'!BL12=20,1,0) -> 1 | BR12: =IF('Form responses 1'!BM12="Семен потерял часть денег",1,0) -> 1 | BS12: =SUM(BL12:BR12) -> 7 | BT12: =IF(BS12=7,1,0) -> 1 | BU12: =IF(BS12>=6,1,0) -> 1 | BV12: =IF(BS12<5,1,0) -> 0
A13: =IF('Form responses 1'!B13="Да",1,0) -> 1 | B13: =IF('Form responses 1'!C13="Да",1,0) -> 1 | C13: =IF('Form responses 1'!D13="Да",1,0) -> 1 | D13: =IF('Form responses 1'!E13="Да",1,0) -> 0 | E13: =IF('Form responses 1'!F13="Да",0,1) -> 0 | F13: =IF('Form responses 1'!G13="Да",1,0) -> 0 | G13: =IF('Form responses 1'!H13="Да",1,0) -> 0 | H13: =IF('Form responses 1'!I13="Да",1,0) -> 0 | I13: =IF('Form responses 1'!J13="Да",1,0) -> 1 | J13: =IF('Form responses 1'!K13="Да",1,0) -> 0 | K13: =IF('Form responses 1'!L13="Да",1,0) -> 1 | L13: =IF('Form responses 1'!M13="Да",0,1) -> 1 | M13: =IF('Form responses 1'!N13="Да",1,0) -> 0 | N13: =IF('Form responses 1'!O13="Да",1,0) -> 0 | O13: =IF('Form responses 1'!P13="Да",0,1) -> 0 | P13: =IF('Form responses 1'!Q13="Да",1,0) -> 0 | Q13: =IF('Form responses 1'!R13="Да",1,0) -> 0 | R13: =IF('Form responses 1'!S13="Да",0,1) -> 0 | S13: =IF('Form responses 1'!T13="Да",1,0) -> 1 | T13: =IF('Form responses 1'!U13="Да",0,1) -> 1 | U13: =IF('Form responses 1'!V13="Да",1,0) -> 1 | V13: =IF('Form responses 1'!W13="Да",1,0) -> 0 | W13: =IF('Form responses 1'!X13="Да",1,0) -> 0 | X13: =IF('Form responses 1'!Y13="Да",1,0) -> 0 | Y13: =IF('Form responses 1'!Z13="Да",1,0) -> 1 | Z13: =IF('Form responses 1'!AA13="Да",1,0) -> 0 | AA13: =IF('Form responses 1'!AB13="Да",1,0) -> 1 | AB13: =IF('Form responses 1'!AC13="Да",1,0) -> 1 | AC13: =IF('Form responses 1'!AD13="Да",0,1) -> 1 | AD13: =IF('Form responses 1'!AE13="Да",0,1) -> 0 | AE13: =IF('Form responses 1'!AF13="Да",1,0) -> 1 | AF13: =IF('Form responses 1'!AG13="Да",0,1) -> 0 | AG13: =IF('Form responses 1'!AH13="Да",1,0) -> 1 | AH13: =IF('Form responses 1'!AI13="Да",0,1) -> 0 | AI13: =IF('Form responses 1'!AJ13="Да",1,0) -> 1 | AJ13: =IF('Form responses 1'!AK13="Да",1,0) -> 0 | AK13: =IF('Form responses 1'!AL13="Да",0,1) -> 0 | AL13: =IF('Form responses 1'!AM13="Да",1,0) -> 0 | AM13: =IF('Form responses 1'!AN13="Да",1,0) -> 1 | AN13: =IF('Form responses 1'!AO13="Да",1,0) -> 0 | AO13: =IF('Form responses 1'!AP13="Да",0,1) -> 0 | AP13: =IF('Form responses 1'!AQ13="Да",0,1) -> 0 | AQ13: =IF('Form responses 1'!AR13="Да",1,0) -> 0 | AR13: =IF('Form responses 1'!AS13="Да",1,0) -> 1 | AS13: =IF('Form responses 1'!AT13="Да",1,0) -> 1 | AT13: =IF('Form responses 1'!AU13="Да",1,0) -> 0 | AU13: =IF('Form responses 1'!AV13="Да",1,0) -> 0 | AV13: =IF('Form responses 1'!AW13="Да",0,1) -> 0 | AW13: =IF('Form responses 1'!AX13="Да",1,0) -> 1 | AX13: =IF('Form responses 1'!AY13="Да",1,0) -> 0 | AY13: =IF('Form responses 1'!AZ13="Да",0,1) -> 1 | AZ13: =IF('Form responses 1'!BA13="Да",1,0) -> 0 | BA13: =IF('Form responses 1'!BB13="Да",1,0) -> 1 | BB13: =IF('Form responses 1'!BC13="Да",0,1) -> 0 | BC13: =IF('Form responses 1'!BD13="Да",1,0) -> 0 | BD13: =IF('Form responses 1'!BE13="Да",1,0) -> 1 | BE13: =IF('Form responses 1'!BF13="Да",1,0) -> 0 | BF13: =A13+C13+H13+J13+M13+Q13+V13+Y13+AA13+AM13+AR13+AT13+AW13+BA13+BD13+E13+O13+T13+AC13+AF13+AH13+AK13+AO13+AY13 -> 12 | BG13: =IF(BF13>ЯркЭкстр,"1. Яркий экстраверт",IF(BF13>Экстр,"2. экстраверт",IF(BF13<ГлубИнтро,"5. глубокий интраверт",IF(BF13<Интро,"4. интроверт","3. амбиверт")))) -> 3. амбиверт | BH13: =B13+D13+G13+I13+K13+N13+P13+S13+U13+W13+Z13+AB13+AE13+AG13+AI13+AL13+AN13+AQ13+AS13+AU13+AX13+AZ13+BC13+BE13 -> 10 | BI13: =IF(BH13>19,"1. Оч.высокий",IF(BH13>14,"2. Высокий",IF(BH13>7,"3. средний","4. низкий"))) -> 3. средний | BJ13: =F13+X13+AJ13+L13+R13+AD13+AP13+AV13+BB13 -> 1 | BK13: =IF(BJ13>4,"пздт","ок") -> ок | BL13: =IF('Form responses 1'!BG13=5,1,0) -> 1 | BM13: =IF('Form responses 1'!BH13=5,1,0) -> 1 | BN13: =IF('Form responses 1'!BI13=27,1,0) -> 1 | BO13: =IF('Form responses 1'!BJ13=4,1,0) -> 0 | BP13: =IF('Form responses 1'!BK13=29,1,0) -> 1 | BQ13: =IF('Form responses 1'!BL13=20,1,0) -> 1 | BR13: =IF('Form responses 1'!BM13="Семен потерял часть денег",1,0) -> 1 | BS13: =SUM(BL13:BR13) -> 6 | BT13: =IF(BS13=7,1,0) -> 0 | BU13: =IF(BS13>=6,1,0) -> 1 | BV13: =IF(BS13<5,1,0) -> 0
... A730: =IF('Form responses 1'!B730="Да",1,0) -> 1 | B730: =IF('Form responses 1'!C730="Да",1,0) -> 1 | C730: =IF('Form responses 1'!D730="Да",1,0) -> 0 | D730: =IF('Form responses 1'!E730="Да",1,0) -> 1 | E730: =IF('Form responses 1'!F730="Да",0,1) -> 0 | F730: =IF('Form responses 1'!G730="Да",1,0) -> 0 | G730: =IF('Form responses 1'!H730="Да",1,0) -> 0 | H730: =IF('Form responses 1'!I730="Да",1,0) -> 0 | I730: =IF('Form responses 1'!J730="Да",1,0) -> 0 | J730: =IF('Form responses 1'!K730="Да",1,0) -> 0 | K730: =IF('Form responses 1'!L730="Да",1,0) -> 0 | L730: =IF('Form responses 1'!M730="Да",0,1) -> 0 | M730: =IF('Form responses 1'!N730="Да",1,0) -> 0 | N730: =IF('Form responses 1'!O730="Да",1,0) -> 0 | O730: =IF('Form responses 1'!P730="Да",0,1) -> 1 | P730: =IF('Form responses 1'!Q730="Да",1,0) -> 0 | Q730: =IF('Form responses 1'!R730="Да",1,0) -> 1 | R730: =IF('Form responses 1'!S730="Да",0,1) -> 0 | S730: =IF('Form responses 1'!T730="Да",1,0) -> 1 | T730: =IF('Form responses 1'!U730="Да",0,1) -> 1 | U730: =IF('Form responses 1'!V730="Да",1,0) -> 1 | V730: =IF('Form responses 1'!W730="Да",1,0) -> 1 | W730: =IF('Form responses 1'!X730="Да",1,0) -> 0 | X730: =IF('Form responses 1'!Y730="Да",1,0) -> 0 | Y730: =IF('Form responses 1'!Z730="Да",1,0) -> 1 | Z730: =IF('Form responses 1'!AA730="Да",1,0) -> 0 | AA730: =IF('Form responses 1'!AB730="Да",1,0) -> 1 | AB730: =IF('Form responses 1'!AC730="Да",1,0) -> 1 | AC730: =IF('Form responses 1'!AD730="Да",0,1) -> 1 | AD730: =IF('Form responses 1'!AE730="Да",0,1) -> 0 | AE730: =IF('Form responses 1'!AF730="Да",1,0) -> 1 | AF730: =IF('Form responses 1'!AG730="Да",0,1) -> 1 | AG730: =IF('Form responses 1'!AH730="Да",1,0) -> 0 | AH730: =IF('Form responses 1'!AI730="Да",0,1) -> 1 | AI730: =IF('Form responses 1'!AJ730="Да",1,0) -> 0 | AJ730: =IF('Form responses 1'!AK730="Да",1,0) -> 1 | AK730: =IF('Form responses 1'!AL730="Да",0,1) -> 1 | AL730: =IF('Form responses 1'!AM730="Да",1,0) -> 0 | AM730: =IF('Form responses 1'!AN730="Да",1,0) -> 1 | AN730: =IF('Form responses 1'!AO730="Да",1,0) -> 0 | AO730: =IF('Form responses 1'!AP730="Да",0,1) -> 0 | AP730: =IF('Form responses 1'!AQ730="Да",0,1) -> 0 | AQ730: =IF('Form responses 1'!AR730="Да",1,0) -> 0 | AR730: =IF('Form responses 1'!AS730="Да",1,0) -> 1 | AS730: =IF('Form responses 1'!AT730="Да",1,0) -> 0 | AT730: =IF('Form responses 1'!AU730="Да",1,0) -> 1 | AU730: =IF('Form responses 1'!AV730="Да",1,0) -> 0 | AV730: =IF('Form responses 1'!AW730="Да",0,1) -> 0 | AW730: =IF('Form responses 1'!AX730="Да",1,0) -> 1 | AX730: =IF('Form responses 1'!AY730="Да",1,0) -> 1 | AY730: =IF('Form responses 1'!AZ730="Да",0,1) -> 1 | AZ730: =IF('Form responses 1'!BA730="Да",1,0) -> 1 | BA730: =IF('Form responses 1'!BB730="Да",1,0) -> 0 | BB730: =IF('Form responses 1'!BC730="Да",0,1) -> 1 | BC730: =IF('Form responses 1'!BD730="Да",1,0) -> 1 | BD730: =IF('Form responses 1'!BE730="Да",1,0) -> 1 | BE730: =IF('Form responses 1'!BF730="Да",1,0) -> 0 | BF730: =A730+C730+H730+J730+M730+Q730+V730+Y730+AA730+AM730+AR730+AT730+AW730+BA730+BD730+E730+O730+T730+AC730+AF730+AH730+AK730+AO730+AY730 -> 17 | BG730: =IF(BF730>ЯркЭкстр,"1. Яркий экстраверт",IF(BF730>Экстр,"2. экстраверт",IF(BF730<ГлубИнтро,"5. глубокий интраверт",IF(BF730<Интро,"4. интроверт","3. амбиверт")))) -> 2. экстраверт | BH730: =B730+D730+G730+I730+K730+N730+P730+S730+U730+W730+Z730+AB730+AE730+AG730+AI730+AL730+AN730+AQ730+AS730+AU730+AX730+AZ730+BC730+BE730 -> 9 | BI730: =IF(BH730>19,"1. Оч.высокий",IF(BH730>14,"2. Высокий",IF(BH730>7,"3. средний","4. низкий"))) -> 3. средний | BJ730: =F730+X730+AJ730+L730+R730+AD730+AP730+AV730+BB730 -> 2 | BK730: =IF(BJ730>4,"пздт","ок") -> ок | BL730: =IF('Form responses 1'!BG730=5,1,0) -> 1 | BM730: =IF('Form responses 1'!BH730=5,1,0) -> 1 | BN730: =IF('Form responses 1'!BI730=27,1,0) -> 1 | BO730: =IF('Form responses 1'!BJ730=4,1,0) -> 1 | BP730: =IF('Form responses 1'!BK730=29,1,0) -> 1 | BQ730: =IF('Form responses 1'!BL730=20,1,0) -> 1 | BR730: =IF('Form responses 1'!BM730="Семен потерял часть денег",1,0) -> 1 | BS730: =SUM(BL730:BR730) -> 7 | BT730: =IF(BS730=7,1,0) -> 1 | BU730: =IF(BS730>=6,1,0) -> 1 | BV730: =IF(BS730<5,1,0) -> 0

Sheet Твблица сопрояжения
B1: You are currently using XLSTAT Free._x000D_ Order a license to get access to 100 or more additional functions.
B3: XLSTAT 2019.4.2.63762 - Tests on contingency tables (Chi-square...) - Start time: 12/12/2021 at 14:18:38 / End time: 12/12/2021 at 14:18:39 / Microsoft Excel 16.014527
B4: These results have been generated using XLSTAT Free. You can benefit from many more tools and options with a full version.
B5: Row variable(s): Workbook = Результаты - Дорофеев исследует любопытную гипотезу (Responses).xlsx / Sheet = Рабочий стол / Range = 'Рабочий стол'!$BG:$BG / 729 rows and 1 column
B6: Column variable(s): Workbook = Результаты - Дорофеев исследует любопытную гипотезу (Responses).xlsx / Sheet = Рабочий стол / Range = 'Рабочий стол'!$BT:$BT / 729 rows and 1 column
B11: Results for the variables Q1 and Все решил?:
B13: Contingency table (Q1 / Все решил?):
C15: 0 | D15: 1 | E15: Total
B16: 1. Яркий экстраверт | C16: 7 | D16: 1 | E16: =SUM(C16:D16) -> 8
B17: 2. экстраверт | C17: 39 | D17: 29 | E17: =SUM(C17:D17) -> 68
B18: 3. амбиверт | C18: 238 | D18: 147 | E18: =SUM(C18:D18) -> 385
B19: 4. интроверт | C19: 105 | D19: 92 | E19: =SUM(C19:D19) -> 197
B20: 5. глубокий интраверт | C20: 28 | D20: 43 | E20: =SUM(C20:D20) -> 71
B23: Test of independence between the rows and the columns (Q1 / Все решил?):
B25: Chi-square (Observed value) | C25: 16.73018
B26: Chi-square (Critical value) | C26: 13.276704
B27: DF | C27: 4
B28: p-value | C28: 0.002180718
B29: alpha | C29: 0.01
B31: Test interpretation:
B32: H0: The rows and the columns of the table are independent.
B33: Ha: There is a link between the rows and the columns of the table.
B34: As the computed p-value is lower than the significance level alpha=0,01, one should reject the null hypothesis H0, and accept the alternative hypothesis Ha.
B38: Significance by cell (Fisher's exact test) (Q1 / Все решил?):
C40: 0 | D40: 1
B41: 1. Яркий экстраверт | C41: > | D41: <
B42: 2. экстраверт | C42: > | D42: <
B43: 3. амбиверт | C43: > | D43: <
B44: 4. интроверт | C44: < | D44: >
B45: 5. глубокий интраверт | C45: < | D45: >
B46: Values displayed in red are significant at the level alpha=0,01
B49: Chi-square by cell (Q1 / Все решил?):
C51: 0 | D51: 1 | E51: Total
B52: 1. Яркий экстраверт | C52: 1.2838655 | D52: 1.7159356 | E52: 2.9998011
B53: 2. экстраверт | C53: 0.00027211346 | D53: 0.00036369011 | E53: 0.00063580357
B54: 3. амбиверт | C54: 1.4344473 | D54: 1.917194 | E54: 3.3516413
B55: 4. интроверт | C55: 0.52440454 | D55: 0.70088684 | E55: 1.2252914
B56: 5. глубокий интраверт | C56: 3.9172522 | D56: 5.2355583 | E56: 9.1528105
B57: Total | C57: 7.1602417 | D57: 9.5699384 | E57: 16.73018
B60: Residuals (Pearson) (Q1 / Все решил?):
C62: 0 | D62: 1
B63: 1. Яркий экстраверт | C63: 1.1330779 | D63: -1.3099373
B64: 2. экстраверт | C64: 0.016495862 | D64: -0.019070661
B65: 3. амбиверт | C65: 1.1976842 | D65: -1.3846278
B66: 4. интроверт | C66: -0.72415782 | D66: 0.83718985
B67: 5. глубокий интраверт | C67: -1.9792049 | D67: 2.2881342
B70: Residuals (Adjusted) (Q1 / Все решил?):
C72: 0 | D72: 1
B73: 1. Яркий экстраверт | C73: 1.7415757 | D73: -1.7415757
B74: 2. экстраверт | C74: 0.026480399 | D74: -0.026480399
B75: 3. амбиверт | C75: 2.6650988 | D75: -2.6650988
B76: 4. интроверт | C76: -1.2957692 | D76: 1.2957692
B77: 5. глубокий интраверт | C77: -3.1844032 | D77: 3.1844032
B78: Values displayed in bold are significant at the level alpha=0,01
B104: Observed frequencies (Q1 / Все решил?):
C106: 0 | D106: 1 | E106: Total
B107: 1. Яркий экстраверт | C107: 7 | D107: 1 | E107: 8
B108: 2. экстраверт | C108: 39 | D108: 29 | E108: 68
B109: 3. амбиверт | C109: 238 | D109: 147 | E109: 385
B110: 4. интроверт | C110: 105 | D110: 92 | E110: 197
B111: 5. глубокий интраверт | C111: 28 | D111: 43 | E111: 71
B112: Total | C112: 417 | D112: 312 | E112: 729
B115: Percentages / Row (Q1 / Все решил?):
C117: 0 | D117: 1 | E117: Total
B118: 1. Яркий экстраверт | C118: 87.5 | D118: 12.5 | E118: 100
B119: 2. экстраверт | C119: 57.352941 | D119: 42.647059 | E119: 100
B120: 3. амбиверт | C120: 61.818182 | D120: 38.181818 | E120: 100
B121: 4. интроверт | C121: 53.299492 | D121: 46.700508 | E121: 100
B122: 5. глубокий интраверт | C122: 39.43662 | D122: 60.56338 | E122: 100
B123: Total | C123: 57.201646 | D123: 42.798354 | E123: 100
B126: Percentages / Column (Q1 / Все решил?):
C128: 0 | D128: 1 | E128: Total
B129: 1. Яркий экстраверт | C129: 1.6786571 | D129: 0.32051282 | E129: 1.0973937
B130: 2. экстраверт | C130: 9.352518 | D130: 9.2948718 | E130: 9.3278464
B131: 3. амбиверт | C131: 57.074341 | D131: 47.115385 | E131: 52.812071
B132: 4. интроверт | C132: 25.179856 | D132: 29.487179 | E132: 27.02332
B133: 5. глубокий интраверт | C133: 6.7146283 | D133: 13.782051 | E133: 9.739369
B134: Total | C134: 100 | D134: 100 | E134: 100
B137: Percentages / Total (Q1 / Все решил?):
C139: 0 | D139: 1 | E139: Total
B140: 1. Яркий экстраверт | C140: 0.96021948 | D140: 0.13717421 | E140: 1.0973937
B141: 2. экстраверт | C141: 5.3497942 | D141: 3.9780521 | E141: 9.3278464
B142: 3. амбиверт | C142: 32.647462 | D142: 20.164609 | E142: 52.812071
B143: 4. интроверт | C143: 14.403292 | D143: 12.620027 | E143: 27.02332
B144: 5. глубокий интраверт | C144: 3.8408779 | D144: 5.8984911 | E144: 9.739369
B145: Total | C145: 57.201646 | D145: 42.798354 | E145: 100
B148: Test of independence between the rows and the columns (Chi-square):
B150: Chi-square (Observed value) | C150: 16.73018
B151: Chi-square (Critical value) | C151: 13.276704
B152: DF | C152: 4
B153: p-value | C153: 0.002180718
B154: alpha | C154: 0.01
B156: Test interpretation:
B157: H0: The rows and the columns of the table are independent.
B158: Ha: There is a link between the rows and the columns of the table.
B159: As the computed p-value is lower than the significance level alpha=0,01, one should reject the null hypothesis H0, and accept the alternative hypothesis Ha.
B163: Theoretical counts lower than 5 have been detected. To safely use the Chi-square test based on the Chi-square approximation, the theoretical counts should not be lower than 5.
B166: Fisher's exact test:
B168: p-value (Two-tailed) | C168: 0.0020447707
B169: alpha | C169: 0.01
...

Sheet Анализ
A1: 1. Яркий экстраверт | B1: =COUNTIF('Рабочий стол'!BG:BG,Анализ!A1) -> 8 | C1: =B1/B$6 -> 0.010973937 | M1: Интуитивные (неверные) ответы на задачу
A2: 2. Экстраверт | B2: =COUNTIF('Рабочий стол'!BG:BG,Анализ!A2) -> 68 | C2: =B2/B$6 -> 0.093278464 | M2: 1 | N2: 2 | O2: 3 | P2: 4 | Q2: 5 | R2: 6 | S2: 7
A3: 3. Амбиверт | B3: =COUNTIF('Рабочий стол'!BG:BG,Анализ!A3) -> 385 | C3: =B3/B$6 -> 0.52812071 | M3: =1-AVERAGE('Рабочий стол'!BL:BL) -> 0.1303155 | N3: =1-AVERAGE('Рабочий стол'!BM:BM) -> 0.17832647 | O3: =1-AVERAGE('Рабочий стол'!BN:BN) -> 0.089163237 | P3: =1-AVERAGE('Рабочий стол'!BO:BO) -> 0.14266118 | Q3: =1-AVERAGE('Рабочий стол'!BP:BP) -> 0.17146776 | R3: =1-AVERAGE('Рабочий стол'!BQ:BQ) -> 0.34567901 | S3: =1-AVERAGE('Рабочий стол'!BR:BR) -> 0.13168724
A4: 4. Интроверт | B4: =COUNTIF('Рабочий стол'!BG:BG,Анализ!A4) -> 197 | C4: =B4/B$6 -> 0.2702332
A5: 5. Глубокий интраверт | B5: =COUNTIF('Рабочий стол'!BG:BG,Анализ!A5) -> 71 | C5: =B5/B$6 -> 0.09739369
B6: =SUM(B1:B5) -> 729
A9: 1. Яркий экстраверт | B9: 19 | C9: 16
A10: 2. Экстраверт | B10: 15 | C10: 12
A11: 3. Амбиверт
A12: 4. Интроверт | B12: 9 | C12: 8
A13: 5. Глубокий интраверт | B13: 5 | C13: 4
A19: Нейротизм
A20: 1. Оч.высокий | B20: =COUNTIF('Рабочий стол'!BI:BI,Анализ!A20) -> 46
A21: 2. высокий | B21: =COUNTIF('Рабочий стол'!BI:BI,Анализ!A21) -> 214
A22: 3. средний | B22: =COUNTIF('Рабочий стол'!BI:BI,Анализ!A22) -> 353
A23: 4. низкий | B23: =COUNTIF('Рабочий стол'!BI:BI,Анализ!A23) -> 116
A39: ок | B39: =COUNTIF('Рабочий стол'!BK:BK,Анализ!A39) -> 640
A40: пздт | B40: =COUNTIF('Рабочий стол'!BK:BK,Анализ!A40) -> 89
A44: 0 | B44: =COUNTIF('Рабочий стол'!BS:BS,Анализ!A44) -> 6
A45: 1 | B45: =COUNTIF('Рабочий стол'!BS:BS,Анализ!A45) -> 15
A46: 2 | B46: =COUNTIF('Рабочий стол'!BS:BS,Анализ!A46) -> 13
A47: 3 | B47: =COUNTIF('Рабочий стол'!BS:BS,Анализ!A47) -> 23
A48: 4 | B48: =COUNTIF('Рабочий стол'!BS:BS,Анализ!A48) -> 55
A49: 5 | B49: =COUNTIF('Рабочий стол'!BS:BS,Анализ!A49) -> 108
A50: 6 | B50: =COUNTIF('Рабочий стол'!BS:BS,Анализ!A50) -> 197
A51: 7 | B51: =COUNTIF('Рабочий стол'!BS:BS,Анализ!A51) -> 312
