Workbook
Name Амбив: Анализ!$B$11
Name ГлубИнтро: Анализ!$B$13
Name Интро: Анализ!$B$12
Name Экстр: Анализ!$B$10
Name ЯркЭкстр: Анализ!$B$9

Sheet Form responses 1
A1: Timestamp | B1: Постарайтесь представить типичные ситуации и дайте первый «естественный» ответ, который придет вам в голову. Отвечайте быстро и точно. Помните, что нет «хороших» или «плохих» ответов. [Часто ли вы испытываете тягу к новым впечатлениям, к тому, чтобы отвлечься, испытывать сильные ощущения?] | C1: Постарайтесь представить типичные ситуации и дайте первый «естественный» ответ, который придет вам в голову. Отвечайте быстро и точно. Помните, что нет «хороших» или «плохих» ответов. [Часто ли вы чувствуете, что нуждаетесь в друзьях, которые могут вас понять, ободрить или посочувствовать?] | D1: Постарайтесь представить типичные ситуации и дайте первый «естественный» ответ, который придет вам в голову. Отвечайте быстро и точно. Помните, что нет «хороших» или «плохих» ответов. [Считаете ли вы себя беззаботным человеком?] | E1: Постарайтесь представить типичные ситуации и дайте первый «естественный» ответ, который придет вам в голову. Отвечайте быстро и точно. Помните, что нет «хороших» или «плохих» ответов. [Очень ли трудно вам отказываться от своих намерений?] | F1: Постарайтесь представить типичные ситуации и дайте первый «естественный» ответ, который придет вам в голову. Отвечайте быстро и точно. Помните, что нет «хороших» или «плохих» ответов. [Обдумываете ли вы свои дела не спеша и предпочитаете ли подождать, прежде чем действовать?] | G1: Постарайтесь представить типичные ситуации и дайте первый «естественный» ответ, который придет вам в голову. Отвечайте быстро и точно. Помните, что нет «хороших» или «плохих» ответов. [Всегда ли вы сдерживаете свои обещания, даже если это вам невыгодно?] | H1: Постарайтесь представить типичные ситуации и дайте первый «естественный» ответ, который придет вам в голову. Отвечайте быстро и точно. Помните, что нет «хороших» или «плохих» ответов. [Часто ли у вас бывают спады и подъемы настроения?] | I1: Постарайтесь представить типичные ситуации и дайте первый «естественный» ответ, который придет вам в голову. Отвечайте быстро и точно. Помните, что нет «хороших» или «плохих» ответов. [Быстро ли вы обычно действуете и говорите, не тратите ли много времени на обдумывание?] | J1: Постарайтесь представить типичные ситуации и дайте первый «естественный» ответ, который придет вам в голову. Отвечайте быстро и точно. Помните, что нет «хороших» или «плохих» ответов. [Возникало ли у вас когда-нибудь чувство, что вы несчастны, хотя никакой серьезной причины для этого не было?] | K1: Постарайтесь представить типичные ситуации и дайте первый «естественный» ответ, который придет вам в голову. Отвечайте быстро и точно. Помните, что нет «хороших» или «плохих» ответов. [Верно ли, что на спор вы способны решиться на все?] | L1: Постарайтесь представить типичные ситуации и дайте первый «естественный» ответ, который придет вам в голову. Отвечайте быстро и точно. Помните, что нет «хороших» или «плохих» ответов. [Смущаетесь ли вы, когда хотите познакомиться с человеком противоположного пола, который вам симпатичен?] | M1: Постарайтесь представить типичные ситуации и дайте первый «естественный» ответ, который придет вам в голову. Отвечайте быстро и точно. Помните, что нет «хороших» или «плохих» ответов. [Бывает ли когда-нибудь, что, разозлившись, вы выходите из себя?] | N1: Постарайтесь представить типичные ситуации и дайте первый «естественный» ответ, который придет вам в голову. Отвечайте быстро и точно. Помните, что нет «хороших» или «плохих» ответов. [Часто ли бывает, что вы действуете необдуманно, под влиянием момента?] | O1: Постарайтесь представить типичные ситуации и дайте первый «естественный» ответ, который придет вам в голову. Отвечайте быстро и точно. Помните, что нет «хороших» или «плохих» ответов. [Часто ли вас беспокоят мысли о том, что вам не следовало чего-либо делать или говорить?] | P1: Постарайтесь представить типичные ситуации и дайте первый «естественный» ответ, который придет вам в голову. Отвечайте быстро и точно. Помните, что нет «хороших» или «плохих» ответов. [Предпочитаете ли вы чтение книг встречам с людьми?] | Q1: Постарайтесь представить типичные ситуации и дайте первый «естественный» ответ, который придет вам в голову. Отвечайте быстро и точно. Помните, что нет «хороших» или «плохих» ответов. [Верно ли, что вас легко задеть?] | R1: Постарайтесь представить типичные ситуации и дайте первый «естественный» ответ, который придет вам в голову. Отвечайте быстро и точно. Помните, что нет «хороших» или «плохих» ответов. [Любите ли вы часто бывать в компании?] | S1: Постарайтесь представить типичные ситуации и дайте первый «естественный» ответ, который придет вам в голову. Отвечайте быстро и точно. Помните, что нет «хороших» или «плохих» ответов. [Бывают ли иногда у вас такие мысли, которыми вам не хотелось бы делиться с другими людьми?] | T1: Постарайтесь представить типичные ситуации и дайте первый «естественный» ответ, который придет вам в голову. Отвечайте быстро и точно. Помните, что нет «хороших» или «плохих» ответов. [Верно ли, что иногда вы настолько полны энергии, что все горит в руках, а иногда чувствуете сильную вялость?] | U1: Постарайтесь представить типичные ситуации и дайте первый «естественный» ответ, который придет вам в голову. Отвечайте быстро и точно. Помните, что нет «хороших» или «плохих» ответов. [Стараетесь ли вы ограничить круг своих знакомых небольшим числом самых близких друзей?] | V1: Постарайтесь представить типичные ситуации и дайте первый «естественный» ответ, который придет вам в голову. Отвечайте быстро и точно. Помните, что нет «хороших» или «плохих» ответов. [Много ли вы мечтаете?] | W1: Постарайтесь представить типичные ситуации и дайте первый «естественный» ответ, который придет вам в голову. Отвечайте быстро и точно. Помните, что нет «хороших» или «плохих» ответов. [Когда на вас кричат, отвечаете ли вы тем же?] | X1: Постарайтесь представить типичные ситуации и дайте первый «естественный» ответ, который придет вам в голову. Отвечайте быстро и точно. Помните, что нет «хороших» или «плохих» ответов. [Часто ли вас беспокоит чувство вины?] | Y1: Постарайтесь представить типичные ситуации и дайте первый «естественный» ответ, который придет вам в голову. Отвечайте быстро и точно. Помните, что нет «хороших» или «плохих» ответов. [Часто ли у вас появляется чувство, что вы в чем-то виноваты?] | Z1: Постарайтесь представить типичные ситуации и дайте первый «естественный» ответ, который придет вам в голову. Отвечайте быстро и точно. Помните, что нет «хороших» или «плохих» ответов. [Способны ли вы иногда дать волю своим чувствам и беззаботно развлечься с веселой компанией?] | AA1: Постарайтесь представить типичные ситуации и дайте первый «естественный» ответ, который придет вам в голову. Отвечайте быстро и точно. Помните, что нет «хороших» или «плохих» ответов. [Можно ли сказать, что нервы у вас часто бывают натянуты до предела?] | AB1: Постарайтесь представить типичные ситуации и дайте первый «естественный» ответ, который придет вам в голову. Отвечайте быстро и точно. Помните, что нет «хороших» или «плохих» ответов. [Слывете ли вы за человека живого и веселого?] | AC1: Постарайтесь представить типичные ситуации и дайте первый «естественный» ответ, который придет вам в голову. Отвечайте быстро и точно. Помните, что нет «хороших» или «плохих» ответов. [После того как дело сделано, часто ли вы мысленно возвращаетесь к нему и думаете, что могли бы сделать лучше?] | AD1: Постарайтесь представить типичные ситуации и дайте первый «естественный» ответ, который придет вам в голову. Отвечайте быстро и точно. Помните, что нет «хороших» или «плохих» ответов. [Чувствуете ли вы себя неспокойно, находясь в большой компании?] | AE1: Постарайтесь представить типичные ситуации и дайте первый «естественный» ответ, который придет вам в голову. Отвечайте быстро и точно. Помните, что нет «хороших» или «плохих» ответов. [Бывает ли, что вы передаете слухи?] | AF1: Постарайтесь представить типичные ситуации и дайте первый «естественный» ответ, который придет вам в голову. Отвечайте быстро и точно. Помните, что нет «хороших» или «плохих» ответов. [Бывает ли, что вам не спится из-за того, что в голову лезут разные мысли?] | AG1: Постарайтесь представить типичные ситуации и дайте первый «естественный» ответ, который придет вам в голову. Отвечайте быстро и точно. Помните, что нет «хороших» или «плохих» ответов. [Что вы предпочитаете, если хотите узнать что-либо: найти в книге (ответ “Да”) или спросить у друзей (ответ “Нет”)?] | AH1: Постарайтесь представить типичные ситуации и дайте первый «естественный» ответ, который придет вам в голову. Отвечайте быстро и точно. Помните, что нет «хороших» или «плохих» ответов. [Бывают ли у вас сильные сердцебиения?] | AI1: Постарайтесь представить типичные ситуации и дайте первый «естественный» ответ, который придет вам в голову. Отвечайте быстро и точно. Помните, что нет «хороших» или «плохих» ответов. [Нравится ли вам работа, требующая сосредоточения?] | AJ1: Постарайтесь представить типичные ситуации и дайте первый «естественный» ответ, который придет вам в голову. Отвечайте быстро и точно. Помните, что нет «хороших» или «плохих» ответов. [Бывают ли у вас приступы дрожи?] | AK1: Постарайтесь представить типичные ситуации и дайте первый «естественный» ответ, который придет вам в голову. Отвечайте быстро и точно. Помните, что нет «хороших» или «плохих» ответов. [Всегда ли вы говорите только правду?] | AL1: Постарайтесь представить типичные ситуации и дайте первый «естественный» ответ, который придет вам в голову. Отвечайте быстро и точно. Помните, что нет «хороших» или «плохих» ответов. [Бывает ли вам неприятно находиться в компании, где все подшучивают друг над другом?] | AM1: Постарайтесь представить типичные ситуации и дайте первый «естественный» ответ, который придет вам в голову. Отвечайте быстро и точно. Помните, что нет «хороших» или «плохих» ответов. [Раздражительны ли вы?] | AN1: Постарайтесь представить типичные ситуации и дайте первый «естественный» ответ, который придет вам в голову. Отвечайте быстро и точно. Помните, что нет «хороших» или «плохих» ответов. [Нравится ли вам работа, требующая быстрого действия?] | AO1: Постарайтесь представить типичные ситуации и дайте первый «естественный» ответ, который придет вам в голову. Отвечайте быстро и точно. Помните, что нет «хороших» или «плохих» ответов. [Верно ли, что вам часто не дают покоя мысли о разных неприятностях и «ужасах», которые могли бы произойти, хотя все кончилось благополучно?] | AP1: Постарайтесь представить типичные ситуации и дайте первый «естественный» ответ, который придет вам в голову. Отвечайте быстро и точно. Помните, что нет «хороших» или «плохих» ответов. [Верно ли, что вы неторопливы в движениях и несколько медлительны?] | AQ1: Постарайтесь представить типичные ситуации и дайте первый «естественный» ответ, который придет вам в голову. Отвечайте быстро и точно. Помните, что нет «хороших» или «плохих» ответов. [Опаздывали ли вы когда-нибудь на работу или на встречу с кем-либо?] | AR1: Постарайтесь представить типичные ситуации и дайте первый «естественный» ответ, который придет вам в голову. Отвечайте быстро и точно. Помните, что нет «хороших» или «плохих» ответов. [Часто ли вам снятся кошмары?] | AS1: Постарайтесь представить типичные ситуации и дайте первый «естественный» ответ, который придет вам в голову. Отвечайте быстро и точно. Помните, что нет «хороших» или «плохих» ответов. [Верно ли, что вы так любите поговорить, что не упускаете любого удобного случая побеседовать с новым человеком?] | AT1: Постарайтесь представить типичные ситуации и дайте первый «естественный» ответ, который придет вам в голову. Отвечайте быстро и точно. Помните, что нет «хороших» или «плохих» ответов. [Беспокоят ли вас какие-нибудь боли?] | AU1: Постарайтесь представить типичные ситуации и дайте первый «естественный» ответ, который придет вам в голову. Отвечайте быстро и точно. Помните, что нет «хороших» или «плохих» ответов. [Огорчились бы вы, если бы долго не могли видеться со своими друзьями?] | AV1: Постарайтесь представить типичные ситуации и дайте первый «естественный» ответ, который придет вам в голову. Отвечайте быстро и точно. Помните, что нет «хороших» или «плохих» ответов. [Можете ли вы назвать себя нервным человеком?] | AW1: Постарайтесь представить типичные ситуации и дайте первый «естественный» ответ, который придет вам в голову. Отвечайте быстро и точно. Помните, что нет «хороших» или «плохих» ответов. [Есть ли среди ваших знакомых такие, которые вам явно не нравятся?] | AX1: Постарайтесь представить типичные ситуации и дайте первый «естественный» ответ, который придет вам в голову. Отвечайте быстро и точно. Помните, что нет «хороших» или «плохих» ответов. [Могли бы вы сказать, что вы уверенный в себе человек?] | AY1: Постарайтесь представить типичные ситуации и дайте первый «естественный» ответ, который придет вам в голову. Отвечайте быстро и точно. Помните, что нет «хороших» или «плохих» ответов. [Легко ли вас задевает критика ваших недостатков или вашей работы?] | AZ1: Постарайтесь представить типичные ситуации и дайте первый «естественный» ответ, который придет вам в голову. Отвечайте быстро и точно. Помните, что нет «хороших» или «плохих» ответов. [Трудно ли вам получить настоящее удовольствие от мероприятий, в которых участвует много народа?] | BA1: Постарайтесь представить типичные ситуации и дайте первый «естественный» ответ, который придет вам в голову. Отвечайте быстро и точно. Помните, что нет «хороших» или «плохих» ответов. [Беспокоит ли вас чувство, что вы чем-то хуже других?] | BB1: Постарайтесь представить типичные ситуации и дайте первый «естественный» ответ, который придет вам в голову. Отвечайте быстро и точно. Помните, что нет «хороших» или «плохих» ответов. [Сумели бы вы внести оживление в скучную компанию?] | BC1: Постарайтесь представить типичные ситуации и дайте первый «естественный» ответ, который придет вам в голову. Отвечайте быстро и точно. Помните, что нет «хороших» или «плохих» ответов. [Бывает ли, что вы говорите о вещах, в которых совсем не разбираетесь?] | BD1: Постарайтесь представить типичные ситуации и дайте первый «естественный» ответ, который придет вам в голову. Отвечайте быстро и точно. Помните, что нет «хороших» или «плохих» ответов. [Беспокоитесь ли вы о своем здоровье?] | BE1: Постарайтесь представить типичные ситуации и дайте первый «естественный» ответ, который придет вам в голову. Отвечайте быстро и точно. Помните, что нет «хороших» или «плохих» ответов. [Любите ли вы подшутить над другими?] | BF1: Постарайтесь представить типичные ситуации и дайте первый «естественный» ответ, который придет вам в голову. Отвечайте быстро и точно. Помните, что нет «хороших» или «плохих» ответов. [Страдаете ли вы бессонницей?] | BG1: Бейсбольный мяч и бита вместе стоят 1 доллар и 10 центов. Бейсбольная бита дороже мяча на 1 доллар. Сколько центов стоит мяч? | BH1: 5 машин за 5 минут производят 5 штуковин. Сколько минут потребуется 100 машинам, чтобы произвести 100 штуковин? | BI1: На одной планете началась эпидемия неизвестного вируса. Каждый день число зараженных удваивается. Все жители планеты заразятся через 28 дней. Сколько дней понадобится, чтобы заразить половину жителей планеты? | BJ1: Иван выпивает бочку пива за 6 дней. Мария выпивает такую же бочку за 12 дней. На сколько дней хватит бочки пива Марии и Ивану, если они будут пить ее вместе? | BK1: Юный Жора по результатам аттестации занял 15-е место сверху и 15-е место снизу отсортированного списка рейтинга учеников. Сколько человек учится у Жоры в классе? | BL1: Колхозник купил свинью за 60 рублей, продал за 70, выкупил обратно за 80 и в конце концов продал за 90. Сколько рублей заработал колхозник? | BM1: Семен инвестировал в акции 8000 денег. За первые полгода акции выросли на 75%. Затем упали на 50%. Каковы финансовые результаты семена?
A2: 44534.741 | B2: Нет | C2: Нет | D2: Нет | E2: Да | F2: Нет | G2: Да | H2: Нет | I2: Нет | J2: Нет | K2: Нет | L2: Нет | M2: Да | N2: Нет | O2: Да | P2: Да | Q2: Нет | R2: Нет | S2: Да | T2: Да | U2: Да | V2: Да | W2: Нет | X2: Да | Y2: Да | Z2: Да | AA2: Нет | AB2: Нет | AC2: Да | AD2: Нет | AE2: Нет | AF2: Да | AG2: Да | AH2: Нет | AI2: Да | AJ2: Да | AK2: Нет | AL2: Да | AM2: Нет | AN2: Нет | AO2: Нет | AP2: Нет | AQ2: Да | AR2: Нет | AS2: Нет | AT2: Да | AU2: Нет | AV2: Нет | AW2: Да | AX2: Нет | AY2: Да | AZ2: Нет | BA2: Да | BB2: Нет | BC2: Нет | BD2: Нет | BE2: Нет | BF2: Да | BG2: 5 | BH2: 5 | BI2: 27 | BJ2: 4 | BK2: 29 | BL2: 10 | BM2: Семен потерял часть денег
A3: 44534.742 | B3: Да | C3: Нет | D3: Нет | E3: Нет | F3: Да | G3: Да | H3: Да | I3: Да | J3: Да | K3: Нет | L3: Да | M3: Да | N3: Да | O3: Да | P3: Да | Q3: Да | R3: Нет | S3: Да | T3: Да | U3: Да | V3: Да | W3: Нет | X3: Да | Y3: Да | Z3: Нет | AA3: Да | AB3: Нет | AC3: Да | AD3: Да | AE3: Нет | AF3: Да | AG3: Да | AH3: Нет | AI3: Нет | AJ3: Нет | AK3: Нет | AL3: Да | AM3: Да | AN3: Да | AO3: Нет | AP3: Да | AQ3: Нет | AR3: Нет | AS3: Нет | AT3: Да | AU3: Нет | AV3: Нет | AW3: Да | AX3: Нет | AY3: Да | AZ3: Да | BA3: Да | BB3: Нет | BC3: Да | BD3: Да | BE3: Да | BF3: Нет | BG3: 5 | BH3: 5 | BI3: 27 | BJ3: 4 | BK3: 29 | BL3: 20 | BM3: Семен потерял часть денег
A4: 44534.742 | B4: Да | C4: Нет | D4: Нет | E4: Нет | F4: Да | G4: Нет | H4: Да | I4: Нет | J4: Да | K4: Нет | L4: Да | M4: Нет | N4: Нет | O4: Да | P4: Нет | Q4: Нет | R4: Нет | S4: Да | T4: Да | U4: Нет | V4: Нет | W4: Нет | X4: Нет | Y4: Нет | Z4: Да | AA4: Нет | AB4: Да | AC4: Да | AD4: Да | AE4: Да | AF4: Да | AG4: Да | AH4: Нет | AI4: Да | AJ4: Нет | AK4: Нет | AL4: Да | AM4: Нет | AN4: Нет | AO4: Нет | AP4: Да | AQ4: Да | AR4: Нет | AS4: Нет | AT4: Нет | AU4: Нет | AV4: Нет | AW4: Нет | AX4: Нет | AY4: Да | AZ4: Да | BA4: Да | BB4: Нет | BC4: Нет | BD4: Нет | BE4: Да | BF4: Нет | BG4: 5 | BH4: 5 | BI4: 27 | BJ4: 4 | BK4: 29 | BL4: 20 | BM4: Семен потерял часть денег
A5: 44534.743 | B5: Да | C5: Нет | D5: Нет | E5: Да | F5: Да | G5: Да | H5: Да | I5: Нет | J5: Нет | K5: Да | L5: Да | M5: Да | N5: Да | O5: Да | P5: Да | Q5: Нет | R5: Нет | S5: Да | T5: Да | U5: Да | V5: Да | W5: Нет | X5: Нет | Y5: Нет | Z5: Да | AA5: Да | AB5: Нет | AC5: Да | AD5: Да | AE5: Да | AF5: Да | AG5: Да | AH5: Да | AI5: Да | AJ5: Нет | AK5: Нет | AL5: Нет | AM5: Нет | AN5: Да | AO5: Да | AP5: Нет | AQ5: Да | AR5: Нет | AS5: Нет | AT5: Да | AU5: Нет | AV5: Нет | AW5: Да | AX5: Нет | AY5: Да | AZ5: Да | BA5: Да | BB5: Нет | BC5: Да | BD5: Да | BE5: Да | BF5: Нет | BG5: 5 | BH5: 5 | BI5: 27 | BJ5: 4 | BK5: 30 | BL5: 20 | BM5: Семен заработал денег
A6: 44534.743 | B6: Нет | C6: Да | D6: Нет | E6: Да | F6: Да | G6: Да | H6: Да | I6: Нет | J6: Да | K6: Нет | L6: Да | M6: Да | N6: Нет | O6: Да | P6: Да | Q6: Нет | R6: Нет | S6: Да | T6: Да | U6: Нет | V6: Да | W6: Нет | X6: Нет | Y6: Да | Z6: Да | AA6: Нет | AB6: Нет | AC6: Да | AD6: Нет | AE6: Да | AF6: Да | AG6: Да | AH6: Да | AI6: Да | AJ6: Да | AK6: Да | AL6: Нет | AM6: Нет | AN6: Нет | AO6: Нет | AP6: Нет | AQ6: Да | AR6: Нет | AS6: Нет | AT6: Да | AU6: Да | AV6: Нет | AW6: Да | AX6: Нет | AY6: Да | AZ6: Нет | BA6: Да | BB6: Нет | BC6: Да | BD6: Нет | BE6: Нет | BF6: Нет | BG6: 5 | BH6: 5 | BI6: 27 | BJ6: 4 | BK6: 29 | BL6: 20 | BM6: Семен потерял часть денег
A7: 44534.743 | B7: Нет | C7: Да | D7: Нет | E7: Да | F7: Да | G7: Да | H7: Нет | I7: Нет | J7: Да | K7: Нет | L7: Да | M7: Да | N7: Нет | O7: Нет | P7: Нет | Q7: Да | R7: Нет | S7: Да | T7: Нет | U7: Да | V7: Нет | W7: Нет | X7: Да | Y7: Да | Z7: Нет | AA7: Нет | AB7: Нет | AC7: Нет | AD7: Да | AE7: Да | AF7: Нет | AG7: Да | AH7: Нет | AI7: Да | AJ7: Нет | AK7: Нет | AL7: Нет | AM7: Да | AN7: Нет | AO7: Нет | AP7: Нет | AQ7: Да | AR7: Нет | AS7: Нет | AT7: Да | AU7: Да | AV7: Да | AW7: Да | AX7: Нет | AY7: Нет | AZ7: Нет | BA7: Да | BB7: Да | BC7: Да | BD7: Да | BE7: Да | BF7: Нет | BG7: 5 | BH7: 5 | BI7: 27 | BJ7: 4 | BK7: 29 | BL7: 20 | BM7: Семен потерял часть денег
A8: 44534.743 | B8: Да | C8: Нет | D8: Да | E8: Нет | F8: Да | G8: Нет | H8: Нет | I8: Нет | J8: Нет | K8: Нет | L8: Да | M8: Да | N8: Нет | O8: Нет | P8: Нет | Q8: Нет | R8: Да | S8: Нет | T8: Да | U8: Нет | V8: Да | W8: Да | X8: Нет | Y8: Нет | Z8: Да | AA8: Нет | AB8: Да | AC8: Да | AD8: Да | AE8: Да | AF8: Да | AG8: Да | AH8: Да | AI8: Да | AJ8: Нет | AK8: Нет | AL8: Да | AM8: Нет | AN8: Нет | AO8: Нет | AP8: Нет | AQ8: Да | AR8: Нет | AS8: Нет | AT8: Да | AU8: Да | AV8: Нет | AW8: Да | AX8: Да | AY8: Нет | AZ8: Нет | BA8: Нет | BB8: Да | BC8: Нет | BD8: Нет | BE8: Да | BF8: Нет | BG8: 5 | BH8: 5 | BI8: 27 | BJ8: 4 | BK8: 29 | BL8: 20 | BM8: Семен потерял часть денег
A9: 44534.743 | B9: Нет | C9: Нет | D9: Нет | E9: Да | F9: Да | G9: Да | H9: Да | I9: Нет | J9: Нет | K9: Нет | L9: Да | M9: Да | N9: Нет | O9: Да | P9: Да | Q9: Да | R9: Нет | S9: Да | T9: Да | U9: Да | V9: Да | W9: Нет | X9: Нет | Y9: Нет | Z9: Да | AA9: Нет | AB9: Нет | AC9: Да | AD9: Да | AE9: Да | AF9: Да | AG9: Да | AH9: Да | AI9: Да | AJ9: Нет | AK9: Нет | AL9: Да | AM9: Да | AN9: Нет | AO9: Да | AP9: Нет | AQ9: Да | AR9: Нет | AS9: Нет | AT9: Да | AU9: Да | AV9: Да | AW9: Нет | AX9: Нет | AY9: Нет | AZ9: Нет | BA9: Да | BB9: Нет | BC9: Нет | BD9: Да | BE9: Нет | BF9: Нет | BG9: 5 | BH9: 5 | BI9: 27 | BJ9: 4 | BK9: 29 | BL9: 20 | BM9: Семен потерял часть денег
A10: 44534.743 | B10: Да | C10: Да | D10: Нет | E10: Нет | F10: Нет | G10: Нет | H10: Да | I10: Нет | J10: Да | K10: Да | L10: Да | M10: Да | N10: Да | O10: Да | P10: Да | Q10: Да | R10: Нет | S10: Да | T10: Да | U10: Нет | V10: Да | W10: Нет | X10: Да | Y10: Да | Z10: Да | AA10: Да | AB10: Да | AC10: Да | AD10: Да | AE10: Да | AF10: Да | AG10: Да | AH10: Да | AI10: Да | AJ10: Нет | AK10: Нет | AL10: Да | AM10: Нет | AN10: Нет | AO10: Нет | AP10: Нет | AQ10: Да | AR10: Нет | AS10: Нет | AT10: Да | AU10: Да | AV10: Да | AW10: Да | AX10: Нет | AY10: Да | AZ10: Нет | BA10: Да | BB10: Нет | BC10: Нет | BD10: Да | BE10: Да | BF10: Нет | BG10: 5 | BH10: 5 | BI10: 27 | BJ10: 4 | BK10: 29 | BL10: 20 | BM10: Семен потерял часть денег
A11: 44534.743 | B11: Да | C11: Да | D11: Нет | E11: Да | F11: Да | G11: Да | H11: Нет | I11: Нет | J11: Да | K11: Нет | L11: Да | M11: Да | N11: Нет | O11: Нет | P11: Да | Q11: Да | R11: Нет | S11: Да | T11: Да | U11: Нет | V11: Да | W11: Да | X11: Нет | Y11: Нет | Z11: Да | AA11: Нет | AB11: Нет | AC11: Да | AD11: Да | AE11: Да | AF11: Нет | AG11: Нет | AH11: Нет | AI11: Да | AJ11: Нет | AK11: Нет | AL11: Да | AM11: Да | AN11: Нет | AO11: Нет | AP11: Нет | AQ11: Да | AR11: Нет | AS11: Да | AT11: Да | AU11: Да | AV11: Нет | AW11: Да | AX11: Да | AY11: Нет | AZ11: Да | BA11: Нет | BB11: Да | BC11: Нет | BD11: Да | BE11: Да | BF11: Нет | BG11: 10 | BH11: 5 | BI11: 14 | BJ11: 4 | BK11: 31 | BL11: 10 | BM11: Семен потерял часть денег
A12: 44534.744 | B12: Нет | C12: Да | D12: Да | E12: Нет | F12: Да | G12: Да | H12: Нет | I12: Нет | J12: Нет | K12: Нет | L12: Нет | M12: Нет | N12: Нет | O12: Нет | P12: Да | Q12: Нет | R12: Нет | S12: Да | T12: Да | U12: Нет | V12: Да | W12: Нет | X12: Нет | Y12: Нет | Z12: Да | AA12: Нет | AB12: Нет | AC12: Нет | AD12: Нет | AE12: Да | AF12: Нет | AG12: Да | AH12: Да | AI12: Да | AJ12: Нет | AK12: Нет | AL12: Нет | AM12: Нет | AN12: Нет | AO12: Нет | AP12: Да | AQ12: Да | AR12: Нет | AS12: Нет | AT12: Да | AU12: Нет | AV12: Нет | AW12: Да | AX12: Да | AY12: Нет | AZ12: Нет | BA12: Нет | BB12: Да | BC12: Нет | BD12: Нет | BE12: Нет | BF12: Нет | BG12: 5 | BH12: 5 | BI12: 27 | BJ12: 4 | BK12: 29 | BL12: 20 | BM12: Семен потерял часть денег
A13: 44534.744 | B13: Да | C13: Да | D13: Да | E13: Нет | F13: Да | G13: Нет | H13: Нет | I13: Нет | J13: Да | K13: Нет | L13: Да | M13: Нет | N13: Нет | O13: Нет | P13: Да | Q13: Нет | R13: Нет | S13: Да | T13: Да | U13: Нет | V13: Да | W13: Нет | X13: Нет | Y13: Нет | Z13: Да | AA13: Нет | AB13: Да | AC13: Да | AD13: Нет | AE13: Да | AF13: Да | AG13: Да | AH13: Да | AI13: Да | AJ13: Да | AK13: Нет | AL13: Да | AM13: Нет | AN13: Да | AO13: Нет | AP13: Да | AQ13: Да | AR13: Нет | AS13: Да | AT13: Да | AU13: Нет | AV13: Нет | AW13: Да | AX13: Да | AY13: Нет | AZ13: Нет | BA13: Нет | BB13: Да | BC13: Да | BD13: Нет | BE13: Да | BF13: Нет | BG13: 5 | BH13: 5 | BI13: 27 | BJ13: 9 | BK13: 29 | BL13: 20 | BM13: Семен потерял часть денег
... A134: 44534.785 | B134: Нет | C134: Да | D134: Нет | E134: Нет | F134: Да | G134: Нет | H134: Нет | I134: Да | J134: Нет | K134: Да | L134: Нет | M134: Да | N134: Нет | O134: Нет | P134: Нет | Q134: Нет | R134: Да | S134: Да | T134: Нет | U134: Нет | V134: Да | W134: Да | X134: Нет | Y134: Нет | Z134: Да | AA134: Нет | AB134: Да | AC134: Нет | AD134: Нет | AE134: Да | AF134: Нет | AG134: Да | AH134: Нет | AI134: Да | AJ134: Нет | AK134: Нет | AL134: Нет | AM134: Нет | AN134: Нет | AO134: Нет | AP134: Нет | AQ134: Да | AR134: Нет | AS134: Да | AT134: Нет | AU134: Да | AV134: Нет | AW134: Да | AX134: Да | AY134: Нет | AZ134: Нет | BA134: Нет | BB134: Да | BC134: Нет | BD134: Да | BE134: Да | BF134: Нет | BG134: 5 | BH134: 527 | BI134: 27 | BJ134: 4 | BK134: 29 | BL134: 20 | BM134: Семен потерял часть денег
A135: 44534.785 | B135: Нет | C135: Нет | D135: Нет | E135: Нет | F135: Да | G135: Да | H135: Нет | I135: Да | J135: Да | K135: Нет | L135: Нет | M135: Да | N135: Нет | O135: Нет | P135: Да | Q135: Да | R135: Нет | S135: Да | T135: Нет | U135: Да | V135: Нет | W135: Нет | X135: Да | Y135: Да | Z135: Да | AA135: Да | AB135: Да | AC135: Нет | AD135: Нет | AE135: Нет | AF135: Нет | AG135: Да | AH135: Да | AI135: Да | AJ135: Нет | AK135: Нет | AL135: Да | AM135: Да | AN135: Да | AO135: Нет | AP135: Нет | AQ135: Да | AR135: Нет | AS135: Нет | AT135: Нет | AU135: Нет | AV135: Да | AW135: Да | AX135: Да | AY135: Да | AZ135: Нет | BA135: Нет | BB135: Да | BC135: Нет | BD135: Нет | BE135: Нет | BF135: Нет | BG135: 99 | BH135: 1 минута | BI135: 27 | BJ135: 6 | BK135: 30 | BL135: 20 | BM135: Семен заработал денег
A136: 44534.786 | B136: Да | C136: Да | D136: Нет | E136: Нет | F136: Да | G136: Нет | H136: Нет | I136: Нет | J136: Да | K136: Нет | L136: Да | M136: Нет | N136: Да | O136: Да | P136: Нет | Q136: Да | R136: Нет | S136: Нет | T136: Да | U136: Да | V136: Да | W136: Нет | X136: Да | Y136: Да | Z136: Да | AA136: Да | AB136: Нет | AC136: Да | AD136: Да | AE136: Да | AF136: Да | AG136: Да | AH136: Да | AI136: Да | AJ136: Нет | AK136: Да | AL136: Да | AM136: Да | AN136: Нет | AO136: Да | AP136: Да | AQ136: Да | AR136: Нет | AS136: Нет | AT136: Нет | AU136: Да | AV136: Да | AW136: Да | AX136: Нет | AY136: Да | AZ136: Нет | BA136: Да | BB136: Да | BC136: Да | BD136: Да | BE136: Да | BF136: Да | BG136: 5 | BH136: 5 | BI136: 27 | BJ136: 4 | BK136: 29 | BL136: 20 | BM136: Семен потерял часть денег
A137: 44534.786 | B137: Нет | C137: Нет | D137: Нет | E137: Да | F137: Да | G137: Да | H137: Нет | I137: Да | J137: Нет | K137: Нет | L137: Да | M137: Да | N137: Нет | O137: Нет | P137: Нет | Q137: Да | R137: Да | S137: Нет | T137: Да | U137: Нет | V137: Да | W137: Нет | X137: Да | Y137: Да | Z137: Да | AA137: Нет | AB137: Да | AC137: Нет | AD137: Нет | AE137: Нет | AF137: Да | AG137: Да | AH137: Нет | AI137: Нет | AJ137: Нет | AK137: Нет | AL137: Да | AM137: Нет | AN137: Да | AO137: Нет | AP137: Нет | AQ137: Да | AR137: Нет | AS137: Нет | AT137: Нет | AU137: Да | AV137: Да | AW137: Нет | AX137: Да | AY137: Да | AZ137: Нет | BA137: Да | BB137: Да | BC137: Нет | BD137: Да | BE137: Да | BF137: Нет | BG137: 5 | BH137: 5 | BI137: 27 | BJ137: 4 | BK137: 29 | BL137: 20 | BM137: Семен потерял часть денег
A138: 44534.786 | B138: Да | C138: Да | D138: Да | E138: Нет | F138: Да | G138: Да | H138: Да | I138: Нет | J138: Да | K138: Нет | L138: Да | M138: Да | N138: Нет | O138: Да | P138: Нет | Q138: Нет | R138: Да | S138: Нет | T138: Да | U138: Да | V138: Да | W138: Нет | X138: Нет | Y138: Нет | Z138: Да | AA138: Нет | AB138: Да | AC138: Да | AD138: Нет | AE138: Нет | AF138: Да | AG138: Да | AH138: Да | AI138: Да | AJ138: Да | AK138: Да | AL138: Нет | AM138: Да | AN138: Да | AO138: Нет | AP138: Нет | AQ138: Нет | AR138: Нет | AS138: Нет | AT138: Да | AU138: Нет | AV138: Да | AW138: Да | AX138: Да | AY138: Нет | AZ138: Нет | BA138: Нет | BB138: Да | BC138: Нет | BD138: Нет | BE138: Да | BF138: Нет | BG138: 10, возможно 5 | BH138: 5 | BI138: 4, но не факт | BJ138: На 1 максимум растянут | BK138: 31 | BL138: 20 | BM138: Стоимость акций Семена не изменилась
A139: 44534.787 | B139: Да | C139: Нет | D139: Нет | E139: Да | F139: Нет | G139: Да | H139: Да | I139: Нет | J139: Да | K139: Нет | L139: Нет | M139: Нет | N139: Нет | O139: Да | P139: Да | Q139: Да | R139: Нет | S139: Да | T139: Да | U139: Да | V139: Да | W139: Да | X139: Да | Y139: Да | Z139: Нет | AA139: Нет | AB139: Нет | AC139: Да | AD139: Да | AE139: Да | AF139: Да | AG139: Да | AH139: Да | AI139: Да | AJ139: Нет | AK139: Нет | AL139: Да | AM139: Нет | AN139: Нет | AO139: Да | AP139: Да | AQ139: Да | AR139: Нет | AS139: Да | AT139: Да | AU139: Нет | AV139: Нет | AW139: Нет | AX139: Да | AY139: Да | AZ139: Да | BA139: Да | BB139: Нет | BC139: Да | BD139: Да | BE139: Да | BF139: Да | BG139: 5 | BH139: 5 | BI139: 27 | BJ139: 4 | BK139: 29 | BL139: 20 | BM139: Семен потерял часть денег
A140: 44534.787 | B140: Да | C140: Да | D140: Да | E140: Нет | F140: Да | G140: Да | H140: Да | I140: Нет | J140: Да | K140: Нет | L140: Да | M140: Да | N140: Да | O140: Да | P140: Да | Q140: Да | R140: Нет | S140: Да | T140: Да | U140: Да | V140: Да | W140: Да | X140: Да | Y140: Да | Z140: Да | AA140: Да | AB140: Да | AC140: Да | AD140: Нет | AE140: Да | AF140: Нет | AG140: Да | AH140: Нет | AI140: Да | AJ140: Нет | AK140: Нет | AL140: Нет | AM140: Да | AN140: Нет | AO140: Да | AP140: Да | AQ140: Да | AR140: Нет | AS140: Нет | AT140: Нет | AU140: Нет | AV140: Да | AW140: Да | AX140: Нет | AY140: Да | AZ140: Да | BA140: Да | BB140: Нет | BC140: Да | BD140: Да | BE140: Да | BF140: Нет | BG140: 5 | BH140: 5 | BI140: 27 | BJ140: 4 | BK140: 29 | BL140: 20 | BM140: Семен потерял часть денег
A141: 44534.788 | B141: Да | C141: Да | D141: Нет | E141: Нет | F141: Да | G141: Да | H141: Нет | I141: Да | J141: Нет | K141: Да | L141: Нет | M141: Да | N141: Да | O141: Нет | P141: Нет | Q141: Нет | R141: Да | S141: Да | T141: Нет | U141: Нет | V141: Да | W141: Да | X141: Нет | Y141: Нет | Z141: Да | AA141: Нет | AB141: Да | AC141: Да | AD141: Нет | AE141: Нет | AF141: Да | AG141: Да | AH141: Да | AI141: Да | AJ141: Нет | AK141: Нет | AL141: Нет | AM141: Нет | AN141: Да | AO141: Нет | AP141: Нет | AQ141: Да | AR141: Нет | AS141: Да | AT141: Нет | AU141: Да | AV141: Нет | AW141: Да | AX141: Да | AY141: Нет | AZ141: Нет | BA141: Нет | BB141: Да | BC141: Да | BD141: Да | BE141: Да | BF141: Да | BG141: 5 | BH141: 5 | BI141: 27 | BJ141: 5 | BK141: 29 | BL141: 10 | BM141: Семен потерял часть денег
A142: 44534.788 | B142: Нет | C142: Нет | D142: Нет | E142: Да | F142: Да | G142: Да | H142: Нет | I142: Да | J142: Да | K142: Нет | L142: Нет | M142: Да | N142: Нет | O142: Да | P142: Да | Q142: Да | R142: Нет | S142: Да | T142: Нет | U142: Да | V142: Нет | W142: Да | X142: Нет | Y142: Нет | Z142: Да | AA142: Нет | AB142: Нет | AC142: Нет | AD142: Да | AE142: Да | AF142: Да | AG142: Да | AH142: Да | AI142: Да | AJ142: Нет | AK142: Нет | AL142: Да | AM142: Да | AN142: Да | AO142: Да | AP142: Нет | AQ142: Да | AR142: Нет | AS142: Нет | AT142: Да | AU142: Да | AV142: Да | AW142: Да | AX142: Да | AY142: Нет | AZ142: Нет | BA142: Нет | BB142: Нет | BC142: Нет | BD142: Да | BE142: Нет | BF142: Нет | BG142: 5 | BH142: 5 | BI142: 27 | BJ142: 4 | BK142: 29 | BL142: 20 | BM142: Семен потерял часть денег
A143: 44534.789 | B143: Нет | C143: Нет | D143: Нет | E143: Да | F143: Да | G143: Да | H143: Да | I143: Нет | J143: Да | K143: Да | L143: Да | M143: Да | N143: Нет | O143: Да | P143: Да | Q143: Да | R143: Нет | S143: Да | T143: Да | U143: Да | V143: Да | W143: Нет | X143: Нет | Y143: Нет | Z143: Да | AA143: Да | AB143: Нет | AC143: Нет | AD143: Нет | AE143: Да | AF143: Да | AG143: Да | AH143: Да | AI143: Да | AJ143: Да | AK143: Нет | AL143: Да | AM143: Да | AN143: Нет | AO143: Нет | AP143: Нет | AQ143: Нет | AR143: Нет | AS143: Нет | AT143: Нет | AU143: Нет | AV143: Да | AW143: Да | AX143: Нет | AY143: Да | AZ143: Нет | BA143: Да | BB143: Нет | BC143: Нет | BD143: Да | BE143: Нет | BF143: Нет | BG143: 5 | BH143: 5 | BI143: 27 | BJ143: 4 | BK143: 29 | BL143: 10 | BM143: Семен потерял часть денег
A144: 44534.789 | B144: Нет | C144: Да | D144: Нет | E144: Нет | F144: Нет | G144: Да | H144: Нет | I144: Да | J144: Да | K144: Нет | L144: Да | M144: Нет | N144: Нет | O144: Нет | P144: Нет | Q144: Нет | R144: Нет | S144: Нет | T144: Да | U144: Да | V144: Нет | W144: Нет | X144: Нет | Y144: Нет | Z144: Нет | AA144: Нет | AB144: Да | AC144: Нет | AD144: Нет | AE144: Да | AF144: Да | AG144: Нет | AH144: Да | AI144: Да | AJ144: Да | AK144: Нет | AL144: Нет | AM144: Нет | AN144: Нет | AO144: Нет | AP144: Да | AQ144: Да | AR144: Нет | AS144: Нет | AT144: Нет | AU144: Да | AV144: Нет | AW144: Нет | AX144: Да | AY144: Нет | AZ144: Да | BA144: Нет | BB144: Да | BC144: Да | BD144: Нет | BE144: Да | BF144: Нет | BG144: 5 | BH144: 20 | BI144: 27 | BJ144: 4 | BK144: 30 | BL144: 10 | BM144: Семен потерял часть денег
A145: 44534.79 | B145: Нет | C145: Нет | D145: Да | E145: Нет | F145: Да | G145: Нет | H145: Да | I145: Нет | J145: Да | K145: Нет | L145: Да | M145: Да | N145: Нет | O145: Нет | P145: Да | Q145: Нет | R145: Нет | S145: Да | T145: Да | U145: Да | V145: Нет | W145: Нет | X145: Нет | Y145: Нет | Z145: Да | AA145: Нет | AB145: Да | AC145: Нет | AD145: Нет | AE145: Да | AF145: Да | AG145: Да | AH145: Нет | AI145: Да | AJ145: Нет | AK145: Нет | AL145: Да | AM145: Нет | AN145: Нет | AO145: Нет | AP145: Да | AQ145: Нет | AR145: Нет | AS145: Нет | AT145: Да | AU145: Нет | AV145: Нет | AW145: Да | AX145: Нет | AY145: Нет | AZ145: Да | BA145: Нет | BB145: Да | BC145: Да | BD145: Нет | BE145: Нет | BF145: Да | BG145: 5 | BH145: 5 | BI145: 27 | BJ145: 4 | BK145: 29 | BL145: 20 | BM145: Семен потерял часть денег
A146: 44534.79 | B146: Да | C146: Да | D146: Нет | E146: Нет | F146: Да | G146: Да | H146: Да | I146: Да | J146: Да | K146: Нет | L146: Да | M146: Да | N146: Да | O146: Да | P146: Нет | Q146: Да | R146: Да | S146: Да | T146: Да | U146: Нет | V146: Да | W146: Да | X146: Да | Y146: Да | Z146: Да | AA146: Да | AB146: Да | AC146: Нет | AD146: Нет | AE146: Да | AF146: Да | AG146: Нет | AH146: Да | AI146: Нет | AJ146: Да | AK146: Нет | AL146: Нет | AM146: Да | AN146: Нет | AO146: Да | AP146: Нет | AQ146: Да | AR146: Нет | AS146: Нет | AT146: Да | AU146: Да | AV146: Да | AW146: Нет | AX146: Нет | AY146: Да | AZ146: Нет | BA146: Да | BB146: Да | BC146: Да | BD146: Да | BE146: Да | BF146: Нет | BG146: 5 | BH146: 5 | BI146: 27 | BJ146: 4 | BK146: 31 | BL146: 20 | BM146: Семен потерял часть денег
A147: 44534.79 | B147: Да | C147: Да | D147: Нет | E147: Нет | F147: Да | G147: Нет | H147: Да | I147: Да | J147: Да | K147: Нет | L147: Да | M147: Да | N147: Да | O147: Да | P147: Да | Q147: Нет | R147: Нет | S147: Да | T147: Да | U147: Да | V147: Да | W147: Да | X147: Да | Y147: Да | Z147: Да | AA147: Нет | AB147: Нет | AC147: Нет | AD147: Да | AE147: Да | AF147: Да | AG147: Да | AH147: Нет | AI147: Да | AJ147: Нет | AK147: Нет | AL147: Да | AM147: Нет | AN147: Да | AO147: Да | AP147: Нет | AQ147: Да | AR147: Нет | AS147: Нет | AT147: Да | AU147: Да | AV147: Нет | AW147: Нет | AX147: Да | AY147: Нет | AZ147: Да | BA147: Нет | BB147: Нет | BC147: Да | BD147: Да | BE147: Нет | BF147: Нет | BG147: 5 | BH147: 5 | BI147: 27 | BJ147: 4 | BK147: 29 | BL147: 10 | BM147: Семен заработал денег
A148: 44534.79 | B148: Да | C148: Да | D148: Нет | E148: Да | F148: Да | G148: Нет | H148: Нет | I148: Нет | J148: Да | K148: Нет | L148: Да | M148: Да | N148: Нет | O148: Нет | P148: Да | Q148: Нет | R148: Нет | S148: Да | T148: Нет | U148: Да | V148: Нет | W148: Нет | X148: Нет | Y148: Нет | Z148: Да | AA148: Нет | AB148: Нет | AC148: Нет | AD148: Нет | AE148: Нет | AF148: Да | AG148: Нет | AH148: Нет | AI148: Да | AJ148: Нет | AK148: Нет | AL148: Нет | AM148: Нет | AN148: Нет | AO148: Нет | AP148: Нет | AQ148: Да | AR148: Нет | AS148: Нет | AT148: Нет | AU148: Да | AV148: Нет | AW148: Нет | AX148: Нет | AY148: Нет | AZ148: Нет | BA148: Да | BB148: Нет | BC148: Нет | BD148: Да | BE148: Да | BF148: Нет | BG148: 5 | BH148: 5 | BI148: 27 | BJ148: 4 | BK148: 29 | BL148: 20 | BM148: Семен потерял часть денег
A149: 44534.79 | B149: Нет | C149: Нет | D149: Да | E149: Да | F149: Нет | G149: Нет | H149: Нет | I149: Да | J149: Нет | K149: Да | L149: Да | M149: Да | N149: Да | O149: Нет | P149: Да | Q149: Нет | R149: Нет | S149: Да | T149: Да | U149: Да | V149: Нет | W149: Нет | X149: Нет | Y149: Нет | Z149: Да | AA149: Нет | AB149: Да | AC149: Нет | AD149: Да | AE149: Нет | AF149: Нет | AG149: Да | AH149: Нет | AI149: Да | AJ149: Нет | AK149: Да | AL149: Да | AM149: Нет | AN149: Да | AO149: Нет | AP149: Нет | AQ149: Нет | AR149: Нет | AS149: Нет | AT149: Нет | AU149: Нет | AV149: Нет | AW149: Нет | AX149: Да | AY149: Нет | AZ149: Да | BA149: Нет | BB149: Да | BC149: Нет | BD149: Да | BE149: Да | BF149: Нет | BG149: 5 | BH149: 5 | BI149: 27 | BJ149: 4 | BK149: 29 | BL149: 20 | BM149: Семен потерял часть денег
A150: 44534.791 | B150: Да | C150: Нет | D150: Нет | E150: Нет | F150: Да | G150: Нет | H150: Нет | I150: Нет | J150: Да | K150: Нет | L150: Нет | M150: Да | N150: Да | O150: Нет | P150: Да | Q150: Да | R150: Нет | S150: Да | T150: Да | U150: Нет | V150: Нет | W150: Нет | X150: Нет | Y150: Нет | Z150: Да | AA150: Нет | AB150: Да | AC150: Да | AD150: Нет | AE150: Да | AF150: Да | AG150: Да | AH150: Да | AI150: Да | AJ150: Нет | AK150: Нет | AL150: Да | AM150: Да | AN150: Да | AO150: Да | AP150: Да | AQ150: Да | AR150: Нет | AS150: Нет | AT150: Да | AU150: Нет | AV150: Нет | AW150: Да | AX150: Нет | AY150: Да | AZ150: Нет | BA150: Да | BB150: Да | BC150: Да | BD150: Да | BE150: Да | BF150: Нет | BG150: 5 | BH150: 5 | BI150: 27 | BJ150: 4 | BK150: 29 | BL150: 10 | BM150: Семен потерял часть денег
... A166: 44534.796 | B166: Нет | C166: Да | D166: Да | E166: Нет | F166: Да | G166: Нет | H166: Нет | I166: Нет | J166: Нет | K166: Да | L166: Да | M166: Да | N166: Нет | O166: Да | P166: Да | Q166: Нет | R166: Нет | S166: Да | T166: Да | U166: Да | V166: Да | W166: Да | X166: Нет | Y166: Нет | Z166: Нет | AA166: Нет | AB166: Нет | AC166: Да | AD166: Да | AE166: Да | AF166: Нет | AG166: Да | AH166: Нет | AI166: Да | AJ166: Нет | AK166: Нет | AL166: Да | AM166: Нет | AN166: Нет | AO166: Нет | AP166: Да | AQ166: Да | AR166: Нет | AS166: Нет | AT166: Да | AU166: Да | AV166: Нет | AW166: Да | AX166: Нет | AY166: Да | AZ166: Да | BA166: Да | BB166: Нет | BC166: Нет | BD166: Да | BE166: Да | BF166: Нет | BG166: 5 | BH166: 5 | BI166: 27 | BJ166: 4 | BK166: 29 | BL166: 20 | BM166: Семен потерял часть денег
A167: 44534.796 | B167: Нет | C167: Нет | D167: Нет | E167: Нет | F167: Нет | G167: Нет | H167: Нет | I167: Да | J167: Нет | K167: Нет | L167: Да | M167: Да | N167: Да | O167: Да | P167: Да | Q167: Да | R167: Нет | S167: Да | T167: Да | U167: Да | V167: Да | W167: Да | X167: Нет | Y167: Нет | Z167: Да | AA167: Да | AB167: Нет | AC167: Нет | AD167: Да | AE167: Да | AF167: Да | AG167: Нет | AH167: Да | AI167: Да | AJ167: Нет | AK167: Нет | AL167: Да | AM167: Да | AN167: Да | AO167: Нет | AP167: Нет | AQ167: Да | AR167: Нет | AS167: Нет | AT167: Да | AU167: Нет | AV167: Да | AW167: Да | AX167: Нет | AY167: Да | AZ167: Нет | BA167: Нет | BB167: Нет | BC167: Да | BD167: Да | BE167: Нет | BF167: Да | BG167: 10 центов | BH167: 5 | BI167: 27 | BJ167: 4 | BK167: 29 | BL167: 10 | BM167: Семен заработал денег
A168: 44534.796 | B168: Нет | C168: Нет | D168: Нет | E168: Нет | F168: Да | G168: Да | H168: Нет | I168: Нет | J168: Нет | K168: Нет | L168: Да | M168: Нет | N168: Нет | O168: Да | P168: Да | Q168: Нет | R168: Нет | S168: Да | T168: Да | U168: Да | V168: Нет | W168: Нет | X168: Нет | Y168: Нет | Z168: Нет | AA168: Да | AB168: Нет | AC168: Да | AD168: Да | AE168: Да | AF168: Нет | AG168: Да | AH168: Нет | AI168: Да | AJ168: Нет | AK168: Нет | AL168: Да | AM168: Да | AN168: Нет | AO168: Да | AP168: Нет | AQ168: Да | AR168: Нет | AS168: Нет | AT168: Да | AU168: Да | AV168: Да | AW168: Да | AX168: Нет | AY168: Да | AZ168: Да | BA168: Да | BB168: Нет | BC168: Да | BD168: Да | BE168: Да | BF168: Нет | BG168: 1 доллар 5 центов | BH168: 5 | BI168: 27 | BJ168: 4 | BK168: 29 | BL168: 0 | BM168: Семен потерял часть денег
A169: 44534.797 | B169: Нет | C169: Нет | D169: Нет | E169: Да | F169: Да | G169: Да | H169: Да | I169: Нет | J169: Да | K169: Нет | L169: Да | M169: Да | N169: Нет | O169: Да | P169: Да | Q169: Да | R169: Нет | S169: Да | T169: Да | U169: Да | V169: Да | W169: Нет | X169: Да | Y169: Да | Z169: Да | AA169: Нет | AB169: Нет | AC169: Да | AD169: Нет | AE169: Нет | AF169: Нет | AG169: Да | AH169: Нет | AI169: Да | AJ169: Нет | AK169: Нет | AL169: Да | AM169: Нет | AN169: Нет | AO169: Нет | AP169: Нет | AQ169: Да | AR169: Нет | AS169: Нет | AT169: Нет | AU169: Нет | AV169: Нет | AW169: Да | AX169: Нет | AY169: Да | AZ169: Да | BA169: Да | BB169: Да | BC169: Да | BD169: Да | BE169: Нет | BF169: Нет | BG169: 5 | BH169: 5 | BI169: 27 | BJ169: 4 | BK169: 29 | BL169: 20 | BM169: Семен потерял часть денег
A170: 44534.797 | B170: Да | C170: Да | D170: Нет | E170: Нет | F170: Да | G170: Да | H170: Да | I170: Нет | J170: Да | K170: Нет | L170: Да | M170: Да | N170: Да | O170: Да | P170: Да | Q170: Нет | R170: Нет | S170: Да | T170: Да | U170: Нет | V170: Да | W170: Да | X170: Нет | Y170: Нет | Z170: Да | AA170: Нет | AB170: Да | AC170: Да | AD170: Нет | AE170: Нет | AF170: Нет | AG170: Нет | AH170: Нет | AI170: Да | AJ170: Нет | AK170: Нет | AL170: Да | AM170: Да | AN170: Да | AO170: Да | AP170: Да | AQ170: Да | AR170: Нет | AS170: Нет | AT170: Да | AU170: Да | AV170: Да | AW170: Нет | AX170: Да | AY170: Да | AZ170: Нет | BA170: Да | BB170: Нет | BC170: Нет | BD170: Да | BE170: Нет | BF170: Нет | BG170: 5 | BH170: 100 | BI170: 27 | BJ170: 4.5 | BK170: 29 | BL170: 10 | BM170: Семен потерял часть денег
A171: 44534.797 | B171: Нет | C171: Да | D171: Нет | E171: Нет | F171: Да | G171: Да | H171: Нет | I171: Нет | J171: Да | K171: Нет | L171: Да | M171: Да | N171: Да | O171: Да | P171: Да | Q171: Нет | R171: Нет | S171: Да | T171: Нет | U171: Да | V171: Да | W171: Нет | X171: Да | Y171: Да | Z171: Нет | AA171: Нет | AB171: Нет | AC171: Да | AD171: Да | AE171: Да | AF171: Да | AG171: Нет | AH171: Да | AI171: Да | AJ171: Нет | AK171: Нет | AL171: Да | AM171: Нет | AN171: Нет | AO171: Нет | AP171: Да | AQ171: Да | AR171: Нет | AS171: Нет | AT171: Да | AU171: Да | AV171: Да | AW171: Да | AX171: Нет | AY171: Да | AZ171: Да | BA171: Да | BB171: Нет | BC171: Да | BD171: Да | BE171: Да | BF171: Да | BG171: 5 | BH171: 1 | BI171: 27 | BJ171: 4 | BK171: 29 | BL171: 0 | BM171: Семен потерял часть денег
A172: 44534.798 | B172: Нет | C172: Нет | D172: Нет | E172: Нет | F172: Да | G172: Да | H172: Да | I172: Нет | J172: Да | K172: Нет | L172: Да | M172: Да | N172: Нет | O172: Да | P172: Да | Q172: Да | R172: Нет | S172: Да | T172: Нет | U172: Да | V172: Нет | W172: Да | X172: Да | Y172: Да | Z172: Нет | AA172: Да | AB172: Нет | AC172: Да | AD172: Да | AE172: Нет | AF172: Да | AG172: Да | AH172: Да | AI172: Да | AJ172: Нет | AK172: Да | AL172: Да | AM172: Да | AN172: Нет | AO172: Да | AP172: Нет | AQ172: Да | AR172: Нет | AS172: Нет | AT172: Нет | AU172: Нет | AV172: Да | AW172: Да | AX172: Нет | AY172: Да | AZ172: Нет | BA172: Да | BB172: Нет | BC172: Да | BD172: Да | BE172: Нет | BF172: Нет | BG172: 5 | BH172: 5 | BI172: 27 | BJ172: 4 | BK172: 29 | BL172: 20 | BM172: Семен потерял часть денег
A173: 44534.798 | B173: Да | C173: Нет | D173: Нет | E173: Да | F173: Да | G173: Нет | H173: Нет | I173: Нет | J173: Да | K173: Нет | L173: Да | M173: Да | N173: Да | O173: Нет | P173: Да | Q173: Нет | R173: Нет | S173: Нет | T173: Да | U173: Да | V173: Да | W173: Да | X173: Да | Y173: Да | Z173: Да | AA173: Нет | AB173: Да | AC173: Нет | AD173: Да | AE173: Да | AF173: Да | AG173: Да | AH173: Да | AI173: Да | AJ173: Да | AK173: Нет | AL173: Да | AM173: Нет | AN173: Нет | AO173: Нет | AP173: Нет | AQ173: Да | AR173: Нет | AS173: Нет | AT173: Нет | AU173: Да | AV173: Нет | AW173: Нет | AX173: Нет | AY173: Да | AZ173: Да | BA173: Нет | BB173: Нет | BC173: Да | BD173: Да | BE173: Нет | BF173: Нет | BG173: 5 | BH173: 5 | BI173: 27 | BJ173: 4 | BK173: 29 | BL173: 20 | BM173: Семен потерял часть денег
A174: 44534.798 | B174: Нет | C174: Нет | D174: Нет | E174: Да | F174: Нет | G174: Да | H174: Да | I174: Нет | J174: Да | K174: Нет | L174: Да | M174: Нет | N174: Нет | O174: Нет | P174: Да | Q174: Да | R174: Нет | S174: Да | T174: Да | U174: Да | V174: Нет | W174: Нет | X174: Да | Y174: Нет | Z174: Нет | AA174: Да | AB174: Нет | AC174: Нет | AD174: Да | AE174: Нет | AF174: Да | AG174: Да | AH174: Да | AI174: Да | AJ174: Да | AK174: Нет | AL174: Да | AM174: Да | AN174: Нет | AO174: Да | AP174: Да | AQ174: Да | AR174: Нет | AS174: Нет | AT174: Да | AU174: Нет | AV174: Нет | AW174: Да | AX174: Нет | AY174: Да | AZ174: Да | BA174: Да | BB174: Да | BC174: Нет | BD174: Да | BE174: Нет | BF174: Нет | BG174: 5 | BH174: 5 | BI174: 27 | BJ174: 4 | BK174: 29 | BL174: 20 | BM174: Семен заработал денег
A175: 44534.798 | B175: Да | C175: Нет | D175: Нет | E175: Да | F175: Да | G175: Да | H175: Да | I175: Нет | J175: Да | K175: Нет | L175: Да | M175: Да | N175: Нет | O175: Да | P175: Нет | Q175: Да | R175: Нет | S175: Да | T175: Да | U175: Нет | V175: Да | W175: Да | X175: Да | Y175: Да | Z175: Да | AA175: Да | AB175: Да | AC175: Нет | AD175: Нет | AE175: Да | AF175: Да | AG175: Да | AH175: Да | AI175: Да | AJ175: Да | AK175: Нет | AL175: Да | AM175: Да | AN175: Нет | AO175: Нет | AP175: Да | AQ175: Да | AR175: Нет | AS175: Нет | AT175: Да | AU175: Нет | AV175: Нет | AW175: Нет | AX175: Да | AY175: Да | AZ175: Да | BA175: Да | BB175: Нет | BC175: Нет | BD175: Да | BE175: Да | BF175: Нет | BG175: 5 | BH175: 5 | BI175: 27 | BJ175: 4 | BK175: 29 | BL175: 20 | BM175: Семен потерял часть денег
...

Sheet Рабочий стол
A1: Часто ли вы испытываете тягу к новым впечатлениям, к тому, чтобы отвлечься, испытывать сильные ощущения?] | B1: Часто ли вы чувствуете, что нуждаетесь в друзьях, которые могут вас понять, ободрить или посочувствовать?] | C1: Считаете ли вы себя беззаботным человеком?] | D1: Очень ли трудно вам отказываться от своих намерений?] | E1: Обдумываете ли вы свои дела не спеша и предпочитаете ли подождать, прежде чем действовать?] | F1: Всегда ли вы сдерживаете свои обещания, даже если это вам невыгодно?] | G1: Часто ли у вас бывают спады и подъемы настроения?] | H1: Быстро ли вы обычно действуете и говорите, не тратите ли много времени на обдумывание?] | I1: Возникало ли у вас когда-нибудь чувство, что вы несчастны, хотя никакой серьезной причины для этого не было?] | J1: Верно ли, что на спор вы способны решиться на все?] | K1: Смущаетесь ли вы, когда хотите познакомиться с человеком противоположного пола, который вам симпатичен?] | L1: Бывает ли когда-нибудь, что, разозлившись, вы выходите из себя?] | M1: Часто ли бывает, что вы действуете необдуманно, под влиянием момента?] | N1: Часто ли вас беспокоят мысли о том, что вам не следовало чего-либо делать или говорить?] | O1: Предпочитаете ли вы чтение книг встречам с людьми?] | P1: Верно ли, что вас легко задеть?] | Q1: Любите ли вы часто бывать в компании?] | R1: Бывают ли иногда у вас такие мысли, которыми вам не хотелось бы делиться с другими людьми?] | S1: Верно ли, что иногда вы настолько полны энергии, что все горит в руках, а иногда чувствуете сильную вялость?] | T1: Стараетесь ли вы ограничить круг своих знакомых небольшим числом самых близких друзей?] | U1: Много ли вы мечтаете?] | V1: Когда на вас кричат, отвечаете ли вы тем же?] | W1: Часто ли вас беспокоит чувство вины?] | X1: Часто ли у вас появляется чувство, что вы в чем-то виноваты?] | Y1: Способны ли вы иногда дать волю своим чувствам и беззаботно развлечься с веселой компанией?] | Z1: Можно ли сказать, что нервы у вас часто бывают натянуты до предела?] | AA1: Слывете ли вы за человека живого и веселого?] | AB1: После того как дело сделано, часто ли вы мысленно возвращаетесь к нему и думаете, что могли бы сделать лучше?] | AC1: Чувствуете ли вы себя неспокойно, находясь в большой компании?] | AD1: Бывает ли, что вы передаете слухи?] | AE1: Бывает ли, что вам не спится из-за того, что в голову лезут разные мысли?] | AF1: Что вы предпочитаете, если хотите узнать что-либо: найти в книге (ответ “Да”) или спросить у друзей (ответ “Нет”)?] | AG1: Бывают ли у вас сильные сердцебиения?] | AH1: Нравится ли вам работа, требующая сосредоточения?] | AI1: Бывают ли у вас приступы дрожи?] | AJ1: Всегда ли вы говорите только правду?] | AK1: Бывает ли вам неприятно находиться в компании, где все подшучивают друг над другом?] | AL1: Раздражительны ли вы?] | AM1: Нравится ли вам работа, требующая быстрого действия?] | AN1: Верно ли, что вам часто не дают покоя мысли о разных неприятностях и «ужасах», которые могли бы произойти, хотя все кончилось благополучно?] | AO1: Верно ли, что вы неторопливы в движениях и несколько медлительны?] | AP1: Опаздывали ли вы когда-нибудь на работу или на встречу с кем-либо?] | AQ1: Часто ли вам снятся кошмары?] | AR1: Верно ли, что вы так любите поговорить, что не упускаете любого удобного случая побеседовать с новым человеком?] | AS1: Беспокоят ли вас какие-нибудь боли?] | AT1: Огорчились бы вы, если бы долго не могли видеться со своими друзьями?] | AU1: Можете ли вы назвать себя нервным человеком?] | AV1: Есть ли среди ваших знакомых такие, которые вам явно не нравятся?] | AW1: Могли бы вы сказать, что вы уверенный в себе человек?] | AX1: Легко ли вас задевает критика ваших недостатков или вашей работы?] | AY1: Трудно ли вам получить настоящее удовольствие от мероприятий, в которых участвует много народа?] | AZ1: Беспокоит ли вас чувство, что вы чем-то хуже других?] | BA1: Сумели бы вы внести оживление в скучную компанию?] | BB1: Бывает ли, что вы говорите о вещах, в которых совсем не разбираетесь?] | BC1: Беспокоитесь ли вы о своем здоровье?] | BD1: Любите ли вы подшутить над другими?] | BE1: Страдаете ли вы бессонницей?] | BF1: Экстраверсия | BH1: Нейротизм | BJ1: FALSE | BL1: Бейсбольный мяч и бита вместе стоят 1 доллар и 10 центов. Бейсбольная бита дороже мяча на 1 доллар. Сколько центов стоит мяч? | BM1: 5 машин за 5 минут производят 5 штуковин. Сколько минут потребуется 100 машинам, чтобы произвести 100 штуковин? | BN1: На одной планете началась эпидемия неизвестного вируса. Каждый день число зараженных удваивается. Все жители планеты заразятся через 28 дней. Сколько дней понадобится, чтобы заразить половину жителей планеты? | BO1: Иван выпивает бочку пива за 6 дней. Мария выпивает такую же бочку за 12 дней. На сколько дней хватит бочки пива Марии и Ивану, если они будут пить ее вместе? | BP1: Юный Жора по результатам аттестации занял 15-е место сверху и 15-е место снизу отсортированного списка рейтинга учеников. Сколько человек учится у Жоры в классе? | BQ1: Колхозник купил свинью за 60 рублей, продал за 70, выкупил обратно за 80 и в конце концов продал за 90. Сколько рублей заработал колхозник? | BR1: Семен инвестировал в акции 8000 денег. За первые полгода акции выросли на 75%. Затем упали на 50%. Каковы финансовые результаты семена? | BS1: CRT | BT1: Все решил? | BU1: Высокий балл | BV1: Низкий балл
A2: =IF('Form responses 1'!B2="Да",1,0) -> 0 | B2: =IF('Form responses 1'!C2="Да",1,0) -> 0 | C2: =IF('Form responses 1'!D2="Да",1,0) -> 0 | D2: =IF('Form responses 1'!E2="Да",1,0) -> 1 | E2: =IF('Form responses 1'!F2="Да",0,1) -> 1 | F2: =IF('Form responses 1'!G2="Да",1,0) -> 1 | G2: =IF('Form responses 1'!H2="Да",1,0) -> 0 | H2: =IF('Form responses 1'!I2="Да",1,0) -> 0 | I2: =IF('Form responses 1'!J2="Да",1,0) -> 0 | J2: =IF('Form responses 1'!K2="Да",1,0) -> 0 | K2: =IF('Form responses 1'!L2="Да",1,0) -> 0 | L2: =IF('Form responses 1'!M2="Да",0,1) -> 0 | M2: =IF('Form responses 1'!N2="Да",1,0) -> 0 | N2: =IF('Form responses 1'!O2="Да",1,0) -> 1 | O2: =IF('Form responses 1'!P2="Да",0,1) -> 0 | P2: =IF('Form responses 1'!Q2="Да",1,0) -> 0 | Q2: =IF('Form responses 1'!R2="Да",1,0) -> 0 | R2: =IF('Form responses 1'!S2="Да",0,1) -> 0 | S2: =IF('Form responses 1'!T2="Да",1,0) -> 1 | T2: =IF('Form responses 1'!U2="Да",0,1) -> 0 | U2: =IF('Form responses 1'!V2="Да",1,0) -> 1 | V2: =IF('Form responses 1'!W2="Да",1,0) -> 0 | W2: =IF('Form responses 1'!X2="Да",1,0) -> 1 | X2: =IF('Form responses 1'!Y2="Да",1,0) -> 1 | Y2: =IF('Form responses 1'!Z2="Да",1,0) -> 1 | Z2: =IF('Form responses 1'!AA2="Да",1,0) -> 0 | AA2: =IF('Form responses 1'!AB2="Да",1,0) -> 0 | AB2: =IF('Form responses 1'!AC2="Да",1,0) -> 1 | AC2: =IF('Form responses 1'!AD2="Да",0,1) -> 1 | AD2: =IF('Form responses 1'!AE2="Да",0,1) -> 1 | AE2: =IF('Form responses 1'!AF2="Да",1,0) -> 1 | AF2: =IF('Form responses 1'!AG2="Да",0,1) -> 0 | AG2: =IF('Form responses 1'!AH2="Да",1,0) -> 0 | AH2: =IF('Form responses 1'!AI2="Да",0,1) -> 0 | AI2: =IF('Form responses 1'!AJ2="Да",1,0) -> 1 | AJ2: =IF('Form responses 1'!AK2="Да",1,0) -> 0 | AK2: =IF('Form responses 1'!AL2="Да",0,1) -> 0 | AL2: =IF('Form responses 1'!AM2="Да",1,0) -> 0 | AM2: =IF('Form responses 1'!AN2="Да",1,0) -> 0 | AN2: =IF('Form responses 1'!AO2="Да",1,0) -> 0 | AO2: =IF('Form responses 1'!AP2="Да",0,1) -> 1 | AP2: =IF('Form responses 1'!AQ2="Да",0,1) -> 0 | AQ2: =IF('Form responses 1'!AR2="Да",1,0) -> 0 | AR2: =IF('Form responses 1'!AS2="Да",1,0) -> 0 | AS2: =IF('Form responses 1'!AT2="Да",1,0) -> 1 | AT2: =IF('Form responses 1'!AU2="Да",1,0) -> 0 | AU2: =IF('Form responses 1'!AV2="Да",1,0) -> 0 | AV2: =IF('Form responses 1'!AW2="Да",0,1) -> 0 | AW2: =IF('Form responses 1'!AX2="Да",1,0) -> 0 | AX2: =IF('Form responses 1'!AY2="Да",1,0) -> 1 | AY2: =IF('Form responses 1'!AZ2="Да",0,1) -> 1 | AZ2: =IF('Form responses 1'!BA2="Да",1,0) -> 1 | BA2: =IF('Form responses 1'!BB2="Да",1,0) -> 0 | BB2: =IF('Form responses 1'!BC2="Да",0,1) -> 1 | BC2: =IF('Form responses 1'!BD2="Да",1,0) -> 0 | BD2: =IF('Form responses 1'!BE2="Да",1,0) -> 0 | BE2: =IF('Form responses 1'!BF2="Да",1,0) -> 1 | BF2: =A2+C2+H2+J2+M2+Q2+V2+Y2+AA2+AM2+AR2+AT2+AW2+BA2+BD2+E2+O2+T2+AC2+AF2+AH2+AK2+AO2+AY2 -> 5 | BG2: =IF(BF2>ЯркЭкстр,"1. Яркий экстраверт",IF(BF2>Экстр,"2. экстраверт",IF(BF2<ГлубИнтро,"5. глубокий интраверт",IF(BF2<Интро,"4. интроверт","3. амбиверт")))) -> 4. интроверт | BH2: =B2+D2+G2+I2+K2+N2+P2+S2+U2+W2+Z2+AB2+AE2+AG2+AI2+AL2+AN2+AQ2+AS2+AU2+AX2+AZ2+BC2+BE2 -> 12 | BI2: =IF(BH2>19,"1. Оч.высокий",IF(BH2>14,"2. Высокий",IF(BH2>7,"3. средний","4. низкий"))) -> 3. средний | BJ2: =F2+X2+AJ2+L2+R2+AD2+AP2+AV2+BB2 -> 4 | BK2: =IF(BJ2>4,"пздт","ок") -> ок | BL2: =IF('Form responses 1'!BG2=5,1,0) -> 1 | BM2: =IF('Form responses 1'!BH2=5,1,0) -> 1 | BN2: =IF('Form responses 1'!BI2=27,1,0) -> 1 | BO2: =IF('Form responses 1'!BJ2=4,1,0) -> 1 | BP2: =IF('Form responses 1'!BK2=29,1,0) -> 1 | BQ2: =IF('Form responses 1'!BL2=20,1,0) -> 0 | BR2: =IF('Form responses 1'!BM2="Семен потерял часть денег",1,0) -> 1 | BS2: =SUM(BL2:BR2) -> 6 | BT2: =IF(BS2=7,1,0) -> 0 | BU2: =IF(BS2>=6,1,0) -> 1 | BV2: =IF(BS2<5,1,0) -> 0
A3: =IF('Form responses 1'!B3="Да",1,0) -> 1 | B3: =IF('Form responses 1'!C3="Да",1,0) -> 0 | C3: =IF('Form responses 1'!D3="Да",1,0) -> 0 | D3: =IF('Form responses 1'!E3="Да",1,0) -> 0 | E3: =IF('Form responses 1'!F3="Да",0,1) -> 0 | F3: =IF('Form responses 1'!G3="Да",1,0) -> 1 | G3: =IF('Form responses 1'!H3="Да",1,0) -> 1 | H3: =IF('Form responses 1'!I3="Да",1,0) -> 1 | I3: =IF('Form responses 1'!J3="Да",1,0) -> 1 | J3: =IF('Form responses 1'!K3="Да",1,0) -> 0 | K3: =IF('Form responses 1'!L3="Да",1,0) -> 1 | L3: =IF('Form responses 1'!M3="Да",0,1) -> 0 | M3: =IF('Form responses 1'!N3="Да",1,0) -> 1 | N3: =IF('Form responses 1'!O3="Да",1,0) -> 1 | O3: =IF('Form responses 1'!P3="Да",0,1) -> 0 | P3: =IF('Form responses 1'!Q3="Да",1,0) -> 1 | Q3: =IF('Form responses 1'!R3="Да",1,0) -> 0 | R3: =IF('Form responses 1'!S3="Да",0,1) -> 0 | S3: =IF('Form responses 1'!T3="Да",1,0) -> 1 | T3: =IF('Form responses 1'!U3="Да",0,1) -> 0 | U3: =IF('Form responses 1'!V3="Да",1,0) -> 1 | V3: =IF('Form responses 1'!W3="Да",1,0) -> 0 | W3: =IF('Form responses 1'!X3="Да",1,0) -> 1 | X3: =IF('Form responses 1'!Y3="Да",1,0) -> 1 | Y3: =IF('Form responses 1'!Z3="Да",1,0) -> 0 | Z3: =IF('Form responses 1'!AA3="Да",1,0) -> 1 | AA3: =IF('Form responses 1'!AB3="Да",1,0) -> 0 | AB3: =IF('Form responses 1'!AC3="Да",1,0) -> 1 | AC3: =IF('Form responses 1'!AD3="Да",0,1) -> 0 | AD3: =IF('Form responses 1'!AE3="Да",0,1) -> 1 | AE3: =IF('Form responses 1'!AF3="Да",1,0) -> 1 | AF3: =IF('Form responses 1'!AG3="Да",0,1) -> 0 | AG3: =IF('Form responses 1'!AH3="Да",1,0) -> 0 | AH3: =IF('Form responses 1'!AI3="Да",0,1) -> 1 | AI3: =IF('Form responses 1'!AJ3="Да",1,0) -> 0 | AJ3: =IF('Form responses 1'!AK3="Да",1,0) -> 0 | AK3: =IF('Form responses 1'!AL3="Да",0,1) -> 0 | AL3: =IF('Form responses 1'!AM3="Да",1,0) -> 1 | AM3: =IF('Form responses 1'!AN3="Да",1,0) -> 1 | AN3: =IF('Form responses 1'!AO3="Да",1,0) -> 0 | AO3: =IF('Form responses 1'!AP3="Да",0,1) -> 0 | AP3: =IF('Form responses 1'!AQ3="Да",0,1) -> 1 | AQ3: =IF('Form responses 1'!AR3="Да",1,0) -> 0 | AR3: =IF('Form responses 1'!AS3="Да",1,0) -> 0 | AS3: =IF('Form responses 1'!AT3="Да",1,0) -> 1 | AT3: =IF('Form responses 1'!AU3="Да",1,0) -> 0 | AU3: =IF('Form responses 1'!AV3="Да",1,0) -> 0 | AV3: =IF('Form responses 1'!AW3="Да",0,1) -> 0 | AW3: =IF('Form responses 1'!AX3="Да",1,0) -> 0 | AX3: =IF('Form responses 1'!AY3="Да",1,0) -> 1 | AY3: =IF('Form responses 1'!AZ3="Да",0,1) -> 0 | AZ3: =IF('Form responses 1'!BA3="Да",1,0) -> 1 | BA3: =IF('Form responses 1'!BB3="Да",1,0) -> 0 | BB3: =IF('Form responses 1'!BC3="Да",0,1) -> 0 | BC3: =IF('Form responses 1'!BD3="Да",1,0) -> 1 | BD3: =IF('Form responses 1'!BE3="Да",1,0) -> 1 | BE3: =IF('Form responses 1'!BF3="Да",1,0) -> 0 | BF3: =A3+C3+H3+J3+M3+Q3+V3+Y3+AA3+AM3+AR3+AT3+AW3+BA3+BD3+E3+O3+T3+AC3+AF3+AH3+AK3+AO3+AY3 -> 6 | BG3: =IF(BF3>ЯркЭкстр,"1. Яркий экстраверт",IF(BF3>Экстр,"2. экстраверт",IF(BF3<ГлубИнтро,"5. глубокий интраверт",IF(BF3<Интро,"4. интроверт","3. амбиверт")))) -> 4. интроверт | BH3: =B3+D3+G3+I3+K3+N3+P3+S3+U3+W3+Z3+AB3+AE3+AG3+AI3+AL3+AN3+AQ3+AS3+AU3+AX3+AZ3+BC3+BE3 -> 16 | BI3: =IF(BH3>19,"1. Оч.высокий",IF(BH3>14,"2. Высокий",IF(BH3>7,"3. средний","4. низкий"))) -> 2. Высокий | BJ3: =F3+X3+AJ3+L3+R3+AD3+AP3+AV3+BB3 -> 4 | BK3: =IF(BJ3>4,"пздт","ок") -> ок | BL3: =IF('Form responses 1'!BG3=5,1,0) -> 1 | BM3: =IF('Form responses 1'!BH3=5,1,0) -> 1 | BN3: =IF('Form responses 1'!BI3=27,1,0) -> 1 | BO3: =IF('Form responses 1'!BJ3=4,1,0) -> 1 | BP3: =IF('Form responses 1'!BK3=29,1,0) -> 1 | BQ3: =IF('Form responses 1'!BL3=20,1,0) -> 1 | BR3: =IF('Form responses 1'!BM3="Семен потерял часть денег",1,0) -> 1 | BS3: =SUM(BL3:BR3) -> 7 | BT3: =IF(BS3=7,1,0) -> 1 | BU3: =IF(BS3>=6,1,0) -> 1 | BV3: =IF(BS3<5,1,0) -> 0
